{"text_format":"1","workbook":"xlsx","n_sheets":15,"sheets":["Forklaring","Produkt","ProduktDetalj","ProduktKvalitet","ProduktTilleggTrekk","Produktinfo","Driftsgrein","Kontoplan","MVATabell","KoblTab","Endringslogg","Eksempel","MalVarekodeliste","KontoMatriser","Admin"],"not_rendered":{"charts":0,"images":1,"macros":1,"external_links":2,"defined_names":45,"comments":8,"pivot_tables":0},"unopened":[],"bounds":{"document_bytes":16777216,"sheet_cells":100000,"rows_first":2000,"rows_last":500,"rows_between":2000,"halvings":0,"cell_chars":16384,"cell_head_chars":4096},"cells_cut":0,"cells_raw":0,"read":"whole","date_system":"1900"}

{"sheet":"Forklaring","index":0,"n_rows":102,"n_cols":5,"rows_kept":102,"cut":false,"hidden":false,"merged":[[4,1,48,7],[51,1,98,7],[101,1,148,7]]}
[null,"Versjon",{"$f":"Admin!D1","v":"1.3.6"},"Dato","desember 2025 (veiledning)"]
[]
[]
[]
[null,"Standard for produktkoder, driftsgreinkoder og kontoplan for norsk landbruk\nNIBIO utvikler og vedlikeholder standarder for produktkoder for norske landbruks-produkter, driftsgreinkoder for driftsformer i norsk landbruksproduksjon og kontoplan for landbruksregnskap.\n\nKodesystemet skal dekke flere behov:\n    1. Analyser og planlegging (beslutningstøtte) for den enkelte bonde\n    2. Behovet for nok detaljering til forskning\n    3. Offentlig rapportering\n    4. Automatisk kontering i landbruksregnskap. Dette gjøres ved å koble produktkoder og kontoplan.\n\nLandbrukets Dataflyt SA og deres brukere benytter kodestandardene i gjennom IKT-infrastrukturløsningen Dataflyt. Der er det og utviklet en egen løsning, «Landbrukets kodesystem», som sikrer at kodestandardene også i praktisk bruk bidrar til standardisering innenfor ovenfor nevnte formål/behov, bl.a. i forhold til automatisk kontering av landbruksregnskap. Denne løsningen og brukerne av Dataflyt bidrar også med konkrete innspill til videreutvikling og vedlikehold av kodeverket. \n\nEtter hvert som arbeidet med Dataflyt har utviklet seg har kodesystemet endret seg. Behov og ønsker for hvilke varer og tjenester som trenger koder er fortsatt ikke dekket. Kodesystemet vil derfor komme til å vokse en god del etter hvert som flere varetyper tas inn i systemet. Foreløpig er det først og fremst produkter som bonden selger (avregninger) som er dekket. I tillegg er det meste av bulkvare som bonden kjøper (faktura) dekket, slik som gjødsel og kraftfôr. Den delen som omhandler innkjøpte varer vil bli vesentlig utvidet etter hvert. Kodesystemet er fleksibelt bygd opp slik at det skal kunne utvides etter behov. Produktlinjer som er merket med denne fargen -- i regnearkene skal det arbeides videre med.\n\nAlle arkene i regnearkene er utstyrt med egne knapper og rullebokser slik at en kan begrense det en vil se. Noen knapper er bare til internt bruk for de som jobber med kodene, disse er koblet fra.\n\nKodesystemet består i dag av 3 hovedområder:\n    1. Produktkoder\n    2. Driftsgreinkoder\n    3. Kontoplan\n\nDet er en forutsetning at avregninger og fakturaer fra varemottakere og leverandører blir påført produktkoder. Dette skjer elektronisk på definerte XML-filformater.\n"]
[]
[]
[]
[]
[]
[]
[]
[]
[]
[]
[]
[]
[]
[]
[]
[]
[]
[]
[]
[]
[]
[]
[]
[]
[]
[]
[]
[]
[]
[]
[]
[]
[]
[]
[]
[]
[]
[]
[]
[]
[]
[]
[]
[]
[]
[]
[null,"Produktkoder\nFor å kunne håndtere den store mengden av produktgrupper og produkter, varer og tjenester som kan være knyttet til varemottakere og leverandører, er produktkodene inndelt i flere dimensjoner. Disse er:\n    1. Produkt\n    2. ProduktDetalj\n    3. ProduktKvalitet\n    4. ProduktTilleggTrekk\n    5. Produktinfo\n\nProdukt\nInndelingen av dimensjonen «Produkt» er førende for inndelingen i de andre dimensjonene som følger. Hovedinndelingen er:\n    1. Korn, frø og grovfôr\n    2. Poteter, grønnsaker, frukt, bær, blomster og hagebruksvekster\n    3. Husdyrprodukter\n    4. Husdyr, slakt og skrotter\n    5. Husdyr, livdyr, fôringsdyr, produksjonsdyr og balanse\n    6. Skogbruk og andre næringer\n    7. Tilskudd fra/forvaltet av landbruksdirektoratet og annen offentlig etat\n    8. Varer og tjenester knyttet til produksjonene\n    9. Ledig\nDen videre underdelingen er hierarkisk.\n\nProduktdetaljer (ProduktDetalj)\nDenne dimensjonen er en kombinasjon av hierarki og løpende nummerering. De fire første sifrene er hierarkiske og følger stort sett inndelingen i dimensjonen «Produkt». For å kunne fange opp sorter og produkter på dette nivået er det i tillegg en løpende nummerering. Her er det plass til 1000 produkter for hvert hierarkisk nummer.\n\nDimensjonene «Produkt» og «ProduktDetalj» kan i noen tilfeller kombineres på tvers av hierarkiet. Dette gjelder særlig innkjøpte varer (8000-serien). F.eks. kan innkjøpte planter under «Produkt» kombineres med sorter under «ProduktDetalj».\n\nProduktkvaliteter (ProduktKvalitet)\nI denne dimensjonen er det mulig å angi hvilke kvaliteter som er knyttet til de ulike produktene. Hovednivået (siffer 1 og 2) følger dimensjonen «Produkt» med løpende nummerering for de ulike kvalitetene.\n"]
[]
[]
[]
[]
[]
[]
[]
[]
[]
[]
[]
[]
[]
[]
[]
[]
[]
[]
[]
[]
[]
[]
[]
[]
[]
[]
[]
[]
[]
[]
[]
[]
[]
[]
[]
[]
[]
[]
[]
[]
[]
[]
[]
[]
[]
[]
[]
[]
[]
[null,"Tillegg og trekk (ProduktTilleggTrekk)\nDenne dimensjonen viser foreløpig bare nivå 1 og 2. På 3. nivå er det en detaljeringsgrad som kan spores til ulike varemottakere. Dette nivået må revideres før det er aktuelt å vise 3. nivå. Første del av koden (siffer 1) følger også her hovednivået for dimensjonen «Produkt». Under hvert hovednivå er det en inndeling i seks likelydende grupper:\n    1. Tillegg\n    2. Trekk\n    3. Avgifter\n    4. Etterbetalinger, erstatninger og bonuser\n    5. Tilskudd\n    6. Varer og tjenester\n\nProduktinfo\nI denne dimensjonen kan et produkt utstyres med tilleggsinformasjon. Det kan være mer enn én tilleggsinformasjon knyttet til samme varelinje i avregninger og fakturaer. F.eks. kan informasjon om et livdyr være kodet med økologisk, dyreID, fødselsdato, kjønn og rasekode samtidig.\n\nDriftsgreinkoder\nKodene for driftsgrein har én dimensjon. Kodene er hierarkisk. Kodingen er først og fremst tenkt brukt ved analyse og planlegging på driftsgreinnivå. Dette kodesettet ble laget lenge før dagens versjon av produktkodene. Det er behov for å harmonisere driftsgreinkodene mot produktkodene. De synes nå som i overkant detaljerte.\n\nKontoplan\nVedlagte kontoplan er en noe forenklet versjon av NIBIOs kontoplan når det gjelder jordbruket. Det er strengt tatt ikke behov for en detaljert kontoplan når produktkodene tas i bruk. Men pga. omfattende konsekvenser for regnskapsprogramvare og rapporteringsverktøy er kontoplanen fortsatt på samme «nivå» som tidligere.\n"]

{"sheet":"Produkt","index":1,"n_rows":621,"n_cols":76,"rows_kept":621,"cut":false,"hidden":false,"merged":[[1,0,1,3],[2,0,2,3],[1,18,1,21],[1,75,2,75],[1,63,2,63],[1,64,2,64],[1,66,1,69],[1,70,1,74],[1,58,1,62],[1,46,1,50],[1,34,1,38],[1,27,2,27],[1,22,1,26],[1,28,2,28],[1,52,2,52],[1,54,1,57],[1,30,1,33],[1,39,2,39],[1,40,2,40],[1,42,1,45],[1,51,2,51]]}
["Produktkoder",null,null,null,null,null,null,null,null,null,4,null,null,null,1,{"$f":"Admin!D1","v":"1.3.6"},"Konteringstabell - grunnlag",null,null,null,"Startlinje",{"$f":"ROW(P4)","v":4},"Sluttlinje",{"$f":"ROW(P609)-1","v":608},null,"Grunnlag",4,null,"Konteringstabell - Avdeling ikke oppgitt (standard) - grunnlag (1)",null,null,null,null,null,null,null,null,null,null,null,"Konteringstabell - Avdelingskode=30 - grunnlag (2)",null,null,null,null,null,null,null,null,null,null,null,"Konteringstabell - Avdelingskode=70 - grunnlag (3)",null,null,null,null,null,null,null,null,null,null,null,"Konteringstabell - Avdelingskode=90 - grunnlag (4)"]
["Produktkode",null,null,null,"Hovedgrupper nivå 1","Hovedgrupper nivå 2","Art  type","Art  type"," ","Konteringsmatriser:",1,2,3,4,"Viser gruppe","Sammen-slått","Avdel-","Ikke om-setning","Konto inngående mva",null,null,null,"Konto utgående mva",null,null,null,null,"Driftsgrein","Avdel-\ning","Ikke om-setning","Konto inngående mva",null,null,null,"Konto utgående mva",null,null,null,null,"Drifts-grein","Avdel-\ning","Ikke om-setning","Konto inngående mva",null,null,null,"Konto utgående mva",null,null,null,null,"Drifts-grein","Avdel-\ning","Ikke om-setning","Konto inngående mva",null,null,null,"Konto utgående mva",null,null,null,null,"Drifts-grein","Avdel-\ning","Ikke om-setning","Konto inngående mva",null,null,null,"Konto utgående mva",null,null,null,null,"Drifts-grein"]
[{"$f":"\"Gruppenivå (\"&NivaaProdukt&\") =>\"","v":"Gruppenivå (4) =>"},null,null,null,null,null,null,"Tekst",5,"Merknader",1,1,1,1,0,"kode","ing","O_O","I_O","I_AA","I_H","I_S","O_E","O_Z","O_AA","O_H","O_S",null,null,{"$f":"$R$3","v":"O_O"},{"$f":"$S$3","v":"I_O"},{"$f":"$T$3","v":"I_AA"},{"$f":"$U$3","v":"I_H"},{"$f":"$V$3","v":"I_S"},{"$f":"$W$3","v":"O_E"},{"$f":"$X$3","v":"O_Z"},{"$f":"$Y$3","v":"O_AA"},{"$f":"$Z$3","v":"O_H"},{"$f":"$AA$3","v":"O_S"},null,null,{"$f":"$R$3","v":"O_O"},{"$f":"$S$3","v":"I_O"},{"$f":"$T$3","v":"I_AA"},{"$f":"$U$3","v":"I_H"},{"$f":"$V$3","v":"I_S"},{"$f":"$W$3","v":"O_E"},{"$f":"$X$3","v":"O_Z"},{"$f":"$Y$3","v":"O_AA"},{"$f":"$Z$3","v":"O_H"},{"$f":"$AA$3","v":"O_S"},null,null,{"$f":"$R$3","v":"O_O"},{"$f":"$S$3","v":"I_O"},{"$f":"$T$3","v":"I_AA"},{"$f":"$U$3","v":"I_H"},{"$f":"$V$3","v":"I_S"},{"$f":"$W$3","v":"O_E"},{"$f":"$X$3","v":"O_Z"},{"$f":"$Y$3","v":"O_AA"},{"$f":"$Z$3","v":"O_H"},{"$f":"$AA$3","v":"O_S"},null,null,{"$f":"$R$3","v":"O_O"},{"$f":"$S$3","v":"I_O"},{"$f":"$T$3","v":"I_AA"},{"$f":"$U$3","v":"I_H"},{"$f":"$V$3","v":"I_S"},{"$f":"$W$3","v":"O_E"},{"$f":"$X$3","v":"O_Z"},{"$f":"$Y$3","v":"O_AA"},{"$f":"$Z$3","v":"O_H"},{"$f":"$AA$3","v":"O_S"}]
[1,0,0,0,"Korn, frø og grovfôr",null,null,null,null,null,{"$f":"IF(E4<>\"\",1,0)","v":1},{"$f":"IF(F4<>\"\",1,0)+K4","v":1},1,1,{"$f":"A4+1","v":2},{"$f":"VALUE(A4&B4&C4&D4)","v":1000},null,null,null,null,null,null,null,null,null,null,null,null,20,null,null,null,null,null,null,null,null,null,3000]
[1,1,0,0,null,"Korn, oljefrø mm. til modning",null,null,null,null,0,1,1,1,{"$f":"A5+1","v":2},{"$f":"VALUE(A5&B5&C5&D5)","v":1100},{"$f":"IF(GRLProdukt=1,AC5,IF(GRLProdukt=2,AO5,IF(GRLProdukt=3,BA5,IF(GRLProdukt=4,BM5,0))))","v":0},{"$f":"IF(GRLProdukt=1,AD5,IF(GRLProdukt=2,AP5,IF(GRLProdukt=3,BB5,IF(GRLProdukt=4,BN5,0))))","v":0},0,{"$f":"IF(GRLProdukt=1,AF5,IF(GRLProdukt=2,AR5,IF(GRLProdukt=3,BD5,IF(GRLProdukt=4,BP5,0))))","v":0},{"$f":"IF(GRLProdukt=1,AG5,IF(GRLProdukt=2,AS5,IF(GRLProdukt=3,BE5,IF(GRLProdukt=4,BQ5,0))))","v":0},{"$f":"IF(GRLProdukt=1,AH5,IF(GRLProdukt=2,AT5,IF(GRLProdukt=3,BF5,IF(GRLProdukt=4,BR5,0))))","v":0},{"$f":"IF(GRLProdukt=1,AI5,IF(GRLProdukt=2,AU5,IF(GRLProdukt=3,BG5,IF(GRLProdukt=4,BS5,0))))","v":0},{"$f":"IF(GRLProdukt=1,AJ5,IF(GRLProdukt=2,AV5,IF(GRLProdukt=3,BH5,IF(GRLProdukt=4,BT5,0))))","v":0},{"$f":"IF(GRLProdukt=1,AK5,IF(GRLProdukt=2,AW5,IF(GRLProdukt=3,BI5,IF(GRLProdukt=4,BU5,0))))","v":0},{"$f":"IF(GRLProdukt=1,AL5,IF(GRLProdukt=2,AX5,IF(GRLProdukt=3,BJ5,IF(GRLProdukt=4,BV5,0))))","v":0},{"$f":"IF(GRLProdukt=1,AM5,IF(GRLProdukt=2,AY5,IF(GRLProdukt=3,BK5,IF(GRLProdukt=4,BW5,0))))","v":0},{"$f":"IF(GRLProdukt=1,AN5,IF(GRLProdukt=2,AZ5,IF(GRLProdukt=3,BL5,IF(GRLProdukt=4,BX5,0))))","v":0},20,null,null,null,null,null,null,null,null,null,3001]
[1,1,1,0,null,null,"Hvete",null,null,null,0,0,1,1,2,1110,0,0,0,0,0,0,0,0,0,0,0,0,20,null,null,null,null,null,null,null,null,null,3001]
[1,1,1,1,null,null,null,"Vårhvete",null,null,{"$f":"IF(E7<>\"\",1,0)","v":0},{"$f":"IF(F7<>\"\",1,0)+K7","v":0},0,1,{"$f":"A7+1","v":2},{"$f":"VALUE(A7&B7&C7&D7)","v":1111},0,0,0,0,0,0,0,0,0,0,0,0,20,null,null,null,null,null,null,null,null,null,3001]
[1,1,1,2,null,null,null,"Høsthvete",null,null,{"$f":"IF(E8<>\"\",1,0)","v":0},0,0,1,{"$f":"A8+1","v":2},{"$f":"VALUE(A8&B8&C8&D8)","v":1112},0,0,0,0,0,0,0,0,0,0,0,0,20,null,null,null,null,null,null,null,null,null,3001]
[1,1,2,0,null,null,"Bygg",null,null,null,0,0,1,1,2,1120,0,0,0,0,0,0,0,0,0,0,0,0,20,null,null,null,null,null,null,null,null,null,3001]
[1,1,2,1,null,null,null,"Toradsbygg",null,null,{"$f":"IF(E10<>\"\",1,0)","v":0},{"$f":"IF(F10<>\"\",1,0)+K10","v":0},0,1,{"$f":"A10+1","v":2},{"$f":"VALUE(A10&B10&C10&D10)","v":1121},0,0,0,0,0,0,0,0,0,0,0,0,20,null,null,null,null,null,null,null,null,null,3001]
[1,1,2,2,null,null,null,"Seksradsbygg",null,null,{"$f":"IF(E11<>\"\",1,0)","v":0},0,0,1,{"$f":"A11+1","v":2},{"$f":"VALUE(A11&B11&C11&D11)","v":1122},0,0,0,0,0,0,0,0,0,0,0,0,20,null,null,null,null,null,null,null,null,null,3001]
[1,1,3,0,null,null,"Havre",null,null,null,0,0,1,1,2,1130,0,0,0,0,0,0,0,0,0,0,0,0,20,null,null,null,null,null,null,null,null,null,3001]
[1,1,4,0,null,null,"Rug",null,null,null,0,0,1,1,2,1140,0,0,0,0,0,0,0,0,0,0,0,0,20,null,null,null,null,null,null,null,null,null,3001]
[1,1,5,0,null,null,"Rughvete",null,null,"Hybrid",0,0,1,1,2,1150,0,0,0,0,0,0,0,0,0,0,0,0,20,null,null,null,null,null,null,null,null,null,3001]
[1,1,6,0,null,null,"Olje- og belgvekster til modning",null,null,null,0,0,1,1,2,1160,0,0,0,0,0,0,0,0,0,0,0,0,20,null,null,null,null,null,null,null,null,null,3001]
[1,1,6,1,null,null,null,"Raps",null,null,{"$f":"IF(E16<>\"\",1,0)","v":0},{"$f":"IF(F16<>\"\",1,0)+K16","v":0},0,1,{"$f":"A16+1","v":2},{"$f":"VALUE(A16&B16&C16&D16)","v":1161},0,0,0,0,0,0,0,0,0,0,0,0,20,null,null,null,null,null,null,null,null,null,3001]
[1,1,6,2,null,null,null,"Rybs",null,null,{"$f":"IF(E17<>\"\",1,0)","v":0},0,0,1,{"$f":"A17+1","v":2},{"$f":"VALUE(A17&B17&C17&D17)","v":1162},0,0,0,0,0,0,0,0,0,0,0,0,20,null,null,null,null,null,null,null,null,null,3001]
[1,1,6,5,null,null,null,"Belgvekster til modning",null,"Ikke forveksles med kode 1460",{"$f":"IF(E18<>\"\",1,0)","v":0},{"$f":"IF(F18<>\"\",1,0)+K18","v":0},{"$f":"IF(G18<>\"\",1,0)+L18","v":0},{"$f":"IF(H18<>\"\",1,0)+M18","v":1},{"$f":"A18+1","v":2},{"$f":"VALUE(A18&B18&C18&D18)","v":1165},{"$f":"IF(GRLProdukt=1,AC18,IF(GRLProdukt=2,AO18,IF(GRLProdukt=3,BA18,IF(GRLProdukt=4,BM18,0))))","v":0},{"$f":"IF(GRLProdukt=1,AD18,IF(GRLProdukt=2,AP18,IF(GRLProdukt=3,BB18,IF(GRLProdukt=4,BN18,0))))","v":0},{"$f":"IF(GRLProdukt=1,AE18,IF(GRLProdukt=2,AQ18,IF(GRLProdukt=3,BC18,IF(GRLProdukt=4,BO18,0))))","v":0},{"$f":"IF(GRLProdukt=1,AF18,IF(GRLProdukt=2,AR18,IF(GRLProdukt=3,BD18,IF(GRLProdukt=4,BP18,0))))","v":0},{"$f":"IF(GRLProdukt=1,AG18,IF(GRLProdukt=2,AS18,IF(GRLProdukt=3,BE18,IF(GRLProdukt=4,BQ18,0))))","v":0},{"$f":"IF(GRLProdukt=1,AH18,IF(GRLProdukt=2,AT18,IF(GRLProdukt=3,BF18,IF(GRLProdukt=4,BR18,0))))","v":0},{"$f":"IF(GRLProdukt=1,AI18,IF(GRLProdukt=2,AU18,IF(GRLProdukt=3,BG18,IF(GRLProdukt=4,BS18,0))))","v":0},{"$f":"IF(GRLProdukt=1,AJ18,IF(GRLProdukt=2,AV18,IF(GRLProdukt=3,BH18,IF(GRLProdukt=4,BT18,0))))","v":0},{"$f":"IF(GRLProdukt=1,AK18,IF(GRLProdukt=2,AW18,IF(GRLProdukt=3,BI18,IF(GRLProdukt=4,BU18,0))))","v":0},{"$f":"IF(GRLProdukt=1,AL18,IF(GRLProdukt=2,AX18,IF(GRLProdukt=3,BJ18,IF(GRLProdukt=4,BV18,0))))","v":0},{"$f":"IF(GRLProdukt=1,AM18,IF(GRLProdukt=2,AY18,IF(GRLProdukt=3,BK18,IF(GRLProdukt=4,BW18,0))))","v":0},{"$f":"IF(GRLProdukt=1,AN18,IF(GRLProdukt=2,AZ18,IF(GRLProdukt=3,BL18,IF(GRLProdukt=4,BX18,0))))","v":0},20,null,null,null,null,null,null,null,null,null,3001]
[1,1,9,0,null,null,"Andre kornvekster",null,null,null,0,0,1,1,2,1190,0,0,0,0,0,0,0,0,0,0,0,0,20,null,null,null,null,null,null,null,null,null,3001]
[1,2,0,0,null,"Grasfrø",null,null,null,null,0,1,1,1,2,1200,0,0,0,0,0,0,0,0,0,0,0,0,20,null,null,null,null,null,null,null,null,null,3001]
[1,2,1,0,null,null,"Timotei",null,null,"Strågras",0,0,1,1,2,1210,0,0,0,0,0,0,0,0,0,0,0,0,20,null,null,null,null,null,null,null,null,null,3001]
[1,2,2,0,null,null,"Svingel",null,null,"Bladgras",0,0,1,1,2,1220,0,0,0,0,0,0,0,0,0,0,0,0,20,null,null,null,null,null,null,null,null,null,3001]
[1,2,2,1,null,null,null,"Engsvingel",null,null,{"$f":"IF(E23<>\"\",1,0)","v":0},{"$f":"IF(F23<>\"\",1,0)+K23","v":0},0,1,{"$f":"A23+1","v":2},{"$f":"VALUE(A23&B23&C23&D23)","v":1221},0,0,0,0,0,0,0,0,0,0,0,0,20,null,null,null,null,null,null,null,null,null,3001]
[1,2,2,2,null,null,null,"Rødsvingel",null,null,0,0,0,1,2,1222,0,0,0,0,0,0,0,0,0,0,0,0,20,null,null,null,null,null,null,null,null,null,3001]
[1,2,2,3,null,null,null,"Strandsvingel",null,null,0,0,0,1,2,1223,0,0,0,0,0,0,0,0,0,0,0,0,20,null,null,null,null,null,null,null,null,null,3001]
[1,2,2,4,null,null,null,"Raisvingel",null,null,0,0,0,1,2,1224,0,0,0,0,0,0,0,0,0,0,0,0,20,null,null,null,null,null,null,null,null,null,3001]
[1,2,2,5,null,null,null,"Sauesvingel",null,null,0,{"$f":"IF(F27<>\"\",1,0)+K27","v":0},{"$f":"IF(G27<>\"\",1,0)+L27","v":0},{"$f":"IF(H27<>\"\",1,0)+M27","v":1},2,1225,{"$f":"IF(GRLProdukt=1,AC27,IF(GRLProdukt=2,AO27,IF(GRLProdukt=3,BA27,IF(GRLProdukt=4,BM27,0))))","v":0},{"$f":"IF(GRLProdukt=1,AD27,IF(GRLProdukt=2,AP27,IF(GRLProdukt=3,BB27,IF(GRLProdukt=4,BN27,0))))","v":0},{"$f":"IF(GRLProdukt=1,AE27,IF(GRLProdukt=2,AQ27,IF(GRLProdukt=3,BC27,IF(GRLProdukt=4,BO27,0))))","v":0},{"$f":"IF(GRLProdukt=1,AF27,IF(GRLProdukt=2,AR27,IF(GRLProdukt=3,BD27,IF(GRLProdukt=4,BP27,0))))","v":0},{"$f":"IF(GRLProdukt=1,AG27,IF(GRLProdukt=2,AS27,IF(GRLProdukt=3,BE27,IF(GRLProdukt=4,BQ27,0))))","v":0},{"$f":"IF(GRLProdukt=1,AH27,IF(GRLProdukt=2,AT27,IF(GRLProdukt=3,BF27,IF(GRLProdukt=4,BR27,0))))","v":0},{"$f":"IF(GRLProdukt=1,AI27,IF(GRLProdukt=2,AU27,IF(GRLProdukt=3,BG27,IF(GRLProdukt=4,BS27,0))))","v":0},{"$f":"IF(GRLProdukt=1,AJ27,IF(GRLProdukt=2,AV27,IF(GRLProdukt=3,BH27,IF(GRLProdukt=4,BT27,0))))","v":0},{"$f":"IF(GRLProdukt=1,AK27,IF(GRLProdukt=2,AW27,IF(GRLProdukt=3,BI27,IF(GRLProdukt=4,BU27,0))))","v":0},{"$f":"IF(GRLProdukt=1,AL27,IF(GRLProdukt=2,AX27,IF(GRLProdukt=3,BJ27,IF(GRLProdukt=4,BV27,0))))","v":0},{"$f":"IF(GRLProdukt=1,AM27,IF(GRLProdukt=2,AY27,IF(GRLProdukt=3,BK27,IF(GRLProdukt=4,BW27,0))))","v":0},{"$f":"IF(GRLProdukt=1,AN27,IF(GRLProdukt=2,AZ27,IF(GRLProdukt=3,BL27,IF(GRLProdukt=4,BX27,0))))","v":0},20,null,null,null,null,null,null,null,null,null,3001]
[1,2,2,9,null,null,null,"Svingel andre arter og sorter",null,null,0,0,0,1,2,1229,0,0,0,0,0,0,0,0,0,0,0,0,20,null,null,null,null,null,null,null,null,null,3001]
[1,2,3,0,null,null,"Strandrør",null,null,"Strågras",0,0,1,1,2,1230,0,0,0,0,0,0,0,0,0,0,0,0,20,null,null,null,null,null,null,null,null,null,3001]
[1,2,4,0,null,null,"Kvein",null,null,"Strågras",0,{"$f":"IF(F30<>\"\",1,0)+K30","v":0},1,1,2,1240,0,0,0,0,0,0,0,0,0,0,0,0,20,null,null,null,null,null,null,null,null,null,3001]
[1,2,5,0,null,null,"Hundegras",null,null,"Bladgras",0,0,1,1,2,1250,0,0,0,0,0,0,0,0,0,0,0,0,20,null,null,null,null,null,null,null,null,null,3001]
[1,2,6,0,null,null,"Bladfaks",null,null,"Strågras",0,0,1,1,2,1260,0,0,0,0,0,0,0,0,0,0,0,0,20,null,null,null,null,null,null,null,null,null,3001]
[1,2,7,0,null,null,"Rapp",null,null,"Bladgras",0,0,1,1,2,1270,0,0,0,0,0,0,0,0,0,0,0,0,20,null,null,null,null,null,null,null,null,null,3001]
[1,2,8,0,null,null,"Raigras",null,null,"Blad-/Strågras",0,0,1,1,2,1280,0,0,0,0,0,0,0,0,0,0,0,0,20,null,null,null,null,null,null,null,null,null,3001]
[1,2,8,1,null,null,null,"Flerårig raigras",null,null,{"$f":"IF(E35<>\"\",1,0)","v":0},{"$f":"IF(F35<>\"\",1,0)+K35","v":0},0,1,{"$f":"A35+1","v":2},{"$f":"VALUE(A35&B35&C35&D35)","v":1281},0,0,0,0,0,0,0,0,0,0,0,0,20,null,null,null,null,null,null,null,null,null,3001]
[1,2,8,2,null,null,null,"Toårig raigras",null,null,{"$f":"IF(E36<>\"\",1,0)","v":0},0,0,1,{"$f":"A36+1","v":2},{"$f":"VALUE(A36&B36&C36&D36)","v":1282},0,0,0,0,0,0,0,0,0,0,0,0,20,null,null,null,null,null,null,null,null,null,3001]
[1,2,8,3,null,null,null,"Ettårig raigras",null,null,{"$f":"IF(E37<>\"\",1,0)","v":0},0,0,1,{"$f":"A37+1","v":2},{"$f":"VALUE(A37&B37&C37&D37)","v":1283},0,0,0,0,0,0,0,0,0,0,0,0,20,null,null,null,null,null,null,null,null,null,3001]
[1,2,9,0,null,null,"Andre grasfrøarter",null,null,null,0,0,1,1,2,1290,0,0,0,0,0,0,0,0,0,0,0,0,20,null,null,null,null,null,null,null,null,null,3001]
[1,3,0,0,null,"Kløverfrø",null,null,null,null,0,1,1,1,2,1300,{"$f":"IF(GRLProdukt=1,AC39,IF(GRLProdukt=2,AO39,IF(GRLProdukt=3,BA39,IF(GRLProdukt=4,BM39,0))))","v":0},{"$f":"IF(GRLProdukt=1,AD39,IF(GRLProdukt=2,AP39,IF(GRLProdukt=3,BB39,IF(GRLProdukt=4,BN39,0))))","v":0},0,{"$f":"IF(GRLProdukt=1,AF39,IF(GRLProdukt=2,AR39,IF(GRLProdukt=3,BD39,IF(GRLProdukt=4,BP39,0))))","v":0},{"$f":"IF(GRLProdukt=1,AG39,IF(GRLProdukt=2,AS39,IF(GRLProdukt=3,BE39,IF(GRLProdukt=4,BQ39,0))))","v":0},0,0,{"$f":"IF(GRLProdukt=1,AJ39,IF(GRLProdukt=2,AV39,IF(GRLProdukt=3,BH39,IF(GRLProdukt=4,BT39,0))))","v":0},{"$f":"IF(GRLProdukt=1,AK39,IF(GRLProdukt=2,AW39,IF(GRLProdukt=3,BI39,IF(GRLProdukt=4,BU39,0))))","v":0},{"$f":"IF(GRLProdukt=1,AL39,IF(GRLProdukt=2,AX39,IF(GRLProdukt=3,BJ39,IF(GRLProdukt=4,BV39,0))))","v":0},{"$f":"IF(GRLProdukt=1,AM39,IF(GRLProdukt=2,AY39,IF(GRLProdukt=3,BK39,IF(GRLProdukt=4,BW39,0))))","v":0},{"$f":"IF(GRLProdukt=1,AN39,IF(GRLProdukt=2,AZ39,IF(GRLProdukt=3,BL39,IF(GRLProdukt=4,BX39,0))))","v":0},20,null,null,null,null,null,null,null,null,null,3001]
[1,3,1,0,null,null,"Rødkløver",null,null,null,0,0,1,1,2,1310,0,0,0,0,0,0,0,0,0,0,0,0,20,null,null,null,null,null,null,null,null,null,3001]
[1,3,2,0,null,null,"Kvitkløver",null,null,null,0,0,1,1,2,1320,0,0,0,0,0,0,0,0,0,0,0,0,20,null,null,null,null,null,null,null,null,null,3001]
[1,3,3,0,null,null,"Alsikekøver",null,null,null,0,0,1,1,2,1330,0,0,0,0,0,0,0,0,0,0,0,0,20,null,null,null,null,null,null,null,null,null,3001]
[1,3,9,0,null,null,"Annet kløverfrø",null,null,null,0,0,1,1,2,1390,0,0,0,0,0,0,0,0,0,0,0,0,20,null,null,null,null,null,null,null,null,null,3001]
[1,4,0,0,null,"Andre frøsorter",null,null,null,null,0,1,1,1,2,1400,0,0,0,0,0,0,0,0,0,0,0,0,20,null,null,null,null,null,null,null,null,null,3001]
[1,4,1,0,null,null,"Fôrreddik",null,null,null,0,0,1,1,2,1410,0,0,0,0,0,0,0,0,0,0,0,0,20,null,null,null,null,null,null,null,null,null,3001]
[1,4,2,0,null,null,"Grønnfôrnepe",null,null,null,0,0,1,1,2,1420,0,0,0,0,0,0,0,0,0,0,0,0,20,null,null,null,null,null,null,null,null,null,3001]
[1,4,3,0,null,null,"Fôrraps",null,null,null,0,0,1,1,2,1430,0,0,0,0,0,0,0,0,0,0,0,0,20,null,null,null,null,null,null,null,null,null,3001]
[1,4,4,0,null,null,"Fôrmargkål",null,null,null,0,0,1,1,2,1440,0,0,0,0,0,0,0,0,0,0,0,0,20,null,null,null,null,null,null,null,null,null,3001]
[1,4,5,0,null,null,"Grønnfôrert",null,null,null,0,{"$f":"IF(F49<>\"\",1,0)+K49","v":0},1,1,2,1450,0,0,0,0,0,0,0,0,0,0,0,0,20,null,null,null,null,null,null,null,null,null,3001]
[1,4,6,0,null,null,"Vikke, åkerbønner og andre belgvekster",null,null,"Ikke forveksles med kode 1165",0,0,1,1,2,1460,0,0,0,0,0,0,0,0,0,0,0,0,20,null,null,null,null,null,null,null,null,null,3001]
[1,4,9,0,null,null,"Annet frø",null,null,null,0,0,1,1,2,1490,0,0,0,0,0,0,0,0,0,0,0,0,20,null,null,null,null,null,null,null,null,null,3001]
[1,5,0,0,null,"Grovfôr og annet fôr til salg og eget bruk",null,null,null,null,0,1,1,1,2,1500,0,0,0,0,0,0,0,0,0,0,0,0,20,null,null,null,null,null,null,null,null,null,3005]
[1,5,1,0,null,null,"Gras, surfôr",null,null,null,0,0,1,1,2,1510,0,0,0,0,0,0,0,0,0,0,0,0,20,null,null,null,null,null,null,null,null,null,3005]
[1,5,1,1,null,null,null,"Surfôr, silo",null,null,{"$f":"IF(E54<>\"\",1,0)","v":0},{"$f":"IF(F54<>\"\",1,0)+K54","v":0},{"$f":"IF(G54<>\"\",1,0)+L54","v":0},{"$f":"IF(H54<>\"\",1,0)+M54","v":1},{"$f":"A54+1","v":2},1511,{"$f":"IF(GRLProdukt=1,AC54,IF(GRLProdukt=2,AO54,IF(GRLProdukt=3,BA54,IF(GRLProdukt=4,BM54,0))))","v":0},{"$f":"IF(GRLProdukt=1,AD54,IF(GRLProdukt=2,AP54,IF(GRLProdukt=3,BB54,IF(GRLProdukt=4,BN54,0))))","v":0},0,{"$f":"IF(GRLProdukt=1,AF54,IF(GRLProdukt=2,AR54,IF(GRLProdukt=3,BD54,IF(GRLProdukt=4,BP54,0))))","v":0},{"$f":"IF(GRLProdukt=1,AG54,IF(GRLProdukt=2,AS54,IF(GRLProdukt=3,BE54,IF(GRLProdukt=4,BQ54,0))))","v":0},{"$f":"IF(GRLProdukt=1,AH54,IF(GRLProdukt=2,AT54,IF(GRLProdukt=3,BF54,IF(GRLProdukt=4,BR54,0))))","v":0},{"$f":"IF(GRLProdukt=1,AI54,IF(GRLProdukt=2,AU54,IF(GRLProdukt=3,BG54,IF(GRLProdukt=4,BS54,0))))","v":0},{"$f":"IF(GRLProdukt=1,AJ54,IF(GRLProdukt=2,AV54,IF(GRLProdukt=3,BH54,IF(GRLProdukt=4,BT54,0))))","v":0},{"$f":"IF(GRLProdukt=1,AK54,IF(GRLProdukt=2,AW54,IF(GRLProdukt=3,BI54,IF(GRLProdukt=4,BU54,0))))","v":0},{"$f":"IF(GRLProdukt=1,AL54,IF(GRLProdukt=2,AX54,IF(GRLProdukt=3,BJ54,IF(GRLProdukt=4,BV54,0))))","v":0},{"$f":"IF(GRLProdukt=1,AM54,IF(GRLProdukt=2,AY54,IF(GRLProdukt=3,BK54,IF(GRLProdukt=4,BW54,0))))","v":0},{"$f":"IF(GRLProdukt=1,AN54,IF(GRLProdukt=2,AZ54,IF(GRLProdukt=3,BL54,IF(GRLProdukt=4,BX54,0))))","v":0},20,null,null,null,null,null,null,null,null,null,3005]
[1,5,1,2,null,null,null,"Surfôr, små rundballer",null,null,0,0,0,1,2,1512,0,0,0,0,0,0,0,0,0,0,0,0,20,null,null,null,null,null,null,null,null,null,3005]
[1,5,1,3,null,null,null,"Surfôr, store rundballer",null,null,0,0,0,1,2,1513,0,0,0,0,0,0,0,0,0,0,0,0,20,null,null,null,null,null,null,null,null,null,3005]
[1,5,2,0,null,null,"Høy",null,null,null,0,0,1,1,2,1520,0,0,0,0,0,0,0,0,0,0,0,0,20,null,null,null,null,null,null,null,null,null,3005]
[1,5,2,1,null,null,null,"Høy (løshøy)",null,null,0,0,0,1,2,1521,0,0,0,0,0,0,0,0,0,0,0,0,20,null,null,null,null,null,null,null,null,null,3005]
[1,5,2,2,null,null,null,"Høy i rundballer",null,null,0,0,0,1,2,1522,0,0,0,0,0,0,0,0,0,0,0,0,20,null,null,null,null,null,null,null,null,null,3005]
[1,5,2,3,null,null,null,"Høy i firkantballer",null,null,0,0,0,1,2,1523,0,0,0,0,0,0,0,0,0,0,0,0,20,null,null,null,null,null,null,null,null,null,3005]
[1,5,3,0,null,null,"Halm",null,null,null,0,0,1,1,2,1530,0,0,0,0,0,{"$f":"IF(GRLProdukt=1,AH61,IF(GRLProdukt=2,AT61,IF(GRLProdukt=3,BF61,IF(GRLProdukt=4,BR61,0))))","v":0},{"$f":"IF(GRLProdukt=1,AI61,IF(GRLProdukt=2,AU61,IF(GRLProdukt=3,BG61,IF(GRLProdukt=4,BS61,0))))","v":0},0,0,0,0,0,20,null,null,null,null,null,null,null,null,null,3005]
[1,5,3,1,null,null,null,"Halm høstet i rundballer",null,null,{"$f":"IF(E62<>\"\",1,0)","v":0},{"$f":"IF(F62<>\"\",1,0)+K62","v":0},{"$f":"IF(G62<>\"\",1,0)+L62","v":0},{"$f":"IF(H62<>\"\",1,0)+M62","v":1},{"$f":"A62+1","v":2},1531,{"$f":"IF(GRLProdukt=1,AC62,IF(GRLProdukt=2,AO62,IF(GRLProdukt=3,BA62,IF(GRLProdukt=4,BM62,0))))","v":0},{"$f":"IF(GRLProdukt=1,AD62,IF(GRLProdukt=2,AP62,IF(GRLProdukt=3,BB62,IF(GRLProdukt=4,BN62,0))))","v":0},0,{"$f":"IF(GRLProdukt=1,AF62,IF(GRLProdukt=2,AR62,IF(GRLProdukt=3,BD62,IF(GRLProdukt=4,BP62,0))))","v":0},{"$f":"IF(GRLProdukt=1,AG62,IF(GRLProdukt=2,AS62,IF(GRLProdukt=3,BE62,IF(GRLProdukt=4,BQ62,0))))","v":0},{"$f":"IF(GRLProdukt=1,AH62,IF(GRLProdukt=2,AT62,IF(GRLProdukt=3,BF62,IF(GRLProdukt=4,BR62,0))))","v":0},{"$f":"IF(GRLProdukt=1,AI62,IF(GRLProdukt=2,AU62,IF(GRLProdukt=3,BG62,IF(GRLProdukt=4,BS62,0))))","v":0},{"$f":"IF(GRLProdukt=1,AJ62,IF(GRLProdukt=2,AV62,IF(GRLProdukt=3,BH62,IF(GRLProdukt=4,BT62,0))))","v":0},{"$f":"IF(GRLProdukt=1,AK62,IF(GRLProdukt=2,AW62,IF(GRLProdukt=3,BI62,IF(GRLProdukt=4,BU62,0))))","v":0},{"$f":"IF(GRLProdukt=1,AL62,IF(GRLProdukt=2,AX62,IF(GRLProdukt=3,BJ62,IF(GRLProdukt=4,BV62,0))))","v":0},{"$f":"IF(GRLProdukt=1,AM62,IF(GRLProdukt=2,AY62,IF(GRLProdukt=3,BK62,IF(GRLProdukt=4,BW62,0))))","v":0},{"$f":"IF(GRLProdukt=1,AN62,IF(GRLProdukt=2,AZ62,IF(GRLProdukt=3,BL62,IF(GRLProdukt=4,BX62,0))))","v":0},20,null,null,null,null,null,null,null,null,null,3005]
[1,5,3,2,null,null,null,"Halm, amoniakkbehandlet",null,null,0,0,0,1,2,1532,0,0,0,0,0,0,0,0,0,0,0,0,20,null,null,null,null,null,null,null,null,null,3005]
[1,5,4,0,null,null,"Behandlet korn til fôr",null,null,null,0,0,1,1,2,1540,0,0,0,0,0,0,0,0,0,0,0,0,20,null,null,null,null,null,null,null,null,null,3005]
[1,5,4,1,null,null,null,"Byggrøpp",null,null,0,0,0,1,2,1541,0,0,0,0,0,0,0,0,0,0,0,0,20,null,null,null,null,null,null,null,null,null,3005]
[1,5,4,2,null,null,null,"Havregrøpp",null,null,0,0,0,1,2,1542,0,0,0,0,0,0,0,0,0,0,0,0,20,null,null,null,null,null,null,null,null,null,3005]
[1,5,4,3,null,null,null,"Krosset korn",null,null,0,0,0,1,2,1543,0,0,0,0,0,0,0,0,0,0,0,0,20,null,null,null,null,null,null,null,null,null,3005]
[1,5,5,0,null,null,"Behandlet poteter til fôr",null,null,null,0,0,1,1,2,1550,0,0,0,0,0,0,0,0,0,0,0,0,20,null,null,null,null,null,null,null,null,null,3005]
[1,5,5,1,null,null,null,"Potetsurfôr",null,null,{"$f":"IF(E69<>\"\",1,0)","v":0},{"$f":"IF(F69<>\"\",1,0)+K69","v":0},{"$f":"IF(G69<>\"\",1,0)+L69","v":0},{"$f":"IF(H69<>\"\",1,0)+M69","v":1},{"$f":"A69+1","v":2},1551,0,0,0,0,0,0,0,0,0,0,0,0,20,null,null,null,null,null,null,null,null,null,3005]
[1,5,5,2,null,null,null,"Potet, kokt",null,null,0,0,0,1,2,1552,0,0,0,0,0,0,0,0,0,0,0,0,20,null,null,null,null,null,null,null,null,null,3005]
[1,5,6,0,null,null,"Rotvekster til fôr",null,null,"Se detaljer",0,0,1,1,2,1560,0,0,0,0,0,{"$f":"IF(GRLProdukt=1,AH71,IF(GRLProdukt=2,AT71,IF(GRLProdukt=3,BF71,IF(GRLProdukt=4,BR71,0))))","v":0},{"$f":"IF(GRLProdukt=1,AI71,IF(GRLProdukt=2,AU71,IF(GRLProdukt=3,BG71,IF(GRLProdukt=4,BS71,0))))","v":0},0,0,0,0,0,20,null,null,null,null,null,null,null,null,null,3005]
[1,5,9,0,null,null,"Annet grovfôr",null,null,"Se detaljer",0,{"$f":"IF(F72<>\"\",1,0)+K72","v":0},1,1,2,1590,0,0,0,0,0,{"$f":"IF(GRLProdukt=1,AH72,IF(GRLProdukt=2,AT72,IF(GRLProdukt=3,BF72,IF(GRLProdukt=4,BR72,0))))","v":0},{"$f":"IF(GRLProdukt=1,AI72,IF(GRLProdukt=2,AU72,IF(GRLProdukt=3,BG72,IF(GRLProdukt=4,BS72,0))))","v":0},0,0,0,0,0,20,null,null,null,null,null,null,null,null,null,3005]
[2,0,0,0,"Poteter, grønnsaker, frukt, bær, blomster og hagebruksvekster",null,null,null,null,null,1,1,1,1,3,2000,null,null,null,null,null,null,null,null,null,null,null,null,20]
[2,1,0,0,null,"Poteter",null,null,null,"https://www.frukt.no/ravarer/poteter/",0,1,1,1,3,2100,{"$f":"IF(GRLProdukt=1,AC74,IF(GRLProdukt=2,AO74,IF(GRLProdukt=3,BA74,IF(GRLProdukt=4,BM74,0))))","v":0},{"$f":"IF(GRLProdukt=1,AD74,IF(GRLProdukt=2,AP74,IF(GRLProdukt=3,BB74,IF(GRLProdukt=4,BN74,0))))","v":0},0,{"$f":"IF(GRLProdukt=1,AF74,IF(GRLProdukt=2,AR74,IF(GRLProdukt=3,BD74,IF(GRLProdukt=4,BP74,0))))","v":0},{"$f":"IF(GRLProdukt=1,AG74,IF(GRLProdukt=2,AS74,IF(GRLProdukt=3,BE74,IF(GRLProdukt=4,BQ74,0))))","v":0},{"$f":"IF(GRLProdukt=1,AH74,IF(GRLProdukt=2,AT74,IF(GRLProdukt=3,BF74,IF(GRLProdukt=4,BR74,0))))","v":0},{"$f":"IF(GRLProdukt=1,AI74,IF(GRLProdukt=2,AU74,IF(GRLProdukt=3,BG74,IF(GRLProdukt=4,BS74,0))))","v":0},{"$f":"IF(GRLProdukt=1,AJ74,IF(GRLProdukt=2,AV74,IF(GRLProdukt=3,BH74,IF(GRLProdukt=4,BT74,0))))","v":0},{"$f":"IF(GRLProdukt=1,AK74,IF(GRLProdukt=2,AW74,IF(GRLProdukt=3,BI74,IF(GRLProdukt=4,BU74,0))))","v":0},{"$f":"IF(GRLProdukt=1,AL74,IF(GRLProdukt=2,AX74,IF(GRLProdukt=3,BJ74,IF(GRLProdukt=4,BV74,0))))","v":0},{"$f":"IF(GRLProdukt=1,AM74,IF(GRLProdukt=2,AY74,IF(GRLProdukt=3,BK74,IF(GRLProdukt=4,BW74,0))))","v":0},{"$f":"IF(GRLProdukt=1,AN74,IF(GRLProdukt=2,AZ74,IF(GRLProdukt=3,BL74,IF(GRLProdukt=4,BX74,0))))","v":0},20,null,null,null,null,null,null,null,null,3011,3014]
[2,2,0,0,null,"Grønnsaker på friland og i veksthus",null,null,null,"https://www.frukt.no/ravarer/gronnsaker/",{"$f":"IF(E75<>\"\",1,0)","v":0},{"$f":"IF(F75<>\"\",1,0)+K75","v":1},1,1,{"$f":"A75+1","v":3},2200,0,0,0,0,0,0,0,0,0,0,0,0,20,null,null,null,null,null,null,null,null,3015,3019]
[2,2,1,0,null,null,"Kålvekster",null,null,null,0,0,1,1,{"$f":"A76+1","v":3},2210,0,0,0,0,0,0,0,0,0,0,0,0,20,null,null,null,null,null,null,null,null,3015,3019]
[2,2,4,0,null,null,"Rotvekster",null,null,null,{"$f":"IF(E77<>\"\",1,0)","v":0},{"$f":"IF(F77<>\"\",1,0)+K77","v":0},{"$f":"IF(G77<>\"\",1,0)+L77","v":1},{"$f":"IF(H77<>\"\",1,0)+M77","v":1},{"$f":"A77+1","v":3},2240,{"$f":"IF(GRLProdukt=1,AC77,IF(GRLProdukt=2,AO77,IF(GRLProdukt=3,BA77,IF(GRLProdukt=4,BM77,0))))","v":0},{"$f":"IF(GRLProdukt=1,AD77,IF(GRLProdukt=2,AP77,IF(GRLProdukt=3,BB77,IF(GRLProdukt=4,BN77,0))))","v":0},0,{"$f":"IF(GRLProdukt=1,AF77,IF(GRLProdukt=2,AR77,IF(GRLProdukt=3,BD77,IF(GRLProdukt=4,BP77,0))))","v":0},{"$f":"IF(GRLProdukt=1,AG77,IF(GRLProdukt=2,AS77,IF(GRLProdukt=3,BE77,IF(GRLProdukt=4,BQ77,0))))","v":0},{"$f":"IF(GRLProdukt=1,AH77,IF(GRLProdukt=2,AT77,IF(GRLProdukt=3,BF77,IF(GRLProdukt=4,BR77,0))))","v":0},{"$f":"IF(GRLProdukt=1,AI77,IF(GRLProdukt=2,AU77,IF(GRLProdukt=3,BG77,IF(GRLProdukt=4,BS77,0))))","v":0},{"$f":"IF(GRLProdukt=1,AJ77,IF(GRLProdukt=2,AV77,IF(GRLProdukt=3,BH77,IF(GRLProdukt=4,BT77,0))))","v":0},{"$f":"IF(GRLProdukt=1,AK77,IF(GRLProdukt=2,AW77,IF(GRLProdukt=3,BI77,IF(GRLProdukt=4,BU77,0))))","v":0},{"$f":"IF(GRLProdukt=1,AL77,IF(GRLProdukt=2,AX77,IF(GRLProdukt=3,BJ77,IF(GRLProdukt=4,BV77,0))))","v":0},{"$f":"IF(GRLProdukt=1,AM77,IF(GRLProdukt=2,AY77,IF(GRLProdukt=3,BK77,IF(GRLProdukt=4,BW77,0))))","v":0},{"$f":"IF(GRLProdukt=1,AN77,IF(GRLProdukt=2,AZ77,IF(GRLProdukt=3,BL77,IF(GRLProdukt=4,BX77,0))))","v":0},20,null,null,null,null,null,null,null,null,3015,3019]
[2,2,7,0,null,null,"Salat og bladgrønnsaker",null,null,null,{"$f":"IF(E78<>\"\",1,0)","v":0},{"$f":"IF(F78<>\"\",1,0)+K78","v":0},{"$f":"IF(G78<>\"\",1,0)+L78","v":1},{"$f":"IF(H78<>\"\",1,0)+M78","v":1},{"$f":"A78+1","v":3},2270,0,0,0,0,0,0,0,0,0,0,0,0,20,null,null,null,null,null,null,null,null,3015,3019]
[2,3,1,0,null,null,"Løk- og purrevekster",null,null,null,0,0,1,1,3,2310,0,0,0,0,0,0,0,0,0,0,0,0,20,null,null,null,null,null,null,null,null,3015,3019]
[2,3,3,0,null,null,"Stengelvekster",null,null,null,0,0,1,1,3,2330,0,0,0,0,0,0,0,0,0,0,0,0,20,null,null,null,null,null,null,null,null,3015,3019]
[2,3,5,0,null,null,"Frø- og belgvekster",null,null,null,0,0,1,1,3,2350,0,0,0,0,0,0,0,0,0,0,0,0,20,null,null,null,null,null,null,null,null,3015,3019]
[2,3,8,0,null,null,"Agurk mv.",null,null,null,{"$f":"IF(E82<>\"\",1,0)","v":0},{"$f":"IF(F82<>\"\",1,0)+K82","v":0},{"$f":"IF(G82<>\"\",1,0)+L82","v":1},{"$f":"IF(H82<>\"\",1,0)+M82","v":1},{"$f":"A82+1","v":3},2380,0,0,0,0,0,0,0,0,0,0,0,0,20,null,null,null,null,null,null,null,null,3015,3019]
[2,3,9,0,null,null,"Gresskar",null,null,null,{"$f":"IF(E83<>\"\",1,0)","v":0},{"$f":"IF(F83<>\"\",1,0)+K83","v":0},{"$f":"IF(G83<>\"\",1,0)+L83","v":1},{"$f":"IF(H83<>\"\",1,0)+M83","v":1},{"$f":"A83+1","v":3},{"$f":"VALUE(A83&B83&C83&D83)","v":2390},{"$f":"IF(GRLProdukt=1,AC83,IF(GRLProdukt=2,AO83,IF(GRLProdukt=3,BA83,IF(GRLProdukt=4,BM83,0))))","v":0},{"$f":"IF(GRLProdukt=1,AD83,IF(GRLProdukt=2,AP83,IF(GRLProdukt=3,BB83,IF(GRLProdukt=4,BN83,0))))","v":0},{"$f":"IF(GRLProdukt=1,AE83,IF(GRLProdukt=2,AQ83,IF(GRLProdukt=3,BC83,IF(GRLProdukt=4,BO83,0))))","v":0},{"$f":"IF(GRLProdukt=1,AF83,IF(GRLProdukt=2,AR83,IF(GRLProdukt=3,BD83,IF(GRLProdukt=4,BP83,0))))","v":0},{"$f":"IF(GRLProdukt=1,AG83,IF(GRLProdukt=2,AS83,IF(GRLProdukt=3,BE83,IF(GRLProdukt=4,BQ83,0))))","v":0},{"$f":"IF(GRLProdukt=1,AH83,IF(GRLProdukt=2,AT83,IF(GRLProdukt=3,BF83,IF(GRLProdukt=4,BR83,0))))","v":0},{"$f":"IF(GRLProdukt=1,AI83,IF(GRLProdukt=2,AU83,IF(GRLProdukt=3,BG83,IF(GRLProdukt=4,BS83,0))))","v":0},{"$f":"IF(GRLProdukt=1,AJ83,IF(GRLProdukt=2,AV83,IF(GRLProdukt=3,BH83,IF(GRLProdukt=4,BT83,0))))","v":0},{"$f":"IF(GRLProdukt=1,AK83,IF(GRLProdukt=2,AW83,IF(GRLProdukt=3,BI83,IF(GRLProdukt=4,BU83,0))))","v":0},{"$f":"IF(GRLProdukt=1,AL83,IF(GRLProdukt=2,AX83,IF(GRLProdukt=3,BJ83,IF(GRLProdukt=4,BV83,0))))","v":0},{"$f":"IF(GRLProdukt=1,AM83,IF(GRLProdukt=2,AY83,IF(GRLProdukt=3,BK83,IF(GRLProdukt=4,BW83,0))))","v":0},{"$f":"IF(GRLProdukt=1,AN83,IF(GRLProdukt=2,AZ83,IF(GRLProdukt=3,BL83,IF(GRLProdukt=4,BX83,0))))","v":0},20,null,null,null,null,null,null,null,null,3015,3019]
[2,4,1,0,null,null,"Tomat",null,null,null,0,0,1,1,3,2410,0,0,0,0,0,0,0,0,0,0,0,0,20,null,null,null,null,null,null,null,null,3015,3019]
[2,4,4,0,null,null,"Paprika og chili",null,null,null,{"$f":"IF(E85<>\"\",1,0)","v":0},{"$f":"IF(F85<>\"\",1,0)+K85","v":0},{"$f":"IF(G85<>\"\",1,0)+L85","v":1},{"$f":"IF(H85<>\"\",1,0)+M85","v":1},{"$f":"A85+1","v":3},2440,{"$f":"IF(GRLProdukt=1,AC85,IF(GRLProdukt=2,AO85,IF(GRLProdukt=3,BA85,IF(GRLProdukt=4,BM85,0))))","v":0},{"$f":"IF(GRLProdukt=1,AD85,IF(GRLProdukt=2,AP85,IF(GRLProdukt=3,BB85,IF(GRLProdukt=4,BN85,0))))","v":0},0,{"$f":"IF(GRLProdukt=1,AF85,IF(GRLProdukt=2,AR85,IF(GRLProdukt=3,BD85,IF(GRLProdukt=4,BP85,0))))","v":0},{"$f":"IF(GRLProdukt=1,AG85,IF(GRLProdukt=2,AS85,IF(GRLProdukt=3,BE85,IF(GRLProdukt=4,BQ85,0))))","v":0},{"$f":"IF(GRLProdukt=1,AH85,IF(GRLProdukt=2,AT85,IF(GRLProdukt=3,BF85,IF(GRLProdukt=4,BR85,0))))","v":0},{"$f":"IF(GRLProdukt=1,AI85,IF(GRLProdukt=2,AU85,IF(GRLProdukt=3,BG85,IF(GRLProdukt=4,BS85,0))))","v":0},{"$f":"IF(GRLProdukt=1,AJ85,IF(GRLProdukt=2,AV85,IF(GRLProdukt=3,BH85,IF(GRLProdukt=4,BT85,0))))","v":0},{"$f":"IF(GRLProdukt=1,AK85,IF(GRLProdukt=2,AW85,IF(GRLProdukt=3,BI85,IF(GRLProdukt=4,BU85,0))))","v":0},{"$f":"IF(GRLProdukt=1,AL85,IF(GRLProdukt=2,AX85,IF(GRLProdukt=3,BJ85,IF(GRLProdukt=4,BV85,0))))","v":0},{"$f":"IF(GRLProdukt=1,AM85,IF(GRLProdukt=2,AY85,IF(GRLProdukt=3,BK85,IF(GRLProdukt=4,BW85,0))))","v":0},{"$f":"IF(GRLProdukt=1,AN85,IF(GRLProdukt=2,AZ85,IF(GRLProdukt=3,BL85,IF(GRLProdukt=4,BX85,0))))","v":0},20,null,null,null,null,null,null,null,null,3015,3019]
[2,4,5,0,null,null,"Krydderurter",null,null,null,0,0,1,1,3,2450,0,0,0,0,0,0,0,0,0,0,0,0,20,null,null,null,null,null,null,null,null,3015,3019]
[2,4,8,0,null,null,"Sopp",null,null,null,{"$f":"IF(E87<>\"\",1,0)","v":0},{"$f":"IF(F87<>\"\",1,0)+K87","v":0},{"$f":"IF(G87<>\"\",1,0)+L87","v":1},{"$f":"IF(H87<>\"\",1,0)+M87","v":1},{"$f":"A87+1","v":3},2480,0,0,0,0,0,0,0,0,0,0,0,0,20,null,null,null,null,null,null,null,null,3015,3019]
[2,4,9,0,null,null,"Ledig",null,null,null,{"$f":"IF(E88<>\"\",1,0)","v":0},{"$f":"IF(F88<>\"\",1,0)+K88","v":0},{"$f":"IF(G88<>\"\",1,0)+L88","v":1},{"$f":"IF(H88<>\"\",1,0)+M88","v":1},{"$f":"A88+1","v":3},2490,0,0,0,0,0,0,0,0,0,0,0,0,20]
[2,5,0,0,null,"Frukt",null,null,null,"https://www.frukt.no/ravarer/frukt/",0,1,1,1,3,2500,0,0,0,0,0,{"$f":"IF(GRLProdukt=1,AH89,IF(GRLProdukt=2,AT89,IF(GRLProdukt=3,BF89,IF(GRLProdukt=4,BR89,0))))","v":0},{"$f":"IF(GRLProdukt=1,AI89,IF(GRLProdukt=2,AU89,IF(GRLProdukt=3,BG89,IF(GRLProdukt=4,BS89,0))))","v":0},0,0,0,0,0,20,null,null,null,null,null,null,null,null,3021,3024]
[2,5,1,0,null,null,"Epler",null,null,null,0,0,1,1,3,2510,0,0,0,0,0,0,0,0,0,0,0,0,20,null,null,null,null,null,null,null,null,3021,3024]
[2,5,2,0,null,null,"Pærer",null,null,null,0,0,1,1,3,2520,0,0,0,0,0,0,0,0,0,0,0,0,20,null,null,null,null,null,null,null,null,3021,3024]
[2,5,3,0,null,null,"Plommer",null,null,null,0,0,1,1,3,2530,0,0,0,0,0,0,0,0,0,0,0,0,20,null,null,null,null,null,null,null,null,3021,3024]
[2,5,4,0,null,null,"Moreller",null,null,null,0,0,1,1,3,2540,0,0,0,0,0,0,0,0,0,0,0,0,20,null,null,null,null,null,null,null,null,3021,3024]
[2,5,5,0,null,null,"Kirsebær",null,null,null,0,0,1,1,3,2550,0,0,0,0,0,0,0,0,0,0,0,0,20,null,null,null,null,null,null,null,null,3021,3024]
[2,5,9,0,null,null,"Andre fruktsorter",null,null,null,0,0,1,1,3,2590,0,0,0,0,0,0,0,0,0,0,0,0,20,null,null,null,null,null,null,null,null,3021,3024]
[2,6,0,0,null,"Bær",null,null,null,"https://www.frukt.no/ravarer/frukt/",0,1,1,1,3,2600,0,0,0,0,0,0,0,0,0,0,0,0,20,null,null,null,null,null,null,null,null,3025,3029]
[2,6,1,0,null,null,"Jordbær",null,null,null,0,0,1,1,3,2610,0,0,0,0,0,0,0,0,0,0,0,0,20,null,null,null,null,null,null,null,null,3025,3029]
[2,6,2,0,null,null,"Ripsfamilien",null,null,null,{"$f":"IF(E98<>\"\",1,0)","v":0},{"$f":"IF(F98<>\"\",1,0)+K98","v":0},{"$f":"IF(G98<>\"\",1,0)+L98","v":1},{"$f":"IF(H98<>\"\",1,0)+M98","v":1},{"$f":"A98+1","v":3},2620,0,0,0,0,0,0,0,0,0,0,0,0,20,null,null,null,null,null,null,null,null,3025,3029]
[2,6,2,1,null,null,null,"Solbær",null,null,0,0,0,1,3,{"$f":"VALUE(A99&B99&C99&D99)","v":2621},0,0,0,0,0,0,0,0,0,0,0,0,20,null,null,null,null,null,null,null,null,3025,3029]
[2,6,2,2,null,null,null,"Ripsbær",null,null,0,0,0,1,3,2622,0,0,0,0,0,0,0,0,0,0,0,0,20,null,null,null,null,null,null,null,null,3025,3029]
[2,6,2,3,null,null,null,"Stikkelsbær",null,null,0,0,0,1,3,2623,0,0,0,0,0,0,0,0,0,0,0,0,20,null,null,null,null,null,null,null,null,3025,3029]
[2,6,3,0,null,null,"Bjørnebærslekta",null,null,null,0,0,1,1,3,2630,0,0,0,0,0,0,0,0,0,0,0,0,20,null,null,null,null,null,null,null,null,3025,3029]
[2,6,3,1,null,null,null,"Bringebær",null,null,0,0,0,1,3,2631,0,0,0,0,0,0,0,0,0,0,0,0,20,null,null,null,null,null,null,null,null,3025,3029]
[2,6,3,2,null,null,null,"Bjørnebær",null,null,0,0,0,1,3,2632,0,0,0,0,0,0,0,0,0,0,0,0,20,null,null,null,null,null,null,null,null,3025,3029]
[2,6,3,3,null,null,null,"Boysenbær",null,"Kryssning",0,0,0,1,3,2633,0,0,0,0,0,0,0,0,0,0,0,0,20,null,null,null,null,null,null,null,null,3025,3029]
[2,6,4,0,null,null,"Blåbær",null,null,null,0,0,1,1,3,2640,0,0,0,0,0,0,0,0,0,0,0,0,20,null,null,null,null,null,null,null,null,3025,3029]
[2,6,4,1,null,null,null,"Hageblåbær",null,null,0,0,0,1,3,2641,0,0,0,0,0,0,0,0,0,0,0,0,20,null,null,null,null,null,null,null,null,3025,3029]
[2,6,4,2,null,null,null,"Skogsblåbær",null,null,{"$f":"IF(E108<>\"\",1,0)","v":0},{"$f":"IF(F108<>\"\",1,0)+K108","v":0},{"$f":"IF(G108<>\"\",1,0)+L108","v":0},{"$f":"IF(H108<>\"\",1,0)+M108","v":1},{"$f":"A108+1","v":3},2642,0,{"$f":"IF(GRLProdukt=1,AD108,IF(GRLProdukt=2,AP108,IF(GRLProdukt=3,BB108,IF(GRLProdukt=4,BN108,0))))","v":0},{"$f":"IF(GRLProdukt=1,AE108,IF(GRLProdukt=2,AQ108,IF(GRLProdukt=3,BC108,IF(GRLProdukt=4,BO108,0))))","v":0},{"$f":"IF(GRLProdukt=1,AF108,IF(GRLProdukt=2,AR108,IF(GRLProdukt=3,BD108,IF(GRLProdukt=4,BP108,0))))","v":0},{"$f":"IF(GRLProdukt=1,AG108,IF(GRLProdukt=2,AS108,IF(GRLProdukt=3,BE108,IF(GRLProdukt=4,BQ108,0))))","v":0},{"$f":"IF(GRLProdukt=1,AH108,IF(GRLProdukt=2,AT108,IF(GRLProdukt=3,BF108,IF(GRLProdukt=4,BR108,0))))","v":0},{"$f":"IF(GRLProdukt=1,AI108,IF(GRLProdukt=2,AU108,IF(GRLProdukt=3,BG108,IF(GRLProdukt=4,BS108,0))))","v":0},{"$f":"IF(GRLProdukt=1,AJ108,IF(GRLProdukt=2,AV108,IF(GRLProdukt=3,BH108,IF(GRLProdukt=4,BT108,0))))","v":0},{"$f":"IF(GRLProdukt=1,AK108,IF(GRLProdukt=2,AW108,IF(GRLProdukt=3,BI108,IF(GRLProdukt=4,BU108,0))))","v":0},{"$f":"IF(GRLProdukt=1,AL108,IF(GRLProdukt=2,AX108,IF(GRLProdukt=3,BJ108,IF(GRLProdukt=4,BV108,0))))","v":0},{"$f":"IF(GRLProdukt=1,AM108,IF(GRLProdukt=2,AY108,IF(GRLProdukt=3,BK108,IF(GRLProdukt=4,BW108,0))))","v":0},{"$f":"IF(GRLProdukt=1,AN108,IF(GRLProdukt=2,AZ108,IF(GRLProdukt=3,BL108,IF(GRLProdukt=4,BX108,0))))","v":0},20,null,null,null,null,null,null,null,null,3025,3029]
[2,6,5,0,null,null,"Molte",null,null,null,0,0,1,1,3,2650,0,0,0,0,0,0,0,0,0,0,0,0,20,null,null,null,null,null,null,null,null,3025,3029]
[2,6,6,0,null,null,"Tyttebær",null,null,null,{"$f":"IF(E110<>\"\",1,0)","v":0},{"$f":"IF(F110<>\"\",1,0)+K110","v":0},{"$f":"IF(G110<>\"\",1,0)+L110","v":1},{"$f":"IF(H110<>\"\",1,0)+M110","v":1},3,2660,{"$f":"IF(GRLProdukt=1,AC110,IF(GRLProdukt=2,AO110,IF(GRLProdukt=3,BA110,IF(GRLProdukt=4,BM110,0))))","v":0},{"$f":"IF(GRLProdukt=1,AD110,IF(GRLProdukt=2,AP110,IF(GRLProdukt=3,BB110,IF(GRLProdukt=4,BN110,0))))","v":0},{"$f":"IF(GRLProdukt=1,AE110,IF(GRLProdukt=2,AQ110,IF(GRLProdukt=3,BC110,IF(GRLProdukt=4,BO110,0))))","v":0},{"$f":"IF(GRLProdukt=1,AF110,IF(GRLProdukt=2,AR110,IF(GRLProdukt=3,BD110,IF(GRLProdukt=4,BP110,0))))","v":0},{"$f":"IF(GRLProdukt=1,AG110,IF(GRLProdukt=2,AS110,IF(GRLProdukt=3,BE110,IF(GRLProdukt=4,BQ110,0))))","v":0},{"$f":"IF(GRLProdukt=1,AH110,IF(GRLProdukt=2,AT110,IF(GRLProdukt=3,BF110,IF(GRLProdukt=4,BR110,0))))","v":0},{"$f":"IF(GRLProdukt=1,AI110,IF(GRLProdukt=2,AU110,IF(GRLProdukt=3,BG110,IF(GRLProdukt=4,BS110,0))))","v":0},{"$f":"IF(GRLProdukt=1,AJ110,IF(GRLProdukt=2,AV110,IF(GRLProdukt=3,BH110,IF(GRLProdukt=4,BT110,0))))","v":0},{"$f":"IF(GRLProdukt=1,AK110,IF(GRLProdukt=2,AW110,IF(GRLProdukt=3,BI110,IF(GRLProdukt=4,BU110,0))))","v":0},{"$f":"IF(GRLProdukt=1,AL110,IF(GRLProdukt=2,AX110,IF(GRLProdukt=3,BJ110,IF(GRLProdukt=4,BV110,0))))","v":0},{"$f":"IF(GRLProdukt=1,AM110,IF(GRLProdukt=2,AY110,IF(GRLProdukt=3,BK110,IF(GRLProdukt=4,BW110,0))))","v":0},{"$f":"IF(GRLProdukt=1,AN110,IF(GRLProdukt=2,AZ110,IF(GRLProdukt=3,BL110,IF(GRLProdukt=4,BX110,0))))","v":0},20,null,null,null,null,null,null,null,null,3025,3029]
[2,6,9,0,null,null,"Andre arter bær",null,null,"Tindved kodet her",0,0,1,1,3,2690,0,0,0,0,0,0,0,0,0,0,0,0,20,null,null,null,null,null,null,null,null,3025,3029]
[2,7,0,0,null,"Ledig",null,null,null,null,{"$f":"IF(E112<>\"\",1,0)","v":0},{"$f":"IF(F112<>\"\",1,0)+K112","v":1},{"$f":"IF(G112<>\"\",1,0)+L112","v":1},{"$f":"IF(H112<>\"\",1,0)+M112","v":1},{"$f":"A112+1","v":3},2700,0,0,0,0,0,0,0,0,0,0,0,0,20]
[2,8,0,0,null,"Blomster og hagebruksvekster",null,null,null,"www.obp.no",0,1,1,1,3,2800,0,0,0,0,0,0,0,0,0,0,0,0,20,null,null,null,null,null,null,null,null,null,3031]
[2,8,1,0,null,null,"Potteplanter",null,null,null,0,0,1,1,3,2810,0,0,0,0,0,0,0,0,0,0,0,0,20,null,null,null,null,null,null,null,null,null,3031]
[2,8,2,0,null,null,"Snittblomster",null,null,null,0,0,1,1,3,2820,0,0,0,0,0,0,0,0,0,0,0,0,20,null,null,null,null,null,null,null,null,null,3031]
[2,8,3,0,null,null,"Sommerblomster",null,null,null,0,0,1,1,3,2830,0,0,0,0,0,0,0,0,0,0,0,0,20,null,null,null,null,null,null,null,null,null,3031]
[2,8,4,0,null,null,"Stauder",null,null,null,0,0,1,1,3,2840,0,0,0,0,0,0,0,0,0,0,0,0,20,null,null,null,null,null,null,null,null,null,3031]
[2,8,5,0,null,null,"Hagebusker",null,null,null,0,0,1,1,3,2850,0,0,0,0,0,0,0,0,0,0,0,0,20,null,null,null,null,null,null,null,null,null,3031]
[2,8,6,0,null,null,"Hagetrær",null,null,null,0,0,1,1,3,2860,0,0,0,0,0,0,0,0,0,0,0,0,20,null,null,null,null,null,null,null,null,null,3031]
[3,0,0,0,"Husdyrprodukter",null,null,null,null,null,{"$f":"IF(E120<>\"\",1,0)","v":1},{"$f":"IF(F120<>\"\",1,0)+K120","v":1},1,1,{"$f":"A120+1","v":4},3000,null,null,null,null,null,null,null,null,null,null,null,null,20]
[3,1,0,0,null,"Melk",null,null,null,null,0,1,1,1,4,{"$f":"VALUE(A121&B121&C121&D121)","v":3100},{"$f":"IF(GRLProdukt=1,AC121,IF(GRLProdukt=2,AO121,IF(GRLProdukt=3,BA121,IF(GRLProdukt=4,BM121,0))))","v":0},{"$f":"IF(GRLProdukt=1,AD121,IF(GRLProdukt=2,AP121,IF(GRLProdukt=3,BB121,IF(GRLProdukt=4,BN121,0))))","v":0},0,{"$f":"IF(GRLProdukt=1,AF121,IF(GRLProdukt=2,AR121,IF(GRLProdukt=3,BD121,IF(GRLProdukt=4,BP121,0))))","v":0},{"$f":"IF(GRLProdukt=1,AG121,IF(GRLProdukt=2,AS121,IF(GRLProdukt=3,BE121,IF(GRLProdukt=4,BQ121,0))))","v":0},{"$f":"IF(GRLProdukt=1,AH121,IF(GRLProdukt=2,AT121,IF(GRLProdukt=3,BF121,IF(GRLProdukt=4,BR121,0))))","v":0},{"$f":"IF(GRLProdukt=1,AI121,IF(GRLProdukt=2,AU121,IF(GRLProdukt=3,BG121,IF(GRLProdukt=4,BS121,0))))","v":0},{"$f":"IF(GRLProdukt=1,AJ121,IF(GRLProdukt=2,AV121,IF(GRLProdukt=3,BH121,IF(GRLProdukt=4,BT121,0))))","v":0},{"$f":"IF(GRLProdukt=1,AK121,IF(GRLProdukt=2,AW121,IF(GRLProdukt=3,BI121,IF(GRLProdukt=4,BU121,0))))","v":0},{"$f":"IF(GRLProdukt=1,AL121,IF(GRLProdukt=2,AX121,IF(GRLProdukt=3,BJ121,IF(GRLProdukt=4,BV121,0))))","v":0},{"$f":"IF(GRLProdukt=1,AM121,IF(GRLProdukt=2,AY121,IF(GRLProdukt=3,BK121,IF(GRLProdukt=4,BW121,0))))","v":0},{"$f":"IF(GRLProdukt=1,AN121,IF(GRLProdukt=2,AZ121,IF(GRLProdukt=3,BL121,IF(GRLProdukt=4,BX121,0))))","v":0},20,null,null,null,null,null,null,3163,null,null,3071]
[3,1,1,0,null,null,"Kumelk",null,null,null,0,0,1,1,4,3110,0,0,0,0,0,0,0,0,0,0,0,0,20,null,null,null,null,null,null,3163,null,null,3071]
[3,1,2,0,null,null,"Geitemelk",null,null,null,0,0,1,1,4,3120,0,0,0,0,0,0,0,0,0,0,0,0,20,null,null,null,null,null,null,3163,null,null,3071]
[3,1,3,0,null,null,"Sauemelk",null,null,null,0,0,1,1,4,3130,0,0,0,0,0,0,0,0,0,0,0,0,20,null,null,null,null,null,null,3163,null,null,3071]
[3,1,9,0,null,null,"Annen melk",null,null,"Smør, ost og råmjølk? Egne produkt?",0,0,1,1,4,3190,0,0,0,0,0,0,0,0,0,0,0,0,20,null,null,null,null,null,null,3163,null,null,3071]
[3,2,0,0,null,"Egg",null,null,null,null,0,1,1,1,4,3200,0,0,0,0,0,0,0,0,0,0,0,0,20,null,null,null,null,null,null,3163,null,3075,3076]
[3,2,1,0,null,null,"Egg, Høne konsum",null,null,null,0,0,1,1,4,3210,0,0,0,0,0,0,0,0,0,0,0,0,20,null,null,null,null,null,null,3163,null,3075,3076]
[3,2,2,0,null,null,"Rugeegg, Høne",null,null,null,0,0,1,1,4,3220,0,0,0,0,0,0,0,0,0,0,0,0,20,null,null,null,null,null,null,3163,null,null,3076]
[3,2,3,0,null,null,"Annet høneegg",null,null,null,0,0,1,1,4,3230,0,0,0,0,0,0,0,0,0,0,0,0,20,null,null,null,null,null,null,3163,null,null,3076]
[3,2,9,0,null,null,"Andeegg",null,null,null,0,0,1,1,4,3290,0,0,0,0,0,0,0,0,0,0,0,0,20,null,null,null,null,null,null,3163,null,3075,3076]
[3,3,0,0,null,"Bier/Insekter",null,null,null,null,{"$f":"IF(E131<>\"\",1,0)","v":0},1,1,1,4,3300,0,0,0,0,0,0,0,0,0,0,0,0,20,null,null,null,null,null,null,3163,null,null,3076]
[3,3,1,0,null,null,"Honning",null,null,null,0,0,1,1,4,3310,0,0,0,0,0,0,0,0,0,0,0,0,20,null,null,null,null,null,null,3163,null,null,3076]
[3,3,3,0,null,null,"Bivoks",null,null,null,0,0,1,1,4,3330,0,0,0,0,0,0,0,0,0,0,0,0,20,null,null,null,null,null,null,3163,null,null,3076]
[3,3,9,0,null,null,"Bier, andre produkter",null,null,null,0,{"$f":"IF(F134<>\"\",1,0)+K134","v":0},1,1,{"$f":"A134+1","v":4},3390,0,0,0,0,0,0,0,0,0,0,0,0,20,null,null,null,null,null,null,3163,null,null,3076]
[3,4,0,0,null,"Ull, huder og skinn (jordbruk)",null,null,null,null,0,1,1,1,4,3400,0,0,0,0,0,0,0,0,0,0,0,0,20,null,null,null,null,null,null,3163,null,null,3079]
[3,4,1,0,null,null,"Saueull",null,null,null,0,0,1,1,4,3410,0,0,0,0,0,0,0,0,0,0,0,0,20,null,null,null,null,null,null,3163,null,null,3079]
[3,4,2,0,null,null,"Annen ull",null,null,null,0,0,1,1,4,3420,0,0,0,0,0,0,0,0,0,0,0,0,20,null,null,null,null,null,null,3163,null,null,3079]
[3,4,3,0,null,null,"Skinn av småfe",null,null,null,0,0,1,1,4,3430,0,0,0,0,0,0,0,0,0,0,0,0,20,null,null,null,null,null,null,3163,null,null,3079]
[3,4,3,1,null,null,null,"Saueskinn",null,null,{"$f":"IF(E139<>\"\",1,0)","v":0},{"$f":"IF(F139<>\"\",1,0)+K139","v":0},{"$f":"IF(G139<>\"\",1,0)+L139","v":0},{"$f":"IF(H139<>\"\",1,0)+M139","v":1},{"$f":"A139+1","v":4},3431,{"$f":"IF(GRLProdukt=1,AC139,IF(GRLProdukt=2,AO139,IF(GRLProdukt=3,BA139,IF(GRLProdukt=4,BM139,0))))","v":0},{"$f":"IF(GRLProdukt=1,AD139,IF(GRLProdukt=2,AP139,IF(GRLProdukt=3,BB139,IF(GRLProdukt=4,BN139,0))))","v":0},0,{"$f":"IF(GRLProdukt=1,AF139,IF(GRLProdukt=2,AR139,IF(GRLProdukt=3,BD139,IF(GRLProdukt=4,BP139,0))))","v":0},{"$f":"IF(GRLProdukt=1,AG139,IF(GRLProdukt=2,AS139,IF(GRLProdukt=3,BE139,IF(GRLProdukt=4,BQ139,0))))","v":0},{"$f":"IF(GRLProdukt=1,AH139,IF(GRLProdukt=2,AT139,IF(GRLProdukt=3,BF139,IF(GRLProdukt=4,BR139,0))))","v":0},{"$f":"IF(GRLProdukt=1,AI139,IF(GRLProdukt=2,AU139,IF(GRLProdukt=3,BG139,IF(GRLProdukt=4,BS139,0))))","v":0},{"$f":"IF(GRLProdukt=1,AJ139,IF(GRLProdukt=2,AV139,IF(GRLProdukt=3,BH139,IF(GRLProdukt=4,BT139,0))))","v":0},{"$f":"IF(GRLProdukt=1,AK139,IF(GRLProdukt=2,AW139,IF(GRLProdukt=3,BI139,IF(GRLProdukt=4,BU139,0))))","v":0},{"$f":"IF(GRLProdukt=1,AL139,IF(GRLProdukt=2,AX139,IF(GRLProdukt=3,BJ139,IF(GRLProdukt=4,BV139,0))))","v":0},{"$f":"IF(GRLProdukt=1,AM139,IF(GRLProdukt=2,AY139,IF(GRLProdukt=3,BK139,IF(GRLProdukt=4,BW139,0))))","v":0},{"$f":"IF(GRLProdukt=1,AN139,IF(GRLProdukt=2,AZ139,IF(GRLProdukt=3,BL139,IF(GRLProdukt=4,BX139,0))))","v":0},20,null,null,null,null,null,null,3163,null,null,3079]
[3,4,3,2,null,null,null,"Geiteskinn",null,null,0,0,0,1,4,3432,0,0,0,0,0,0,0,0,0,0,0,0,20,null,null,null,null,null,null,3163,null,null,3079]
[3,4,4,0,null,null,"Storfehuder",null,null,null,0,0,1,1,4,3440,0,0,0,0,0,{"$f":"IF(GRLProdukt=1,AH141,IF(GRLProdukt=2,AT141,IF(GRLProdukt=3,BF141,IF(GRLProdukt=4,BR141,0))))","v":0},{"$f":"IF(GRLProdukt=1,AI141,IF(GRLProdukt=2,AU141,IF(GRLProdukt=3,BG141,IF(GRLProdukt=4,BS141,0))))","v":0},0,0,0,0,0,20,null,null,null,null,null,null,3163,null,null,3079]
[3,4,9,0,null,null,"Andre ull, huder og skinn",null,null,null,{"$f":"IF(E142<>\"\",1,0)","v":0},{"$f":"IF(F142<>\"\",1,0)+K142","v":0},{"$f":"IF(G142<>\"\",1,0)+L142","v":1},{"$f":"IF(H142<>\"\",1,0)+M142","v":1},{"$f":"A142+1","v":4},3490,{"$f":"IF(GRLProdukt=1,AC142,IF(GRLProdukt=2,AO142,IF(GRLProdukt=3,BA142,IF(GRLProdukt=4,BM142,0))))","v":0},{"$f":"IF(GRLProdukt=1,AD142,IF(GRLProdukt=2,AP142,IF(GRLProdukt=3,BB142,IF(GRLProdukt=4,BN142,0))))","v":0},0,{"$f":"IF(GRLProdukt=1,AF142,IF(GRLProdukt=2,AR142,IF(GRLProdukt=3,BD142,IF(GRLProdukt=4,BP142,0))))","v":0},{"$f":"IF(GRLProdukt=1,AG142,IF(GRLProdukt=2,AS142,IF(GRLProdukt=3,BE142,IF(GRLProdukt=4,BQ142,0))))","v":0},{"$f":"IF(GRLProdukt=1,AH142,IF(GRLProdukt=2,AT142,IF(GRLProdukt=3,BF142,IF(GRLProdukt=4,BR142,0))))","v":0},{"$f":"IF(GRLProdukt=1,AI142,IF(GRLProdukt=2,AU142,IF(GRLProdukt=3,BG142,IF(GRLProdukt=4,BS142,0))))","v":0},{"$f":"IF(GRLProdukt=1,AJ142,IF(GRLProdukt=2,AV142,IF(GRLProdukt=3,BH142,IF(GRLProdukt=4,BT142,0))))","v":0},{"$f":"IF(GRLProdukt=1,AK142,IF(GRLProdukt=2,AW142,IF(GRLProdukt=3,BI142,IF(GRLProdukt=4,BU142,0))))","v":0},{"$f":"IF(GRLProdukt=1,AL142,IF(GRLProdukt=2,AX142,IF(GRLProdukt=3,BJ142,IF(GRLProdukt=4,BV142,0))))","v":0},{"$f":"IF(GRLProdukt=1,AM142,IF(GRLProdukt=2,AY142,IF(GRLProdukt=3,BK142,IF(GRLProdukt=4,BW142,0))))","v":0},{"$f":"IF(GRLProdukt=1,AN142,IF(GRLProdukt=2,AZ142,IF(GRLProdukt=3,BL142,IF(GRLProdukt=4,BX142,0))))","v":0},20,null,null,null,null,null,null,3163,null,null,3079]
[3,5,0,0,null,"Pelsdyrskinn",null,null,null,null,{"$f":"IF(E143<>\"\",1,0)","v":0},{"$f":"IF(F143<>\"\",1,0)+K143","v":1},1,1,4,3500,0,0,0,0,0,{"$f":"IF(GRLProdukt=1,AH143,IF(GRLProdukt=2,AT143,IF(GRLProdukt=3,BF143,IF(GRLProdukt=4,BR143,0))))","v":0},{"$f":"IF(GRLProdukt=1,AI143,IF(GRLProdukt=2,AU143,IF(GRLProdukt=3,BG143,IF(GRLProdukt=4,BS143,0))))","v":0},0,0,0,0,0,50,null,null,null,null,null,null,null,null,null,3000]
[3,5,1,0,null,null,"Minkskinn",null,null,null,{"$f":"IF(E144<>\"\",1,0)","v":0},0,1,1,4,3510,0,0,0,0,0,0,0,0,0,0,0,0,50,null,null,null,null,null,null,null,null,null,3000]
[3,5,2,0,null,null,"Revskinn",null,null,null,{"$f":"IF(E145<>\"\",1,0)","v":0},0,1,1,4,3520,0,0,0,0,0,0,0,0,0,0,0,0,50,null,null,null,null,null,null,null,null,null,3000]
[3,5,2,1,null,null,null,"Sølvrevskinn",null,null,{"$f":"IF(E146<>\"\",1,0)","v":0},{"$f":"IF(F146<>\"\",1,0)+K146","v":0},{"$f":"IF(G146<>\"\",1,0)+L146","v":0},{"$f":"IF(H146<>\"\",1,0)+M146","v":1},{"$f":"A146+1","v":4},3521,0,0,0,0,0,0,0,0,0,0,0,0,50,null,null,null,null,null,null,null,null,null,3000]
[3,5,2,2,null,null,null,"Blårevskinn",null,null,0,0,0,1,4,3522,0,0,0,0,0,0,0,0,0,0,0,0,50,null,null,null,null,null,null,null,null,null,3000]
[3,5,2,9,null,null,null,"Andre revskinn",null,null,0,0,0,1,4,3529,0,0,0,0,0,0,0,0,0,0,0,0,50,null,null,null,null,null,null,null,null,null,3000]
[3,5,9,0,null,null,"Andre arter pelsdyrskinn",null,null,null,0,0,1,1,4,3590,0,0,0,0,0,0,0,0,0,0,0,0,50,null,null,null,null,null,null,null,null,null,3000]
[3,5,9,1,null,null,null,"Ilderskinn",null,null,0,0,0,1,4,3591,0,0,0,0,0,0,0,0,0,0,0,0,50,null,null,null,null,null,null,null,null,null,3000]
[3,5,9,2,null,null,null,"Chinchillaskinn",null,null,0,0,0,1,4,3592,0,0,0,0,0,0,0,0,0,0,0,0,50,null,null,null,null,null,null,null,null,null,3000]
[3,5,9,9,null,null,null,"Andre pelsdyrskinn",null,null,0,0,0,1,4,3599,0,0,0,0,0,0,0,0,0,0,0,0,50,null,null,null,null,null,null,null,null,null,3000]
[3,9,0,0,null,"Andre husdyrprodukter",null,null,null,null,0,1,1,1,{"$f":"A153+1","v":4},{"$f":"VALUE(A153&B153&C153&D153)","v":3900},0,0,0,0,0,0,0,0,0,0,0,0,20,null,null,null,null,null,null,null,null,null,3079]
[4,0,0,0,"Husdyr, slakt og skrotter",null,null,null,null,null,1,1,1,1,5,4000,{"$f":"IF(GRLProdukt=1,AC154,IF(GRLProdukt=2,AO154,IF(GRLProdukt=3,BA154,IF(GRLProdukt=4,BM154,0))))","v":0},{"$f":"IF(GRLProdukt=1,AD154,IF(GRLProdukt=2,AP154,IF(GRLProdukt=3,BB154,IF(GRLProdukt=4,BN154,0))))","v":0},{"$f":"IF(GRLProdukt=1,AE154,IF(GRLProdukt=2,AQ154,IF(GRLProdukt=3,BC154,IF(GRLProdukt=4,BO154,0))))","v":0},{"$f":"IF(GRLProdukt=1,AF154,IF(GRLProdukt=2,AR154,IF(GRLProdukt=3,BD154,IF(GRLProdukt=4,BP154,0))))","v":0},{"$f":"IF(GRLProdukt=1,AG154,IF(GRLProdukt=2,AS154,IF(GRLProdukt=3,BE154,IF(GRLProdukt=4,BQ154,0))))","v":0},{"$f":"IF(GRLProdukt=1,AH154,IF(GRLProdukt=2,AT154,IF(GRLProdukt=3,BF154,IF(GRLProdukt=4,BR154,0))))","v":0},{"$f":"IF(GRLProdukt=1,AI154,IF(GRLProdukt=2,AU154,IF(GRLProdukt=3,BG154,IF(GRLProdukt=4,BS154,0))))","v":0},{"$f":"IF(GRLProdukt=1,AJ154,IF(GRLProdukt=2,AV154,IF(GRLProdukt=3,BH154,IF(GRLProdukt=4,BT154,0))))","v":0},{"$f":"IF(GRLProdukt=1,AK154,IF(GRLProdukt=2,AW154,IF(GRLProdukt=3,BI154,IF(GRLProdukt=4,BU154,0))))","v":0},{"$f":"IF(GRLProdukt=1,AL154,IF(GRLProdukt=2,AX154,IF(GRLProdukt=3,BJ154,IF(GRLProdukt=4,BV154,0))))","v":0},{"$f":"IF(GRLProdukt=1,AM154,IF(GRLProdukt=2,AY154,IF(GRLProdukt=3,BK154,IF(GRLProdukt=4,BW154,0))))","v":0},{"$f":"IF(GRLProdukt=1,AN154,IF(GRLProdukt=2,AZ154,IF(GRLProdukt=3,BL154,IF(GRLProdukt=4,BX154,0))))","v":0},20,null,null,null,4300,4300,null,3162,null,null,3041]
[4,1,0,0,null,"Storfe, slakt",null,null,null,null,0,1,1,1,5,4100,{"$f":"IF(GRLProdukt=1,AC155,IF(GRLProdukt=2,AO155,IF(GRLProdukt=3,BA155,IF(GRLProdukt=4,BM155,0))))","v":0},{"$f":"IF(GRLProdukt=1,AD155,IF(GRLProdukt=2,AP155,IF(GRLProdukt=3,BB155,IF(GRLProdukt=4,BN155,0))))","v":0},0,{"$f":"IF(GRLProdukt=1,AF155,IF(GRLProdukt=2,AR155,IF(GRLProdukt=3,BD155,IF(GRLProdukt=4,BP155,0))))","v":0},{"$f":"IF(GRLProdukt=1,AG155,IF(GRLProdukt=2,AS155,IF(GRLProdukt=3,BE155,IF(GRLProdukt=4,BQ155,0))))","v":0},{"$f":"IF(GRLProdukt=1,AH155,IF(GRLProdukt=2,AT155,IF(GRLProdukt=3,BF155,IF(GRLProdukt=4,BR155,0))))","v":0},{"$f":"IF(GRLProdukt=1,AI155,IF(GRLProdukt=2,AU155,IF(GRLProdukt=3,BG155,IF(GRLProdukt=4,BS155,0))))","v":0},{"$f":"IF(GRLProdukt=1,AJ155,IF(GRLProdukt=2,AV155,IF(GRLProdukt=3,BH155,IF(GRLProdukt=4,BT155,0))))","v":0},{"$f":"IF(GRLProdukt=1,AK155,IF(GRLProdukt=2,AW155,IF(GRLProdukt=3,BI155,IF(GRLProdukt=4,BU155,0))))","v":0},{"$f":"IF(GRLProdukt=1,AL155,IF(GRLProdukt=2,AX155,IF(GRLProdukt=3,BJ155,IF(GRLProdukt=4,BV155,0))))","v":0},{"$f":"IF(GRLProdukt=1,AM155,IF(GRLProdukt=2,AY155,IF(GRLProdukt=3,BK155,IF(GRLProdukt=4,BW155,0))))","v":0},{"$f":"IF(GRLProdukt=1,AN155,IF(GRLProdukt=2,AZ155,IF(GRLProdukt=3,BL155,IF(GRLProdukt=4,BX155,0))))","v":0},20,null,null,null,4300,4300,null,3162,null,null,3041]
[4,1,1,0,null,null,"Hunndyr storfe, slakt",null,null,null,0,0,1,1,5,4110,0,0,0,0,0,0,0,0,0,0,0,0,20,null,null,null,4300,4300,null,3162,null,null,3041]
[4,1,1,1,null,null,null,"Ku , slakt",null,"Kan ikke skilles på kjønn?",{"$f":"IF(E157<>\"\",1,0)","v":0},{"$f":"IF(F157<>\"\",1,0)+K157","v":0},{"$f":"IF(G157<>\"\",1,0)+L157","v":0},{"$f":"IF(H157<>\"\",1,0)+M157","v":1},5,4111,0,0,0,0,0,0,0,0,0,0,0,0,20,null,null,null,4300,4300,null,3162,null,null,3041]
[4,1,1,2,null,null,null,"Ung ku, slakt",null,"Trenger vi spekalv? (jfr. slakt)",0,0,0,1,5,4112,0,0,0,0,0,0,0,0,0,0,0,0,20,null,null,null,4300,4300,null,3162,null,null,3041]
[4,1,1,3,null,null,null,"Kvige, slakt",null,null,0,0,0,1,5,4113,0,0,0,0,0,0,0,0,0,0,0,0,20,null,null,null,4300,4300,null,3162,null,null,3041]
[4,1,1,4,null,null,null,"Kvigekalv, slakt",null,null,0,0,0,1,5,4114,0,0,0,0,0,0,0,0,0,0,0,0,20,null,null,null,4300,4300,null,3162,null,null,3041]
[4,1,2,0,null,null,"Hanndyr storfe, slakt",null,null,null,0,0,1,1,5,4120,0,0,0,0,0,0,0,0,0,0,0,0,20,null,null,null,4300,4300,null,3162,null,null,3041]
[4,1,2,1,null,null,null,"Okse, slakt",null,null,{"$f":"IF(E162<>\"\",1,0)","v":0},{"$f":"IF(F162<>\"\",1,0)+K162","v":0},{"$f":"IF(G162<>\"\",1,0)+L162","v":0},{"$f":"IF(H162<>\"\",1,0)+M162","v":1},5,4121,0,0,0,0,0,0,0,0,0,0,0,0,20,null,null,null,4300,4300,null,3162,null,null,3041]
[4,1,2,2,null,null,null,"Ung okse, slakt",null,null,0,0,0,1,5,4122,0,0,0,0,0,0,0,0,0,0,0,0,20,null,null,null,4300,4300,null,3162,null,null,3041]
[4,1,2,3,null,null,null,"Oksekalv, slakt",null,null,0,0,0,1,5,4123,0,0,0,0,0,0,0,0,0,0,0,0,20,null,null,null,4300,4300,null,3162,null,null,3041]
[4,1,2,4,null,null,null,"Kastrat , slakt",null,null,0,0,0,1,5,4124,0,0,0,0,0,0,0,0,0,0,0,0,20,null,null,null,4300,4300,null,3162,null,null,3041]
[4,2,0,0,null,"Gris, slakt",null,null,null,null,0,1,1,1,5,4200,0,0,0,0,0,0,0,0,0,0,0,0,20,null,null,null,4300,4300,null,3162,null,null,3041]
[4,2,1,0,null,null,"Purke, slakt",null,null,null,0,0,1,1,5,4210,0,0,0,0,0,0,0,0,0,0,0,0,20,null,null,null,4300,4300,null,3162,null,null,3041]
[4,2,2,0,null,null,"Slaktegris, slakt",null,null,null,0,0,1,1,5,4220,0,0,0,0,0,0,0,0,0,0,0,0,20,null,null,null,4300,4300,null,3162,null,null,3041]
[4,2,3,0,null,null,"Smågris, slakt",null,null,null,0,0,1,1,5,4230,0,0,0,0,0,0,0,0,0,0,0,0,20,null,null,null,4300,4300,null,3162,null,null,3041]
[4,2,4,0,null,null,"Råne, slakt",null,null,null,0,0,1,1,5,4240,0,0,0,0,0,0,0,0,0,0,0,0,20,null,null,null,4300,4300,null,3162,null,null,3041]
[4,2,5,0,null,null,"Kastrat, slakt",null,null,null,0,0,1,1,5,4250,0,0,0,0,0,0,0,0,0,0,0,0,20,null,null,null,4300,4300,null,3162,null,null,3041]
[4,3,0,0,null,"Sau og geit, slakt",null,null,null,null,0,1,1,1,5,4300,0,0,0,0,0,0,0,0,0,0,0,0,20,null,null,null,4300,4300,null,3162,null,null,3041]
[4,3,1,0,null,null,"Sau uspesifisert, slakt",null,null,null,{"$f":"IF(E173<>\"\",1,0)","v":0},{"$f":"IF(F173<>\"\",1,0)+K173","v":0},{"$f":"IF(G173<>\"\",1,0)+L173","v":1},{"$f":"IF(H173<>\"\",1,0)+M173","v":1},{"$f":"A173+1","v":5},{"$f":"VALUE(A173&B173&C173&D173)","v":4310},0,0,0,0,0,0,0,0,0,0,0,0,20,null,null,null,4300,4300,null,3162,null,null,3041]
[4,3,1,1,null,null,null,"Sau, slakt",null,null,0,0,0,1,5,4311,0,0,0,0,0,0,0,0,0,0,0,0,20,null,null,null,4300,4300,null,3162,null,null,3041]
[4,3,1,2,null,null,null,"Ung sau, slakt",null,null,0,0,0,1,5,4312,0,0,0,0,0,0,0,0,0,0,0,0,20,null,null,null,4300,4300,null,3162,null,null,3041]
[4,3,1,3,null,null,null,"Lam, slakt",null,null,0,0,0,1,5,4313,0,0,0,0,0,0,0,0,0,0,0,0,20,null,null,null,4300,4300,null,3162,null,null,3041]
[4,3,1,4,null,null,null,"Dielam, slakt",null,null,0,0,0,1,5,4314,0,0,0,0,0,0,0,0,0,0,0,0,20,null,null,null,4300,4300,null,3162,null,null,3041]
[4,3,1,5,null,null,null,"Vær, slakt",null,null,0,0,0,1,5,4315,0,0,0,0,0,0,0,0,0,0,0,0,20,null,null,null,4300,4300,null,3162,null,null,3041]
[4,3,2,0,null,null,"Geit uspesifisert, slakt",null,null,null,0,0,1,1,5,4320,0,0,0,0,0,0,0,0,0,0,0,0,20,null,null,null,4300,4300,null,3162,null,null,3041]
[4,3,2,1,null,null,null,"Geit, slakt",null,null,0,0,0,1,5,4321,0,0,0,0,0,0,0,0,0,0,0,0,20,null,null,null,4300,4300,null,3162,null,null,3041]
[4,3,2,2,null,null,null,"Kje, slakt",null,null,0,0,0,1,5,4322,0,0,0,0,0,0,0,0,0,0,0,0,20,null,null,null,4300,4300,null,3162,null,null,3041]
[4,4,0,0,null,"Fjørfe, slakt",null,null,null,null,0,1,1,1,5,4400,0,0,0,0,0,0,0,0,0,0,0,0,20,null,null,null,4300,4300,null,3162,null,null,3041]
[4,4,1,0,null,null,"Høns (haner inkl), slakt",null,null,"Rekkefølge eldst først",0,0,1,1,5,4410,0,0,0,0,0,0,0,0,0,0,0,0,20,null,null,null,4300,4300,null,3162,null,null,3041]
[4,4,2,0,null,null,"Kylling, slakt",null,null,null,0,0,1,1,5,4420,0,0,0,0,0,0,0,0,0,0,0,0,20,null,null,null,4300,4300,null,3162,null,null,3041]
[4,4,3,0,null,null,"Kalkun, slakt",null,null,null,0,0,1,1,5,4430,0,0,0,0,0,0,0,0,0,0,0,0,20,null,null,null,4300,4300,null,3162,null,null,3041]
[4,4,4,0,null,null,"Gjess, slakt",null,null,null,0,0,1,1,5,{"$f":"VALUE(A186&B186&C186&D186)","v":4440},0,0,0,0,0,0,0,0,0,0,0,0,20,null,null,null,4300,4300,null,3162,null,null,3041]
[4,4,5,0,null,null,"Ender, slakt",null,null,null,0,0,1,1,5,4450,0,0,0,0,0,0,0,0,0,0,0,0,20,null,null,null,4300,4300,null,3162,null,null,3041]
[4,4,9,0,null,null,"Andre fjørfe (inkl. struts), slakt",null,null,null,0,0,1,1,5,4490,0,0,0,0,0,0,0,0,0,0,0,0,20,null,null,null,4300,4300,null,3162,null,null,3041]
[4,5,0,0,null,"Skrotter av pelsdyr",null,null,null,null,0,1,1,1,5,4500,0,0,0,0,0,0,0,0,0,0,0,0,50,null,null,null,4300,4300,null,3162,null,null,3041]
[4,9,0,0,null,"Andre dyreslag, slakt",null,null,null,null,0,1,1,1,5,4900,0,0,0,0,0,0,0,0,0,0,0,0,20,null,null,null,4300,4300,null,3162,null,null,3041]
[4,9,1,0,null,null,"Hest, slakt",null,null,null,0,0,1,1,5,4910,0,0,0,0,0,0,0,0,0,0,0,0,20,null,null,null,4300,4300,null,3162,null,null,3041]
[4,9,2,0,null,null,"Rein, slakt",null,null,null,0,0,1,1,5,4920,0,0,0,0,0,0,0,0,0,0,0,0,20,null,null,null,4300,4300,null,3162,null,null,3041]
[4,9,2,1,null,null,null,"Rein > 12 mnd., slakt",null,null,{"$f":"IF(E193<>\"\",1,0)","v":0},{"$f":"IF(F193<>\"\",1,0)+K193","v":0},{"$f":"IF(G193<>\"\",1,0)+L193","v":0},{"$f":"IF(H193<>\"\",1,0)+M193","v":1},{"$f":"A193+1","v":5},4921,{"$f":"IF(GRLProdukt=1,AC193,IF(GRLProdukt=2,AO193,IF(GRLProdukt=3,BA193,IF(GRLProdukt=4,BM193,0))))","v":0},{"$f":"IF(GRLProdukt=1,AD193,IF(GRLProdukt=2,AP193,IF(GRLProdukt=3,BB193,IF(GRLProdukt=4,BN193,0))))","v":0},0,{"$f":"IF(GRLProdukt=1,AF193,IF(GRLProdukt=2,AR193,IF(GRLProdukt=3,BD193,IF(GRLProdukt=4,BP193,0))))","v":0},{"$f":"IF(GRLProdukt=1,AG193,IF(GRLProdukt=2,AS193,IF(GRLProdukt=3,BE193,IF(GRLProdukt=4,BQ193,0))))","v":0},{"$f":"IF(GRLProdukt=1,AH193,IF(GRLProdukt=2,AT193,IF(GRLProdukt=3,BF193,IF(GRLProdukt=4,BR193,0))))","v":0},{"$f":"IF(GRLProdukt=1,AI193,IF(GRLProdukt=2,AU193,IF(GRLProdukt=3,BG193,IF(GRLProdukt=4,BS193,0))))","v":0},{"$f":"IF(GRLProdukt=1,AJ193,IF(GRLProdukt=2,AV193,IF(GRLProdukt=3,BH193,IF(GRLProdukt=4,BT193,0))))","v":0},{"$f":"IF(GRLProdukt=1,AK193,IF(GRLProdukt=2,AW193,IF(GRLProdukt=3,BI193,IF(GRLProdukt=4,BU193,0))))","v":0},{"$f":"IF(GRLProdukt=1,AL193,IF(GRLProdukt=2,AX193,IF(GRLProdukt=3,BJ193,IF(GRLProdukt=4,BV193,0))))","v":0},{"$f":"IF(GRLProdukt=1,AM193,IF(GRLProdukt=2,AY193,IF(GRLProdukt=3,BK193,IF(GRLProdukt=4,BW193,0))))","v":0},{"$f":"IF(GRLProdukt=1,AN193,IF(GRLProdukt=2,AZ193,IF(GRLProdukt=3,BL193,IF(GRLProdukt=4,BX193,0))))","v":0},20,null,null,null,4300,4300,null,3162,null,null,3041]
[4,9,2,2,null,null,null,"Rein < 12 mnd. (fjorårskalver), slakt",null,null,0,0,0,1,5,4922,0,0,0,0,0,0,0,0,0,0,0,0,20,null,null,null,4300,4300,null,3162,null,null,3041]
[4,9,3,0,null,null,"Hjort, slakt",null,null,"EUROP-klassifisering?",0,0,1,1,5,4930,0,0,0,0,0,{"$f":"IF(GRLProdukt=1,AH195,IF(GRLProdukt=2,AT195,IF(GRLProdukt=3,BF195,IF(GRLProdukt=4,BR195,0))))","v":0},0,0,0,0,0,0,20,null,null,null,4300,4300,null,3162,null,null,3041]
[4,9,4,0,null,null,"Kaniner, slakt",null,null,null,0,0,1,1,5,4940,0,0,0,0,0,0,0,0,0,0,0,0,20,null,null,null,4300,4300,null,3162,null,null,3041]
[4,9,9,0,null,null,"Lama, Alpakka, Esel og andre dyreslag, slakt",null,null,null,0,0,1,1,5,4990,0,0,0,0,0,0,0,0,0,0,0,0,20,null,null,null,4300,4300,null,3162,null,null,3041]
[5,0,0,0,"Husdyr, livdyr, fôringsdyr, produksjonsdyr og balanse",null,null,null,null,"Avlsdyr, melk-, kjøttprod, se detaljdimensjon",{"$f":"IF(E198<>\"\",1,0)","v":1},1,1,1,6,5000,null,null,null,null,null,null,null,null,null,null,null,null,20,null,null,null,null,4600,null,null,null,null,3051]
[5,1,0,0,null,"Storfe, livdyr",null,null,null,null,{"$f":"IF(E199<>\"\",1,0)","v":0},{"$f":"IF(F199<>\"\",1,0)+K199","v":1},{"$f":"IF(G199<>\"\",1,0)+L199","v":1},{"$f":"IF(H199<>\"\",1,0)+M199","v":1},6,5100,{"$f":"IF(GRLProdukt=1,AC199,IF(GRLProdukt=2,AO199,IF(GRLProdukt=3,BA199,IF(GRLProdukt=4,BM199,0))))","v":0},{"$f":"IF(GRLProdukt=1,AD199,IF(GRLProdukt=2,AP199,IF(GRLProdukt=3,BB199,IF(GRLProdukt=4,BN199,0))))","v":0},0,{"$f":"IF(GRLProdukt=1,AF199,IF(GRLProdukt=2,AR199,IF(GRLProdukt=3,BD199,IF(GRLProdukt=4,BP199,0))))","v":0},{"$f":"IF(GRLProdukt=1,AG199,IF(GRLProdukt=2,AS199,IF(GRLProdukt=3,BE199,IF(GRLProdukt=4,BQ199,0))))","v":0},{"$f":"IF(GRLProdukt=1,AH199,IF(GRLProdukt=2,AT199,IF(GRLProdukt=3,BF199,IF(GRLProdukt=4,BR199,0))))","v":0},{"$f":"IF(GRLProdukt=1,AI199,IF(GRLProdukt=2,AU199,IF(GRLProdukt=3,BG199,IF(GRLProdukt=4,BS199,0))))","v":0},{"$f":"IF(GRLProdukt=1,AJ199,IF(GRLProdukt=2,AV199,IF(GRLProdukt=3,BH199,IF(GRLProdukt=4,BT199,0))))","v":0},{"$f":"IF(GRLProdukt=1,AK199,IF(GRLProdukt=2,AW199,IF(GRLProdukt=3,BI199,IF(GRLProdukt=4,BU199,0))))","v":0},{"$f":"IF(GRLProdukt=1,AL199,IF(GRLProdukt=2,AX199,IF(GRLProdukt=3,BJ199,IF(GRLProdukt=4,BV199,0))))","v":0},{"$f":"IF(GRLProdukt=1,AM199,IF(GRLProdukt=2,AY199,IF(GRLProdukt=3,BK199,IF(GRLProdukt=4,BW199,0))))","v":0},{"$f":"IF(GRLProdukt=1,AN199,IF(GRLProdukt=2,AZ199,IF(GRLProdukt=3,BL199,IF(GRLProdukt=4,BX199,0))))","v":0},20,null,null,null,null,4600,null,null,null,null,3051]
[5,1,1,0,null,null,"Melkeproduksjon, livdyr",null,null,null,{"$f":"IF(E200<>\"\",1,0)","v":0},{"$f":"IF(F200<>\"\",1,0)+K200","v":0},{"$f":"IF(G200<>\"\",1,0)+L200","v":1},{"$f":"IF(H200<>\"\",1,0)+M200","v":1},6,5110,{"$f":"IF(GRLProdukt=1,AC200,IF(GRLProdukt=2,AO200,IF(GRLProdukt=3,BA200,IF(GRLProdukt=4,BM200,0))))","v":0},{"$f":"IF(GRLProdukt=1,AD200,IF(GRLProdukt=2,AP200,IF(GRLProdukt=3,BB200,IF(GRLProdukt=4,BN200,0))))","v":0},0,{"$f":"IF(GRLProdukt=1,AF200,IF(GRLProdukt=2,AR200,IF(GRLProdukt=3,BD200,IF(GRLProdukt=4,BP200,0))))","v":0},{"$f":"IF(GRLProdukt=1,AG200,IF(GRLProdukt=2,AS200,IF(GRLProdukt=3,BE200,IF(GRLProdukt=4,BQ200,0))))","v":0},{"$f":"IF(GRLProdukt=1,AH200,IF(GRLProdukt=2,AT200,IF(GRLProdukt=3,BF200,IF(GRLProdukt=4,BR200,0))))","v":0},{"$f":"IF(GRLProdukt=1,AI200,IF(GRLProdukt=2,AU200,IF(GRLProdukt=3,BG200,IF(GRLProdukt=4,BS200,0))))","v":0},{"$f":"IF(GRLProdukt=1,AJ200,IF(GRLProdukt=2,AV200,IF(GRLProdukt=3,BH200,IF(GRLProdukt=4,BT200,0))))","v":0},{"$f":"IF(GRLProdukt=1,AK200,IF(GRLProdukt=2,AW200,IF(GRLProdukt=3,BI200,IF(GRLProdukt=4,BU200,0))))","v":0},{"$f":"IF(GRLProdukt=1,AL200,IF(GRLProdukt=2,AX200,IF(GRLProdukt=3,BJ200,IF(GRLProdukt=4,BV200,0))))","v":0},{"$f":"IF(GRLProdukt=1,AM200,IF(GRLProdukt=2,AY200,IF(GRLProdukt=3,BK200,IF(GRLProdukt=4,BW200,0))))","v":0},{"$f":"IF(GRLProdukt=1,AN200,IF(GRLProdukt=2,AZ200,IF(GRLProdukt=3,BL200,IF(GRLProdukt=4,BX200,0))))","v":0},20]
[5,1,1,1,null,null,null,"Kyr fra IB, livdyr",null,"Brukes bare ved balanseoppsett i regnskapet",{"$f":"IF(E201<>\"\",1,0)","v":0},{"$f":"IF(F201<>\"\",1,0)+K201","v":0},{"$f":"IF(G201<>\"\",1,0)+L201","v":0},{"$f":"IF(H201<>\"\",1,0)+M201","v":1},6,5111,0,0,0,0,0,0,0,0,0,0,0,0,20]
[5,1,1,2,null,null,null,"Kyr > 12 mnd. tilført i året, livdyr",null,null,0,0,0,1,6,5112,0,0,0,0,0,0,0,0,0,0,0,0,20,null,null,null,null,4600,null,null,null,null,3051]
[5,1,1,3,null,null,null,"Kvige > 12 mnd., livdyr",null,null,{"$f":"IF(E203<>\"\",1,0)","v":0},{"$f":"IF(F203<>\"\",1,0)+K203","v":0},{"$f":"IF(G203<>\"\",1,0)+L203","v":0},{"$f":"IF(H203<>\"\",1,0)+M203","v":1},6,5113,0,0,0,0,0,0,0,0,0,0,0,0,20,null,null,null,null,4600,null,null,null,null,3051]
[5,1,1,4,null,null,null,"Kvigekalv < 12 mnd., livdyr",null,null,0,0,0,1,6,5114,0,0,0,0,0,0,0,0,0,0,0,0,20,null,null,null,null,4600,null,null,null,null,3051]
[5,1,1,5,null,null,null,"Okse > 12 mnd., livdyr",null,null,0,0,0,1,6,5115,0,0,0,0,0,0,0,0,0,0,0,0,20,null,null,null,null,4600,null,null,null,null,3051]
[5,1,1,6,null,null,null,"Oksekalv < 12 mnd., livdyr",null,null,0,0,0,1,6,5116,0,0,0,0,0,0,0,0,0,0,0,0,20,null,null,null,null,4600,null,null,null,null,3051]
[5,1,1,7,null,null,null,"Kastrat > 12 mnd., livdyr",null,null,{"$f":"IF(E207<>\"\",1,0)","v":0},{"$f":"IF(F207<>\"\",1,0)+K207","v":0},{"$f":"IF(G207<>\"\",1,0)+L207","v":0},{"$f":"IF(H207<>\"\",1,0)+M207","v":1},{"$f":"A207+1","v":6},{"$f":"VALUE(A207&B207&C207&D207)","v":5117},0,0,0,0,0,0,0,0,0,0,0,0,20,null,null,null,null,4600,null,null,null,null,3051]
[5,1,1,8,null,null,null,"Kastrat < 12 mnd., livdyr",null,null,0,0,0,1,6,5118,0,0,0,0,0,0,0,0,0,0,0,0,20,null,null,null,null,4600,null,null,null,null,3051]
[5,1,1,9,null,null,null,"Avlsokse, livdyr",null,null,{"$f":"IF(E209<>\"\",1,0)","v":0},{"$f":"IF(F209<>\"\",1,0)+K209","v":0},{"$f":"IF(G209<>\"\",1,0)+L209","v":0},{"$f":"IF(H209<>\"\",1,0)+M209","v":1},{"$f":"A209+1","v":6},{"$f":"VALUE(A209&B209&C209&D209)","v":5119},{"$f":"IF(GRLProdukt=1,AC209,IF(GRLProdukt=2,AO209,IF(GRLProdukt=3,BA209,IF(GRLProdukt=4,BM209,0))))","v":0},{"$f":"IF(GRLProdukt=1,AD209,IF(GRLProdukt=2,AP209,IF(GRLProdukt=3,BB209,IF(GRLProdukt=4,BN209,0))))","v":0},{"$f":"IF(GRLProdukt=1,AE209,IF(GRLProdukt=2,AQ209,IF(GRLProdukt=3,BC209,IF(GRLProdukt=4,BO209,0))))","v":0},{"$f":"IF(GRLProdukt=1,AF209,IF(GRLProdukt=2,AR209,IF(GRLProdukt=3,BD209,IF(GRLProdukt=4,BP209,0))))","v":0},{"$f":"IF(GRLProdukt=1,AG209,IF(GRLProdukt=2,AS209,IF(GRLProdukt=3,BE209,IF(GRLProdukt=4,BQ209,0))))","v":0},{"$f":"IF(GRLProdukt=1,AH209,IF(GRLProdukt=2,AT209,IF(GRLProdukt=3,BF209,IF(GRLProdukt=4,BR209,0))))","v":0},{"$f":"IF(GRLProdukt=1,AI209,IF(GRLProdukt=2,AU209,IF(GRLProdukt=3,BG209,IF(GRLProdukt=4,BS209,0))))","v":0},{"$f":"IF(GRLProdukt=1,AJ209,IF(GRLProdukt=2,AV209,IF(GRLProdukt=3,BH209,IF(GRLProdukt=4,BT209,0))))","v":0},{"$f":"IF(GRLProdukt=1,AK209,IF(GRLProdukt=2,AW209,IF(GRLProdukt=3,BI209,IF(GRLProdukt=4,BU209,0))))","v":0},{"$f":"IF(GRLProdukt=1,AL209,IF(GRLProdukt=2,AX209,IF(GRLProdukt=3,BJ209,IF(GRLProdukt=4,BV209,0))))","v":0},{"$f":"IF(GRLProdukt=1,AM209,IF(GRLProdukt=2,AY209,IF(GRLProdukt=3,BK209,IF(GRLProdukt=4,BW209,0))))","v":0},{"$f":"IF(GRLProdukt=1,AN209,IF(GRLProdukt=2,AZ209,IF(GRLProdukt=3,BL209,IF(GRLProdukt=4,BX209,0))))","v":0},20,null,null,null,null,4600,null,null,null,null,3051]
[5,1,2,0,null,null,"Kjøttfe, livdyr",null,null,null,{"$f":"IF(E210<>\"\",1,0)","v":0},{"$f":"IF(F210<>\"\",1,0)+K210","v":0},{"$f":"IF(G210<>\"\",1,0)+L210","v":1},{"$f":"IF(H210<>\"\",1,0)+M210","v":1},{"$f":"A210+1","v":6},5120,{"$f":"IF(GRLProdukt=1,AC210,IF(GRLProdukt=2,AO210,IF(GRLProdukt=3,BA210,IF(GRLProdukt=4,BM210,0))))","v":0},{"$f":"IF(GRLProdukt=1,AD210,IF(GRLProdukt=2,AP210,IF(GRLProdukt=3,BB210,IF(GRLProdukt=4,BN210,0))))","v":0},0,{"$f":"IF(GRLProdukt=1,AF210,IF(GRLProdukt=2,AR210,IF(GRLProdukt=3,BD210,IF(GRLProdukt=4,BP210,0))))","v":0},{"$f":"IF(GRLProdukt=1,AG210,IF(GRLProdukt=2,AS210,IF(GRLProdukt=3,BE210,IF(GRLProdukt=4,BQ210,0))))","v":0},{"$f":"IF(GRLProdukt=1,AH210,IF(GRLProdukt=2,AT210,IF(GRLProdukt=3,BF210,IF(GRLProdukt=4,BR210,0))))","v":0},{"$f":"IF(GRLProdukt=1,AI210,IF(GRLProdukt=2,AU210,IF(GRLProdukt=3,BG210,IF(GRLProdukt=4,BS210,0))))","v":0},{"$f":"IF(GRLProdukt=1,AJ210,IF(GRLProdukt=2,AV210,IF(GRLProdukt=3,BH210,IF(GRLProdukt=4,BT210,0))))","v":0},{"$f":"IF(GRLProdukt=1,AK210,IF(GRLProdukt=2,AW210,IF(GRLProdukt=3,BI210,IF(GRLProdukt=4,BU210,0))))","v":0},{"$f":"IF(GRLProdukt=1,AL210,IF(GRLProdukt=2,AX210,IF(GRLProdukt=3,BJ210,IF(GRLProdukt=4,BV210,0))))","v":0},{"$f":"IF(GRLProdukt=1,AM210,IF(GRLProdukt=2,AY210,IF(GRLProdukt=3,BK210,IF(GRLProdukt=4,BW210,0))))","v":0},{"$f":"IF(GRLProdukt=1,AN210,IF(GRLProdukt=2,AZ210,IF(GRLProdukt=3,BL210,IF(GRLProdukt=4,BX210,0))))","v":0},20]
[5,1,2,1,null,null,null,"Kyr fra IB, livdyr kjøttfe",null,"Brukes bare ved balanseoppsett i regnskapet",0,0,0,1,6,5121,0,0,0,0,0,0,0,0,0,0,0,0,20]
[5,1,2,2,null,null,null,"Kyr > 12 mnd. tilført i året, livdyr kjøttfe",null,null,0,0,0,1,6,5122,0,0,0,0,0,0,0,0,0,0,0,0,20,null,null,null,null,4600,null,null,null,null,3051]
[5,1,2,3,null,null,null,"Kvige > 12 mnd., livdyr kjøttfe",null,null,0,0,0,1,6,5123,0,0,0,0,0,0,0,0,0,0,0,0,20,null,null,null,null,4600,null,null,null,null,3051]
[5,1,2,4,null,null,null,"Kvigekalv < 12 mnd., livdyr kjøttfe",null,null,0,0,0,1,6,5124,0,0,0,0,0,0,0,0,0,0,0,0,20,null,null,null,null,4600,null,null,null,null,3051]
[5,1,2,5,null,null,null,"Okse > 12 mnd., livdyr kjøttfe",null,null,0,0,0,1,6,5125,0,0,0,0,0,0,0,0,0,0,0,0,20,null,null,null,null,4600,null,null,null,null,3051]
[5,1,2,6,null,null,null,"Oksekalv < 12 mnd., livdyr kjøttfe",null,null,0,0,0,1,6,5126,0,0,0,0,0,0,0,0,0,0,0,0,20,null,null,null,null,4600,null,null,null,null,3051]
[5,1,2,7,null,null,null,"Kastrat > 12 mnd., livdyr kjøttfe",null,null,0,0,0,1,6,5127,0,0,0,0,0,0,0,0,0,0,0,0,20,null,null,null,null,4600,null,null,null,null,3051]
[5,1,2,8,null,null,null,"Kastrat < 12 mnd., livdyr kjøttfe",null,null,0,0,0,1,6,5128,0,0,0,0,0,0,0,0,0,0,0,0,20,null,null,null,null,4600,null,null,null,null,3051]
[5,1,2,9,null,null,null,"Avlsokse, livdyr kjøttfe",null,null,{"$f":"IF(E219<>\"\",1,0)","v":0},{"$f":"IF(F219<>\"\",1,0)+K219","v":0},{"$f":"IF(G219<>\"\",1,0)+L219","v":0},{"$f":"IF(H219<>\"\",1,0)+M219","v":1},{"$f":"A219+1","v":6},{"$f":"VALUE(A219&B219&C219&D219)","v":5129},{"$f":"IF(GRLProdukt=1,AC219,IF(GRLProdukt=2,AO219,IF(GRLProdukt=3,BA219,IF(GRLProdukt=4,BM219,0))))","v":0},{"$f":"IF(GRLProdukt=1,AD219,IF(GRLProdukt=2,AP219,IF(GRLProdukt=3,BB219,IF(GRLProdukt=4,BN219,0))))","v":0},{"$f":"IF(GRLProdukt=1,AE219,IF(GRLProdukt=2,AQ219,IF(GRLProdukt=3,BC219,IF(GRLProdukt=4,BO219,0))))","v":0},{"$f":"IF(GRLProdukt=1,AF219,IF(GRLProdukt=2,AR219,IF(GRLProdukt=3,BD219,IF(GRLProdukt=4,BP219,0))))","v":0},{"$f":"IF(GRLProdukt=1,AG219,IF(GRLProdukt=2,AS219,IF(GRLProdukt=3,BE219,IF(GRLProdukt=4,BQ219,0))))","v":0},{"$f":"IF(GRLProdukt=1,AH219,IF(GRLProdukt=2,AT219,IF(GRLProdukt=3,BF219,IF(GRLProdukt=4,BR219,0))))","v":0},{"$f":"IF(GRLProdukt=1,AI219,IF(GRLProdukt=2,AU219,IF(GRLProdukt=3,BG219,IF(GRLProdukt=4,BS219,0))))","v":0},{"$f":"IF(GRLProdukt=1,AJ219,IF(GRLProdukt=2,AV219,IF(GRLProdukt=3,BH219,IF(GRLProdukt=4,BT219,0))))","v":0},{"$f":"IF(GRLProdukt=1,AK219,IF(GRLProdukt=2,AW219,IF(GRLProdukt=3,BI219,IF(GRLProdukt=4,BU219,0))))","v":0},{"$f":"IF(GRLProdukt=1,AL219,IF(GRLProdukt=2,AX219,IF(GRLProdukt=3,BJ219,IF(GRLProdukt=4,BV219,0))))","v":0},{"$f":"IF(GRLProdukt=1,AM219,IF(GRLProdukt=2,AY219,IF(GRLProdukt=3,BK219,IF(GRLProdukt=4,BW219,0))))","v":0},{"$f":"IF(GRLProdukt=1,AN219,IF(GRLProdukt=2,AZ219,IF(GRLProdukt=3,BL219,IF(GRLProdukt=4,BX219,0))))","v":0},20,null,null,null,null,4600,null,null,null,null,3051]
[5,1,3,0,null,null,"Fôringsdyr, livdyr",null,null,"Brukes bare ved balanseoppsett i regnskapet",0,0,1,1,6,5130,0,0,0,0,0,0,0,0,0,0,0,0,20,null,null,null,null,4600,null,null,null,null,3051]
[5,1,3,4,null,null,null,"Kviger <12 mnd., fôringsdyr livdyr",null,"Brukes bare ved balanseoppsett i regnskapet",{"$f":"IF(E221<>\"\",1,0)","v":0},{"$f":"IF(F221<>\"\",1,0)+K221","v":0},{"$f":"IF(G221<>\"\",1,0)+L221","v":0},{"$f":"IF(H221<>\"\",1,0)+M221","v":1},{"$f":"A221+1","v":6},5134,{"$f":"IF(GRLProdukt=1,AC221,IF(GRLProdukt=2,AO221,IF(GRLProdukt=3,BA221,IF(GRLProdukt=4,BM221,0))))","v":0},{"$f":"IF(GRLProdukt=1,AD221,IF(GRLProdukt=2,AP221,IF(GRLProdukt=3,BB221,IF(GRLProdukt=4,BN221,0))))","v":0},0,{"$f":"IF(GRLProdukt=1,AF221,IF(GRLProdukt=2,AR221,IF(GRLProdukt=3,BD221,IF(GRLProdukt=4,BP221,0))))","v":0},{"$f":"IF(GRLProdukt=1,AG221,IF(GRLProdukt=2,AS221,IF(GRLProdukt=3,BE221,IF(GRLProdukt=4,BQ221,0))))","v":0},{"$f":"IF(GRLProdukt=1,AH221,IF(GRLProdukt=2,AT221,IF(GRLProdukt=3,BF221,IF(GRLProdukt=4,BR221,0))))","v":0},{"$f":"IF(GRLProdukt=1,AI221,IF(GRLProdukt=2,AU221,IF(GRLProdukt=3,BG221,IF(GRLProdukt=4,BS221,0))))","v":0},{"$f":"IF(GRLProdukt=1,AJ221,IF(GRLProdukt=2,AV221,IF(GRLProdukt=3,BH221,IF(GRLProdukt=4,BT221,0))))","v":0},{"$f":"IF(GRLProdukt=1,AK221,IF(GRLProdukt=2,AW221,IF(GRLProdukt=3,BI221,IF(GRLProdukt=4,BU221,0))))","v":0},{"$f":"IF(GRLProdukt=1,AL221,IF(GRLProdukt=2,AX221,IF(GRLProdukt=3,BJ221,IF(GRLProdukt=4,BV221,0))))","v":0},{"$f":"IF(GRLProdukt=1,AM221,IF(GRLProdukt=2,AY221,IF(GRLProdukt=3,BK221,IF(GRLProdukt=4,BW221,0))))","v":0},{"$f":"IF(GRLProdukt=1,AN221,IF(GRLProdukt=2,AZ221,IF(GRLProdukt=3,BL221,IF(GRLProdukt=4,BX221,0))))","v":0},20,null,null,null,null,4600,null,null,null,null,3051]
[5,1,3,5,null,null,null,"Okser > 12 mnd., fôringsdyr livdyr",null,"Brukes bare ved balanseoppsett i regnskapet",0,0,0,1,6,5135,0,0,0,0,0,0,0,0,0,0,0,0,20,null,null,null,null,4600,null,null,null,null,3051]
[5,1,3,6,null,null,null,"Okser < 12 mnd., fôringsdyr livdyr",null,"Brukes bare ved balanseoppsett i regnskapet",0,0,0,1,6,5136,0,0,0,0,0,0,0,0,0,0,0,0,20,null,null,null,null,4600,null,null,null,null,3051]
[5,2,0,0,null,"Gris, livdyr",null,null,null,null,0,1,1,1,6,5200,0,0,0,0,0,0,0,0,0,0,0,0,20]
[5,2,1,0,null,null,"Avlsgris, livdyr",null,null,null,0,0,1,1,6,5210,0,0,0,0,0,0,0,0,0,0,0,0,20]
[5,2,1,1,null,null,null,"Purker fra IB, livdyr",null,"Brukes bare ved balanseoppsett i regnskapet",0,0,0,1,6,5211,0,0,0,0,0,0,0,0,0,0,0,0,20]
[5,2,1,2,null,null,null,"Purker tilført i året, livdyr",null,null,0,0,0,1,6,5212,0,0,0,0,0,0,0,0,0,0,0,0,20,null,null,null,null,4600,null,null,null,null,3051]
[5,2,1,5,null,null,null,"Råne, livdyr",null,null,0,0,0,1,6,5215,0,0,0,0,0,0,0,0,0,0,0,0,20,null,null,null,null,4600,null,null,null,null,3051]
[5,2,2,0,null,null,"Slaktegris, livdyr",null,null,null,0,0,1,1,{"$f":"A229+1","v":6},{"$f":"VALUE(A229&B229&C229&D229)","v":5220},0,0,0,0,0,0,0,0,0,0,0,0,20,null,null,null,null,4600,null,null,null,null,3051]
[5,2,2,1,null,null,null,"Slakteferdig gris, livdyr",null,null,{"$f":"IF(E230<>\"\",1,0)","v":0},{"$f":"IF(F230<>\"\",1,0)+K230","v":0},{"$f":"IF(G230<>\"\",1,0)+L230","v":0},{"$f":"IF(H230<>\"\",1,0)+M230","v":1},6,5221,0,0,0,0,0,0,0,0,0,0,0,0,20,null,null,null,null,4600,null,null,null,null,3051]
[5,2,2,2,null,null,null,"Slaktegris ca. 4 mnd., livdyr",null,null,{"$f":"IF(E231<>\"\",1,0)","v":0},{"$f":"IF(F231<>\"\",1,0)+K231","v":0},{"$f":"IF(G231<>\"\",1,0)+L231","v":0},{"$f":"IF(H231<>\"\",1,0)+M231","v":1},6,5222,0,0,0,0,0,0,0,0,0,0,0,0,20,null,null,null,null,4600,null,null,null,null,3051]
[5,2,2,3,null,null,null,"Slaktegris ca. 3 mnd., livdyr",null,null,0,0,0,1,6,5223,0,0,0,0,0,0,0,0,0,0,0,0,20,null,null,null,null,4600,null,null,null,null,3051]
[5,2,3,0,null,null,"Smågris, livdyr",null,null,null,0,0,1,1,6,5230,0,0,0,0,0,0,0,0,0,0,0,0,20,null,null,null,null,4600,null,null,null,null,3051]
[5,2,3,1,null,null,null,"Smågris ca. 2 mnd., livdyr",null,null,0,0,0,1,6,5231,0,0,0,0,0,0,0,0,0,0,0,0,20,null,null,null,null,4600,null,null,null,null,3051]
[5,2,3,2,null,null,null,"Smågris < 2 mnd., livdyr",null,null,0,0,0,1,6,5232,0,0,0,0,0,0,0,0,0,0,0,0,20,null,null,null,null,4600,null,null,null,null,3051]
[5,3,0,0,null,"Sau og geit, livdyr",null,null,null,null,0,1,1,1,6,5300,0,0,0,0,0,0,0,0,0,0,0,0,20]
[5,3,1,0,null,null,"Sau, livdyr",null,null,null,0,0,1,1,6,5310,0,0,0,0,0,0,0,0,0,0,0,0,20]
[5,3,1,1,null,null,null,"Søyer > 12 mnd. fra IB, livdyr",null,"Brukes bare ved balanseoppsett i regnskapet",0,0,0,1,6,5311,0,0,0,0,0,0,0,0,0,0,0,0,20]
[5,3,1,2,null,null,null,"Søyer > 12 mnd. tilført i året, livdyr",null,null,0,0,0,1,6,5312,0,0,0,0,0,0,0,0,0,0,0,0,20,null,null,null,null,4600,null,null,null,null,3051]
[5,3,1,3,null,null,null,"Vær, livdyr",null,null,0,0,0,1,6,5313,0,0,0,0,0,0,0,0,0,0,0,0,20,null,null,null,null,4600,null,null,null,null,3051]
[5,3,1,4,null,null,null,"Lam < 12 mnd., livdyr",null,null,0,0,0,1,6,5314,0,0,0,0,0,0,0,0,0,0,0,0,20,null,null,null,null,4600,null,null,null,null,3051]
[5,3,2,0,null,null,"Geit, livdyr",null,null,null,0,0,1,1,6,5320,0,0,0,0,0,0,0,0,0,0,0,0,20]
[5,3,2,1,null,null,null,"Geit > 12 mnd. fra IB, livdyr",null,"Brukes bare ved balanseoppsett i regnskapet",0,0,0,1,6,5321,0,0,0,0,0,0,0,0,0,0,0,0,20]
[5,3,2,2,null,null,null,"Geit > 9 mnd. tilført i året, livdyr",null,null,0,0,0,1,6,5322,0,0,0,0,0,0,0,0,0,0,0,0,20,null,null,null,null,4600,null,null,null,null,3051]
[5,3,2,3,null,null,null,"Geitebukk, livdyr",null,null,0,0,0,1,6,5323,0,0,0,0,0,0,0,0,0,0,0,0,20,null,null,null,null,4600,null,null,null,null,3051]
[5,3,2,4,null,null,null,"Kje < 9 mnd., livdyr",null,null,0,0,0,1,6,5324,0,0,0,0,0,0,0,0,0,0,0,0,20,null,null,null,null,4600,null,null,null,null,3051]
[5,4,0,0,null,"Fjørfe, livdyr",null,null,null,null,0,1,1,1,6,5400,0,0,0,0,0,0,0,0,0,0,0,0,20,null,null,null,null,4600,null,null,null,null,3051]
[5,4,1,0,null,null,"Høner, livdyr",null,null,null,0,0,1,1,6,5410,0,0,0,0,0,0,0,0,0,0,0,0,20,null,null,null,null,4600,null,null,null,null,3051]
[5,4,1,1,null,null,null,"Verpehøner > 20 uker, livdyr",null,null,0,0,0,1,6,5411,0,0,0,0,0,0,0,0,0,0,0,0,20,null,null,null,null,4600,null,null,null,null,3051]
[5,4,1,2,null,null,null,"Verpehønekyllinger < 20 uker, livdyr",null,null,0,0,0,1,6,5412,0,0,0,0,0,0,0,0,0,0,0,0,20,null,null,null,null,4600,null,null,null,null,3051]
[5,4,1,5,null,null,null,"Unghøner til rugeeggproduksjon",null,null,{"$f":"IF(E251<>\"\",1,0)","v":0},{"$f":"IF(F251<>\"\",1,0)+K251","v":0},{"$f":"IF(G251<>\"\",1,0)+L251","v":0},{"$f":"IF(H251<>\"\",1,0)+M251","v":1},{"$f":"A251+1","v":6},5415,{"$f":"IF(GRLProdukt=1,AC251,IF(GRLProdukt=2,AO251,IF(GRLProdukt=3,BA251,IF(GRLProdukt=4,BM251,0))))","v":0},{"$f":"IF(GRLProdukt=1,AD251,IF(GRLProdukt=2,AP251,IF(GRLProdukt=3,BB251,IF(GRLProdukt=4,BN251,0))))","v":0},0,{"$f":"IF(GRLProdukt=1,AF251,IF(GRLProdukt=2,AR251,IF(GRLProdukt=3,BD251,IF(GRLProdukt=4,BP251,0))))","v":0},{"$f":"IF(GRLProdukt=1,AG251,IF(GRLProdukt=2,AS251,IF(GRLProdukt=3,BE251,IF(GRLProdukt=4,BQ251,0))))","v":0},{"$f":"IF(GRLProdukt=1,AH251,IF(GRLProdukt=2,AT251,IF(GRLProdukt=3,BF251,IF(GRLProdukt=4,BR251,0))))","v":0},{"$f":"IF(GRLProdukt=1,AI251,IF(GRLProdukt=2,AU251,IF(GRLProdukt=3,BG251,IF(GRLProdukt=4,BS251,0))))","v":0},{"$f":"IF(GRLProdukt=1,AJ251,IF(GRLProdukt=2,AV251,IF(GRLProdukt=3,BH251,IF(GRLProdukt=4,BT251,0))))","v":0},{"$f":"IF(GRLProdukt=1,AK251,IF(GRLProdukt=2,AW251,IF(GRLProdukt=3,BI251,IF(GRLProdukt=4,BU251,0))))","v":0},{"$f":"IF(GRLProdukt=1,AL251,IF(GRLProdukt=2,AX251,IF(GRLProdukt=3,BJ251,IF(GRLProdukt=4,BV251,0))))","v":0},{"$f":"IF(GRLProdukt=1,AM251,IF(GRLProdukt=2,AY251,IF(GRLProdukt=3,BK251,IF(GRLProdukt=4,BW251,0))))","v":0},{"$f":"IF(GRLProdukt=1,AN251,IF(GRLProdukt=2,AZ251,IF(GRLProdukt=3,BL251,IF(GRLProdukt=4,BX251,0))))","v":0},20,null,null,null,null,4600,null,null,null,null,3051]
[5,4,2,0,null,null,"Kylling, livdyr",null,null,null,0,0,1,1,6,5420,0,0,0,0,0,0,0,0,0,0,0,0,20,null,null,null,null,4600,null,null,null,null,3051]
[5,4,2,1,null,null,null,"Slaktekylling, livdyr",null,null,0,0,0,1,6,5421,0,0,0,0,0,0,0,0,0,0,0,0,20,null,null,null,null,4600,null,null,null,null,3051]
[5,4,2,5,null,null,null,"Daggamle kyllinger til kyllingproduksjon",null,null,0,0,0,1,6,5425,0,0,0,0,0,0,0,0,0,0,0,0,20,null,null,null,null,4600,null,null,null,null,3051]
[5,4,2,6,null,null,null,"Daggamle kyllinger til oppal for eggproduksjon",null,null,0,0,0,1,6,5426,0,0,0,0,0,0,0,0,0,0,0,0,20,null,null,null,null,4600,null,null,null,null,3051]
[5,4,2,7,null,null,null,"Daggamle kyllinger til oppal av kyllingmødre og fedre (foreldredyr rugeegg)",null,null,0,0,0,1,6,5427,0,0,0,0,0,0,0,0,0,0,0,0,20,null,null,null,null,4600,null,null,null,null,3051]
[5,4,3,0,null,null,"Hane, livdyr",null,null,null,0,0,1,1,6,5430,0,0,0,0,0,0,0,0,0,0,0,0,20,null,null,null,null,4600,null,null,null,null,3051]
[5,4,3,1,null,null,null,"Haner til rugeeggproduksjon, livdyr",null,null,0,0,0,1,6,5431,0,0,0,0,0,0,0,0,0,0,0,0,20,null,null,null,null,4600,null,null,null,null,3051]
[5,4,4,0,null,null,"Kalkun, livdyr",null,null,null,0,0,1,1,6,5440,0,0,0,0,0,0,0,0,0,0,0,0,20,null,null,null,null,4600,null,null,null,null,3051]
[5,4,4,1,null,null,null,"Kalkuner < 12 uker (høner), livdyr",null,null,0,0,0,1,6,5441,0,0,0,0,0,0,0,0,0,0,0,0,20,null,null,null,null,4600,null,null,null,null,3051]
[5,4,4,2,null,null,null,"Kalkuner < 18 uker (haner), livdyr",null,null,0,0,0,1,6,5442,0,0,0,0,0,0,0,0,0,0,0,0,20,null,null,null,null,4600,null,null,null,null,3051]
[5,4,4,5,null,null,null,"Kalkunhøner til rugeeggproduksjon",null,null,0,0,0,1,6,5445,0,0,0,0,0,0,0,0,0,0,0,0,20,null,null,null,null,4600,null,null,null,null,3051]
[5,4,9,0,null,null,"Andre fjørfe, livdyr",null,null,null,{"$f":"IF(E263<>\"\",1,0)","v":0},{"$f":"IF(F263<>\"\",1,0)+K263","v":0},{"$f":"IF(G263<>\"\",1,0)+L263","v":1},{"$f":"IF(H263<>\"\",1,0)+M263","v":1},6,5490,0,0,0,0,0,0,0,0,0,0,0,0,20,null,null,null,null,4600,null,null,null,null,3051]
[5,4,9,1,null,null,null,"Gjess, livdyr",null,null,0,0,0,1,6,5491,0,0,0,0,0,0,0,0,0,0,0,0,20,null,null,null,null,4600,null,null,null,null,3051]
[5,4,9,2,null,null,null,"Ender, livdyr",null,null,0,0,0,1,6,{"$f":"VALUE(A265&B265&C265&D265)","v":5492},0,0,0,0,0,0,0,0,0,0,0,0,20,null,null,null,null,4600,null,null,null,null,3051]
[5,4,9,9,null,null,null,"Andre fjørfeslag, livdyr",null,null,0,0,0,1,6,5499,0,0,0,0,0,0,0,0,0,0,0,0,20,null,null,null,null,4600,null,null,null,null,3051]
[5,5,0,0,null,"Hest og hund, livdyr",null,null,null,null,0,1,1,1,6,5500,0,0,0,0,0,0,0,0,0,0,0,0,20,null,null,null,null,4600,null,null,null,null,3051]
[5,5,1,0,null,null,"Dølahest, livdyr",null,null,null,0,0,1,1,6,5510,0,0,0,0,0,0,0,0,0,0,0,0,20,null,null,null,null,4600,null,null,null,null,3051]
[5,5,1,1,null,null,null,"Dølahest over 3 år, livdyr",null,null,0,0,0,1,6,5511,0,0,0,0,0,0,0,0,0,0,0,0,20,null,null,null,null,4600,null,null,null,null,3051]
[5,5,1,2,null,null,null,"Dølahest inntil 3 år, livdyr",null,null,{"$f":"IF(E270<>\"\",1,0)","v":0},{"$f":"IF(F270<>\"\",1,0)+K270","v":0},{"$f":"IF(G270<>\"\",1,0)+L270","v":0},{"$f":"IF(H270<>\"\",1,0)+M270","v":1},6,5512,0,0,0,0,0,0,0,0,0,0,0,0,20,null,null,null,null,4600,null,null,null,null,3051]
[5,5,1,3,null,null,null,"Dølahest inntil 2 år, livdyr",null,null,0,0,0,1,6,5513,0,0,0,0,0,0,0,0,0,0,0,0,20,null,null,null,null,4600,null,null,null,null,3051]
[5,5,1,4,null,null,null,"Dølahest inntil 1 år, livdyr",null,null,0,0,0,1,6,5514,0,0,0,0,0,0,0,0,0,0,0,0,20,null,null,null,null,4600,null,null,null,null,3051]
[5,5,2,0,null,null,"Fjordhest, livdyr",null,null,null,{"$f":"IF(E273<>\"\",1,0)","v":0},{"$f":"IF(F273<>\"\",1,0)+K273","v":0},{"$f":"IF(G273<>\"\",1,0)+L273","v":1},{"$f":"IF(H273<>\"\",1,0)+M273","v":1},{"$f":"A273+1","v":6},5520,0,0,0,0,0,0,0,0,0,0,0,0,20,null,null,null,null,4600,null,null,null,null,3051]
[5,5,2,1,null,null,null,"Fjordhest over 3 år, livdyr",null,null,{"$f":"IF(E274<>\"\",1,0)","v":0},{"$f":"IF(F274<>\"\",1,0)+K274","v":0},{"$f":"IF(G274<>\"\",1,0)+L274","v":0},{"$f":"IF(H274<>\"\",1,0)+M274","v":1},6,5521,0,0,0,0,0,0,0,0,0,0,0,0,20,null,null,null,null,4600,null,null,null,null,3051]
[5,5,2,2,null,null,null,"Fjordhest inntil 3 år, livdyr",null,null,0,0,0,1,6,5522,0,0,0,0,0,0,0,0,0,0,0,0,20,null,null,null,null,4600,null,null,null,null,3051]
[5,5,2,3,null,null,null,"Fjordhest inntil 2 år, livdyr",null,null,0,0,0,1,6,5523,0,0,0,0,0,0,0,0,0,0,0,0,20,null,null,null,null,4600,null,null,null,null,3051]
[5,5,2,4,null,null,null,"Fjordhest inntil 1 år, livdyr",null,null,0,0,0,1,6,5524,0,0,0,0,0,0,0,0,0,0,0,0,20,null,null,null,null,4600,null,null,null,null,3051]
[5,5,3,0,null,null,"Andre hester, livdyr",null,null,null,0,0,1,1,6,5530,0,0,0,0,0,0,0,0,0,0,0,0,20,null,null,null,null,4600,null,null,null,null,3051]
[5,5,4,0,null,null,"Hund, livdyr",null,null,null,0,0,1,1,6,{"$f":"VALUE(A279&B279&C279&D279)","v":5540},0,0,0,0,0,0,0,0,0,0,0,0,20,null,null,null,null,4600,null,null,null,null,3051]
[5,5,4,1,null,null,null,"Gjeterhund",null,null,{"$f":"IF(E280<>\"\",1,0)","v":0},{"$f":"IF(F280<>\"\",1,0)+K280","v":0},{"$f":"IF(G280<>\"\",1,0)+L280","v":0},{"$f":"IF(H280<>\"\",1,0)+M280","v":1},6,5541,{"$f":"IF(GRLProdukt=1,AC280,IF(GRLProdukt=2,AO280,IF(GRLProdukt=3,BA280,IF(GRLProdukt=4,BM280,0))))","v":0},{"$f":"IF(GRLProdukt=1,AD280,IF(GRLProdukt=2,AP280,IF(GRLProdukt=3,BB280,IF(GRLProdukt=4,BN280,0))))","v":0},0,{"$f":"IF(GRLProdukt=1,AF280,IF(GRLProdukt=2,AR280,IF(GRLProdukt=3,BD280,IF(GRLProdukt=4,BP280,0))))","v":0},{"$f":"IF(GRLProdukt=1,AG280,IF(GRLProdukt=2,AS280,IF(GRLProdukt=3,BE280,IF(GRLProdukt=4,BQ280,0))))","v":0},{"$f":"IF(GRLProdukt=1,AH280,IF(GRLProdukt=2,AT280,IF(GRLProdukt=3,BF280,IF(GRLProdukt=4,BR280,0))))","v":0},{"$f":"IF(GRLProdukt=1,AI280,IF(GRLProdukt=2,AU280,IF(GRLProdukt=3,BG280,IF(GRLProdukt=4,BS280,0))))","v":0},{"$f":"IF(GRLProdukt=1,AJ280,IF(GRLProdukt=2,AV280,IF(GRLProdukt=3,BH280,IF(GRLProdukt=4,BT280,0))))","v":0},{"$f":"IF(GRLProdukt=1,AK280,IF(GRLProdukt=2,AW280,IF(GRLProdukt=3,BI280,IF(GRLProdukt=4,BU280,0))))","v":0},{"$f":"IF(GRLProdukt=1,AL280,IF(GRLProdukt=2,AX280,IF(GRLProdukt=3,BJ280,IF(GRLProdukt=4,BV280,0))))","v":0},{"$f":"IF(GRLProdukt=1,AM280,IF(GRLProdukt=2,AY280,IF(GRLProdukt=3,BK280,IF(GRLProdukt=4,BW280,0))))","v":0},{"$f":"IF(GRLProdukt=1,AN280,IF(GRLProdukt=2,AZ280,IF(GRLProdukt=3,BL280,IF(GRLProdukt=4,BX280,0))))","v":0},20,null,null,null,null,4600,null,null,null,null,3051]
[5,5,4,2,null,null,null,"Jakthund",null,null,0,0,0,1,6,5542,0,0,0,0,0,0,0,0,0,0,0,0,70]
[5,6,0,0,null,"Pelsdyr, livdyr",null,null,null,null,0,1,1,1,6,5600,0,0,0,0,0,0,0,0,0,0,0,0,50,null,null,null,null,4600,null,null,null,null,3050]
[5,6,1,0,null,null,"Mink, livdyr",null,null,null,0,0,1,1,6,5610,0,0,0,0,0,0,0,0,0,0,0,0,50,null,null,null,null,4600,null,null,null,null,3050]
[5,6,2,0,null,null,"Rev, livdyr",null,null,null,0,0,1,1,6,5620,0,0,0,0,0,0,0,0,0,0,0,0,50,null,null,null,null,4600,null,null,null,null,3050]
[5,6,2,1,null,null,null,"Sølvrev, livdyr",null,null,{"$f":"IF(E285<>\"\",1,0)","v":0},{"$f":"IF(F285<>\"\",1,0)+K285","v":0},{"$f":"IF(G285<>\"\",1,0)+L285","v":0},{"$f":"IF(H285<>\"\",1,0)+M285","v":1},6,5621,{"$f":"IF(GRLProdukt=1,AC285,IF(GRLProdukt=2,AO285,IF(GRLProdukt=3,BA285,IF(GRLProdukt=4,BM285,0))))","v":0},{"$f":"IF(GRLProdukt=1,AD285,IF(GRLProdukt=2,AP285,IF(GRLProdukt=3,BB285,IF(GRLProdukt=4,BN285,0))))","v":0},0,{"$f":"IF(GRLProdukt=1,AF285,IF(GRLProdukt=2,AR285,IF(GRLProdukt=3,BD285,IF(GRLProdukt=4,BP285,0))))","v":0},{"$f":"IF(GRLProdukt=1,AG285,IF(GRLProdukt=2,AS285,IF(GRLProdukt=3,BE285,IF(GRLProdukt=4,BQ285,0))))","v":0},{"$f":"IF(GRLProdukt=1,AH285,IF(GRLProdukt=2,AT285,IF(GRLProdukt=3,BF285,IF(GRLProdukt=4,BR285,0))))","v":0},{"$f":"IF(GRLProdukt=1,AI285,IF(GRLProdukt=2,AU285,IF(GRLProdukt=3,BG285,IF(GRLProdukt=4,BS285,0))))","v":0},{"$f":"IF(GRLProdukt=1,AJ285,IF(GRLProdukt=2,AV285,IF(GRLProdukt=3,BH285,IF(GRLProdukt=4,BT285,0))))","v":0},{"$f":"IF(GRLProdukt=1,AK285,IF(GRLProdukt=2,AW285,IF(GRLProdukt=3,BI285,IF(GRLProdukt=4,BU285,0))))","v":0},{"$f":"IF(GRLProdukt=1,AL285,IF(GRLProdukt=2,AX285,IF(GRLProdukt=3,BJ285,IF(GRLProdukt=4,BV285,0))))","v":0},{"$f":"IF(GRLProdukt=1,AM285,IF(GRLProdukt=2,AY285,IF(GRLProdukt=3,BK285,IF(GRLProdukt=4,BW285,0))))","v":0},{"$f":"IF(GRLProdukt=1,AN285,IF(GRLProdukt=2,AZ285,IF(GRLProdukt=3,BL285,IF(GRLProdukt=4,BX285,0))))","v":0},50,null,null,null,null,4600,null,null,null,null,3050]
[5,6,2,2,null,null,null,"Blårev, livdyr",null,null,0,0,0,1,6,5622,0,0,0,0,0,0,0,0,0,0,0,0,50,null,null,null,null,4600,null,null,null,null,3050]
[5,6,2,9,null,null,null,"Andre revetyper, livdyr",null,null,0,0,0,1,6,5629,0,0,0,0,0,0,0,0,0,0,0,0,50,null,null,null,null,4600,null,null,null,null,3050]
[5,6,9,0,null,null,"Andre pelsdyr, livdyr",null,null,null,0,0,1,1,6,5690,0,0,0,0,0,0,0,0,0,0,0,0,50,null,null,null,null,4600,null,null,null,null,3050]
[5,6,9,1,null,null,null,"Ilder, livdyr",null,null,0,0,0,1,6,5691,0,0,0,0,0,0,0,0,0,0,0,0,50,null,null,null,null,4600,null,null,null,null,3050]
[5,6,9,2,null,null,null,"Chinchilla, livdyr",null,null,0,0,0,1,6,5692,0,0,0,0,0,0,0,0,0,0,0,0,50,null,null,null,null,4600,null,null,null,null,3050]
[5,7,0,0,null,"Andre dyr, livdyr",null,null,null,null,0,1,1,1,6,5700,0,0,0,0,0,0,0,0,0,0,0,0,20,null,null,null,null,4600,null,null,null,null,3051]
[5,7,1,0,null,null,"Rein, livdyr",null,null,null,0,0,1,1,6,5710,0,0,0,0,0,0,0,0,0,0,0,0,20,null,null,null,null,4600,null,null,null,null,3051]
[5,7,1,1,null,null,null,"Rein > 12 mnd., livdyr",null,null,{"$f":"IF(E293<>\"\",1,0)","v":0},{"$f":"IF(F293<>\"\",1,0)+K293","v":0},{"$f":"IF(G293<>\"\",1,0)+L293","v":0},{"$f":"IF(H293<>\"\",1,0)+M293","v":1},6,5711,0,0,0,0,0,0,0,0,0,0,0,0,20,null,null,null,null,4600,null,null,null,null,3051]
[5,7,1,2,null,null,null,"Rein < 12 mnd. (fjorårskalver), livdyr",null,null,0,0,0,1,6,5712,0,0,0,0,0,0,0,0,0,0,0,0,20,null,null,null,null,4600,null,null,null,null,3051]
[5,7,2,0,null,null,"Hjort, livdyr",null,null,null,0,0,1,1,6,5720,0,0,0,0,0,0,0,0,0,0,0,0,20,null,null,null,null,4600,null,null,null,null,3051]
[5,7,2,1,null,null,null,"Hjort > 12 mnd., livdyr",null,null,0,0,0,1,6,5721,0,0,0,0,0,0,0,0,0,0,0,0,20,null,null,null,null,4600,null,null,null,null,3051]
[5,7,2,2,null,null,null,"Hjort < 12 mnd., livdyr",null,null,0,0,0,1,6,5722,0,0,0,0,0,0,0,0,0,0,0,0,20,null,null,null,null,4600,null,null,null,null,3051]
[5,7,3,0,null,null,"Kaniner, livdyr",null,null,null,0,0,1,1,{"$f":"A298+1","v":6},5730,0,0,0,0,0,{"$f":"IF(GRLProdukt=1,AH298,IF(GRLProdukt=2,AT298,IF(GRLProdukt=3,BF298,IF(GRLProdukt=4,BR298,0))))","v":0},0,0,0,0,0,0,20,null,null,null,null,4600,null,null,null,null,3051]
[5,7,4,0,null,null,"Bier, livdyr",null,null,null,0,0,1,1,6,5740,0,0,0,0,0,0,0,0,0,0,0,0,20,null,null,null,null,4600,null,null,null,null,3051]
[5,7,4,1,null,null,null,"Bifolk, livdyr",null,null,0,{"$f":"IF(F300<>\"\",1,0)+K300","v":0},0,1,6,5741,0,0,0,0,0,0,0,0,0,0,0,0,20,null,null,null,null,4600,null,null,null,null,3051]
[5,7,4,2,null,null,null,"Dronningbier, livdyr",null,null,0,0,0,1,6,5742,0,0,0,0,0,0,0,0,0,0,0,0,20,null,null,null,null,4600,null,null,null,null,3051]
[5,7,5,0,null,null,"Lama, alpakka og esel, livdyr",null,null,null,0,0,1,1,6,5750,0,0,0,0,0,0,0,0,0,0,0,0,20,null,null,null,null,4600,null,null,null,null,3051]
[5,7,9,0,null,null,"Andre dyreslag, livdyr",null,null,null,0,0,1,1,6,5790,0,0,0,0,0,0,0,0,0,0,0,0,20,null,null,null,null,4600,null,null,null,null,3051]
[6,0,0,0,"Skogbruk og andre næringer",null,null,null,null,null,{"$f":"IF(E304<>\"\",1,0)","v":1},{"$f":"IF(F304<>\"\",1,0)+K304","v":1},1,1,7,6000,null,null,null,null,null,null,null,null,null,null,null,null,30]
[6,1,0,0,null,"Skogbruk",null,null,null,null,{"$f":"IF(E305<>\"\",1,0)","v":0},1,1,1,7,6100,{"$f":"IF(GRLProdukt=1,AC305,IF(GRLProdukt=2,AO305,IF(GRLProdukt=3,BA305,IF(GRLProdukt=4,BM305,0))))","v":0},{"$f":"IF(GRLProdukt=1,AD305,IF(GRLProdukt=2,AP305,IF(GRLProdukt=3,BB305,IF(GRLProdukt=4,BN305,0))))","v":0},0,{"$f":"IF(GRLProdukt=1,AF305,IF(GRLProdukt=2,AR305,IF(GRLProdukt=3,BD305,IF(GRLProdukt=4,BP305,0))))","v":0},{"$f":"IF(GRLProdukt=1,AG305,IF(GRLProdukt=2,AS305,IF(GRLProdukt=3,BE305,IF(GRLProdukt=4,BQ305,0))))","v":0},{"$f":"IF(GRLProdukt=1,AH305,IF(GRLProdukt=2,AT305,IF(GRLProdukt=3,BF305,IF(GRLProdukt=4,BR305,0))))","v":0},{"$f":"IF(GRLProdukt=1,AI305,IF(GRLProdukt=2,AU305,IF(GRLProdukt=3,BG305,IF(GRLProdukt=4,BS305,0))))","v":0},{"$f":"IF(GRLProdukt=1,AJ305,IF(GRLProdukt=2,AV305,IF(GRLProdukt=3,BH305,IF(GRLProdukt=4,BT305,0))))","v":0},{"$f":"IF(GRLProdukt=1,AK305,IF(GRLProdukt=2,AW305,IF(GRLProdukt=3,BI305,IF(GRLProdukt=4,BU305,0))))","v":0},{"$f":"IF(GRLProdukt=1,AL305,IF(GRLProdukt=2,AX305,IF(GRLProdukt=3,BJ305,IF(GRLProdukt=4,BV305,0))))","v":0},{"$f":"IF(GRLProdukt=1,AM305,IF(GRLProdukt=2,AY305,IF(GRLProdukt=3,BK305,IF(GRLProdukt=4,BW305,0))))","v":0},{"$f":"IF(GRLProdukt=1,AN305,IF(GRLProdukt=2,AZ305,IF(GRLProdukt=3,BL305,IF(GRLProdukt=4,BX305,0))))","v":0},30]
[6,1,1,0,null,null,"Spesialtømmer",null,null,null,{"$f":"IF(E306<>\"\",1,0)","v":0},{"$f":"IF(F306<>\"\",1,0)+K306","v":0},{"$f":"IF(G306<>\"\",1,0)+L306","v":1},{"$f":"IF(H306<>\"\",1,0)+M306","v":1},7,6110,0,0,0,0,0,0,0,0,0,0,0,0,30,null,null,null,null,null,null,null,null,null,3000]
[6,1,1,1,null,null,null,"Gran, Spesialtømmer",null,null,0,0,0,1,7,6111,0,0,0,0,0,0,0,0,0,0,0,0,30,null,null,null,null,null,null,null,null,null,3000]
[6,1,1,2,null,null,null,"Furu, Spesialtømmer",null,null,0,0,0,1,7,6112,0,0,0,0,0,0,0,0,0,0,0,0,30,null,null,null,null,null,null,null,null,null,3000]
[6,1,1,3,null,null,null,"Lauv, Spesialtømmer",null,null,0,0,0,1,7,6113,0,0,0,0,0,0,0,0,0,0,0,0,30,null,null,null,null,null,null,null,null,null,3000]
[6,1,1,4,null,null,null,"Andre bartreslag, Spesialtømmer",null,null,0,0,0,1,7,6114,0,0,0,0,0,0,0,0,0,0,0,0,30,null,null,null,null,null,null,null,null,null,3000]
[6,1,2,0,null,null,"Sagtømmer",null,null,null,0,0,1,1,7,6120,0,0,0,0,0,0,0,0,0,0,0,0,30,null,null,null,null,null,null,null,null,null,3010]
[6,1,2,1,null,null,null,"Gran, Sagtømmer",null,null,0,0,0,1,7,6121,0,0,0,0,0,0,0,0,0,0,0,0,30,null,null,null,null,null,null,null,null,null,3010]
[6,1,2,2,null,null,null,"Furu, Sagtømmer",null,null,0,0,0,1,7,6122,0,0,0,0,0,0,0,0,0,0,0,0,30,null,null,null,null,null,null,null,null,null,3010]
[6,1,2,3,null,null,null,"Lauv, Sagtømmer",null,null,0,0,0,1,7,6123,0,0,0,0,0,0,0,0,0,0,0,0,30,null,null,null,null,null,null,null,null,null,3010]
[6,1,2,4,null,null,null,"Andre bartreslag, Sagtømmer",null,null,0,0,0,1,7,6124,0,0,0,0,0,0,0,0,0,0,0,0,30,null,null,null,null,null,null,null,null,null,3010]
[6,1,2,5,null,null,null,"Bartreblanding, Sagtømmer",null,null,{"$f":"IF(E316<>\"\",1,0)","v":0},{"$f":"IF(F316<>\"\",1,0)+K316","v":0},{"$f":"IF(G316<>\"\",1,0)+L316","v":0},{"$f":"IF(H316<>\"\",1,0)+M316","v":1},7,6125,0,0,0,0,0,0,0,0,0,0,0,0,30,null,null,null,null,null,null,null,null,null,3010]
[6,1,3,0,null,null,"Massevirke",null,null,null,0,0,1,1,7,6130,0,0,0,0,0,0,0,0,0,0,0,0,30,null,null,null,null,null,null,null,null,null,3030]
[6,1,3,1,null,null,null,"Gran, Massevirke",null,null,0,0,0,1,7,6131,0,0,0,0,0,0,0,0,0,0,0,0,30,null,null,null,null,null,null,null,null,null,3030]
[6,1,3,2,null,null,null,"Furu, Massevirke",null,null,0,0,0,1,7,6132,0,0,0,0,0,0,0,0,0,0,0,0,30,null,null,null,null,null,null,null,null,null,3030]
[6,1,3,3,null,null,null,"Lauv, Massevirke",null,null,0,0,0,1,7,6133,0,0,0,0,0,0,0,0,0,0,0,0,30,null,null,null,null,null,null,null,null,null,3030]
[6,1,3,4,null,null,null,"Andre bartreslag, Massevirke",null,null,0,0,0,1,7,6134,0,0,0,0,0,0,0,0,0,0,0,0,30,null,null,null,null,null,null,null,null,null,3030]
[6,1,3,5,null,null,null,"Bartreblanding, Massevirke",null,null,{"$f":"IF(E322<>\"\",1,0)","v":0},{"$f":"IF(F322<>\"\",1,0)+K322","v":0},{"$f":"IF(G322<>\"\",1,0)+L322","v":0},{"$f":"IF(H322<>\"\",1,0)+M322","v":1},7,6135,0,0,0,0,0,0,0,0,0,0,0,0,30,null,null,null,null,null,null,null,null,null,3030]
[6,1,4,0,null,null,"Sams sagtømmer og massevirke",null,null,null,0,0,1,1,7,6140,0,0,0,0,0,0,0,0,0,0,0,0,30,null,null,null,null,null,null,null,null,null,3020]
[6,1,4,1,null,null,null,"Gran, Sams sagtømmer og massevirke",null,null,0,0,0,1,7,6141,0,0,0,0,0,0,0,0,0,0,0,0,30,null,null,null,null,null,null,null,null,null,3020]
[6,1,4,2,null,null,null,"Furu, Sams sagtømmer og massevirke",null,null,0,0,0,1,7,6142,0,0,0,0,0,0,0,0,0,0,0,0,30,null,null,null,null,null,null,null,null,null,3020]
[6,1,4,3,null,null,null,"Lauv, Sams sagtømmer og massevirke",null,null,0,0,0,1,7,6143,0,0,0,0,0,0,0,0,0,0,0,0,30,null,null,null,null,null,null,null,null,null,3020]
[6,1,4,4,null,null,null,"Andre bartreslag, Sams sagtømmer og massevirke",null,null,0,0,0,1,7,6144,0,0,0,0,0,0,0,0,0,0,0,0,30,null,null,null,null,null,null,null,null,null,3020]
[6,1,4,5,null,null,null,"Bartreblanding, Sams sagtømmer og massevirke",null,null,{"$f":"IF(E328<>\"\",1,0)","v":0},{"$f":"IF(F328<>\"\",1,0)+K328","v":0},{"$f":"IF(G328<>\"\",1,0)+L328","v":0},{"$f":"IF(H328<>\"\",1,0)+M328","v":1},7,6145,0,0,0,0,0,0,0,0,0,0,0,0,30,null,null,null,null,null,null,null,null,null,3020]
[6,1,5,0,null,null,"Annet rundvirke",null,null,null,0,0,1,1,7,6150,0,0,0,0,0,0,0,0,0,0,0,0,30,null,null,null,null,null,null,null,null,null,3025]
[6,1,5,1,null,null,null,"Gran, Annet rundvirke",null,null,0,0,0,1,7,6151,0,0,0,0,0,0,0,0,0,0,0,0,30,null,null,null,null,null,null,null,null,null,3025]
[6,1,5,2,null,null,null,"Furu, Annet rundvirke",null,null,0,0,0,1,7,6152,0,0,0,0,0,0,0,0,0,0,0,0,30,3050,null,null,null,null,null,null,null,null,3025]
[6,1,5,3,null,null,null,"Lauv, Annet rundvirke",null,null,0,0,0,1,7,6153,0,0,0,0,0,0,0,0,0,0,0,0,30,null,null,null,null,null,null,null,null,null,3046]
[6,1,5,4,null,null,null,"Andre bartreslag, Annet rundvirke",null,null,0,0,0,1,7,6154,0,0,0,0,0,0,0,0,0,0,0,0,30,null,null,null,null,null,null,null,null,null,3046]
[6,1,5,5,null,null,null,"Bartreblanding, Annet rundvirke",null,null,0,{"$f":"IF(F334<>\"\",1,0)+K334","v":0},{"$f":"IF(G334<>\"\",1,0)+L334","v":0},{"$f":"IF(H334<>\"\",1,0)+M334","v":1},7,6155,0,0,0,0,0,0,0,0,0,0,0,0,30,null,null,null,null,null,null,null,null,null,3046]
[6,1,5,6,null,null,null,"Treslagsblanding, Annet rundvirke",null,null,{"$f":"IF(E335<>\"\",1,0)","v":0},0,0,1,7,6156,0,0,0,0,0,0,0,0,0,0,0,0,30,null,null,null,null,null,null,null,null,null,3046]
[6,1,6,0,null,null,"Rotsalg og blandingsvirke",null,null,null,0,0,1,1,7,6160,0,0,0,0,0,0,0,0,0,0,0,0,30,null,null,null,null,null,null,null,null,null,3070]
[6,1,6,1,null,null,null,"Rotsalg",null,null,0,0,0,1,7,6161,0,0,0,0,0,0,0,0,0,0,0,0,30,null,null,null,null,null,null,null,null,null,3070]
[6,1,7,0,null,null,"Flis, ved og biovirke (bearbeidet produkt)",null,null,null,0,0,1,1,7,6170,0,0,0,0,0,0,0,0,0,0,0,0,30,null,null,null,null,null,null,null,null,null,3045]
[6,1,7,1,null,null,null,"Gran, Flis, ved og biovirke",null,null,0,0,0,1,7,6171,{"$f":"IF(GRLProdukt=1,AC339,IF(GRLProdukt=2,AO339,IF(GRLProdukt=3,BA339,IF(GRLProdukt=4,BM339,0))))","v":0},0,0,0,0,0,0,{"$f":"IF(GRLProdukt=1,AJ339,IF(GRLProdukt=2,AV339,IF(GRLProdukt=3,BH339,IF(GRLProdukt=4,BT339,0))))","v":0},0,0,0,0,30,null,null,null,null,null,null,null,null,null,3045]
[6,1,7,{"$f":"D339+1","v":2},null,null,null,"Furu, Flis, ved og biovirke",null,null,0,0,0,1,7,6172,0,0,0,0,0,0,0,0,0,0,0,0,30,null,null,null,null,null,null,null,null,null,3045]
[6,1,7,{"$f":"D340+1","v":3},null,null,null,"Lauv, Flis, ved og biovirke",null,null,0,0,0,1,7,6173,0,0,0,0,0,0,0,0,0,0,0,0,30,null,null,null,null,null,null,null,null,null,3045]
[6,1,7,4,null,null,null,"Bartreblanding, Flis, ved og biovirke",null,null,0,0,0,1,7,6174,0,0,0,0,0,0,0,0,0,0,0,0,30,null,null,null,null,null,null,null,null,null,3045]
[6,1,7,5,null,null,null,"Treslagsblanding, Flis, ved og biovirke",null,null,0,0,0,1,7,{"$f":"VALUE(A343&B343&C343&D343)","v":6175},0,0,0,0,0,0,0,0,0,0,0,0,30,null,null,null,null,null,null,null,null,null,3045]
[6,1,9,0,null,null,"Andre skogprodukter",null,null,null,0,0,1,1,7,6190,0,0,0,0,0,0,0,0,0,0,0,0,30,null,null,null,null,null,null,null,null,null,3094]
[6,1,9,1,null,null,null,"Pyntegrønt, juletresalg mv",null,"Endret til 6191 (fra 6192)",0,0,0,1,7,6191,0,0,0,0,0,0,0,0,0,0,0,0,30,null,null,null,null,null,null,null,null,null,3094]
[6,5,0,0,null,"Andre næringer (ikke definert)",null,null,null,null,0,1,1,1,7,6500,0,0,0,0,0,0,0,0,0,0,0,0,70]
[7,0,0,0,"Tilskudd fra/forvaltet av landbruksdirektoratet, annen offentlig etat og finansiering, renter etc.",null,null,null,null,null,1,1,1,1,8,7000,null,null,null,null,null,null,null,null,null,null,null,null,20]
[7,1,0,0,null,"Produksjonstilskudd mv. i jordbruket",null,null,null,null,0,1,1,1,8,7100,{"$f":"IF(GRLProdukt=1,AC348,IF(GRLProdukt=2,AO348,IF(GRLProdukt=3,BA348,IF(GRLProdukt=4,BM348,0))))","v":0},{"$f":"IF(GRLProdukt=1,AD348,IF(GRLProdukt=2,AP348,IF(GRLProdukt=3,BB348,IF(GRLProdukt=4,BN348,0))))","v":0},0,{"$f":"IF(GRLProdukt=1,AF348,IF(GRLProdukt=2,AR348,IF(GRLProdukt=3,BD348,IF(GRLProdukt=4,BP348,0))))","v":0},{"$f":"IF(GRLProdukt=1,AG348,IF(GRLProdukt=2,AS348,IF(GRLProdukt=3,BE348,IF(GRLProdukt=4,BQ348,0))))","v":0},{"$f":"IF(GRLProdukt=1,AH348,IF(GRLProdukt=2,AT348,IF(GRLProdukt=3,BF348,IF(GRLProdukt=4,BR348,0))))","v":0},{"$f":"IF(GRLProdukt=1,AI348,IF(GRLProdukt=2,AU348,IF(GRLProdukt=3,BG348,IF(GRLProdukt=4,BS348,0))))","v":0},{"$f":"IF(GRLProdukt=1,AJ348,IF(GRLProdukt=2,AV348,IF(GRLProdukt=3,BH348,IF(GRLProdukt=4,BT348,0))))","v":0},{"$f":"IF(GRLProdukt=1,AK348,IF(GRLProdukt=2,AW348,IF(GRLProdukt=3,BI348,IF(GRLProdukt=4,BU348,0))))","v":0},{"$f":"IF(GRLProdukt=1,AL348,IF(GRLProdukt=2,AX348,IF(GRLProdukt=3,BJ348,IF(GRLProdukt=4,BV348,0))))","v":0},{"$f":"IF(GRLProdukt=1,AM348,IF(GRLProdukt=2,AY348,IF(GRLProdukt=3,BK348,IF(GRLProdukt=4,BW348,0))))","v":0},{"$f":"IF(GRLProdukt=1,AN348,IF(GRLProdukt=2,AZ348,IF(GRLProdukt=3,BL348,IF(GRLProdukt=4,BX348,0))))","v":0},20]
[7,1,1,0,null,null,"Tilskudd til arealer",null,null,null,{"$f":"IF(E349<>\"\",1,0)","v":0},{"$f":"IF(F349<>\"\",1,0)+K349","v":0},{"$f":"IF(G349<>\"\",1,0)+L349","v":1},{"$f":"IF(H349<>\"\",1,0)+M349","v":1},8,7110,0,0,0,0,0,0,0,0,0,0,0,0,20]
[7,1,1,1,null,null,null,"Arealtilskudd grovfôr",null,null,0,0,0,1,8,7111,0,0,0,0,0,0,0,0,0,0,0,0,20,3430]
[7,1,1,2,null,null,null,"Arealtilskudd korn og annet frø til modning",null,null,{"$f":"IF(E351<>\"\",1,0)","v":0},{"$f":"IF(F351<>\"\",1,0)+K351","v":0},{"$f":"IF(G351<>\"\",1,0)+L351","v":0},{"$f":"IF(H351<>\"\",1,0)+M351","v":1},{"$f":"A351+1","v":8},{"$f":"VALUE(A351&B351&C351&D351)","v":7112},{"$f":"IF(GRLProdukt=1,AC351,IF(GRLProdukt=2,AO351,IF(GRLProdukt=3,BA351,IF(GRLProdukt=4,BM351,0))))","v":0},{"$f":"IF(GRLProdukt=1,AD351,IF(GRLProdukt=2,AP351,IF(GRLProdukt=3,BB351,IF(GRLProdukt=4,BN351,0))))","v":0},{"$f":"IF(GRLProdukt=1,AE351,IF(GRLProdukt=2,AQ351,IF(GRLProdukt=3,BC351,IF(GRLProdukt=4,BO351,0))))","v":0},{"$f":"IF(GRLProdukt=1,AF351,IF(GRLProdukt=2,AR351,IF(GRLProdukt=3,BD351,IF(GRLProdukt=4,BP351,0))))","v":0},{"$f":"IF(GRLProdukt=1,AG351,IF(GRLProdukt=2,AS351,IF(GRLProdukt=3,BE351,IF(GRLProdukt=4,BQ351,0))))","v":0},{"$f":"IF(GRLProdukt=1,AH351,IF(GRLProdukt=2,AT351,IF(GRLProdukt=3,BF351,IF(GRLProdukt=4,BR351,0))))","v":0},{"$f":"IF(GRLProdukt=1,AI351,IF(GRLProdukt=2,AU351,IF(GRLProdukt=3,BG351,IF(GRLProdukt=4,BS351,0))))","v":0},{"$f":"IF(GRLProdukt=1,AJ351,IF(GRLProdukt=2,AV351,IF(GRLProdukt=3,BH351,IF(GRLProdukt=4,BT351,0))))","v":0},{"$f":"IF(GRLProdukt=1,AK351,IF(GRLProdukt=2,AW351,IF(GRLProdukt=3,BI351,IF(GRLProdukt=4,BU351,0))))","v":0},{"$f":"IF(GRLProdukt=1,AL351,IF(GRLProdukt=2,AX351,IF(GRLProdukt=3,BJ351,IF(GRLProdukt=4,BV351,0))))","v":0},{"$f":"IF(GRLProdukt=1,AM351,IF(GRLProdukt=2,AY351,IF(GRLProdukt=3,BK351,IF(GRLProdukt=4,BW351,0))))","v":0},{"$f":"IF(GRLProdukt=1,AN351,IF(GRLProdukt=2,AZ351,IF(GRLProdukt=3,BL351,IF(GRLProdukt=4,BX351,0))))","v":0},20,3410]
[7,1,1,3,null,null,null,"Arealtilskudd frukt",null,null,{"$f":"IF(E352<>\"\",1,0)","v":0},{"$f":"IF(F352<>\"\",1,0)+K352","v":0},{"$f":"IF(G352<>\"\",1,0)+L352","v":0},{"$f":"IF(H352<>\"\",1,0)+M352","v":1},{"$f":"A352+1","v":8},{"$f":"VALUE(A352&B352&C352&D352)","v":7113},{"$f":"IF(GRLProdukt=1,AC352,IF(GRLProdukt=2,AO352,IF(GRLProdukt=3,BA352,IF(GRLProdukt=4,BM352,0))))","v":0},{"$f":"IF(GRLProdukt=1,AD352,IF(GRLProdukt=2,AP352,IF(GRLProdukt=3,BB352,IF(GRLProdukt=4,BN352,0))))","v":0},{"$f":"IF(GRLProdukt=1,AE352,IF(GRLProdukt=2,AQ352,IF(GRLProdukt=3,BC352,IF(GRLProdukt=4,BO352,0))))","v":0},{"$f":"IF(GRLProdukt=1,AF352,IF(GRLProdukt=2,AR352,IF(GRLProdukt=3,BD352,IF(GRLProdukt=4,BP352,0))))","v":0},{"$f":"IF(GRLProdukt=1,AG352,IF(GRLProdukt=2,AS352,IF(GRLProdukt=3,BE352,IF(GRLProdukt=4,BQ352,0))))","v":0},{"$f":"IF(GRLProdukt=1,AH352,IF(GRLProdukt=2,AT352,IF(GRLProdukt=3,BF352,IF(GRLProdukt=4,BR352,0))))","v":0},{"$f":"IF(GRLProdukt=1,AI352,IF(GRLProdukt=2,AU352,IF(GRLProdukt=3,BG352,IF(GRLProdukt=4,BS352,0))))","v":0},{"$f":"IF(GRLProdukt=1,AJ352,IF(GRLProdukt=2,AV352,IF(GRLProdukt=3,BH352,IF(GRLProdukt=4,BT352,0))))","v":0},{"$f":"IF(GRLProdukt=1,AK352,IF(GRLProdukt=2,AW352,IF(GRLProdukt=3,BI352,IF(GRLProdukt=4,BU352,0))))","v":0},{"$f":"IF(GRLProdukt=1,AL352,IF(GRLProdukt=2,AX352,IF(GRLProdukt=3,BJ352,IF(GRLProdukt=4,BV352,0))))","v":0},{"$f":"IF(GRLProdukt=1,AM352,IF(GRLProdukt=2,AY352,IF(GRLProdukt=3,BK352,IF(GRLProdukt=4,BW352,0))))","v":0},{"$f":"IF(GRLProdukt=1,AN352,IF(GRLProdukt=2,AZ352,IF(GRLProdukt=3,BL352,IF(GRLProdukt=4,BX352,0))))","v":0},20,3420]
[7,1,1,4,null,null,null,"Arealtilskudd bær",null,null,{"$f":"IF(E353<>\"\",1,0)","v":0},{"$f":"IF(F353<>\"\",1,0)+K353","v":0},{"$f":"IF(G353<>\"\",1,0)+L353","v":0},{"$f":"IF(H353<>\"\",1,0)+M353","v":1},{"$f":"A353+1","v":8},{"$f":"VALUE(A353&B353&C353&D353)","v":7114},{"$f":"IF(GRLProdukt=1,AC353,IF(GRLProdukt=2,AO353,IF(GRLProdukt=3,BA353,IF(GRLProdukt=4,BM353,0))))","v":0},{"$f":"IF(GRLProdukt=1,AD353,IF(GRLProdukt=2,AP353,IF(GRLProdukt=3,BB353,IF(GRLProdukt=4,BN353,0))))","v":0},{"$f":"IF(GRLProdukt=1,AE353,IF(GRLProdukt=2,AQ353,IF(GRLProdukt=3,BC353,IF(GRLProdukt=4,BO353,0))))","v":0},{"$f":"IF(GRLProdukt=1,AF353,IF(GRLProdukt=2,AR353,IF(GRLProdukt=3,BD353,IF(GRLProdukt=4,BP353,0))))","v":0},{"$f":"IF(GRLProdukt=1,AG353,IF(GRLProdukt=2,AS353,IF(GRLProdukt=3,BE353,IF(GRLProdukt=4,BQ353,0))))","v":0},{"$f":"IF(GRLProdukt=1,AH353,IF(GRLProdukt=2,AT353,IF(GRLProdukt=3,BF353,IF(GRLProdukt=4,BR353,0))))","v":0},{"$f":"IF(GRLProdukt=1,AI353,IF(GRLProdukt=2,AU353,IF(GRLProdukt=3,BG353,IF(GRLProdukt=4,BS353,0))))","v":0},{"$f":"IF(GRLProdukt=1,AJ353,IF(GRLProdukt=2,AV353,IF(GRLProdukt=3,BH353,IF(GRLProdukt=4,BT353,0))))","v":0},{"$f":"IF(GRLProdukt=1,AK353,IF(GRLProdukt=2,AW353,IF(GRLProdukt=3,BI353,IF(GRLProdukt=4,BU353,0))))","v":0},{"$f":"IF(GRLProdukt=1,AL353,IF(GRLProdukt=2,AX353,IF(GRLProdukt=3,BJ353,IF(GRLProdukt=4,BV353,0))))","v":0},{"$f":"IF(GRLProdukt=1,AM353,IF(GRLProdukt=2,AY353,IF(GRLProdukt=3,BK353,IF(GRLProdukt=4,BW353,0))))","v":0},{"$f":"IF(GRLProdukt=1,AN353,IF(GRLProdukt=2,AZ353,IF(GRLProdukt=3,BL353,IF(GRLProdukt=4,BX353,0))))","v":0},20,3420]
[7,1,1,5,null,null,null,"Arealtilskudd planteskoleareal og blomster",null,null,{"$f":"IF(E354<>\"\",1,0)","v":0},{"$f":"IF(F354<>\"\",1,0)+K354","v":0},{"$f":"IF(G354<>\"\",1,0)+L354","v":0},{"$f":"IF(H354<>\"\",1,0)+M354","v":1},{"$f":"A354+1","v":8},{"$f":"VALUE(A354&B354&C354&D354)","v":7115},{"$f":"IF(GRLProdukt=1,AC354,IF(GRLProdukt=2,AO354,IF(GRLProdukt=3,BA354,IF(GRLProdukt=4,BM354,0))))","v":0},{"$f":"IF(GRLProdukt=1,AD354,IF(GRLProdukt=2,AP354,IF(GRLProdukt=3,BB354,IF(GRLProdukt=4,BN354,0))))","v":0},{"$f":"IF(GRLProdukt=1,AE354,IF(GRLProdukt=2,AQ354,IF(GRLProdukt=3,BC354,IF(GRLProdukt=4,BO354,0))))","v":0},{"$f":"IF(GRLProdukt=1,AF354,IF(GRLProdukt=2,AR354,IF(GRLProdukt=3,BD354,IF(GRLProdukt=4,BP354,0))))","v":0},{"$f":"IF(GRLProdukt=1,AG354,IF(GRLProdukt=2,AS354,IF(GRLProdukt=3,BE354,IF(GRLProdukt=4,BQ354,0))))","v":0},{"$f":"IF(GRLProdukt=1,AH354,IF(GRLProdukt=2,AT354,IF(GRLProdukt=3,BF354,IF(GRLProdukt=4,BR354,0))))","v":0},{"$f":"IF(GRLProdukt=1,AI354,IF(GRLProdukt=2,AU354,IF(GRLProdukt=3,BG354,IF(GRLProdukt=4,BS354,0))))","v":0},{"$f":"IF(GRLProdukt=1,AJ354,IF(GRLProdukt=2,AV354,IF(GRLProdukt=3,BH354,IF(GRLProdukt=4,BT354,0))))","v":0},{"$f":"IF(GRLProdukt=1,AK354,IF(GRLProdukt=2,AW354,IF(GRLProdukt=3,BI354,IF(GRLProdukt=4,BU354,0))))","v":0},{"$f":"IF(GRLProdukt=1,AL354,IF(GRLProdukt=2,AX354,IF(GRLProdukt=3,BJ354,IF(GRLProdukt=4,BV354,0))))","v":0},{"$f":"IF(GRLProdukt=1,AM354,IF(GRLProdukt=2,AY354,IF(GRLProdukt=3,BK354,IF(GRLProdukt=4,BW354,0))))","v":0},{"$f":"IF(GRLProdukt=1,AN354,IF(GRLProdukt=2,AZ354,IF(GRLProdukt=3,BL354,IF(GRLProdukt=4,BX354,0))))","v":0},20,3420]
[7,1,1,6,null,null,null,"Arealtilskudd grønnsaker",null,null,{"$f":"IF(E355<>\"\",1,0)","v":0},{"$f":"IF(F355<>\"\",1,0)+K355","v":0},{"$f":"IF(G355<>\"\",1,0)+L355","v":0},{"$f":"IF(H355<>\"\",1,0)+M355","v":1},{"$f":"A355+1","v":8},{"$f":"VALUE(A355&B355&C355&D355)","v":7116},{"$f":"IF(GRLProdukt=1,AC355,IF(GRLProdukt=2,AO355,IF(GRLProdukt=3,BA355,IF(GRLProdukt=4,BM355,0))))","v":0},{"$f":"IF(GRLProdukt=1,AD355,IF(GRLProdukt=2,AP355,IF(GRLProdukt=3,BB355,IF(GRLProdukt=4,BN355,0))))","v":0},{"$f":"IF(GRLProdukt=1,AE355,IF(GRLProdukt=2,AQ355,IF(GRLProdukt=3,BC355,IF(GRLProdukt=4,BO355,0))))","v":0},{"$f":"IF(GRLProdukt=1,AF355,IF(GRLProdukt=2,AR355,IF(GRLProdukt=3,BD355,IF(GRLProdukt=4,BP355,0))))","v":0},{"$f":"IF(GRLProdukt=1,AG355,IF(GRLProdukt=2,AS355,IF(GRLProdukt=3,BE355,IF(GRLProdukt=4,BQ355,0))))","v":0},{"$f":"IF(GRLProdukt=1,AH355,IF(GRLProdukt=2,AT355,IF(GRLProdukt=3,BF355,IF(GRLProdukt=4,BR355,0))))","v":0},{"$f":"IF(GRLProdukt=1,AI355,IF(GRLProdukt=2,AU355,IF(GRLProdukt=3,BG355,IF(GRLProdukt=4,BS355,0))))","v":0},{"$f":"IF(GRLProdukt=1,AJ355,IF(GRLProdukt=2,AV355,IF(GRLProdukt=3,BH355,IF(GRLProdukt=4,BT355,0))))","v":0},{"$f":"IF(GRLProdukt=1,AK355,IF(GRLProdukt=2,AW355,IF(GRLProdukt=3,BI355,IF(GRLProdukt=4,BU355,0))))","v":0},{"$f":"IF(GRLProdukt=1,AL355,IF(GRLProdukt=2,AX355,IF(GRLProdukt=3,BJ355,IF(GRLProdukt=4,BV355,0))))","v":0},{"$f":"IF(GRLProdukt=1,AM355,IF(GRLProdukt=2,AY355,IF(GRLProdukt=3,BK355,IF(GRLProdukt=4,BW355,0))))","v":0},{"$f":"IF(GRLProdukt=1,AN355,IF(GRLProdukt=2,AZ355,IF(GRLProdukt=3,BL355,IF(GRLProdukt=4,BX355,0))))","v":0},20,3420]
[7,1,1,7,null,null,null,"Arealtilskudd potet",null,null,0,0,0,1,8,7117,0,0,0,0,0,0,0,0,0,0,0,0,20,3420]
[7,1,1,8,null,null,null,"Arealtilskudd veksthus og drivbenk",null,null,0,0,0,1,8,7118,0,0,0,0,0,0,0,0,0,0,0,0,20,3420]
[7,1,1,9,null,null,null,"Annet areal i drift",null,null,{"$f":"IF(E358<>\"\",1,0)","v":0},{"$f":"IF(F358<>\"\",1,0)+K358","v":0},0,1,8,7119,0,0,0,0,0,0,0,0,0,0,0,0,20,3430]
[7,1,2,1,null,null,null,"Jordbruksareal ute av drift",null,null,0,0,0,1,8,7121,0,0,0,0,0,0,0,0,0,0,0,0,20]
[7,1,2,5,null,null,null,"Kulturlandskapstilskudd",null,null,0,0,0,1,8,7125,0,0,0,0,0,0,0,0,0,0,0,0,20,3413]
[7,1,2,6,null,null,null,"Arealtilskudd til økologisk landbruk",null,null,{"$f":"IF(E361<>\"\",1,0)","v":0},{"$f":"IF(F361<>\"\",1,0)+K361","v":0},0,1,8,7126,0,0,0,0,0,0,0,0,0,0,0,0,20,3460]
[7,1,2,7,null,null,null,"Omleggingstilskudd (økologisk)",null,"Ikke i bruk?",{"$f":"IF(E362<>\"\",1,0)","v":0},0,0,1,8,7127,0,0,0,0,0,0,0,0,0,0,0,0,20,3460]
[7,1,3,0,null,null,"Tilskudd til husdyrproduksjon",null,null,null,0,0,1,1,8,7130,0,0,0,0,0,0,0,0,0,0,0,0,20]
[7,1,3,1,null,null,null,"Tilskudd til husdyr",null,null,0,0,0,1,8,7131,0,0,0,0,0,0,0,0,0,0,0,0,20,3450]
[7,1,3,2,null,null,null,"Tilskudd til dyr på beite",null,null,0,0,0,1,8,7132,0,0,0,0,0,0,0,0,0,0,0,0,20,3457]
[7,1,3,3,null,null,null,"Tilskudd til dyr på utmarksbeite",null,null,{"$f":"IF(E366<>\"\",1,0)","v":0},{"$f":"IF(F366<>\"\",1,0)+K366","v":0},0,1,8,7133,0,0,0,0,0,0,0,0,0,0,0,0,20,3457]
[7,1,3,4,null,null,null,"Tilskudd til økologisk husdyrproduksjon",null,null,{"$f":"IF(E367<>\"\",1,0)","v":0},0,0,1,{"$f":"A367+1","v":8},7134,0,0,0,0,0,0,0,0,0,0,0,0,20,3450]
[7,1,3,5,null,null,null,"Tilskudd til bevaringsverdige husdyrraser",null,null,{"$f":"IF(E368<>\"\",1,0)","v":0},{"$f":"IF(F368<>\"\",1,0)+K368","v":0},{"$f":"IF(G368<>\"\",1,0)+L368","v":0},{"$f":"IF(H368<>\"\",1,0)+M368","v":1},{"$f":"A368+1","v":8},{"$f":"VALUE(A368&B368&C368&D368)","v":7135},{"$f":"IF(GRLProdukt=1,AC368,IF(GRLProdukt=2,AO368,IF(GRLProdukt=3,BA368,IF(GRLProdukt=4,BM368,0))))","v":0},{"$f":"IF(GRLProdukt=1,AD368,IF(GRLProdukt=2,AP368,IF(GRLProdukt=3,BB368,IF(GRLProdukt=4,BN368,0))))","v":0},{"$f":"IF(GRLProdukt=1,AE368,IF(GRLProdukt=2,AQ368,IF(GRLProdukt=3,BC368,IF(GRLProdukt=4,BO368,0))))","v":0},{"$f":"IF(GRLProdukt=1,AF368,IF(GRLProdukt=2,AR368,IF(GRLProdukt=3,BD368,IF(GRLProdukt=4,BP368,0))))","v":0},{"$f":"IF(GRLProdukt=1,AG368,IF(GRLProdukt=2,AS368,IF(GRLProdukt=3,BE368,IF(GRLProdukt=4,BQ368,0))))","v":0},{"$f":"IF(GRLProdukt=1,AH368,IF(GRLProdukt=2,AT368,IF(GRLProdukt=3,BF368,IF(GRLProdukt=4,BR368,0))))","v":0},{"$f":"IF(GRLProdukt=1,AI368,IF(GRLProdukt=2,AU368,IF(GRLProdukt=3,BG368,IF(GRLProdukt=4,BS368,0))))","v":0},{"$f":"IF(GRLProdukt=1,AJ368,IF(GRLProdukt=2,AV368,IF(GRLProdukt=3,BH368,IF(GRLProdukt=4,BT368,0))))","v":0},{"$f":"IF(GRLProdukt=1,AK368,IF(GRLProdukt=2,AW368,IF(GRLProdukt=3,BI368,IF(GRLProdukt=4,BU368,0))))","v":0},{"$f":"IF(GRLProdukt=1,AL368,IF(GRLProdukt=2,AX368,IF(GRLProdukt=3,BJ368,IF(GRLProdukt=4,BV368,0))))","v":0},{"$f":"IF(GRLProdukt=1,AM368,IF(GRLProdukt=2,AY368,IF(GRLProdukt=3,BK368,IF(GRLProdukt=4,BW368,0))))","v":0},{"$f":"IF(GRLProdukt=1,AN368,IF(GRLProdukt=2,AZ368,IF(GRLProdukt=3,BL368,IF(GRLProdukt=4,BX368,0))))","v":0},20,3450]
[7,1,3,6,null,null,null,"Tilskudd til små og mellomstore melkebruk",null,null,{"$f":"IF(E369<>\"\",1,0)","v":0},{"$f":"IF(F369<>\"\",1,0)+K369","v":0},{"$f":"IF(G369<>\"\",1,0)+L369","v":0},{"$f":"IF(H369<>\"\",1,0)+M369","v":1},{"$f":"A369+1","v":8},{"$f":"VALUE(A369&B369&C369&D369)","v":7136},{"$f":"IF(GRLProdukt=1,AC369,IF(GRLProdukt=2,AO369,IF(GRLProdukt=3,BA369,IF(GRLProdukt=4,BM369,0))))","v":0},{"$f":"IF(GRLProdukt=1,AD369,IF(GRLProdukt=2,AP369,IF(GRLProdukt=3,BB369,IF(GRLProdukt=4,BN369,0))))","v":0},{"$f":"IF(GRLProdukt=1,AE369,IF(GRLProdukt=2,AQ369,IF(GRLProdukt=3,BC369,IF(GRLProdukt=4,BO369,0))))","v":0},{"$f":"IF(GRLProdukt=1,AF369,IF(GRLProdukt=2,AR369,IF(GRLProdukt=3,BD369,IF(GRLProdukt=4,BP369,0))))","v":0},{"$f":"IF(GRLProdukt=1,AG369,IF(GRLProdukt=2,AS369,IF(GRLProdukt=3,BE369,IF(GRLProdukt=4,BQ369,0))))","v":0},{"$f":"IF(GRLProdukt=1,AH369,IF(GRLProdukt=2,AT369,IF(GRLProdukt=3,BF369,IF(GRLProdukt=4,BR369,0))))","v":0},{"$f":"IF(GRLProdukt=1,AI369,IF(GRLProdukt=2,AU369,IF(GRLProdukt=3,BG369,IF(GRLProdukt=4,BS369,0))))","v":0},{"$f":"IF(GRLProdukt=1,AJ369,IF(GRLProdukt=2,AV369,IF(GRLProdukt=3,BH369,IF(GRLProdukt=4,BT369,0))))","v":0},{"$f":"IF(GRLProdukt=1,AK369,IF(GRLProdukt=2,AW369,IF(GRLProdukt=3,BI369,IF(GRLProdukt=4,BU369,0))))","v":0},{"$f":"IF(GRLProdukt=1,AL369,IF(GRLProdukt=2,AX369,IF(GRLProdukt=3,BJ369,IF(GRLProdukt=4,BV369,0))))","v":0},{"$f":"IF(GRLProdukt=1,AM369,IF(GRLProdukt=2,AY369,IF(GRLProdukt=3,BK369,IF(GRLProdukt=4,BW369,0))))","v":0},{"$f":"IF(GRLProdukt=1,AN369,IF(GRLProdukt=2,AZ369,IF(GRLProdukt=3,BL369,IF(GRLProdukt=4,BX369,0))))","v":0},20,3450]
[7,1,4,1,null,null,null,"Driftstilskudd til melkeproduksjon",null,null,{"$f":"IF(E370<>\"\",1,0)","v":0},{"$f":"IF(F370<>\"\",1,0)+K370","v":0},{"$f":"IF(G370<>\"\",1,0)+L370","v":0},{"$f":"IF(H370<>\"\",1,0)+M370","v":1},8,7141,0,0,0,0,0,0,0,0,0,0,0,0,20,3455]
[7,1,4,2,null,null,null,"Driftstilskudd til spesialisert kjøttfeproduksjon",null,null,0,0,0,1,8,7142,0,0,0,0,0,0,0,0,0,0,0,0,20,3456]
[7,1,5,0,null,null,"Tilskudd til ull og skinn",null,null,"Ikke i bruk her, utbetales av slakteri",0,0,1,1,8,7150,0,0,0,0,0,0,0,0,0,0,0,0,20]
[7,1,5,1,null,null,null,"Tilskudd til ull",null,null,0,0,0,1,8,7151,0,0,0,0,0,0,0,0,0,0,0,0,20]
[7,1,5,2,null,null,null,"Tilskudd til ulne skinn og pelsskinn",null,null,0,0,0,1,8,7152,0,0,0,0,0,0,0,0,0,0,0,0,20]
[7,1,6,0,null,null,"Solgt grovfôr",null,null,null,0,0,1,1,8,7160,0,0,0,0,0,0,0,0,0,0,0,0,20]
[7,1,6,1,null,null,null,"Salg av grovfôr",null,null,{"$f":"IF(E376<>\"\",1,0)","v":0},{"$f":"IF(F376<>\"\",1,0)+K376","v":0},{"$f":"IF(G376<>\"\",1,0)+L376","v":0},{"$f":"IF(H376<>\"\",1,0)+M376","v":1},8,7161,0,0,0,0,0,0,0,0,0,0,0,0,20,3430]
[7,1,7,0,null,null,"Frukt, bær, grønt og potet",null,null,null,0,0,1,1,8,7170,0,0,0,0,0,0,0,0,0,0,0,0,20]
[7,1,7,1,null,null,null,"Distriktstilskudd til frukt, bær og veksthusgrønnsaker",null,null,0,0,0,1,8,7171,0,0,0,0,0,0,0,0,0,0,0,0,20,3420]
[7,1,7,2,null,null,null,"Matpotet og grønnsaker, Nord-Norge",null,null,{"$f":"IF(E379<>\"\",1,0)","v":0},{"$f":"IF(F379<>\"\",1,0)+K379","v":0},{"$f":"IF(G379<>\"\",1,0)+L379","v":0},{"$f":"IF(H379<>\"\",1,0)+M379","v":1},8,7172,0,0,0,0,0,0,0,0,0,0,0,0,20,3420]
[7,1,9,0,null,null,"Andre tilskudd/trekk i jordbruket",null,null,null,{"$f":"IF(E380<>\"\",1,0)","v":0},{"$f":"IF(F380<>\"\",1,0)+K380","v":0},{"$f":"IF(G380<>\"\",1,0)+L380","v":1},{"$f":"IF(H380<>\"\",1,0)+M380","v":1},{"$f":"A380+1","v":8},{"$f":"VALUE(A380&B380&C380&D380)","v":7190},{"$f":"IF(GRLProdukt=1,AC380,IF(GRLProdukt=2,AO380,IF(GRLProdukt=3,BA380,IF(GRLProdukt=4,BM380,0))))","v":0},{"$f":"IF(GRLProdukt=1,AD380,IF(GRLProdukt=2,AP380,IF(GRLProdukt=3,BB380,IF(GRLProdukt=4,BN380,0))))","v":0},{"$f":"IF(GRLProdukt=1,AE380,IF(GRLProdukt=2,AQ380,IF(GRLProdukt=3,BC380,IF(GRLProdukt=4,BO380,0))))","v":0},{"$f":"IF(GRLProdukt=1,AF380,IF(GRLProdukt=2,AR380,IF(GRLProdukt=3,BD380,IF(GRLProdukt=4,BP380,0))))","v":0},{"$f":"IF(GRLProdukt=1,AG380,IF(GRLProdukt=2,AS380,IF(GRLProdukt=3,BE380,IF(GRLProdukt=4,BQ380,0))))","v":0},{"$f":"IF(GRLProdukt=1,AH380,IF(GRLProdukt=2,AT380,IF(GRLProdukt=3,BF380,IF(GRLProdukt=4,BR380,0))))","v":0},{"$f":"IF(GRLProdukt=1,AI380,IF(GRLProdukt=2,AU380,IF(GRLProdukt=3,BG380,IF(GRLProdukt=4,BS380,0))))","v":0},{"$f":"IF(GRLProdukt=1,AJ380,IF(GRLProdukt=2,AV380,IF(GRLProdukt=3,BH380,IF(GRLProdukt=4,BT380,0))))","v":0},{"$f":"IF(GRLProdukt=1,AK380,IF(GRLProdukt=2,AW380,IF(GRLProdukt=3,BI380,IF(GRLProdukt=4,BU380,0))))","v":0},{"$f":"IF(GRLProdukt=1,AL380,IF(GRLProdukt=2,AX380,IF(GRLProdukt=3,BJ380,IF(GRLProdukt=4,BV380,0))))","v":0},{"$f":"IF(GRLProdukt=1,AM380,IF(GRLProdukt=2,AY380,IF(GRLProdukt=3,BK380,IF(GRLProdukt=4,BW380,0))))","v":0},{"$f":"IF(GRLProdukt=1,AN380,IF(GRLProdukt=2,AZ380,IF(GRLProdukt=3,BL380,IF(GRLProdukt=4,BX380,0))))","v":0},20]
[7,1,9,5,null,null,null,"Bunnfradrag",null,null,0,0,0,1,8,7195,0,0,{"$f":"IF(GRLProdukt=1,AE381,IF(GRLProdukt=2,AQ381,IF(GRLProdukt=3,BC381,IF(GRLProdukt=4,BO381,0))))","v":0},{"$f":"IF(GRLProdukt=1,AF381,IF(GRLProdukt=2,AR381,IF(GRLProdukt=3,BD381,IF(GRLProdukt=4,BP381,0))))","v":0},{"$f":"IF(GRLProdukt=1,AG381,IF(GRLProdukt=2,AS381,IF(GRLProdukt=3,BE381,IF(GRLProdukt=4,BQ381,0))))","v":0},{"$f":"IF(GRLProdukt=1,AH381,IF(GRLProdukt=2,AT381,IF(GRLProdukt=3,BF381,IF(GRLProdukt=4,BR381,0))))","v":0},{"$f":"IF(GRLProdukt=1,AI381,IF(GRLProdukt=2,AU381,IF(GRLProdukt=3,BG381,IF(GRLProdukt=4,BS381,0))))","v":0},{"$f":"IF(GRLProdukt=1,AJ381,IF(GRLProdukt=2,AV381,IF(GRLProdukt=3,BH381,IF(GRLProdukt=4,BT381,0))))","v":0},{"$f":"IF(GRLProdukt=1,AK381,IF(GRLProdukt=2,AW381,IF(GRLProdukt=3,BI381,IF(GRLProdukt=4,BU381,0))))","v":0},{"$f":"IF(GRLProdukt=1,AL381,IF(GRLProdukt=2,AX381,IF(GRLProdukt=3,BJ381,IF(GRLProdukt=4,BV381,0))))","v":0},{"$f":"IF(GRLProdukt=1,AM381,IF(GRLProdukt=2,AY381,IF(GRLProdukt=3,BK381,IF(GRLProdukt=4,BW381,0))))","v":0},0,20,3499]
[7,1,9,6,null,null,null,"Avkorting",null,null,0,0,0,1,8,7196,0,0,0,0,0,0,0,0,0,0,0,0,20,3499]
[7,1,9,7,null,null,null,"Uspesifiserte trekk",null,null,0,0,0,1,8,7197,0,0,0,0,0,0,0,0,0,0,0,0,10,2690]
[7,2,0,0,null,"Tilskudd velferdsordninger",null,null,null,null,0,1,1,1,8,7200,0,0,0,0,0,0,0,0,0,0,0,0,20]
[7,2,1,0,null,null,"Avløsning",null,null,null,0,0,1,1,8,7210,0,0,0,0,0,0,0,0,0,0,0,0,20]
[7,2,1,1,null,null,null,"Tilskudd til avløsning ved ferie og fritid",null,null,0,0,0,1,8,7211,0,0,0,0,0,0,0,0,0,0,0,0,20,3441]
[7,2,1,2,null,null,null,"Avløsning ved sykdom",null,null,0,0,0,1,8,7212,0,0,0,0,0,0,0,0,0,0,0,0,20,3442]
[7,3,0,0,null,"Miljøtilskudd",null,null,null,null,0,1,1,1,8,7300,0,0,0,0,0,0,0,0,0,0,0,0,20]
[7,3,1,0,null,null,"RMP-tilskudd",null,null,null,0,0,1,1,8,7310,0,0,0,0,0,0,0,0,0,0,0,0,20]
[7,3,2,0,null,null,"Spesielle miljøtiltak",null,null,null,0,0,1,1,8,7320,0,0,0,0,0,0,0,0,0,0,0,0,20]
[7,3,3,0,null,null,"Organisert beitebruk",null,null,null,0,0,1,1,8,7330,0,0,0,0,0,0,0,0,0,0,0,0,20]
[7,4,0,0,null,"Tilskudd i skogbruk",null,null,null,null,{"$f":"IF(E392<>\"\",1,0)","v":0},{"$f":"IF(F392<>\"\",1,0)+K392","v":1},{"$f":"IF(G392<>\"\",1,0)+L392","v":1},{"$f":"IF(H392<>\"\",1,0)+M392","v":1},8,7400,0,0,0,0,0,0,0,0,0,0,0,0,30]
[7,4,1,0,null,null,"Tilskudd til tømmerkaier",null,null,null,0,0,1,1,8,7410,0,0,0,0,0,0,0,0,0,0,0,0,30]
[7,4,2,0,null,null,"Nærings- og miljøtiltak i skogbruket",null,null,null,0,0,1,1,8,7420,0,0,0,0,0,0,0,0,0,0,0,0,30]
[7,4,2,1,null,null,null,"Tilskudd til skogkultur",null,null,0,0,0,1,8,7421,0,0,0,0,0,0,0,0,0,0,0,0,30]
[7,4,2,2,null,null,null,"Tilskudd til miljøtiltak i skogbruket",null,null,0,0,0,1,8,7422,0,0,0,0,0,0,0,0,0,0,0,0,30]
[7,4,2,3,null,null,null,"Tilskudd til veier i skogbruket",null,null,0,0,0,1,8,7423,0,0,0,0,0,0,0,0,0,0,0,0,30]
[7,4,2,4,null,null,null,"Tilskudd til tynning i skogbruket",null,null,0,0,0,1,8,7424,0,0,0,0,0,0,0,0,0,0,0,0,30]
[7,4,2,5,null,null,null,"Driftstilskudd - drift i vanskelig terreng",null,null,0,0,0,1,8,7425,0,0,0,0,0,0,0,0,0,0,0,0,30]
[7,4,2,6,null,null,null,"Tilskudd til økt aktivitet",null,null,0,0,0,1,8,7426,0,0,0,0,0,0,0,0,0,0,0,0,30]
[7,4,3,0,null,null,"Tilskudd til skogbruksplanlegging m/miljøregistrering",null,null,null,0,0,1,1,8,7430,0,0,0,0,0,0,0,0,0,0,0,0,30]
[7,4,9,0,null,null,"Andre tilskudd i skogbruket",null,null,null,0,0,1,1,8,7490,0,0,0,0,0,0,0,0,0,0,0,0,30]
[7,9,0,0,null,"Finans",null,null,null,null,{"$f":"IF(E403<>\"\",1,0)","v":0},{"$f":"IF(F403<>\"\",1,0)+K403","v":1},{"$f":"IF(G403<>\"\",1,0)+L403","v":1},{"$f":"IF(H403<>\"\",1,0)+M403","v":1},{"$f":"A403+1","v":8},{"$f":"VALUE(A403&B403&C403&D403)","v":7900},{"$f":"IF(GRLProdukt=1,AC403,IF(GRLProdukt=2,AO403,IF(GRLProdukt=3,BA403,IF(GRLProdukt=4,BM403,0))))","v":0},{"$f":"IF(GRLProdukt=1,AD403,IF(GRLProdukt=2,AP403,IF(GRLProdukt=3,BB403,IF(GRLProdukt=4,BN403,0))))","v":0},{"$f":"IF(GRLProdukt=1,AE403,IF(GRLProdukt=2,AQ403,IF(GRLProdukt=3,BC403,IF(GRLProdukt=4,BO403,0))))","v":0},{"$f":"IF(GRLProdukt=1,AF403,IF(GRLProdukt=2,AR403,IF(GRLProdukt=3,BD403,IF(GRLProdukt=4,BP403,0))))","v":0},{"$f":"IF(GRLProdukt=1,AG403,IF(GRLProdukt=2,AS403,IF(GRLProdukt=3,BE403,IF(GRLProdukt=4,BQ403,0))))","v":0},{"$f":"IF(GRLProdukt=1,AH403,IF(GRLProdukt=2,AT403,IF(GRLProdukt=3,BF403,IF(GRLProdukt=4,BR403,0))))","v":0},{"$f":"IF(GRLProdukt=1,AI403,IF(GRLProdukt=2,AU403,IF(GRLProdukt=3,BG403,IF(GRLProdukt=4,BS403,0))))","v":0},{"$f":"IF(GRLProdukt=1,AJ403,IF(GRLProdukt=2,AV403,IF(GRLProdukt=3,BH403,IF(GRLProdukt=4,BT403,0))))","v":0},{"$f":"IF(GRLProdukt=1,AK403,IF(GRLProdukt=2,AW403,IF(GRLProdukt=3,BI403,IF(GRLProdukt=4,BU403,0))))","v":0},{"$f":"IF(GRLProdukt=1,AL403,IF(GRLProdukt=2,AX403,IF(GRLProdukt=3,BJ403,IF(GRLProdukt=4,BV403,0))))","v":0},{"$f":"IF(GRLProdukt=1,AM403,IF(GRLProdukt=2,AY403,IF(GRLProdukt=3,BK403,IF(GRLProdukt=4,BW403,0))))","v":0},{"$f":"IF(GRLProdukt=1,AN403,IF(GRLProdukt=2,AZ403,IF(GRLProdukt=3,BL403,IF(GRLProdukt=4,BX403,0))))","v":0}]
[7,9,1,0,null,null,"Finansiering, renter mv.",null,null,null,{"$f":"IF(E404<>\"\",1,0)","v":0},{"$f":"IF(F404<>\"\",1,0)+K404","v":0},{"$f":"IF(G404<>\"\",1,0)+L404","v":1},{"$f":"IF(H404<>\"\",1,0)+M404","v":1},{"$f":"A404+1","v":8},{"$f":"VALUE(A404&B404&C404&D404)","v":7910},{"$f":"IF(GRLProdukt=1,AC404,IF(GRLProdukt=2,AO404,IF(GRLProdukt=3,BA404,IF(GRLProdukt=4,BM404,0))))","v":0},{"$f":"IF(GRLProdukt=1,AD404,IF(GRLProdukt=2,AP404,IF(GRLProdukt=3,BB404,IF(GRLProdukt=4,BN404,0))))","v":0},{"$f":"IF(GRLProdukt=1,AE404,IF(GRLProdukt=2,AQ404,IF(GRLProdukt=3,BC404,IF(GRLProdukt=4,BO404,0))))","v":0},{"$f":"IF(GRLProdukt=1,AF404,IF(GRLProdukt=2,AR404,IF(GRLProdukt=3,BD404,IF(GRLProdukt=4,BP404,0))))","v":0},{"$f":"IF(GRLProdukt=1,AG404,IF(GRLProdukt=2,AS404,IF(GRLProdukt=3,BE404,IF(GRLProdukt=4,BQ404,0))))","v":0},{"$f":"IF(GRLProdukt=1,AH404,IF(GRLProdukt=2,AT404,IF(GRLProdukt=3,BF404,IF(GRLProdukt=4,BR404,0))))","v":0},{"$f":"IF(GRLProdukt=1,AI404,IF(GRLProdukt=2,AU404,IF(GRLProdukt=3,BG404,IF(GRLProdukt=4,BS404,0))))","v":0},{"$f":"IF(GRLProdukt=1,AJ404,IF(GRLProdukt=2,AV404,IF(GRLProdukt=3,BH404,IF(GRLProdukt=4,BT404,0))))","v":0},{"$f":"IF(GRLProdukt=1,AK404,IF(GRLProdukt=2,AW404,IF(GRLProdukt=3,BI404,IF(GRLProdukt=4,BU404,0))))","v":0},{"$f":"IF(GRLProdukt=1,AL404,IF(GRLProdukt=2,AX404,IF(GRLProdukt=3,BJ404,IF(GRLProdukt=4,BV404,0))))","v":0},{"$f":"IF(GRLProdukt=1,AM404,IF(GRLProdukt=2,AY404,IF(GRLProdukt=3,BK404,IF(GRLProdukt=4,BW404,0))))","v":0},{"$f":"IF(GRLProdukt=1,AN404,IF(GRLProdukt=2,AZ404,IF(GRLProdukt=3,BL404,IF(GRLProdukt=4,BX404,0))))","v":0},10]
[8,0,0,0,"Varer og tjenester knyttet til produksjonene",null,null,null,null,null,{"$f":"IF(E405<>\"\",1,0)","v":1},{"$f":"IF(F405<>\"\",1,0)+K405","v":1},1,1,9,8000]
[8,1,0,0,null,"Innsatsvarer i planteproduksjon",null,null,null,"Gjelder også skogbruket",0,1,1,1,9,8100,{"$f":"IF(GRLProdukt=1,AC406,IF(GRLProdukt=2,AO406,IF(GRLProdukt=3,BA406,IF(GRLProdukt=4,BM406,0))))","v":0},{"$f":"IF(GRLProdukt=1,AD406,IF(GRLProdukt=2,AP406,IF(GRLProdukt=3,BB406,IF(GRLProdukt=4,BN406,0))))","v":0},0,{"$f":"IF(GRLProdukt=1,AF406,IF(GRLProdukt=2,AR406,IF(GRLProdukt=3,BD406,IF(GRLProdukt=4,BP406,0))))","v":0},{"$f":"IF(GRLProdukt=1,AG406,IF(GRLProdukt=2,AS406,IF(GRLProdukt=3,BE406,IF(GRLProdukt=4,BQ406,0))))","v":0},{"$f":"IF(GRLProdukt=1,AH406,IF(GRLProdukt=2,AT406,IF(GRLProdukt=3,BF406,IF(GRLProdukt=4,BR406,0))))","v":0},{"$f":"IF(GRLProdukt=1,AI406,IF(GRLProdukt=2,AU406,IF(GRLProdukt=3,BG406,IF(GRLProdukt=4,BS406,0))))","v":0},{"$f":"IF(GRLProdukt=1,AJ406,IF(GRLProdukt=2,AV406,IF(GRLProdukt=3,BH406,IF(GRLProdukt=4,BT406,0))))","v":0},{"$f":"IF(GRLProdukt=1,AK406,IF(GRLProdukt=2,AW406,IF(GRLProdukt=3,BI406,IF(GRLProdukt=4,BU406,0))))","v":0},{"$f":"IF(GRLProdukt=1,AL406,IF(GRLProdukt=2,AX406,IF(GRLProdukt=3,BJ406,IF(GRLProdukt=4,BV406,0))))","v":0},{"$f":"IF(GRLProdukt=1,AM406,IF(GRLProdukt=2,AY406,IF(GRLProdukt=3,BK406,IF(GRLProdukt=4,BW406,0))))","v":0},{"$f":"IF(GRLProdukt=1,AN406,IF(GRLProdukt=2,AZ406,IF(GRLProdukt=3,BL406,IF(GRLProdukt=4,BX406,0))))","v":0}]
[8,1,1,0,null,null,"Handelsgjødsel og kalk",null,null,null,0,{"$f":"IF(F407<>\"\",1,0)+K407","v":0},1,1,9,8110,0,0,0,0,0,0,0,0,0,0,0,0,20,null,null,null,null,4450]
[8,1,1,1,null,null,null,"NPK-gjødsel",null,"Fullgjødsel og helgjødsel",0,0,0,1,9,8111,0,0,0,0,0,0,0,0,0,0,0,0,20,null,null,null,null,4451]
[8,1,1,2,null,null,null,"P og PK gjødsel",null,null,0,0,0,1,9,8112,0,0,0,0,0,0,0,0,0,0,0,0,20,null,null,null,null,4451]
[8,1,1,3,null,null,null,"K-gjødsel",null,null,0,0,0,1,9,8113,0,0,0,0,0,0,0,0,0,0,0,0,20,null,null,null,null,4451]
[8,1,1,4,null,null,null,"N-gjødsel",null,null,0,0,0,1,9,8114,0,0,0,0,0,0,0,0,0,0,0,0,20,null,null,null,null,4451]
[8,1,1,5,null,null,null,"NK-gjødsel",null,null,0,0,0,1,9,8115,0,0,0,0,0,0,0,0,0,0,0,0,20,null,null,null,null,4451]
[8,1,1,6,null,null,null,"NP-gjødsel",null,null,0,0,0,1,9,8116,0,0,0,{"$f":"IF(GRLProdukt=1,AF413,IF(GRLProdukt=2,AR413,IF(GRLProdukt=3,BD413,IF(GRLProdukt=4,BP413,0))))","v":0},0,0,0,0,0,0,0,0,20,null,null,null,null,4451]
[8,1,1,7,null,null,null,"Kalk",null,null,0,0,0,1,9,8117,0,0,0,0,0,0,0,0,0,0,0,0,20,null,null,null,null,4457]
[8,1,1,8,null,null,null,"Bladgjødsel og diverse handelsgjødsel",null,"Annen mineralgjødsel og flytende gjødsel",0,0,0,1,9,8118,0,0,0,0,0,0,0,0,0,0,0,0,20,null,null,null,null,4451]
[8,1,1,9,null,null,null,"Husdyrgjødsel/Organisk gjødsel",null,"Husdyrgjødsel og annen anriket organisk gjødsel",0,0,0,1,9,8119,0,0,0,0,0,0,0,0,0,0,0,0,20,null,null,null,null,4451]
[8,1,2,0,null,null,"Plantevern, vekstregulering mv.",null,null,null,0,{"$f":"IF(F417<>\"\",1,0)+K417","v":0},{"$f":"IF(G417<>\"\",1,0)+L417","v":1},{"$f":"IF(H417<>\"\",1,0)+M417","v":1},9,8120,0,0,0,0,0,0,0,0,0,0,0,0,20,null,null,null,null,4410]
[8,1,2,1,null,null,null,"Skadedyr",null,"Gjøres om?",0,0,0,1,9,{"$f":"VALUE(A418&B418&C418&D418)","v":8121},0,0,0,0,0,0,0,0,0,0,0,0,20,null,null,null,null,4410]
[8,1,2,2,null,null,null,"Ugrasmidler",null,null,0,0,0,1,9,8122,0,0,0,0,0,0,0,0,0,0,0,0,20,null,null,null,null,4410]
[8,1,2,3,null,null,null,"Mose",null,null,0,0,0,1,9,8123,0,0,0,0,0,0,0,0,0,0,0,0,20,null,null,null,null,4410]
[8,1,2,4,null,null,null,"Sopp",null,null,0,0,0,1,9,8124,0,0,0,0,0,0,0,0,0,0,0,0,20,null,null,null,null,4410]
[8,1,2,5,null,null,null,"Insektmidler",null,null,0,0,0,1,9,8125,0,0,0,0,0,0,0,0,0,0,0,0,20,null,null,null,null,4410]
[8,1,2,6,null,null,null,"Vekstregulering",null,null,0,0,0,1,9,8126,0,0,0,0,0,0,0,0,0,0,0,0,20,null,null,null,null,4410]
[8,1,2,9,null,null,null,"Plantevern annet",null,"Desinfeksjon",0,0,0,1,9,8129,0,0,0,0,0,0,0,0,0,0,0,0,20,null,null,null,null,4410]
[8,1,3,0,null,null,"Konserveringsmidler",null,null,null,0,0,1,1,9,8130,0,0,0,0,0,0,0,0,0,0,0,0,20,null,null,null,null,4480]
[8,1,3,1,null,null,null,"Ensileringsmiddel",null,"Konserv.væsker og kanner",0,0,0,1,9,8131,0,0,0,0,0,0,0,0,0,0,0,0,20,null,null,null,null,4480]
[8,1,3,2,null,null,null,"Ammoniakk",null,"NH3",0,0,0,1,9,8132,0,0,0,0,0,0,0,0,0,0,0,0,20,null,null,null,null,4480]
[8,1,3,9,null,null,null,"Konserveringsmidler annet",null,null,0,0,0,1,9,8139,0,0,0,0,0,0,0,0,0,0,0,0,20,null,null,null,null,4480]
[8,1,4,0,null,null,"Planter og såfrø",null,null,"Disse kodene kan kobles til hvilken som helst detaljkode",0,0,1,1,9,8140,0,0,0,0,0,0,0,0,0,0,0,0,20,null,null,null,null,4001]
[8,1,4,1,null,null,null,"Såkorn",null,"Kobles til aktuell detaljkode + løpenummer",0,0,0,1,9,8141,0,0,0,0,0,0,0,0,0,0,0,0,20,null,null,null,null,4001]
[8,1,4,2,null,null,null,"Såfrø og bakteriekulturer",null,"Kobles til aktuelle detaljkoder + løpenummer",0,0,0,1,9,8142,0,0,0,0,0,0,0,0,0,0,0,0,20,null,null,null,null,4001]
[8,1,4,3,null,null,null,"Frøblandinger og importfrø",null,"Kobles til detalj 8143 + løpenummer",{"$f":"IF(E432<>\"\",1,0)","v":0},0,0,1,9,8143,0,0,0,0,0,0,0,0,0,0,0,0,20,null,null,null,null,4001]
[8,1,4,4,null,null,null,"Settepotet, knoller og løk",null,"Kobles til aktuell detaljkode + løpenummer",0,0,0,1,9,8144,0,0,0,0,0,0,0,0,0,0,0,0,20,null,null,null,null,4010]
[8,1,4,5,null,null,null,"Setteplanter i grøntproduksjonen",null,"Kobles til aktuell detaljkode + løpenummer",0,0,0,1,9,8145,0,0,0,0,0,0,0,0,0,0,0,0,20,null,null,null,null,4110]
[8,1,4,6,null,null,null,"Planter i fruktproduksjon",null,"Kobles til aktuell detaljkode + løpenummer",0,0,0,1,9,8146,0,0,0,0,0,0,0,0,0,0,0,0,20,null,null,null,null,4150]
[8,1,4,7,null,null,null,"Planter i bærproduksjon",null,"Kobles til aktuell detaljkode + løpenummer",0,0,0,1,9,8147,0,0,0,0,0,0,0,0,0,0,0,0,20,null,null,null,null,4150]
[8,1,4,8,null,null,null,"Skogplanter",null,"Kobles til aktuell detaljkode + løpenummer",0,0,0,1,{"$f":"A437+1","v":9},8148,0,0,0,0,0,0,0,0,0,0,0,0,30,null,null,null,null,4010]
[8,1,4,9,null,null,null,"Andre planter og frø",null,"Kobles til detaljkode. Konteres ikke",{"$f":"IF(E438<>\"\",1,0)","v":0},0,0,1,9,8149,{"$f":"IF(GRLProdukt=1,AC438,IF(GRLProdukt=2,AO438,IF(GRLProdukt=3,BA438,IF(GRLProdukt=4,BM438,0))))","v":0},{"$f":"IF(GRLProdukt=1,AD438,IF(GRLProdukt=2,AP438,IF(GRLProdukt=3,BB438,IF(GRLProdukt=4,BN438,0))))","v":0},0,{"$f":"IF(GRLProdukt=1,AF438,IF(GRLProdukt=2,AR438,IF(GRLProdukt=3,BD438,IF(GRLProdukt=4,BP438,0))))","v":0},{"$f":"IF(GRLProdukt=1,AG438,IF(GRLProdukt=2,AS438,IF(GRLProdukt=3,BE438,IF(GRLProdukt=4,BQ438,0))))","v":0},{"$f":"IF(GRLProdukt=1,AH438,IF(GRLProdukt=2,AT438,IF(GRLProdukt=3,BF438,IF(GRLProdukt=4,BR438,0))))","v":0},{"$f":"IF(GRLProdukt=1,AI438,IF(GRLProdukt=2,AU438,IF(GRLProdukt=3,BG438,IF(GRLProdukt=4,BS438,0))))","v":0},{"$f":"IF(GRLProdukt=1,AJ438,IF(GRLProdukt=2,AV438,IF(GRLProdukt=3,BH438,IF(GRLProdukt=4,BT438,0))))","v":0},{"$f":"IF(GRLProdukt=1,AK438,IF(GRLProdukt=2,AW438,IF(GRLProdukt=3,BI438,IF(GRLProdukt=4,BU438,0))))","v":0},{"$f":"IF(GRLProdukt=1,AL438,IF(GRLProdukt=2,AX438,IF(GRLProdukt=3,BJ438,IF(GRLProdukt=4,BV438,0))))","v":0},{"$f":"IF(GRLProdukt=1,AM438,IF(GRLProdukt=2,AY438,IF(GRLProdukt=3,BK438,IF(GRLProdukt=4,BW438,0))))","v":0},{"$f":"IF(GRLProdukt=1,AN438,IF(GRLProdukt=2,AZ438,IF(GRLProdukt=3,BL438,IF(GRLProdukt=4,BX438,0))))","v":0},20]
[8,1,9,0,null,null,"Andre innsatsvarer i planteproduksjonen",null,null,null,0,0,1,1,9,8190,0,0,0,0,0,0,0,0,0,0,0,0,20]
[8,1,9,1,null,null,null,"Fôrproduksjon",null,null,{"$f":"IF(E440<>\"\",1,0)","v":0},{"$f":"IF(F440<>\"\",1,0)+K440","v":0},{"$f":"IF(G440<>\"\",1,0)+L440","v":0},{"$f":"IF(H440<>\"\",1,0)+M440","v":1},{"$f":"A440+1","v":9},{"$f":"VALUE(A440&B440&C440&D440)","v":8191},{"$f":"IF(GRLProdukt=1,AC440,IF(GRLProdukt=2,AO440,IF(GRLProdukt=3,BA440,IF(GRLProdukt=4,BM440,0))))","v":0},{"$f":"IF(GRLProdukt=1,AD440,IF(GRLProdukt=2,AP440,IF(GRLProdukt=3,BB440,IF(GRLProdukt=4,BN440,0))))","v":0},{"$f":"IF(GRLProdukt=1,AE440,IF(GRLProdukt=2,AQ440,IF(GRLProdukt=3,BC440,IF(GRLProdukt=4,BO440,0))))","v":0},{"$f":"IF(GRLProdukt=1,AF440,IF(GRLProdukt=2,AR440,IF(GRLProdukt=3,BD440,IF(GRLProdukt=4,BP440,0))))","v":0},{"$f":"IF(GRLProdukt=1,AG440,IF(GRLProdukt=2,AS440,IF(GRLProdukt=3,BE440,IF(GRLProdukt=4,BQ440,0))))","v":0},{"$f":"IF(GRLProdukt=1,AH440,IF(GRLProdukt=2,AT440,IF(GRLProdukt=3,BF440,IF(GRLProdukt=4,BR440,0))))","v":0},{"$f":"IF(GRLProdukt=1,AI440,IF(GRLProdukt=2,AU440,IF(GRLProdukt=3,BG440,IF(GRLProdukt=4,BS440,0))))","v":0},{"$f":"IF(GRLProdukt=1,AJ440,IF(GRLProdukt=2,AV440,IF(GRLProdukt=3,BH440,IF(GRLProdukt=4,BT440,0))))","v":0},{"$f":"IF(GRLProdukt=1,AK440,IF(GRLProdukt=2,AW440,IF(GRLProdukt=3,BI440,IF(GRLProdukt=4,BU440,0))))","v":0},{"$f":"IF(GRLProdukt=1,AL440,IF(GRLProdukt=2,AX440,IF(GRLProdukt=3,BJ440,IF(GRLProdukt=4,BV440,0))))","v":0},{"$f":"IF(GRLProdukt=1,AM440,IF(GRLProdukt=2,AY440,IF(GRLProdukt=3,BK440,IF(GRLProdukt=4,BW440,0))))","v":0},{"$f":"IF(GRLProdukt=1,AN440,IF(GRLProdukt=2,AZ440,IF(GRLProdukt=3,BL440,IF(GRLProdukt=4,BX440,0))))","v":0},20,null,null,null,null,4444]
[8,1,9,2,null,null,null,"Forbruksmateriell",null,null,{"$f":"IF(E441<>\"\",1,0)","v":0},{"$f":"IF(F441<>\"\",1,0)+K441","v":0},{"$f":"IF(G441<>\"\",1,0)+L441","v":0},{"$f":"IF(H441<>\"\",1,0)+M441","v":1},{"$f":"A441+1","v":9},{"$f":"VALUE(A441&B441&C441&D441)","v":8192},{"$f":"IF(GRLProdukt=1,AC441,IF(GRLProdukt=2,AO441,IF(GRLProdukt=3,BA441,IF(GRLProdukt=4,BM441,0))))","v":0},{"$f":"IF(GRLProdukt=1,AD441,IF(GRLProdukt=2,AP441,IF(GRLProdukt=3,BB441,IF(GRLProdukt=4,BN441,0))))","v":0},{"$f":"IF(GRLProdukt=1,AE441,IF(GRLProdukt=2,AQ441,IF(GRLProdukt=3,BC441,IF(GRLProdukt=4,BO441,0))))","v":0},{"$f":"IF(GRLProdukt=1,AF441,IF(GRLProdukt=2,AR441,IF(GRLProdukt=3,BD441,IF(GRLProdukt=4,BP441,0))))","v":0},{"$f":"IF(GRLProdukt=1,AG441,IF(GRLProdukt=2,AS441,IF(GRLProdukt=3,BE441,IF(GRLProdukt=4,BQ441,0))))","v":0},{"$f":"IF(GRLProdukt=1,AH441,IF(GRLProdukt=2,AT441,IF(GRLProdukt=3,BF441,IF(GRLProdukt=4,BR441,0))))","v":0},{"$f":"IF(GRLProdukt=1,AI441,IF(GRLProdukt=2,AU441,IF(GRLProdukt=3,BG441,IF(GRLProdukt=4,BS441,0))))","v":0},{"$f":"IF(GRLProdukt=1,AJ441,IF(GRLProdukt=2,AV441,IF(GRLProdukt=3,BH441,IF(GRLProdukt=4,BT441,0))))","v":0},{"$f":"IF(GRLProdukt=1,AK441,IF(GRLProdukt=2,AW441,IF(GRLProdukt=3,BI441,IF(GRLProdukt=4,BU441,0))))","v":0},{"$f":"IF(GRLProdukt=1,AL441,IF(GRLProdukt=2,AX441,IF(GRLProdukt=3,BJ441,IF(GRLProdukt=4,BV441,0))))","v":0},{"$f":"IF(GRLProdukt=1,AM441,IF(GRLProdukt=2,AY441,IF(GRLProdukt=3,BK441,IF(GRLProdukt=4,BW441,0))))","v":0},{"$f":"IF(GRLProdukt=1,AN441,IF(GRLProdukt=2,AZ441,IF(GRLProdukt=3,BL441,IF(GRLProdukt=4,BX441,0))))","v":0},20,null,null,null,null,4431]
[8,1,9,3,null,null,null,"Rekvisita",null,null,{"$f":"IF(E442<>\"\",1,0)","v":0},{"$f":"IF(F442<>\"\",1,0)+K442","v":0},{"$f":"IF(G442<>\"\",1,0)+L442","v":0},{"$f":"IF(H442<>\"\",1,0)+M442","v":1},{"$f":"A442+1","v":9},{"$f":"VALUE(A442&B442&C442&D442)","v":8193},{"$f":"IF(GRLProdukt=1,AC442,IF(GRLProdukt=2,AO442,IF(GRLProdukt=3,BA442,IF(GRLProdukt=4,BM442,0))))","v":0},{"$f":"IF(GRLProdukt=1,AD442,IF(GRLProdukt=2,AP442,IF(GRLProdukt=3,BB442,IF(GRLProdukt=4,BN442,0))))","v":0},{"$f":"IF(GRLProdukt=1,AE442,IF(GRLProdukt=2,AQ442,IF(GRLProdukt=3,BC442,IF(GRLProdukt=4,BO442,0))))","v":0},{"$f":"IF(GRLProdukt=1,AF442,IF(GRLProdukt=2,AR442,IF(GRLProdukt=3,BD442,IF(GRLProdukt=4,BP442,0))))","v":0},{"$f":"IF(GRLProdukt=1,AG442,IF(GRLProdukt=2,AS442,IF(GRLProdukt=3,BE442,IF(GRLProdukt=4,BQ442,0))))","v":0},{"$f":"IF(GRLProdukt=1,AH442,IF(GRLProdukt=2,AT442,IF(GRLProdukt=3,BF442,IF(GRLProdukt=4,BR442,0))))","v":0},{"$f":"IF(GRLProdukt=1,AI442,IF(GRLProdukt=2,AU442,IF(GRLProdukt=3,BG442,IF(GRLProdukt=4,BS442,0))))","v":0},{"$f":"IF(GRLProdukt=1,AJ442,IF(GRLProdukt=2,AV442,IF(GRLProdukt=3,BH442,IF(GRLProdukt=4,BT442,0))))","v":0},{"$f":"IF(GRLProdukt=1,AK442,IF(GRLProdukt=2,AW442,IF(GRLProdukt=3,BI442,IF(GRLProdukt=4,BU442,0))))","v":0},{"$f":"IF(GRLProdukt=1,AL442,IF(GRLProdukt=2,AX442,IF(GRLProdukt=3,BJ442,IF(GRLProdukt=4,BV442,0))))","v":0},{"$f":"IF(GRLProdukt=1,AM442,IF(GRLProdukt=2,AY442,IF(GRLProdukt=3,BK442,IF(GRLProdukt=4,BW442,0))))","v":0},{"$f":"IF(GRLProdukt=1,AN442,IF(GRLProdukt=2,AZ442,IF(GRLProdukt=3,BL442,IF(GRLProdukt=4,BX442,0))))","v":0},20,null,null,null,null,6560]
[8,2,0,0,null,"Innsatsvarer i husdyrproduksjon",null,null,null,null,0,1,1,1,9,8200,0,0,0,0,0,0,0,0,0,0,0,0,20,null,null,null,null,4020]
[8,2,1,0,null,null,"Kraftfôr",null,null,null,0,0,1,1,9,8210,0,0,0,0,0,0,0,0,0,0,0,0,20,null,null,null,null,4020]
[8,2,1,1,null,null,null,"Kraftfôr til storfe",null,null,0,0,0,1,9,8211,0,0,0,0,0,0,0,0,0,0,0,0,20,null,null,null,null,4020]
[8,2,1,2,null,null,null,"Kraftfôr til sau og lam",null,null,0,0,0,1,9,8212,0,0,0,0,0,0,0,0,0,0,0,0,20,null,null,null,null,4020]
[8,2,1,3,null,null,null,"Kraftfôr til geit",null,null,0,0,0,1,9,8213,0,0,0,0,0,0,0,0,0,0,0,0,20,null,null,null,null,4020]
[8,2,1,4,null,null,null,"Kraftfôr til gris",null,null,0,0,0,1,9,8214,0,0,0,0,0,0,0,0,0,0,0,0,20,null,null,null,null,4020]
[8,2,1,5,null,null,null,"Kraftfôr til fjørfe",null,null,0,0,0,1,9,8215,0,0,0,0,0,0,0,0,0,0,0,0,20,null,null,null,null,4020]
[8,2,1,6,null,null,null,"Kraftfôr til hester",null,null,0,0,0,1,9,8216,0,0,0,0,0,0,0,0,0,0,0,0,20,null,null,null,null,4020]
[8,2,1,8,null,null,null,"Kraftfôr til pelsdyr",null,null,{"$f":"IF(E451<>\"\",1,0)","v":0},{"$f":"IF(F451<>\"\",1,0)+K451","v":0},{"$f":"IF(G451<>\"\",1,0)+L451","v":0},{"$f":"IF(H451<>\"\",1,0)+M451","v":1},{"$f":"A451+1","v":9},{"$f":"VALUE(A451&B451&C451&D451)","v":8218},{"$f":"IF(GRLProdukt=1,AC451,IF(GRLProdukt=2,AO451,IF(GRLProdukt=3,BA451,IF(GRLProdukt=4,BM451,0))))","v":0},{"$f":"IF(GRLProdukt=1,AD451,IF(GRLProdukt=2,AP451,IF(GRLProdukt=3,BB451,IF(GRLProdukt=4,BN451,0))))","v":0},{"$f":"IF(GRLProdukt=1,AE451,IF(GRLProdukt=2,AQ451,IF(GRLProdukt=3,BC451,IF(GRLProdukt=4,BO451,0))))","v":0},{"$f":"IF(GRLProdukt=1,AF451,IF(GRLProdukt=2,AR451,IF(GRLProdukt=3,BD451,IF(GRLProdukt=4,BP451,0))))","v":0},{"$f":"IF(GRLProdukt=1,AG451,IF(GRLProdukt=2,AS451,IF(GRLProdukt=3,BE451,IF(GRLProdukt=4,BQ451,0))))","v":0},{"$f":"IF(GRLProdukt=1,AH451,IF(GRLProdukt=2,AT451,IF(GRLProdukt=3,BF451,IF(GRLProdukt=4,BR451,0))))","v":0},{"$f":"IF(GRLProdukt=1,AI451,IF(GRLProdukt=2,AU451,IF(GRLProdukt=3,BG451,IF(GRLProdukt=4,BS451,0))))","v":0},{"$f":"IF(GRLProdukt=1,AJ451,IF(GRLProdukt=2,AV451,IF(GRLProdukt=3,BH451,IF(GRLProdukt=4,BT451,0))))","v":0},{"$f":"IF(GRLProdukt=1,AK451,IF(GRLProdukt=2,AW451,IF(GRLProdukt=3,BI451,IF(GRLProdukt=4,BU451,0))))","v":0},{"$f":"IF(GRLProdukt=1,AL451,IF(GRLProdukt=2,AX451,IF(GRLProdukt=3,BJ451,IF(GRLProdukt=4,BV451,0))))","v":0},{"$f":"IF(GRLProdukt=1,AM451,IF(GRLProdukt=2,AY451,IF(GRLProdukt=3,BK451,IF(GRLProdukt=4,BW451,0))))","v":0},{"$f":"IF(GRLProdukt=1,AN451,IF(GRLProdukt=2,AZ451,IF(GRLProdukt=3,BL451,IF(GRLProdukt=4,BX451,0))))","v":0},50,null,null,null,null,4020]
[8,2,1,9,null,null,null,"Kraftfôr til andre dyreslag",null,"Ta vekk kontering her?",0,0,0,1,9,8219,0,0,0,0,0,0,0,0,0,0,0,0,20,null,null,null,null,4020]
[8,2,2,0,null,null,"Tilskuddsfôr",null,null,null,{"$f":"IF(E453<>\"\",1,0)","v":0},{"$f":"IF(F453<>\"\",1,0)+K453","v":0},{"$f":"IF(G453<>\"\",1,0)+L453","v":1},{"$f":"IF(H453<>\"\",1,0)+M453","v":1},9,8220,0,0,0,0,0,0,0,0,0,0,0,0,20,null,null,null,null,4040]
[8,2,2,1,null,null,null,"Tilskuddsfôr til storfe",null,null,0,0,0,1,9,8221,0,0,0,0,0,0,0,0,0,0,0,0,20,null,null,null,null,4040]
[8,2,2,2,null,null,null,"Tilskuddsfôr til sau og lam",null,null,0,0,0,1,9,8222,0,0,0,0,0,0,0,0,0,0,0,0,20,null,null,null,null,4040]
[8,2,2,3,null,null,null,"Tilskuddsfôr til geit",null,null,0,0,0,1,9,8223,0,0,0,0,0,0,0,0,0,0,0,0,20,null,null,null,null,4040]
[8,2,2,4,null,null,null,"Tilskuddsfôr til gris",null,null,0,0,0,1,9,8224,0,0,0,0,0,0,0,0,0,0,0,0,20,null,null,null,null,4040]
[8,2,2,5,null,null,null,"Tilskuddsfôr til fjørfe",null,null,0,0,0,1,9,8225,0,0,0,0,0,0,0,0,0,0,0,0,20,null,null,null,null,4040]
[8,2,2,6,null,null,null,"Tilskuddsfôr til hester",null,null,0,0,0,1,9,8226,0,0,0,0,0,0,0,0,0,0,0,0,20,null,null,null,null,4040]
[8,2,2,9,null,null,null,"Tilskuddsfôr til andre dyreslag",null,"Ta vekk kontering her?",0,0,0,1,9,8229,0,0,0,0,0,0,0,0,0,0,0,0,20,null,null,null,null,4040]
[8,2,3,0,null,null,"Kjøp av stråfôr",null,null,null,0,0,1,1,9,8230,0,0,0,0,0,0,0,0,0,0,0,0,20,null,null,null,null,4030]
[8,2,4,0,null,null,"Medisin",null,null,null,{"$f":"IF(E462<>\"\",1,0)","v":0},{"$f":"IF(F462<>\"\",1,0)+K462","v":0},{"$f":"IF(G462<>\"\",1,0)+L462","v":1},{"$f":"IF(H462<>\"\",1,0)+M462","v":1},9,8240,{"$f":"IF(GRLProdukt=1,AC462,IF(GRLProdukt=2,AO462,IF(GRLProdukt=3,BA462,IF(GRLProdukt=4,BM462,0))))","v":0},{"$f":"IF(GRLProdukt=1,AD462,IF(GRLProdukt=2,AP462,IF(GRLProdukt=3,BB462,IF(GRLProdukt=4,BN462,0))))","v":0},{"$f":"IF(GRLProdukt=1,AE462,IF(GRLProdukt=2,AQ462,IF(GRLProdukt=3,BC462,IF(GRLProdukt=4,BO462,0))))","v":0},{"$f":"IF(GRLProdukt=1,AF462,IF(GRLProdukt=2,AR462,IF(GRLProdukt=3,BD462,IF(GRLProdukt=4,BP462,0))))","v":0},{"$f":"IF(GRLProdukt=1,AG462,IF(GRLProdukt=2,AS462,IF(GRLProdukt=3,BE462,IF(GRLProdukt=4,BQ462,0))))","v":0},{"$f":"IF(GRLProdukt=1,AH462,IF(GRLProdukt=2,AT462,IF(GRLProdukt=3,BF462,IF(GRLProdukt=4,BR462,0))))","v":0},{"$f":"IF(GRLProdukt=1,AI462,IF(GRLProdukt=2,AU462,IF(GRLProdukt=3,BG462,IF(GRLProdukt=4,BS462,0))))","v":0},{"$f":"IF(GRLProdukt=1,AJ462,IF(GRLProdukt=2,AV462,IF(GRLProdukt=3,BH462,IF(GRLProdukt=4,BT462,0))))","v":0},{"$f":"IF(GRLProdukt=1,AK462,IF(GRLProdukt=2,AW462,IF(GRLProdukt=3,BI462,IF(GRLProdukt=4,BU462,0))))","v":0},{"$f":"IF(GRLProdukt=1,AL462,IF(GRLProdukt=2,AX462,IF(GRLProdukt=3,BJ462,IF(GRLProdukt=4,BV462,0))))","v":0},{"$f":"IF(GRLProdukt=1,AM462,IF(GRLProdukt=2,AY462,IF(GRLProdukt=3,BK462,IF(GRLProdukt=4,BW462,0))))","v":0},{"$f":"IF(GRLProdukt=1,AN462,IF(GRLProdukt=2,AZ462,IF(GRLProdukt=3,BL462,IF(GRLProdukt=4,BX462,0))))","v":0},20,null,null,null,null,4420]
[8,2,4,1,null,null,null,"Medisin",null,null,0,0,0,1,9,8241,0,0,0,0,0,0,0,0,0,0,0,0,20,null,null,null,null,4420]
[8,2,9,0,null,null,"Andre innsatsvarer i husdyrproduksjonen (forbruk)",null,null,"Forbruksvarer",{"$f":"IF(E464<>\"\",1,0)","v":0},{"$f":"IF(F464<>\"\",1,0)+K464","v":0},{"$f":"IF(G464<>\"\",1,0)+L464","v":1},{"$f":"IF(H464<>\"\",1,0)+M464","v":1},9,8290,0,0,0,0,0,0,0,0,0,0,0,0]
[8,2,9,1,null,null,null,"Forbruksmateriell",null,null,{"$f":"IF(E465<>\"\",1,0)","v":0},{"$f":"IF(F465<>\"\",1,0)+K465","v":0},{"$f":"IF(G465<>\"\",1,0)+L465","v":0},{"$f":"IF(H465<>\"\",1,0)+M465","v":1},{"$f":"A465+1","v":9},{"$f":"VALUE(A465&B465&C465&D465)","v":8291},{"$f":"IF(GRLProdukt=1,AC465,IF(GRLProdukt=2,AO465,IF(GRLProdukt=3,BA465,IF(GRLProdukt=4,BM465,0))))","v":0},{"$f":"IF(GRLProdukt=1,AD465,IF(GRLProdukt=2,AP465,IF(GRLProdukt=3,BB465,IF(GRLProdukt=4,BN465,0))))","v":0},{"$f":"IF(GRLProdukt=1,AE465,IF(GRLProdukt=2,AQ465,IF(GRLProdukt=3,BC465,IF(GRLProdukt=4,BO465,0))))","v":0},{"$f":"IF(GRLProdukt=1,AF465,IF(GRLProdukt=2,AR465,IF(GRLProdukt=3,BD465,IF(GRLProdukt=4,BP465,0))))","v":0},{"$f":"IF(GRLProdukt=1,AG465,IF(GRLProdukt=2,AS465,IF(GRLProdukt=3,BE465,IF(GRLProdukt=4,BQ465,0))))","v":0},{"$f":"IF(GRLProdukt=1,AH465,IF(GRLProdukt=2,AT465,IF(GRLProdukt=3,BF465,IF(GRLProdukt=4,BR465,0))))","v":0},{"$f":"IF(GRLProdukt=1,AI465,IF(GRLProdukt=2,AU465,IF(GRLProdukt=3,BG465,IF(GRLProdukt=4,BS465,0))))","v":0},{"$f":"IF(GRLProdukt=1,AJ465,IF(GRLProdukt=2,AV465,IF(GRLProdukt=3,BH465,IF(GRLProdukt=4,BT465,0))))","v":0},{"$f":"IF(GRLProdukt=1,AK465,IF(GRLProdukt=2,AW465,IF(GRLProdukt=3,BI465,IF(GRLProdukt=4,BU465,0))))","v":0},{"$f":"IF(GRLProdukt=1,AL465,IF(GRLProdukt=2,AX465,IF(GRLProdukt=3,BJ465,IF(GRLProdukt=4,BV465,0))))","v":0},{"$f":"IF(GRLProdukt=1,AM465,IF(GRLProdukt=2,AY465,IF(GRLProdukt=3,BK465,IF(GRLProdukt=4,BW465,0))))","v":0},{"$f":"IF(GRLProdukt=1,AN465,IF(GRLProdukt=2,AZ465,IF(GRLProdukt=3,BL465,IF(GRLProdukt=4,BX465,0))))","v":0},20,null,null,null,null,4432]
[8,2,9,2,null,null,null,"Vedlikehold gjerder",null,null,{"$f":"IF(E466<>\"\",1,0)","v":0},{"$f":"IF(F466<>\"\",1,0)+K466","v":0},{"$f":"IF(G466<>\"\",1,0)+L466","v":0},{"$f":"IF(H466<>\"\",1,0)+M466","v":1},{"$f":"A466+1","v":9},{"$f":"VALUE(A466&B466&C466&D466)","v":8292},{"$f":"IF(GRLProdukt=1,AC466,IF(GRLProdukt=2,AO466,IF(GRLProdukt=3,BA466,IF(GRLProdukt=4,BM466,0))))","v":0},{"$f":"IF(GRLProdukt=1,AD466,IF(GRLProdukt=2,AP466,IF(GRLProdukt=3,BB466,IF(GRLProdukt=4,BN466,0))))","v":0},{"$f":"IF(GRLProdukt=1,AE466,IF(GRLProdukt=2,AQ466,IF(GRLProdukt=3,BC466,IF(GRLProdukt=4,BO466,0))))","v":0},{"$f":"IF(GRLProdukt=1,AF466,IF(GRLProdukt=2,AR466,IF(GRLProdukt=3,BD466,IF(GRLProdukt=4,BP466,0))))","v":0},{"$f":"IF(GRLProdukt=1,AG466,IF(GRLProdukt=2,AS466,IF(GRLProdukt=3,BE466,IF(GRLProdukt=4,BQ466,0))))","v":0},{"$f":"IF(GRLProdukt=1,AH466,IF(GRLProdukt=2,AT466,IF(GRLProdukt=3,BF466,IF(GRLProdukt=4,BR466,0))))","v":0},{"$f":"IF(GRLProdukt=1,AI466,IF(GRLProdukt=2,AU466,IF(GRLProdukt=3,BG466,IF(GRLProdukt=4,BS466,0))))","v":0},{"$f":"IF(GRLProdukt=1,AJ466,IF(GRLProdukt=2,AV466,IF(GRLProdukt=3,BH466,IF(GRLProdukt=4,BT466,0))))","v":0},{"$f":"IF(GRLProdukt=1,AK466,IF(GRLProdukt=2,AW466,IF(GRLProdukt=3,BI466,IF(GRLProdukt=4,BU466,0))))","v":0},{"$f":"IF(GRLProdukt=1,AL466,IF(GRLProdukt=2,AX466,IF(GRLProdukt=3,BJ466,IF(GRLProdukt=4,BV466,0))))","v":0},{"$f":"IF(GRLProdukt=1,AM466,IF(GRLProdukt=2,AY466,IF(GRLProdukt=3,BK466,IF(GRLProdukt=4,BW466,0))))","v":0},{"$f":"IF(GRLProdukt=1,AN466,IF(GRLProdukt=2,AZ466,IF(GRLProdukt=3,BL466,IF(GRLProdukt=4,BX466,0))))","v":0},20,null,null,null,null,6604]
[8,2,9,9,null,null,null,"Driftsmidler",null,"Kode YFA221 Tine flyttet til kode 8654, 08.12.22",{"$f":"IF(E467<>\"\",1,0)","v":0},{"$f":"IF(F467<>\"\",1,0)+K467","v":0},{"$f":"IF(G467<>\"\",1,0)+L467","v":0},{"$f":"IF(H467<>\"\",1,0)+M467","v":1},{"$f":"A467+1","v":9},{"$f":"VALUE(A467&B467&C467&D467)","v":8299},{"$f":"IF(GRLProdukt=1,AC467,IF(GRLProdukt=2,AO467,IF(GRLProdukt=3,BA467,IF(GRLProdukt=4,BM467,0))))","v":0},{"$f":"IF(GRLProdukt=1,AD467,IF(GRLProdukt=2,AP467,IF(GRLProdukt=3,BB467,IF(GRLProdukt=4,BN467,0))))","v":0},{"$f":"IF(GRLProdukt=1,AE467,IF(GRLProdukt=2,AQ467,IF(GRLProdukt=3,BC467,IF(GRLProdukt=4,BO467,0))))","v":0},{"$f":"IF(GRLProdukt=1,AF467,IF(GRLProdukt=2,AR467,IF(GRLProdukt=3,BD467,IF(GRLProdukt=4,BP467,0))))","v":0},{"$f":"IF(GRLProdukt=1,AG467,IF(GRLProdukt=2,AS467,IF(GRLProdukt=3,BE467,IF(GRLProdukt=4,BQ467,0))))","v":0},{"$f":"IF(GRLProdukt=1,AH467,IF(GRLProdukt=2,AT467,IF(GRLProdukt=3,BF467,IF(GRLProdukt=4,BR467,0))))","v":0},{"$f":"IF(GRLProdukt=1,AI467,IF(GRLProdukt=2,AU467,IF(GRLProdukt=3,BG467,IF(GRLProdukt=4,BS467,0))))","v":0},{"$f":"IF(GRLProdukt=1,AJ467,IF(GRLProdukt=2,AV467,IF(GRLProdukt=3,BH467,IF(GRLProdukt=4,BT467,0))))","v":0},{"$f":"IF(GRLProdukt=1,AK467,IF(GRLProdukt=2,AW467,IF(GRLProdukt=3,BI467,IF(GRLProdukt=4,BU467,0))))","v":0},{"$f":"IF(GRLProdukt=1,AL467,IF(GRLProdukt=2,AX467,IF(GRLProdukt=3,BJ467,IF(GRLProdukt=4,BV467,0))))","v":0},{"$f":"IF(GRLProdukt=1,AM467,IF(GRLProdukt=2,AY467,IF(GRLProdukt=3,BK467,IF(GRLProdukt=4,BW467,0))))","v":0},{"$f":"IF(GRLProdukt=1,AN467,IF(GRLProdukt=2,AZ467,IF(GRLProdukt=3,BL467,IF(GRLProdukt=4,BX467,0))))","v":0},20,null,null,null,null,6520]
[8,3,0,0,null,"Tjenester i plante-, fôr- og skogproduksjon",null,null,null,null,0,1,1,1,9,8300,0,0,0,0,0,0,0,0,0,0,0,0,20]
[8,3,1,0,null,null,"Jordbruk, rådgivingstjenester",null,null,"Alle planteprod. har like aktiviteter",{"$f":"IF(E469<>\"\",1,0)","v":0},{"$f":"IF(F469<>\"\",1,0)+K469","v":0},{"$f":"IF(G469<>\"\",1,0)+L469","v":1},{"$f":"IF(H469<>\"\",1,0)+M469","v":1},{"$f":"A469+1","v":9},8310,0,0,0,0,0,0,0,0,0,0,0,0,20,null,null,null,null,4549]
[8,3,1,1,null,null,null,"Produksjonsplanlegging/-oppfølging",null,null,0,0,0,1,9,8311,0,0,0,0,0,0,0,0,0,0,0,0,20,null,null,null,null,4549]
[8,3,1,2,null,null,null,"Prøver/analyser",null,null,0,0,0,1,9,8312,0,0,0,0,0,0,0,0,0,0,0,0,20,null,null,null,null,4561]
[8,3,1,3,null,null,null,"Adm bistand  i produksjon",null,null,0,0,0,1,9,8313,0,0,0,0,0,0,0,0,0,0,0,0,20,null,null,null,null,4549]
[8,3,1,4,null,null,null,"Kurs/møter/fagturer",null,null,0,0,0,1,9,8314,0,0,0,0,0,0,0,0,0,0,0,0,20,null,null,null,null,6860]
[8,3,2,0,null,null,"Jordbruk, andre tjenester planteproduksjon",null,null,null,0,0,1,1,9,8320,0,0,0,0,0,0,0,0,0,0,0,0,20,null,null,null,null,4549]
[8,3,2,1,null,null,null,"Rensing/beising av såkorn",null,null,{"$f":"IF(E475<>\"\",1,0)","v":0},{"$f":"IF(F475<>\"\",1,0)+K475","v":0},{"$f":"IF(G475<>\"\",1,0)+L475","v":0},{"$f":"IF(H475<>\"\",1,0)+M475","v":1},{"$f":"A475+1","v":9},8321,{"$f":"IF(GRLProdukt=1,AC475,IF(GRLProdukt=2,AO475,IF(GRLProdukt=3,BA475,IF(GRLProdukt=4,BM475,0))))","v":0},{"$f":"IF(GRLProdukt=1,AD475,IF(GRLProdukt=2,AP475,IF(GRLProdukt=3,BB475,IF(GRLProdukt=4,BN475,0))))","v":0},{"$f":"IF(GRLProdukt=1,AE475,IF(GRLProdukt=2,AQ475,IF(GRLProdukt=3,BC475,IF(GRLProdukt=4,BO475,0))))","v":0},{"$f":"IF(GRLProdukt=1,AF475,IF(GRLProdukt=2,AR475,IF(GRLProdukt=3,BD475,IF(GRLProdukt=4,BP475,0))))","v":0},{"$f":"IF(GRLProdukt=1,AG475,IF(GRLProdukt=2,AS475,IF(GRLProdukt=3,BE475,IF(GRLProdukt=4,BQ475,0))))","v":0},{"$f":"IF(GRLProdukt=1,AH475,IF(GRLProdukt=2,AT475,IF(GRLProdukt=3,BF475,IF(GRLProdukt=4,BR475,0))))","v":0},{"$f":"IF(GRLProdukt=1,AI475,IF(GRLProdukt=2,AU475,IF(GRLProdukt=3,BG475,IF(GRLProdukt=4,BS475,0))))","v":0},{"$f":"IF(GRLProdukt=1,AJ475,IF(GRLProdukt=2,AV475,IF(GRLProdukt=3,BH475,IF(GRLProdukt=4,BT475,0))))","v":0},{"$f":"IF(GRLProdukt=1,AK475,IF(GRLProdukt=2,AW475,IF(GRLProdukt=3,BI475,IF(GRLProdukt=4,BU475,0))))","v":0},{"$f":"IF(GRLProdukt=1,AL475,IF(GRLProdukt=2,AX475,IF(GRLProdukt=3,BJ475,IF(GRLProdukt=4,BV475,0))))","v":0},{"$f":"IF(GRLProdukt=1,AM475,IF(GRLProdukt=2,AY475,IF(GRLProdukt=3,BK475,IF(GRLProdukt=4,BW475,0))))","v":0},{"$f":"IF(GRLProdukt=1,AN475,IF(GRLProdukt=2,AZ475,IF(GRLProdukt=3,BL475,IF(GRLProdukt=4,BX475,0))))","v":0},20,null,null,null,null,4541]
[8,3,2,2,null,null,null,"Frøkontroll/spireprøver",null,null,0,0,0,1,9,8322,0,0,0,0,0,0,0,0,0,0,0,0,20,null,null,null,null,4542]
[8,3,2,3,null,null,null,"Tørking",null,null,0,0,0,1,9,8323,0,0,0,0,0,0,0,0,0,0,0,0,20,null,null,null,null,4543]
[8,3,2,9,null,null,null,"Tjenester diverse",null,null,0,0,0,1,9,8329,0,0,0,0,0,0,0,0,0,0,0,0,20,null,null,null,null,4549]
[8,3,3,0,null,null,"Jordbruk, maskintjenester",null,null,null,0,0,1,1,9,8330,{"$f":"IF(GRLProdukt=1,AC479,IF(GRLProdukt=2,AO479,IF(GRLProdukt=3,BA479,IF(GRLProdukt=4,BM479,0))))","v":0},{"$f":"IF(GRLProdukt=1,AD479,IF(GRLProdukt=2,AP479,IF(GRLProdukt=3,BB479,IF(GRLProdukt=4,BN479,0))))","v":0},0,{"$f":"IF(GRLProdukt=1,AF479,IF(GRLProdukt=2,AR479,IF(GRLProdukt=3,BD479,IF(GRLProdukt=4,BP479,0))))","v":0},{"$f":"IF(GRLProdukt=1,AG479,IF(GRLProdukt=2,AS479,IF(GRLProdukt=3,BE479,IF(GRLProdukt=4,BQ479,0))))","v":0},{"$f":"IF(GRLProdukt=1,AH479,IF(GRLProdukt=2,AT479,IF(GRLProdukt=3,BF479,IF(GRLProdukt=4,BR479,0))))","v":0},{"$f":"IF(GRLProdukt=1,AI479,IF(GRLProdukt=2,AU479,IF(GRLProdukt=3,BG479,IF(GRLProdukt=4,BS479,0))))","v":0},{"$f":"IF(GRLProdukt=1,AJ479,IF(GRLProdukt=2,AV479,IF(GRLProdukt=3,BH479,IF(GRLProdukt=4,BT479,0))))","v":0},{"$f":"IF(GRLProdukt=1,AK479,IF(GRLProdukt=2,AW479,IF(GRLProdukt=3,BI479,IF(GRLProdukt=4,BU479,0))))","v":0},{"$f":"IF(GRLProdukt=1,AL479,IF(GRLProdukt=2,AX479,IF(GRLProdukt=3,BJ479,IF(GRLProdukt=4,BV479,0))))","v":0},{"$f":"IF(GRLProdukt=1,AM479,IF(GRLProdukt=2,AY479,IF(GRLProdukt=3,BK479,IF(GRLProdukt=4,BW479,0))))","v":0},{"$f":"IF(GRLProdukt=1,AN479,IF(GRLProdukt=2,AZ479,IF(GRLProdukt=3,BL479,IF(GRLProdukt=4,BX479,0))))","v":0},20,null,null,null,null,4550]
[8,3,3,1,null,null,null,"Maskinleie, plante- og fôrproduksjon",null,null,{"$f":"IF(E480<>\"\",1,0)","v":0},{"$f":"IF(F480<>\"\",1,0)+K480","v":0},{"$f":"IF(G480<>\"\",1,0)+L480","v":0},{"$f":"IF(H480<>\"\",1,0)+M480","v":1},{"$f":"A480+1","v":9},8331,{"$f":"IF(GRLProdukt=1,AC480,IF(GRLProdukt=2,AO480,IF(GRLProdukt=3,BA480,IF(GRLProdukt=4,BM480,0))))","v":0},{"$f":"IF(GRLProdukt=1,AD480,IF(GRLProdukt=2,AP480,IF(GRLProdukt=3,BB480,IF(GRLProdukt=4,BN480,0))))","v":0},{"$f":"IF(GRLProdukt=1,AE480,IF(GRLProdukt=2,AQ480,IF(GRLProdukt=3,BC480,IF(GRLProdukt=4,BO480,0))))","v":0},{"$f":"IF(GRLProdukt=1,AF480,IF(GRLProdukt=2,AR480,IF(GRLProdukt=3,BD480,IF(GRLProdukt=4,BP480,0))))","v":0},{"$f":"IF(GRLProdukt=1,AG480,IF(GRLProdukt=2,AS480,IF(GRLProdukt=3,BE480,IF(GRLProdukt=4,BQ480,0))))","v":0},{"$f":"IF(GRLProdukt=1,AH480,IF(GRLProdukt=2,AT480,IF(GRLProdukt=3,BF480,IF(GRLProdukt=4,BR480,0))))","v":0},{"$f":"IF(GRLProdukt=1,AI480,IF(GRLProdukt=2,AU480,IF(GRLProdukt=3,BG480,IF(GRLProdukt=4,BS480,0))))","v":0},{"$f":"IF(GRLProdukt=1,AJ480,IF(GRLProdukt=2,AV480,IF(GRLProdukt=3,BH480,IF(GRLProdukt=4,BT480,0))))","v":0},{"$f":"IF(GRLProdukt=1,AK480,IF(GRLProdukt=2,AW480,IF(GRLProdukt=3,BI480,IF(GRLProdukt=4,BU480,0))))","v":0},{"$f":"IF(GRLProdukt=1,AL480,IF(GRLProdukt=2,AX480,IF(GRLProdukt=3,BJ480,IF(GRLProdukt=4,BV480,0))))","v":0},{"$f":"IF(GRLProdukt=1,AM480,IF(GRLProdukt=2,AY480,IF(GRLProdukt=3,BK480,IF(GRLProdukt=4,BW480,0))))","v":0},{"$f":"IF(GRLProdukt=1,AN480,IF(GRLProdukt=2,AZ480,IF(GRLProdukt=3,BL480,IF(GRLProdukt=4,BX480,0))))","v":0},20,null,null,null,null,4550]
[8,3,3,9,null,null,null,"Maskinleie, diverse",null,null,0,0,0,1,9,8339,0,0,0,0,0,0,0,0,0,0,0,0,20,null,null,null,null,4550]
[8,3,4,0,null,null,"Ledig",null,null,null,0,0,1,1,9,8340,0,0,0,0,0,0,0,0,0,0,0,0,20]
[8,3,5,0,null,null,"Skogbruk",null,null,null,0,0,1,1,9,8350,0,0,0,0,0,0,0,0,0,0,0,0,30]
[8,3,5,1,null,null,null,"Avvirkning",null,null,0,0,0,1,9,8351,0,0,0,0,0,0,0,0,0,0,0,0,30,null,null,null,null,4510]
[8,3,5,2,null,null,null,"Skogkultur",null,null,0,0,0,1,9,8352,0,0,0,0,0,0,0,0,0,0,0,0,30,null,null,null,null,4520]
[8,3,9,0,null,null,"Andre næringer",null,null,null,{"$f":"IF(E486<>\"\",1,0)","v":0},{"$f":"IF(F486<>\"\",1,0)+K486","v":0},{"$f":"IF(G486<>\"\",1,0)+L486","v":1},{"$f":"IF(H486<>\"\",1,0)+M486","v":1},{"$f":"A486+1","v":9},8390,0,0,0,0,0,0,0,0,0,0,0,0,70]
[8,4,0,0,null,"Tjenester i husdyrproduksjon",null,null,null,null,0,1,1,1,9,8400,0,0,0,0,0,0,0,0,0,0,0,0,20]
[8,4,1,0,null,null,"Veterinærtjenester",null,null,"Proffvet og dyrehelseportalprosjektet (Animalia)",0,0,1,1,9,8410,0,0,0,0,0,0,0,0,0,0,0,0,20,null,null,null,null,4521]
[8,4,1,1,null,null,null,"Behandling/Diagnose",null," og Husdyrkontrollene",0,0,0,1,9,8411,0,0,0,0,0,0,0,0,0,0,0,0,20,null,null,null,null,4521]
[8,4,1,2,null,null,null,"Inseminering",null,"Se Produktdetalj-arket",0,0,0,1,9,8412,0,0,0,0,0,0,0,0,0,0,0,0,20,null,null,null,null,4522]
[8,4,1,3,null,null,null,"Laboratorieprøver",null,null,0,0,0,1,9,8413,0,0,0,0,0,0,0,0,0,0,0,0,20,null,null,null,null,4521]
[8,4,2,0,null,null,"Rådgivingstjenester i husdyrproduksjon",null,null,null,0,0,1,1,9,8420,0,0,0,0,0,0,0,0,0,0,0,0,20,null,null,null,null,4531]
[8,4,2,1,null,null,null,"Fôrplanlegging/-oppfølging",null,null,{"$f":"IF(E493<>\"\",1,0)","v":0},{"$f":"IF(F493<>\"\",1,0)+K493","v":0},{"$f":"IF(G493<>\"\",1,0)+L493","v":0},{"$f":"IF(H493<>\"\",1,0)+M493","v":1},{"$f":"A493+1","v":9},8421,{"$f":"IF(GRLProdukt=1,AC493,IF(GRLProdukt=2,AO493,IF(GRLProdukt=3,BA493,IF(GRLProdukt=4,BM493,0))))","v":0},{"$f":"IF(GRLProdukt=1,AD493,IF(GRLProdukt=2,AP493,IF(GRLProdukt=3,BB493,IF(GRLProdukt=4,BN493,0))))","v":0},{"$f":"IF(GRLProdukt=1,AE493,IF(GRLProdukt=2,AQ493,IF(GRLProdukt=3,BC493,IF(GRLProdukt=4,BO493,0))))","v":0},{"$f":"IF(GRLProdukt=1,AF493,IF(GRLProdukt=2,AR493,IF(GRLProdukt=3,BD493,IF(GRLProdukt=4,BP493,0))))","v":0},{"$f":"IF(GRLProdukt=1,AG493,IF(GRLProdukt=2,AS493,IF(GRLProdukt=3,BE493,IF(GRLProdukt=4,BQ493,0))))","v":0},{"$f":"IF(GRLProdukt=1,AH493,IF(GRLProdukt=2,AT493,IF(GRLProdukt=3,BF493,IF(GRLProdukt=4,BR493,0))))","v":0},{"$f":"IF(GRLProdukt=1,AI493,IF(GRLProdukt=2,AU493,IF(GRLProdukt=3,BG493,IF(GRLProdukt=4,BS493,0))))","v":0},{"$f":"IF(GRLProdukt=1,AJ493,IF(GRLProdukt=2,AV493,IF(GRLProdukt=3,BH493,IF(GRLProdukt=4,BT493,0))))","v":0},{"$f":"IF(GRLProdukt=1,AK493,IF(GRLProdukt=2,AW493,IF(GRLProdukt=3,BI493,IF(GRLProdukt=4,BU493,0))))","v":0},{"$f":"IF(GRLProdukt=1,AL493,IF(GRLProdukt=2,AX493,IF(GRLProdukt=3,BJ493,IF(GRLProdukt=4,BV493,0))))","v":0},{"$f":"IF(GRLProdukt=1,AM493,IF(GRLProdukt=2,AY493,IF(GRLProdukt=3,BK493,IF(GRLProdukt=4,BW493,0))))","v":0},{"$f":"IF(GRLProdukt=1,AN493,IF(GRLProdukt=2,AZ493,IF(GRLProdukt=3,BL493,IF(GRLProdukt=4,BX493,0))))","v":0},20,null,null,null,null,4531]
[8,4,2,2,null,null,null,"Produksjonsplanlegging/-oppfølging",null,null,0,0,0,1,9,{"$f":"VALUE(A494&B494&C494&D494)","v":8422},0,0,0,0,0,0,0,0,0,0,0,0,20,null,null,null,null,4531]
[8,4,2,3,null,null,null,"Prøver/analyser",null,null,0,0,0,1,9,8423,0,0,0,0,0,0,0,0,0,0,0,0,20,null,null,null,null,4539]
[8,4,2,4,null,null,null,"Dyrehelse",null,null,0,0,0,1,9,8424,0,0,0,0,0,0,0,0,0,0,0,0,20,null,null,null,null,4531]
[8,4,2,5,null,null,null,"Adm bistand  i produksjon",null,null,0,0,0,1,9,8425,0,0,0,0,0,0,0,0,0,0,0,0,20,null,null,null,null,4531]
[8,4,2,6,null,null,null,"Kurs/møter/fagturer",null,null,0,0,0,1,9,8426,0,0,0,0,0,0,0,0,0,0,0,0,20,null,6860,null,null,6860]
[8,4,5,0,null,null,"Avløser, landbruksvikar",null,null,null,0,0,1,1,9,8450,0,0,0,0,0,0,0,0,0,0,0,0,20,null,null,null,null,4570]
[8,4,5,1,null,null,null,"Avløserring",null,null,0,0,0,1,9,8451,0,0,0,0,0,0,0,0,0,0,0,0,20,null,null,null,null,4570]
[8,4,5,2,null,null,null,"Landbruksvikar",null,null,0,0,0,1,9,8452,0,0,0,0,0,0,0,0,0,0,0,0,20,null,null,null,null,4570]
[8,5,0,0,null,"Produkter knyttet til lønn, admin. oppgaver, forsikring",null,null,null,null,0,1,1,1,9,{"$f":"VALUE(A502&B502&C502&D502)","v":8500},0,0,0,0,0,0,0,0,0,0,0,0,20]
[8,5,1,0,null,null,"Lønnskostnader",null,null,"Endret januar 2023 (ikke vært i bruk tidligere)",0,0,1,1,9,8510,0,0,0,0,0,0,0,0,0,0,0,0,20]
[8,5,1,1,null,null,null,"Ledig",null,"Satt ledig januar 2023 (har ikke vært i bruk)",0,0,0,1,9,8511,0,0,0,0,0,0,0,0,0,0,0,0,20]
[8,5,1,2,null,null,null,"Ledig",null,"Satt ledig januar 2023 (har ikke vært i bruk)",0,0,0,1,9,8512,0,0,0,0,0,0,0,0,0,0,0,0,20]
[8,5,1,3,null,null,null,"Ledig",null,"Satt ledig januar 2023 (har ikke vært i bruk)",{"$f":"IF(E506<>\"\",1,0)","v":0},0,0,1,9,8513,0,0,0,0,0,0,0,0,0,0,0,0,20]
[8,5,1,4,null,null,null,"Ledig",null,"Satt ledig januar 2023 (har ikke vært i bruk)",0,0,0,1,9,8514,0,0,0,0,0,0,0,0,0,0,0,0,20]
[8,5,1,5,null,null,null,"Ledig",null,"Satt ledig januar 2023 (har ikke vært i bruk)",0,0,0,1,9,8515,0,0,0,0,0,0,0,0,0,0,0,0,20]
[8,5,1,6,null,null,null,"Ledig",null,"Satt ledig januar 2023 (har ikke vært i bruk)",0,0,0,1,9,8516,0,0,0,0,0,0,0,0,0,0,0,0,20]
[8,5,1,7,null,null,null,"Ledig",null,"Satt ledig januar 2023 (har ikke vært i bruk)",0,0,0,1,9,8517,0,0,0,0,0,0,0,0,0,0,0,0,20]
[8,5,2,0,null,null,"Fremmede tjenester og kontingent",null,null,"Korrigert 31.10.2018",{"$f":"IF(E511<>\"\",1,0)","v":0},{"$f":"IF(F511<>\"\",1,0)+K511","v":0},{"$f":"IF(G511<>\"\",1,0)+L511","v":1},{"$f":"IF(H511<>\"\",1,0)+M511","v":1},{"$f":"A511+1","v":9},8520,0,0,0,0,0,0,0,0,0,0,0,0,20]
[8,5,2,1,null,null,null,"Administrasjon generelt",null,"Ikke i bruk?",{"$f":"IF(E512<>\"\",1,0)","v":0},{"$f":"IF(F512<>\"\",1,0)+K512","v":0},{"$f":"IF(G512<>\"\",1,0)+L512","v":0},{"$f":"IF(H512<>\"\",1,0)+M512","v":1},{"$f":"A512+1","v":9},8521,0,0,0,0,0,0,0,0,0,0,0,0,20,null,null,null,null,6800]
[8,5,2,2,null,null,null,"Kontingenter",null,null,0,0,0,1,9,8522,0,0,0,0,0,0,0,0,0,0,0,0,20,null,7402,null,null,7401]
[8,5,2,3,null,null,null,"Tekniske hjelpemidler/kontorhold",null,"Kode tatt inn på nytt 10.12.2018",0,0,0,1,9,8523,0,0,0,0,0,0,0,0,0,0,0,0,20,null,null,null,null,4432]
[8,5,2,4,null,null,null,"Regnskapsføring",null,null,0,0,0,1,9,8524,0,0,0,0,0,0,0,0,0,0,0,0,20,null,null,null,null,6705]
[8,5,2,5,null,null,null,"Juridisk bistand",null,null,{"$f":"IF(E516<>\"\",1,0)","v":0},{"$f":"IF(F516<>\"\",1,0)+K516","v":0},{"$f":"IF(G516<>\"\",1,0)+L516","v":0},{"$f":"IF(H516<>\"\",1,0)+M516","v":1},{"$f":"A516+1","v":9},8525,{"$f":"IF(GRLProdukt=1,AC516,IF(GRLProdukt=2,AO516,IF(GRLProdukt=3,BA516,IF(GRLProdukt=4,BM516,0))))","v":0},{"$f":"IF(GRLProdukt=1,AD516,IF(GRLProdukt=2,AP516,IF(GRLProdukt=3,BB516,IF(GRLProdukt=4,BN516,0))))","v":0},{"$f":"IF(GRLProdukt=1,AE516,IF(GRLProdukt=2,AQ516,IF(GRLProdukt=3,BC516,IF(GRLProdukt=4,BO516,0))))","v":0},{"$f":"IF(GRLProdukt=1,AF516,IF(GRLProdukt=2,AR516,IF(GRLProdukt=3,BD516,IF(GRLProdukt=4,BP516,0))))","v":0},{"$f":"IF(GRLProdukt=1,AG516,IF(GRLProdukt=2,AS516,IF(GRLProdukt=3,BE516,IF(GRLProdukt=4,BQ516,0))))","v":0},{"$f":"IF(GRLProdukt=1,AH516,IF(GRLProdukt=2,AT516,IF(GRLProdukt=3,BF516,IF(GRLProdukt=4,BR516,0))))","v":0},{"$f":"IF(GRLProdukt=1,AI516,IF(GRLProdukt=2,AU516,IF(GRLProdukt=3,BG516,IF(GRLProdukt=4,BS516,0))))","v":0},{"$f":"IF(GRLProdukt=1,AJ516,IF(GRLProdukt=2,AV516,IF(GRLProdukt=3,BH516,IF(GRLProdukt=4,BT516,0))))","v":0},{"$f":"IF(GRLProdukt=1,AK516,IF(GRLProdukt=2,AW516,IF(GRLProdukt=3,BI516,IF(GRLProdukt=4,BU516,0))))","v":0},{"$f":"IF(GRLProdukt=1,AL516,IF(GRLProdukt=2,AX516,IF(GRLProdukt=3,BJ516,IF(GRLProdukt=4,BV516,0))))","v":0},{"$f":"IF(GRLProdukt=1,AM516,IF(GRLProdukt=2,AY516,IF(GRLProdukt=3,BK516,IF(GRLProdukt=4,BW516,0))))","v":0},{"$f":"IF(GRLProdukt=1,AN516,IF(GRLProdukt=2,AZ516,IF(GRLProdukt=3,BL516,IF(GRLProdukt=4,BX516,0))))","v":0},20,null,null,null,null,6722]
[8,5,2,6,null,null,null,"Økonomisk bistand",null,null,0,0,0,1,9,8526,0,0,0,0,0,0,0,0,0,0,0,0,20,null,null,null,null,6721]
[8,5,2,7,null,null,null,"Bygningsplanlegging",null,null,0,0,0,1,9,8527,0,0,0,0,0,0,0,0,0,0,0,0,20,null,6790,null,null,6790]
[8,5,2,8,null,null,null,"Rådgiving, generelt (bedriftsutvikling mm)",null,null,0,0,0,1,9,8528,0,0,0,0,0,0,0,0,0,0,0,0,20,null,null,null,null,6790]
[8,5,2,9,null,null,null,"Andre administrative tjenester",null,"Kode tatt inn på nytt 10.12.2018",{"$f":"IF(E520<>\"\",1,0)","v":0},{"$f":"IF(F520<>\"\",1,0)+K520","v":0},{"$f":"IF(G520<>\"\",1,0)+L520","v":0},{"$f":"IF(H520<>\"\",1,0)+M520","v":1},{"$f":"A520+1","v":9},{"$f":"VALUE(A520&B520&C520&D520)","v":8529},{"$f":"IF(GRLProdukt=1,AC520,IF(GRLProdukt=2,AO520,IF(GRLProdukt=3,BA520,IF(GRLProdukt=4,BM520,0))))","v":0},{"$f":"IF(GRLProdukt=1,AD520,IF(GRLProdukt=2,AP520,IF(GRLProdukt=3,BB520,IF(GRLProdukt=4,BN520,0))))","v":0},{"$f":"IF(GRLProdukt=1,AE520,IF(GRLProdukt=2,AQ520,IF(GRLProdukt=3,BC520,IF(GRLProdukt=4,BO520,0))))","v":0},{"$f":"IF(GRLProdukt=1,AF520,IF(GRLProdukt=2,AR520,IF(GRLProdukt=3,BD520,IF(GRLProdukt=4,BP520,0))))","v":0},{"$f":"IF(GRLProdukt=1,AG520,IF(GRLProdukt=2,AS520,IF(GRLProdukt=3,BE520,IF(GRLProdukt=4,BQ520,0))))","v":0},{"$f":"IF(GRLProdukt=1,AH520,IF(GRLProdukt=2,AT520,IF(GRLProdukt=3,BF520,IF(GRLProdukt=4,BR520,0))))","v":0},{"$f":"IF(GRLProdukt=1,AI520,IF(GRLProdukt=2,AU520,IF(GRLProdukt=3,BG520,IF(GRLProdukt=4,BS520,0))))","v":0},{"$f":"IF(GRLProdukt=1,AJ520,IF(GRLProdukt=2,AV520,IF(GRLProdukt=3,BH520,IF(GRLProdukt=4,BT520,0))))","v":0},{"$f":"IF(GRLProdukt=1,AK520,IF(GRLProdukt=2,AW520,IF(GRLProdukt=3,BI520,IF(GRLProdukt=4,BU520,0))))","v":0},{"$f":"IF(GRLProdukt=1,AL520,IF(GRLProdukt=2,AX520,IF(GRLProdukt=3,BJ520,IF(GRLProdukt=4,BV520,0))))","v":0},{"$f":"IF(GRLProdukt=1,AM520,IF(GRLProdukt=2,AY520,IF(GRLProdukt=3,BK520,IF(GRLProdukt=4,BW520,0))))","v":0},{"$f":"IF(GRLProdukt=1,AN520,IF(GRLProdukt=2,AZ520,IF(GRLProdukt=3,BL520,IF(GRLProdukt=4,BX520,0))))","v":0},20,null,6790,null,null,6790]
[8,5,3,0,null,null,"Kontorkostnader, trykksaker",null,null,"Tatt inn for å få med kode YFA262 fra Tine",0,0,1,1,9,8530,0,0,0,0,0,0,0,0,0,0,0,0,20,null,6840,null,null,6800]
[8,5,3,1,null,null,null,"Kontorrekvisita",null,null,{"$f":"IF(E522<>\"\",1,0)","v":0},{"$f":"IF(F522<>\"\",1,0)+K522","v":0},{"$f":"IF(G522<>\"\",1,0)+L522","v":0},{"$f":"IF(H522<>\"\",1,0)+M522","v":1},{"$f":"A522+1","v":9},{"$f":"VALUE(A522&B522&C522&D522)","v":8531},{"$f":"IF(GRLProdukt=1,AC522,IF(GRLProdukt=2,AO522,IF(GRLProdukt=3,BA522,IF(GRLProdukt=4,BM522,0))))","v":0},{"$f":"IF(GRLProdukt=1,AD522,IF(GRLProdukt=2,AP522,IF(GRLProdukt=3,BB522,IF(GRLProdukt=4,BN522,0))))","v":0},{"$f":"IF(GRLProdukt=1,AE522,IF(GRLProdukt=2,AQ522,IF(GRLProdukt=3,BC522,IF(GRLProdukt=4,BO522,0))))","v":0},{"$f":"IF(GRLProdukt=1,AF522,IF(GRLProdukt=2,AR522,IF(GRLProdukt=3,BD522,IF(GRLProdukt=4,BP522,0))))","v":0},{"$f":"IF(GRLProdukt=1,AG522,IF(GRLProdukt=2,AS522,IF(GRLProdukt=3,BE522,IF(GRLProdukt=4,BQ522,0))))","v":0},{"$f":"IF(GRLProdukt=1,AH522,IF(GRLProdukt=2,AT522,IF(GRLProdukt=3,BF522,IF(GRLProdukt=4,BR522,0))))","v":0},{"$f":"IF(GRLProdukt=1,AI522,IF(GRLProdukt=2,AU522,IF(GRLProdukt=3,BG522,IF(GRLProdukt=4,BS522,0))))","v":0},{"$f":"IF(GRLProdukt=1,AJ522,IF(GRLProdukt=2,AV522,IF(GRLProdukt=3,BH522,IF(GRLProdukt=4,BT522,0))))","v":0},{"$f":"IF(GRLProdukt=1,AK522,IF(GRLProdukt=2,AW522,IF(GRLProdukt=3,BI522,IF(GRLProdukt=4,BU522,0))))","v":0},{"$f":"IF(GRLProdukt=1,AL522,IF(GRLProdukt=2,AX522,IF(GRLProdukt=3,BJ522,IF(GRLProdukt=4,BV522,0))))","v":0},{"$f":"IF(GRLProdukt=1,AM522,IF(GRLProdukt=2,AY522,IF(GRLProdukt=3,BK522,IF(GRLProdukt=4,BW522,0))))","v":0},{"$f":"IF(GRLProdukt=1,AN522,IF(GRLProdukt=2,AZ522,IF(GRLProdukt=3,BL522,IF(GRLProdukt=4,BX522,0))))","v":0},20,null,null,null,null,6800]
[8,5,3,2,null,null,null,"Programvare",null,null,{"$f":"IF(E523<>\"\",1,0)","v":0},{"$f":"IF(F523<>\"\",1,0)+K523","v":0},{"$f":"IF(G523<>\"\",1,0)+L523","v":0},{"$f":"IF(H523<>\"\",1,0)+M523","v":1},{"$f":"A523+1","v":9},{"$f":"VALUE(A523&B523&C523&D523)","v":8532},{"$f":"IF(GRLProdukt=1,AC523,IF(GRLProdukt=2,AO523,IF(GRLProdukt=3,BA523,IF(GRLProdukt=4,BM523,0))))","v":0},{"$f":"IF(GRLProdukt=1,AD523,IF(GRLProdukt=2,AP523,IF(GRLProdukt=3,BB523,IF(GRLProdukt=4,BN523,0))))","v":0},{"$f":"IF(GRLProdukt=1,AE523,IF(GRLProdukt=2,AQ523,IF(GRLProdukt=3,BC523,IF(GRLProdukt=4,BO523,0))))","v":0},{"$f":"IF(GRLProdukt=1,AF523,IF(GRLProdukt=2,AR523,IF(GRLProdukt=3,BD523,IF(GRLProdukt=4,BP523,0))))","v":0},{"$f":"IF(GRLProdukt=1,AG523,IF(GRLProdukt=2,AS523,IF(GRLProdukt=3,BE523,IF(GRLProdukt=4,BQ523,0))))","v":0},{"$f":"IF(GRLProdukt=1,AH523,IF(GRLProdukt=2,AT523,IF(GRLProdukt=3,BF523,IF(GRLProdukt=4,BR523,0))))","v":0},{"$f":"IF(GRLProdukt=1,AI523,IF(GRLProdukt=2,AU523,IF(GRLProdukt=3,BG523,IF(GRLProdukt=4,BS523,0))))","v":0},{"$f":"IF(GRLProdukt=1,AJ523,IF(GRLProdukt=2,AV523,IF(GRLProdukt=3,BH523,IF(GRLProdukt=4,BT523,0))))","v":0},{"$f":"IF(GRLProdukt=1,AK523,IF(GRLProdukt=2,AW523,IF(GRLProdukt=3,BI523,IF(GRLProdukt=4,BU523,0))))","v":0},{"$f":"IF(GRLProdukt=1,AL523,IF(GRLProdukt=2,AX523,IF(GRLProdukt=3,BJ523,IF(GRLProdukt=4,BV523,0))))","v":0},{"$f":"IF(GRLProdukt=1,AM523,IF(GRLProdukt=2,AY523,IF(GRLProdukt=3,BK523,IF(GRLProdukt=4,BW523,0))))","v":0},{"$f":"IF(GRLProdukt=1,AN523,IF(GRLProdukt=2,AZ523,IF(GRLProdukt=3,BL523,IF(GRLProdukt=4,BX523,0))))","v":0},20,null,null,null,null,6810]
[8,5,3,3,null,null,null,"Kurs generelt",null,null,{"$f":"IF(E524<>\"\",1,0)","v":0},{"$f":"IF(F524<>\"\",1,0)+K524","v":0},{"$f":"IF(G524<>\"\",1,0)+L524","v":0},{"$f":"IF(H524<>\"\",1,0)+M524","v":1},{"$f":"A524+1","v":9},{"$f":"VALUE(A524&B524&C524&D524)","v":8533},{"$f":"IF(GRLProdukt=1,AC524,IF(GRLProdukt=2,AO524,IF(GRLProdukt=3,BA524,IF(GRLProdukt=4,BM524,0))))","v":0},{"$f":"IF(GRLProdukt=1,AD524,IF(GRLProdukt=2,AP524,IF(GRLProdukt=3,BB524,IF(GRLProdukt=4,BN524,0))))","v":0},{"$f":"IF(GRLProdukt=1,AE524,IF(GRLProdukt=2,AQ524,IF(GRLProdukt=3,BC524,IF(GRLProdukt=4,BO524,0))))","v":0},{"$f":"IF(GRLProdukt=1,AF524,IF(GRLProdukt=2,AR524,IF(GRLProdukt=3,BD524,IF(GRLProdukt=4,BP524,0))))","v":0},{"$f":"IF(GRLProdukt=1,AG524,IF(GRLProdukt=2,AS524,IF(GRLProdukt=3,BE524,IF(GRLProdukt=4,BQ524,0))))","v":0},{"$f":"IF(GRLProdukt=1,AH524,IF(GRLProdukt=2,AT524,IF(GRLProdukt=3,BF524,IF(GRLProdukt=4,BR524,0))))","v":0},{"$f":"IF(GRLProdukt=1,AI524,IF(GRLProdukt=2,AU524,IF(GRLProdukt=3,BG524,IF(GRLProdukt=4,BS524,0))))","v":0},{"$f":"IF(GRLProdukt=1,AJ524,IF(GRLProdukt=2,AV524,IF(GRLProdukt=3,BH524,IF(GRLProdukt=4,BT524,0))))","v":0},{"$f":"IF(GRLProdukt=1,AK524,IF(GRLProdukt=2,AW524,IF(GRLProdukt=3,BI524,IF(GRLProdukt=4,BU524,0))))","v":0},{"$f":"IF(GRLProdukt=1,AL524,IF(GRLProdukt=2,AX524,IF(GRLProdukt=3,BJ524,IF(GRLProdukt=4,BV524,0))))","v":0},{"$f":"IF(GRLProdukt=1,AM524,IF(GRLProdukt=2,AY524,IF(GRLProdukt=3,BK524,IF(GRLProdukt=4,BW524,0))))","v":0},{"$f":"IF(GRLProdukt=1,AN524,IF(GRLProdukt=2,AZ524,IF(GRLProdukt=3,BL524,IF(GRLProdukt=4,BX524,0))))","v":0},20,null,null,null,null,6860]
[8,5,4,1,null,null,null,"Elektronisk kommunikasjon",null,null,{"$f":"IF(E525<>\"\",1,0)","v":0},{"$f":"IF(F525<>\"\",1,0)+K525","v":0},{"$f":"IF(G525<>\"\",1,0)+L525","v":0},{"$f":"IF(H525<>\"\",1,0)+M525","v":1},{"$f":"A525+1","v":9},{"$f":"VALUE(A525&B525&C525&D525)","v":8541},{"$f":"IF(GRLProdukt=1,AC525,IF(GRLProdukt=2,AO525,IF(GRLProdukt=3,BA525,IF(GRLProdukt=4,BM525,0))))","v":0},{"$f":"IF(GRLProdukt=1,AD525,IF(GRLProdukt=2,AP525,IF(GRLProdukt=3,BB525,IF(GRLProdukt=4,BN525,0))))","v":0},{"$f":"IF(GRLProdukt=1,AE525,IF(GRLProdukt=2,AQ525,IF(GRLProdukt=3,BC525,IF(GRLProdukt=4,BO525,0))))","v":0},{"$f":"IF(GRLProdukt=1,AF525,IF(GRLProdukt=2,AR525,IF(GRLProdukt=3,BD525,IF(GRLProdukt=4,BP525,0))))","v":0},{"$f":"IF(GRLProdukt=1,AG525,IF(GRLProdukt=2,AS525,IF(GRLProdukt=3,BE525,IF(GRLProdukt=4,BQ525,0))))","v":0},{"$f":"IF(GRLProdukt=1,AH525,IF(GRLProdukt=2,AT525,IF(GRLProdukt=3,BF525,IF(GRLProdukt=4,BR525,0))))","v":0},{"$f":"IF(GRLProdukt=1,AI525,IF(GRLProdukt=2,AU525,IF(GRLProdukt=3,BG525,IF(GRLProdukt=4,BS525,0))))","v":0},{"$f":"IF(GRLProdukt=1,AJ525,IF(GRLProdukt=2,AV525,IF(GRLProdukt=3,BH525,IF(GRLProdukt=4,BT525,0))))","v":0},{"$f":"IF(GRLProdukt=1,AK525,IF(GRLProdukt=2,AW525,IF(GRLProdukt=3,BI525,IF(GRLProdukt=4,BU525,0))))","v":0},{"$f":"IF(GRLProdukt=1,AL525,IF(GRLProdukt=2,AX525,IF(GRLProdukt=3,BJ525,IF(GRLProdukt=4,BV525,0))))","v":0},{"$f":"IF(GRLProdukt=1,AM525,IF(GRLProdukt=2,AY525,IF(GRLProdukt=3,BK525,IF(GRLProdukt=4,BW525,0))))","v":0},{"$f":"IF(GRLProdukt=1,AN525,IF(GRLProdukt=2,AZ525,IF(GRLProdukt=3,BL525,IF(GRLProdukt=4,BX525,0))))","v":0},20,null,null,null,null,6900]
[8,5,6,0,null,null,"Forsikring",null,null,null,{"$f":"IF(E526<>\"\",1,0)","v":0},{"$f":"IF(F526<>\"\",1,0)+K526","v":0},{"$f":"IF(G526<>\"\",1,0)+L526","v":1},{"$f":"IF(H526<>\"\",1,0)+M526","v":1},{"$f":"A526+1","v":9},{"$f":"VALUE(A526&B526&C526&D526)","v":8560},{"$f":"IF(GRLProdukt=1,AC526,IF(GRLProdukt=2,AO526,IF(GRLProdukt=3,BA526,IF(GRLProdukt=4,BM526,0))))","v":0},{"$f":"IF(GRLProdukt=1,AD526,IF(GRLProdukt=2,AP526,IF(GRLProdukt=3,BB526,IF(GRLProdukt=4,BN526,0))))","v":0},{"$f":"IF(GRLProdukt=1,AE526,IF(GRLProdukt=2,AQ526,IF(GRLProdukt=3,BC526,IF(GRLProdukt=4,BO526,0))))","v":0},{"$f":"IF(GRLProdukt=1,AF526,IF(GRLProdukt=2,AR526,IF(GRLProdukt=3,BD526,IF(GRLProdukt=4,BP526,0))))","v":0},{"$f":"IF(GRLProdukt=1,AG526,IF(GRLProdukt=2,AS526,IF(GRLProdukt=3,BE526,IF(GRLProdukt=4,BQ526,0))))","v":0},{"$f":"IF(GRLProdukt=1,AH526,IF(GRLProdukt=2,AT526,IF(GRLProdukt=3,BF526,IF(GRLProdukt=4,BR526,0))))","v":0},{"$f":"IF(GRLProdukt=1,AI526,IF(GRLProdukt=2,AU526,IF(GRLProdukt=3,BG526,IF(GRLProdukt=4,BS526,0))))","v":0},{"$f":"IF(GRLProdukt=1,AJ526,IF(GRLProdukt=2,AV526,IF(GRLProdukt=3,BH526,IF(GRLProdukt=4,BT526,0))))","v":0},{"$f":"IF(GRLProdukt=1,AK526,IF(GRLProdukt=2,AW526,IF(GRLProdukt=3,BI526,IF(GRLProdukt=4,BU526,0))))","v":0},{"$f":"IF(GRLProdukt=1,AL526,IF(GRLProdukt=2,AX526,IF(GRLProdukt=3,BJ526,IF(GRLProdukt=4,BV526,0))))","v":0},{"$f":"IF(GRLProdukt=1,AM526,IF(GRLProdukt=2,AY526,IF(GRLProdukt=3,BK526,IF(GRLProdukt=4,BW526,0))))","v":0},{"$f":"IF(GRLProdukt=1,AN526,IF(GRLProdukt=2,AZ526,IF(GRLProdukt=3,BL526,IF(GRLProdukt=4,BX526,0))))","v":0},20,null,7500]
[8,5,6,1,null,null,null,"Bygninger og anlegg i næring",null,null,{"$f":"IF(E527<>\"\",1,0)","v":0},{"$f":"IF(F527<>\"\",1,0)+K527","v":0},{"$f":"IF(G527<>\"\",1,0)+L527","v":0},{"$f":"IF(H527<>\"\",1,0)+M527","v":1},{"$f":"A527+1","v":9},{"$f":"VALUE(A527&B527&C527&D527)","v":8561},{"$f":"IF(GRLProdukt=1,AC527,IF(GRLProdukt=2,AO527,IF(GRLProdukt=3,BA527,IF(GRLProdukt=4,BM527,0))))","v":0},{"$f":"IF(GRLProdukt=1,AD527,IF(GRLProdukt=2,AP527,IF(GRLProdukt=3,BB527,IF(GRLProdukt=4,BN527,0))))","v":0},{"$f":"IF(GRLProdukt=1,AE527,IF(GRLProdukt=2,AQ527,IF(GRLProdukt=3,BC527,IF(GRLProdukt=4,BO527,0))))","v":0},{"$f":"IF(GRLProdukt=1,AF527,IF(GRLProdukt=2,AR527,IF(GRLProdukt=3,BD527,IF(GRLProdukt=4,BP527,0))))","v":0},{"$f":"IF(GRLProdukt=1,AG527,IF(GRLProdukt=2,AS527,IF(GRLProdukt=3,BE527,IF(GRLProdukt=4,BQ527,0))))","v":0},{"$f":"IF(GRLProdukt=1,AH527,IF(GRLProdukt=2,AT527,IF(GRLProdukt=3,BF527,IF(GRLProdukt=4,BR527,0))))","v":0},{"$f":"IF(GRLProdukt=1,AI527,IF(GRLProdukt=2,AU527,IF(GRLProdukt=3,BG527,IF(GRLProdukt=4,BS527,0))))","v":0},{"$f":"IF(GRLProdukt=1,AJ527,IF(GRLProdukt=2,AV527,IF(GRLProdukt=3,BH527,IF(GRLProdukt=4,BT527,0))))","v":0},{"$f":"IF(GRLProdukt=1,AK527,IF(GRLProdukt=2,AW527,IF(GRLProdukt=3,BI527,IF(GRLProdukt=4,BU527,0))))","v":0},{"$f":"IF(GRLProdukt=1,AL527,IF(GRLProdukt=2,AX527,IF(GRLProdukt=3,BJ527,IF(GRLProdukt=4,BV527,0))))","v":0},{"$f":"IF(GRLProdukt=1,AM527,IF(GRLProdukt=2,AY527,IF(GRLProdukt=3,BK527,IF(GRLProdukt=4,BW527,0))))","v":0},{"$f":"IF(GRLProdukt=1,AN527,IF(GRLProdukt=2,AZ527,IF(GRLProdukt=3,BL527,IF(GRLProdukt=4,BX527,0))))","v":0},20,null,7501]
[8,5,6,2,null,null,null,"Husdyrproduksjon",null,null,{"$f":"IF(E528<>\"\",1,0)","v":0},{"$f":"IF(F528<>\"\",1,0)+K528","v":0},{"$f":"IF(G528<>\"\",1,0)+L528","v":0},{"$f":"IF(H528<>\"\",1,0)+M528","v":1},{"$f":"A528+1","v":9},{"$f":"VALUE(A528&B528&C528&D528)","v":8562},{"$f":"IF(GRLProdukt=1,AC528,IF(GRLProdukt=2,AO528,IF(GRLProdukt=3,BA528,IF(GRLProdukt=4,BM528,0))))","v":0},{"$f":"IF(GRLProdukt=1,AD528,IF(GRLProdukt=2,AP528,IF(GRLProdukt=3,BB528,IF(GRLProdukt=4,BN528,0))))","v":0},{"$f":"IF(GRLProdukt=1,AE528,IF(GRLProdukt=2,AQ528,IF(GRLProdukt=3,BC528,IF(GRLProdukt=4,BO528,0))))","v":0},{"$f":"IF(GRLProdukt=1,AF528,IF(GRLProdukt=2,AR528,IF(GRLProdukt=3,BD528,IF(GRLProdukt=4,BP528,0))))","v":0},{"$f":"IF(GRLProdukt=1,AG528,IF(GRLProdukt=2,AS528,IF(GRLProdukt=3,BE528,IF(GRLProdukt=4,BQ528,0))))","v":0},{"$f":"IF(GRLProdukt=1,AH528,IF(GRLProdukt=2,AT528,IF(GRLProdukt=3,BF528,IF(GRLProdukt=4,BR528,0))))","v":0},{"$f":"IF(GRLProdukt=1,AI528,IF(GRLProdukt=2,AU528,IF(GRLProdukt=3,BG528,IF(GRLProdukt=4,BS528,0))))","v":0},{"$f":"IF(GRLProdukt=1,AJ528,IF(GRLProdukt=2,AV528,IF(GRLProdukt=3,BH528,IF(GRLProdukt=4,BT528,0))))","v":0},{"$f":"IF(GRLProdukt=1,AK528,IF(GRLProdukt=2,AW528,IF(GRLProdukt=3,BI528,IF(GRLProdukt=4,BU528,0))))","v":0},{"$f":"IF(GRLProdukt=1,AL528,IF(GRLProdukt=2,AX528,IF(GRLProdukt=3,BJ528,IF(GRLProdukt=4,BV528,0))))","v":0},{"$f":"IF(GRLProdukt=1,AM528,IF(GRLProdukt=2,AY528,IF(GRLProdukt=3,BK528,IF(GRLProdukt=4,BW528,0))))","v":0},{"$f":"IF(GRLProdukt=1,AN528,IF(GRLProdukt=2,AZ528,IF(GRLProdukt=3,BL528,IF(GRLProdukt=4,BX528,0))))","v":0},20,null,7502]
[8,5,6,3,null,null,null,"Maskiner og driftsløsøre",null,null,{"$f":"IF(E529<>\"\",1,0)","v":0},{"$f":"IF(F529<>\"\",1,0)+K529","v":0},{"$f":"IF(G529<>\"\",1,0)+L529","v":0},{"$f":"IF(H529<>\"\",1,0)+M529","v":1},{"$f":"A529+1","v":9},{"$f":"VALUE(A529&B529&C529&D529)","v":8563},{"$f":"IF(GRLProdukt=1,AC529,IF(GRLProdukt=2,AO529,IF(GRLProdukt=3,BA529,IF(GRLProdukt=4,BM529,0))))","v":0},{"$f":"IF(GRLProdukt=1,AD529,IF(GRLProdukt=2,AP529,IF(GRLProdukt=3,BB529,IF(GRLProdukt=4,BN529,0))))","v":0},{"$f":"IF(GRLProdukt=1,AE529,IF(GRLProdukt=2,AQ529,IF(GRLProdukt=3,BC529,IF(GRLProdukt=4,BO529,0))))","v":0},{"$f":"IF(GRLProdukt=1,AF529,IF(GRLProdukt=2,AR529,IF(GRLProdukt=3,BD529,IF(GRLProdukt=4,BP529,0))))","v":0},{"$f":"IF(GRLProdukt=1,AG529,IF(GRLProdukt=2,AS529,IF(GRLProdukt=3,BE529,IF(GRLProdukt=4,BQ529,0))))","v":0},{"$f":"IF(GRLProdukt=1,AH529,IF(GRLProdukt=2,AT529,IF(GRLProdukt=3,BF529,IF(GRLProdukt=4,BR529,0))))","v":0},{"$f":"IF(GRLProdukt=1,AI529,IF(GRLProdukt=2,AU529,IF(GRLProdukt=3,BG529,IF(GRLProdukt=4,BS529,0))))","v":0},{"$f":"IF(GRLProdukt=1,AJ529,IF(GRLProdukt=2,AV529,IF(GRLProdukt=3,BH529,IF(GRLProdukt=4,BT529,0))))","v":0},{"$f":"IF(GRLProdukt=1,AK529,IF(GRLProdukt=2,AW529,IF(GRLProdukt=3,BI529,IF(GRLProdukt=4,BU529,0))))","v":0},{"$f":"IF(GRLProdukt=1,AL529,IF(GRLProdukt=2,AX529,IF(GRLProdukt=3,BJ529,IF(GRLProdukt=4,BV529,0))))","v":0},{"$f":"IF(GRLProdukt=1,AM529,IF(GRLProdukt=2,AY529,IF(GRLProdukt=3,BK529,IF(GRLProdukt=4,BW529,0))))","v":0},{"$f":"IF(GRLProdukt=1,AN529,IF(GRLProdukt=2,AZ529,IF(GRLProdukt=3,BL529,IF(GRLProdukt=4,BX529,0))))","v":0},20,null,7503]
[8,5,6,4,null,null,null,"Avlinger",null,null,{"$f":"IF(E530<>\"\",1,0)","v":0},{"$f":"IF(F530<>\"\",1,0)+K530","v":0},{"$f":"IF(G530<>\"\",1,0)+L530","v":0},{"$f":"IF(H530<>\"\",1,0)+M530","v":1},{"$f":"A530+1","v":9},{"$f":"VALUE(A530&B530&C530&D530)","v":8564},{"$f":"IF(GRLProdukt=1,AC530,IF(GRLProdukt=2,AO530,IF(GRLProdukt=3,BA530,IF(GRLProdukt=4,BM530,0))))","v":0},{"$f":"IF(GRLProdukt=1,AD530,IF(GRLProdukt=2,AP530,IF(GRLProdukt=3,BB530,IF(GRLProdukt=4,BN530,0))))","v":0},{"$f":"IF(GRLProdukt=1,AE530,IF(GRLProdukt=2,AQ530,IF(GRLProdukt=3,BC530,IF(GRLProdukt=4,BO530,0))))","v":0},{"$f":"IF(GRLProdukt=1,AF530,IF(GRLProdukt=2,AR530,IF(GRLProdukt=3,BD530,IF(GRLProdukt=4,BP530,0))))","v":0},{"$f":"IF(GRLProdukt=1,AG530,IF(GRLProdukt=2,AS530,IF(GRLProdukt=3,BE530,IF(GRLProdukt=4,BQ530,0))))","v":0},{"$f":"IF(GRLProdukt=1,AH530,IF(GRLProdukt=2,AT530,IF(GRLProdukt=3,BF530,IF(GRLProdukt=4,BR530,0))))","v":0},{"$f":"IF(GRLProdukt=1,AI530,IF(GRLProdukt=2,AU530,IF(GRLProdukt=3,BG530,IF(GRLProdukt=4,BS530,0))))","v":0},{"$f":"IF(GRLProdukt=1,AJ530,IF(GRLProdukt=2,AV530,IF(GRLProdukt=3,BH530,IF(GRLProdukt=4,BT530,0))))","v":0},{"$f":"IF(GRLProdukt=1,AK530,IF(GRLProdukt=2,AW530,IF(GRLProdukt=3,BI530,IF(GRLProdukt=4,BU530,0))))","v":0},{"$f":"IF(GRLProdukt=1,AL530,IF(GRLProdukt=2,AX530,IF(GRLProdukt=3,BJ530,IF(GRLProdukt=4,BV530,0))))","v":0},{"$f":"IF(GRLProdukt=1,AM530,IF(GRLProdukt=2,AY530,IF(GRLProdukt=3,BK530,IF(GRLProdukt=4,BW530,0))))","v":0},{"$f":"IF(GRLProdukt=1,AN530,IF(GRLProdukt=2,AZ530,IF(GRLProdukt=3,BL530,IF(GRLProdukt=4,BX530,0))))","v":0},20,null,7504]
[8,5,6,5,null,null,null,"Forsikring annet drift",null,null,{"$f":"IF(E531<>\"\",1,0)","v":0},{"$f":"IF(F531<>\"\",1,0)+K531","v":0},{"$f":"IF(G531<>\"\",1,0)+L531","v":0},{"$f":"IF(H531<>\"\",1,0)+M531","v":1},{"$f":"A531+1","v":9},{"$f":"VALUE(A531&B531&C531&D531)","v":8565},{"$f":"IF(GRLProdukt=1,AC531,IF(GRLProdukt=2,AO531,IF(GRLProdukt=3,BA531,IF(GRLProdukt=4,BM531,0))))","v":0},{"$f":"IF(GRLProdukt=1,AD531,IF(GRLProdukt=2,AP531,IF(GRLProdukt=3,BB531,IF(GRLProdukt=4,BN531,0))))","v":0},{"$f":"IF(GRLProdukt=1,AE531,IF(GRLProdukt=2,AQ531,IF(GRLProdukt=3,BC531,IF(GRLProdukt=4,BO531,0))))","v":0},{"$f":"IF(GRLProdukt=1,AF531,IF(GRLProdukt=2,AR531,IF(GRLProdukt=3,BD531,IF(GRLProdukt=4,BP531,0))))","v":0},{"$f":"IF(GRLProdukt=1,AG531,IF(GRLProdukt=2,AS531,IF(GRLProdukt=3,BE531,IF(GRLProdukt=4,BQ531,0))))","v":0},{"$f":"IF(GRLProdukt=1,AH531,IF(GRLProdukt=2,AT531,IF(GRLProdukt=3,BF531,IF(GRLProdukt=4,BR531,0))))","v":0},{"$f":"IF(GRLProdukt=1,AI531,IF(GRLProdukt=2,AU531,IF(GRLProdukt=3,BG531,IF(GRLProdukt=4,BS531,0))))","v":0},{"$f":"IF(GRLProdukt=1,AJ531,IF(GRLProdukt=2,AV531,IF(GRLProdukt=3,BH531,IF(GRLProdukt=4,BT531,0))))","v":0},{"$f":"IF(GRLProdukt=1,AK531,IF(GRLProdukt=2,AW531,IF(GRLProdukt=3,BI531,IF(GRLProdukt=4,BU531,0))))","v":0},{"$f":"IF(GRLProdukt=1,AL531,IF(GRLProdukt=2,AX531,IF(GRLProdukt=3,BJ531,IF(GRLProdukt=4,BV531,0))))","v":0},{"$f":"IF(GRLProdukt=1,AM531,IF(GRLProdukt=2,AY531,IF(GRLProdukt=3,BK531,IF(GRLProdukt=4,BW531,0))))","v":0},{"$f":"IF(GRLProdukt=1,AN531,IF(GRLProdukt=2,AZ531,IF(GRLProdukt=3,BL531,IF(GRLProdukt=4,BX531,0))))","v":0},20,null,7509]
[8,5,6,6,null,null,null,"Kårbolig",null,null,{"$f":"IF(E532<>\"\",1,0)","v":0},{"$f":"IF(F532<>\"\",1,0)+K532","v":0},{"$f":"IF(G532<>\"\",1,0)+L532","v":0},{"$f":"IF(H532<>\"\",1,0)+M532","v":1},{"$f":"A532+1","v":9},{"$f":"VALUE(A532&B532&C532&D532)","v":8566},{"$f":"IF(GRLProdukt=1,AC532,IF(GRLProdukt=2,AO532,IF(GRLProdukt=3,BA532,IF(GRLProdukt=4,BM532,0))))","v":0},{"$f":"IF(GRLProdukt=1,AD532,IF(GRLProdukt=2,AP532,IF(GRLProdukt=3,BB532,IF(GRLProdukt=4,BN532,0))))","v":0},{"$f":"IF(GRLProdukt=1,AE532,IF(GRLProdukt=2,AQ532,IF(GRLProdukt=3,BC532,IF(GRLProdukt=4,BO532,0))))","v":0},{"$f":"IF(GRLProdukt=1,AF532,IF(GRLProdukt=2,AR532,IF(GRLProdukt=3,BD532,IF(GRLProdukt=4,BP532,0))))","v":0},{"$f":"IF(GRLProdukt=1,AG532,IF(GRLProdukt=2,AS532,IF(GRLProdukt=3,BE532,IF(GRLProdukt=4,BQ532,0))))","v":0},{"$f":"IF(GRLProdukt=1,AH532,IF(GRLProdukt=2,AT532,IF(GRLProdukt=3,BF532,IF(GRLProdukt=4,BR532,0))))","v":0},{"$f":"IF(GRLProdukt=1,AI532,IF(GRLProdukt=2,AU532,IF(GRLProdukt=3,BG532,IF(GRLProdukt=4,BS532,0))))","v":0},{"$f":"IF(GRLProdukt=1,AJ532,IF(GRLProdukt=2,AV532,IF(GRLProdukt=3,BH532,IF(GRLProdukt=4,BT532,0))))","v":0},{"$f":"IF(GRLProdukt=1,AK532,IF(GRLProdukt=2,AW532,IF(GRLProdukt=3,BI532,IF(GRLProdukt=4,BU532,0))))","v":0},{"$f":"IF(GRLProdukt=1,AL532,IF(GRLProdukt=2,AX532,IF(GRLProdukt=3,BJ532,IF(GRLProdukt=4,BV532,0))))","v":0},{"$f":"IF(GRLProdukt=1,AM532,IF(GRLProdukt=2,AY532,IF(GRLProdukt=3,BK532,IF(GRLProdukt=4,BW532,0))))","v":0},{"$f":"IF(GRLProdukt=1,AN532,IF(GRLProdukt=2,AZ532,IF(GRLProdukt=3,BL532,IF(GRLProdukt=4,BX532,0))))","v":0},20,null,7508]
[8,5,6,7,null,null,null,"Utleiebolig",null,null,{"$f":"IF(E533<>\"\",1,0)","v":0},{"$f":"IF(F533<>\"\",1,0)+K533","v":0},{"$f":"IF(G533<>\"\",1,0)+L533","v":0},{"$f":"IF(H533<>\"\",1,0)+M533","v":1},{"$f":"A533+1","v":9},{"$f":"VALUE(A533&B533&C533&D533)","v":8567},{"$f":"IF(GRLProdukt=1,AC533,IF(GRLProdukt=2,AO533,IF(GRLProdukt=3,BA533,IF(GRLProdukt=4,BM533,0))))","v":0},{"$f":"IF(GRLProdukt=1,AD533,IF(GRLProdukt=2,AP533,IF(GRLProdukt=3,BB533,IF(GRLProdukt=4,BN533,0))))","v":0},{"$f":"IF(GRLProdukt=1,AE533,IF(GRLProdukt=2,AQ533,IF(GRLProdukt=3,BC533,IF(GRLProdukt=4,BO533,0))))","v":0},{"$f":"IF(GRLProdukt=1,AF533,IF(GRLProdukt=2,AR533,IF(GRLProdukt=3,BD533,IF(GRLProdukt=4,BP533,0))))","v":0},{"$f":"IF(GRLProdukt=1,AG533,IF(GRLProdukt=2,AS533,IF(GRLProdukt=3,BE533,IF(GRLProdukt=4,BQ533,0))))","v":0},{"$f":"IF(GRLProdukt=1,AH533,IF(GRLProdukt=2,AT533,IF(GRLProdukt=3,BF533,IF(GRLProdukt=4,BR533,0))))","v":0},{"$f":"IF(GRLProdukt=1,AI533,IF(GRLProdukt=2,AU533,IF(GRLProdukt=3,BG533,IF(GRLProdukt=4,BS533,0))))","v":0},{"$f":"IF(GRLProdukt=1,AJ533,IF(GRLProdukt=2,AV533,IF(GRLProdukt=3,BH533,IF(GRLProdukt=4,BT533,0))))","v":0},{"$f":"IF(GRLProdukt=1,AK533,IF(GRLProdukt=2,AW533,IF(GRLProdukt=3,BI533,IF(GRLProdukt=4,BU533,0))))","v":0},{"$f":"IF(GRLProdukt=1,AL533,IF(GRLProdukt=2,AX533,IF(GRLProdukt=3,BJ533,IF(GRLProdukt=4,BV533,0))))","v":0},{"$f":"IF(GRLProdukt=1,AM533,IF(GRLProdukt=2,AY533,IF(GRLProdukt=3,BK533,IF(GRLProdukt=4,BW533,0))))","v":0},{"$f":"IF(GRLProdukt=1,AN533,IF(GRLProdukt=2,AZ533,IF(GRLProdukt=3,BL533,IF(GRLProdukt=4,BX533,0))))","v":0},20]
[8,5,6,8,null,null,null,"Bil i Næring",null,null,{"$f":"IF(E534<>\"\",1,0)","v":0},{"$f":"IF(F534<>\"\",1,0)+K534","v":0},{"$f":"IF(G534<>\"\",1,0)+L534","v":0},{"$f":"IF(H534<>\"\",1,0)+M534","v":1},{"$f":"A534+1","v":9},{"$f":"VALUE(A534&B534&C534&D534)","v":8568},{"$f":"IF(GRLProdukt=1,AC534,IF(GRLProdukt=2,AO534,IF(GRLProdukt=3,BA534,IF(GRLProdukt=4,BM534,0))))","v":0},{"$f":"IF(GRLProdukt=1,AD534,IF(GRLProdukt=2,AP534,IF(GRLProdukt=3,BB534,IF(GRLProdukt=4,BN534,0))))","v":0},{"$f":"IF(GRLProdukt=1,AE534,IF(GRLProdukt=2,AQ534,IF(GRLProdukt=3,BC534,IF(GRLProdukt=4,BO534,0))))","v":0},{"$f":"IF(GRLProdukt=1,AF534,IF(GRLProdukt=2,AR534,IF(GRLProdukt=3,BD534,IF(GRLProdukt=4,BP534,0))))","v":0},{"$f":"IF(GRLProdukt=1,AG534,IF(GRLProdukt=2,AS534,IF(GRLProdukt=3,BE534,IF(GRLProdukt=4,BQ534,0))))","v":0},{"$f":"IF(GRLProdukt=1,AH534,IF(GRLProdukt=2,AT534,IF(GRLProdukt=3,BF534,IF(GRLProdukt=4,BR534,0))))","v":0},{"$f":"IF(GRLProdukt=1,AI534,IF(GRLProdukt=2,AU534,IF(GRLProdukt=3,BG534,IF(GRLProdukt=4,BS534,0))))","v":0},{"$f":"IF(GRLProdukt=1,AJ534,IF(GRLProdukt=2,AV534,IF(GRLProdukt=3,BH534,IF(GRLProdukt=4,BT534,0))))","v":0},{"$f":"IF(GRLProdukt=1,AK534,IF(GRLProdukt=2,AW534,IF(GRLProdukt=3,BI534,IF(GRLProdukt=4,BU534,0))))","v":0},{"$f":"IF(GRLProdukt=1,AL534,IF(GRLProdukt=2,AX534,IF(GRLProdukt=3,BJ534,IF(GRLProdukt=4,BV534,0))))","v":0},{"$f":"IF(GRLProdukt=1,AM534,IF(GRLProdukt=2,AY534,IF(GRLProdukt=3,BK534,IF(GRLProdukt=4,BW534,0))))","v":0},{"$f":"IF(GRLProdukt=1,AN534,IF(GRLProdukt=2,AZ534,IF(GRLProdukt=3,BL534,IF(GRLProdukt=4,BX534,0))))","v":0},20,null,7040]
[8,5,6,9,null,null,null,"Skogforsikringer",null,null,{"$f":"IF(E535<>\"\",1,0)","v":0},{"$f":"IF(F535<>\"\",1,0)+K535","v":0},{"$f":"IF(G535<>\"\",1,0)+L535","v":0},{"$f":"IF(H535<>\"\",1,0)+M535","v":1},{"$f":"A535+1","v":9},{"$f":"VALUE(A535&B535&C535&D535)","v":8569},{"$f":"IF(GRLProdukt=1,AC535,IF(GRLProdukt=2,AO535,IF(GRLProdukt=3,BA535,IF(GRLProdukt=4,BM535,0))))","v":0},{"$f":"IF(GRLProdukt=1,AD535,IF(GRLProdukt=2,AP535,IF(GRLProdukt=3,BB535,IF(GRLProdukt=4,BN535,0))))","v":0},{"$f":"IF(GRLProdukt=1,AE535,IF(GRLProdukt=2,AQ535,IF(GRLProdukt=3,BC535,IF(GRLProdukt=4,BO535,0))))","v":0},{"$f":"IF(GRLProdukt=1,AF535,IF(GRLProdukt=2,AR535,IF(GRLProdukt=3,BD535,IF(GRLProdukt=4,BP535,0))))","v":0},{"$f":"IF(GRLProdukt=1,AG535,IF(GRLProdukt=2,AS535,IF(GRLProdukt=3,BE535,IF(GRLProdukt=4,BQ535,0))))","v":0},{"$f":"IF(GRLProdukt=1,AH535,IF(GRLProdukt=2,AT535,IF(GRLProdukt=3,BF535,IF(GRLProdukt=4,BR535,0))))","v":0},{"$f":"IF(GRLProdukt=1,AI535,IF(GRLProdukt=2,AU535,IF(GRLProdukt=3,BG535,IF(GRLProdukt=4,BS535,0))))","v":0},{"$f":"IF(GRLProdukt=1,AJ535,IF(GRLProdukt=2,AV535,IF(GRLProdukt=3,BH535,IF(GRLProdukt=4,BT535,0))))","v":0},{"$f":"IF(GRLProdukt=1,AK535,IF(GRLProdukt=2,AW535,IF(GRLProdukt=3,BI535,IF(GRLProdukt=4,BU535,0))))","v":0},{"$f":"IF(GRLProdukt=1,AL535,IF(GRLProdukt=2,AX535,IF(GRLProdukt=3,BJ535,IF(GRLProdukt=4,BV535,0))))","v":0},{"$f":"IF(GRLProdukt=1,AM535,IF(GRLProdukt=2,AY535,IF(GRLProdukt=3,BK535,IF(GRLProdukt=4,BW535,0))))","v":0},{"$f":"IF(GRLProdukt=1,AN535,IF(GRLProdukt=2,AZ535,IF(GRLProdukt=3,BL535,IF(GRLProdukt=4,BX535,0))))","v":0},30,null,7505]
[8,5,7,1,null,null,null,"Personal og personforsikringer i næring",null,null,{"$f":"IF(E536<>\"\",1,0)","v":0},{"$f":"IF(F536<>\"\",1,0)+K536","v":0},{"$f":"IF(G536<>\"\",1,0)+L536","v":0},{"$f":"IF(H536<>\"\",1,0)+M536","v":1},{"$f":"A536+1","v":9},{"$f":"VALUE(A536&B536&C536&D536)","v":8571},{"$f":"IF(GRLProdukt=1,AC536,IF(GRLProdukt=2,AO536,IF(GRLProdukt=3,BA536,IF(GRLProdukt=4,BM536,0))))","v":0},{"$f":"IF(GRLProdukt=1,AD536,IF(GRLProdukt=2,AP536,IF(GRLProdukt=3,BB536,IF(GRLProdukt=4,BN536,0))))","v":0},{"$f":"IF(GRLProdukt=1,AE536,IF(GRLProdukt=2,AQ536,IF(GRLProdukt=3,BC536,IF(GRLProdukt=4,BO536,0))))","v":0},{"$f":"IF(GRLProdukt=1,AF536,IF(GRLProdukt=2,AR536,IF(GRLProdukt=3,BD536,IF(GRLProdukt=4,BP536,0))))","v":0},{"$f":"IF(GRLProdukt=1,AG536,IF(GRLProdukt=2,AS536,IF(GRLProdukt=3,BE536,IF(GRLProdukt=4,BQ536,0))))","v":0},{"$f":"IF(GRLProdukt=1,AH536,IF(GRLProdukt=2,AT536,IF(GRLProdukt=3,BF536,IF(GRLProdukt=4,BR536,0))))","v":0},{"$f":"IF(GRLProdukt=1,AI536,IF(GRLProdukt=2,AU536,IF(GRLProdukt=3,BG536,IF(GRLProdukt=4,BS536,0))))","v":0},{"$f":"IF(GRLProdukt=1,AJ536,IF(GRLProdukt=2,AV536,IF(GRLProdukt=3,BH536,IF(GRLProdukt=4,BT536,0))))","v":0},{"$f":"IF(GRLProdukt=1,AK536,IF(GRLProdukt=2,AW536,IF(GRLProdukt=3,BI536,IF(GRLProdukt=4,BU536,0))))","v":0},{"$f":"IF(GRLProdukt=1,AL536,IF(GRLProdukt=2,AX536,IF(GRLProdukt=3,BJ536,IF(GRLProdukt=4,BV536,0))))","v":0},{"$f":"IF(GRLProdukt=1,AM536,IF(GRLProdukt=2,AY536,IF(GRLProdukt=3,BK536,IF(GRLProdukt=4,BW536,0))))","v":0},{"$f":"IF(GRLProdukt=1,AN536,IF(GRLProdukt=2,AZ536,IF(GRLProdukt=3,BL536,IF(GRLProdukt=4,BX536,0))))","v":0},20]
[8,5,7,9,null,null,null,"Private forsikringer",null,null,{"$f":"IF(E537<>\"\",1,0)","v":0},{"$f":"IF(F537<>\"\",1,0)+K537","v":0},{"$f":"IF(G537<>\"\",1,0)+L537","v":0},{"$f":"IF(H537<>\"\",1,0)+M537","v":1},{"$f":"A537+1","v":9},{"$f":"VALUE(A537&B537&C537&D537)","v":8579},{"$f":"IF(GRLProdukt=1,AC537,IF(GRLProdukt=2,AO537,IF(GRLProdukt=3,BA537,IF(GRLProdukt=4,BM537,0))))","v":0},{"$f":"IF(GRLProdukt=1,AD537,IF(GRLProdukt=2,AP537,IF(GRLProdukt=3,BB537,IF(GRLProdukt=4,BN537,0))))","v":0},{"$f":"IF(GRLProdukt=1,AE537,IF(GRLProdukt=2,AQ537,IF(GRLProdukt=3,BC537,IF(GRLProdukt=4,BO537,0))))","v":0},{"$f":"IF(GRLProdukt=1,AF537,IF(GRLProdukt=2,AR537,IF(GRLProdukt=3,BD537,IF(GRLProdukt=4,BP537,0))))","v":0},{"$f":"IF(GRLProdukt=1,AG537,IF(GRLProdukt=2,AS537,IF(GRLProdukt=3,BE537,IF(GRLProdukt=4,BQ537,0))))","v":0},{"$f":"IF(GRLProdukt=1,AH537,IF(GRLProdukt=2,AT537,IF(GRLProdukt=3,BF537,IF(GRLProdukt=4,BR537,0))))","v":0},{"$f":"IF(GRLProdukt=1,AI537,IF(GRLProdukt=2,AU537,IF(GRLProdukt=3,BG537,IF(GRLProdukt=4,BS537,0))))","v":0},{"$f":"IF(GRLProdukt=1,AJ537,IF(GRLProdukt=2,AV537,IF(GRLProdukt=3,BH537,IF(GRLProdukt=4,BT537,0))))","v":0},{"$f":"IF(GRLProdukt=1,AK537,IF(GRLProdukt=2,AW537,IF(GRLProdukt=3,BI537,IF(GRLProdukt=4,BU537,0))))","v":0},{"$f":"IF(GRLProdukt=1,AL537,IF(GRLProdukt=2,AX537,IF(GRLProdukt=3,BJ537,IF(GRLProdukt=4,BV537,0))))","v":0},{"$f":"IF(GRLProdukt=1,AM537,IF(GRLProdukt=2,AY537,IF(GRLProdukt=3,BK537,IF(GRLProdukt=4,BW537,0))))","v":0},{"$f":"IF(GRLProdukt=1,AN537,IF(GRLProdukt=2,AZ537,IF(GRLProdukt=3,BL537,IF(GRLProdukt=4,BX537,0))))","v":0},90,null,7500]
[8,6,0,0,null,"Produkter knyttet til varige driftsmidler",null,null,null,null,{"$f":"IF(E538<>\"\",1,0)","v":0},{"$f":"IF(F538<>\"\",1,0)+K538","v":1},{"$f":"IF(G538<>\"\",1,0)+L538","v":1},{"$f":"IF(H538<>\"\",1,0)+M538","v":1},{"$f":"A538+1","v":9},{"$f":"VALUE(A538&B538&C538&D538)","v":8600},{"$f":"IF(GRLProdukt=1,AC538,IF(GRLProdukt=2,AO538,IF(GRLProdukt=3,BA538,IF(GRLProdukt=4,BM538,0))))","v":0},{"$f":"IF(GRLProdukt=1,AD538,IF(GRLProdukt=2,AP538,IF(GRLProdukt=3,BB538,IF(GRLProdukt=4,BN538,0))))","v":0},{"$f":"IF(GRLProdukt=1,AE538,IF(GRLProdukt=2,AQ538,IF(GRLProdukt=3,BC538,IF(GRLProdukt=4,BO538,0))))","v":0},{"$f":"IF(GRLProdukt=1,AF538,IF(GRLProdukt=2,AR538,IF(GRLProdukt=3,BD538,IF(GRLProdukt=4,BP538,0))))","v":0},{"$f":"IF(GRLProdukt=1,AG538,IF(GRLProdukt=2,AS538,IF(GRLProdukt=3,BE538,IF(GRLProdukt=4,BQ538,0))))","v":0},{"$f":"IF(GRLProdukt=1,AH538,IF(GRLProdukt=2,AT538,IF(GRLProdukt=3,BF538,IF(GRLProdukt=4,BR538,0))))","v":0},{"$f":"IF(GRLProdukt=1,AI538,IF(GRLProdukt=2,AU538,IF(GRLProdukt=3,BG538,IF(GRLProdukt=4,BS538,0))))","v":0},{"$f":"IF(GRLProdukt=1,AJ538,IF(GRLProdukt=2,AV538,IF(GRLProdukt=3,BH538,IF(GRLProdukt=4,BT538,0))))","v":0},{"$f":"IF(GRLProdukt=1,AK538,IF(GRLProdukt=2,AW538,IF(GRLProdukt=3,BI538,IF(GRLProdukt=4,BU538,0))))","v":0},{"$f":"IF(GRLProdukt=1,AL538,IF(GRLProdukt=2,AX538,IF(GRLProdukt=3,BJ538,IF(GRLProdukt=4,BV538,0))))","v":0},{"$f":"IF(GRLProdukt=1,AM538,IF(GRLProdukt=2,AY538,IF(GRLProdukt=3,BK538,IF(GRLProdukt=4,BW538,0))))","v":0},{"$f":"IF(GRLProdukt=1,AN538,IF(GRLProdukt=2,AZ538,IF(GRLProdukt=3,BL538,IF(GRLProdukt=4,BX538,0))))","v":0},20]
[8,6,1,0,null,null,"Motoriserte driftsmiddel",null,null,null,{"$f":"IF(E539<>\"\",1,0)","v":0},{"$f":"IF(F539<>\"\",1,0)+K539","v":0},{"$f":"IF(G539<>\"\",1,0)+L539","v":1},{"$f":"IF(H539<>\"\",1,0)+M539","v":1},{"$f":"A539+1","v":9},{"$f":"VALUE(A539&B539&C539&D539)","v":8610},{"$f":"IF(GRLProdukt=1,AC539,IF(GRLProdukt=2,AO539,IF(GRLProdukt=3,BA539,IF(GRLProdukt=4,BM539,0))))","v":0},{"$f":"IF(GRLProdukt=1,AD539,IF(GRLProdukt=2,AP539,IF(GRLProdukt=3,BB539,IF(GRLProdukt=4,BN539,0))))","v":0},{"$f":"IF(GRLProdukt=1,AE539,IF(GRLProdukt=2,AQ539,IF(GRLProdukt=3,BC539,IF(GRLProdukt=4,BO539,0))))","v":0},{"$f":"IF(GRLProdukt=1,AF539,IF(GRLProdukt=2,AR539,IF(GRLProdukt=3,BD539,IF(GRLProdukt=4,BP539,0))))","v":0},{"$f":"IF(GRLProdukt=1,AG539,IF(GRLProdukt=2,AS539,IF(GRLProdukt=3,BE539,IF(GRLProdukt=4,BQ539,0))))","v":0},{"$f":"IF(GRLProdukt=1,AH539,IF(GRLProdukt=2,AT539,IF(GRLProdukt=3,BF539,IF(GRLProdukt=4,BR539,0))))","v":0},{"$f":"IF(GRLProdukt=1,AI539,IF(GRLProdukt=2,AU539,IF(GRLProdukt=3,BG539,IF(GRLProdukt=4,BS539,0))))","v":0},{"$f":"IF(GRLProdukt=1,AJ539,IF(GRLProdukt=2,AV539,IF(GRLProdukt=3,BH539,IF(GRLProdukt=4,BT539,0))))","v":0},{"$f":"IF(GRLProdukt=1,AK539,IF(GRLProdukt=2,AW539,IF(GRLProdukt=3,BI539,IF(GRLProdukt=4,BU539,0))))","v":0},{"$f":"IF(GRLProdukt=1,AL539,IF(GRLProdukt=2,AX539,IF(GRLProdukt=3,BJ539,IF(GRLProdukt=4,BV539,0))))","v":0},{"$f":"IF(GRLProdukt=1,AM539,IF(GRLProdukt=2,AY539,IF(GRLProdukt=3,BK539,IF(GRLProdukt=4,BW539,0))))","v":0},{"$f":"IF(GRLProdukt=1,AN539,IF(GRLProdukt=2,AZ539,IF(GRLProdukt=3,BL539,IF(GRLProdukt=4,BX539,0))))","v":0},20]
[8,6,1,1,null,null,null,"Traktor",null,"H.GR. 12 - Traktorer",{"$f":"IF(E540<>\"\",1,0)","v":0},{"$f":"IF(F540<>\"\",1,0)+K540","v":0},{"$f":"IF(G540<>\"\",1,0)+L540","v":0},{"$f":"IF(H540<>\"\",1,0)+M540","v":1},{"$f":"A540+1","v":9},{"$f":"VALUE(A540&B540&C540&D540)","v":8611},{"$f":"IF(GRLProdukt=1,AC540,IF(GRLProdukt=2,AO540,IF(GRLProdukt=3,BA540,IF(GRLProdukt=4,BM540,0))))","v":0},{"$f":"IF(GRLProdukt=1,AD540,IF(GRLProdukt=2,AP540,IF(GRLProdukt=3,BB540,IF(GRLProdukt=4,BN540,0))))","v":0},{"$f":"IF(GRLProdukt=1,AE540,IF(GRLProdukt=2,AQ540,IF(GRLProdukt=3,BC540,IF(GRLProdukt=4,BO540,0))))","v":0},{"$f":"IF(GRLProdukt=1,AF540,IF(GRLProdukt=2,AR540,IF(GRLProdukt=3,BD540,IF(GRLProdukt=4,BP540,0))))","v":0},{"$f":"IF(GRLProdukt=1,AG540,IF(GRLProdukt=2,AS540,IF(GRLProdukt=3,BE540,IF(GRLProdukt=4,BQ540,0))))","v":0},{"$f":"IF(GRLProdukt=1,AH540,IF(GRLProdukt=2,AT540,IF(GRLProdukt=3,BF540,IF(GRLProdukt=4,BR540,0))))","v":0},{"$f":"IF(GRLProdukt=1,AI540,IF(GRLProdukt=2,AU540,IF(GRLProdukt=3,BG540,IF(GRLProdukt=4,BS540,0))))","v":0},{"$f":"IF(GRLProdukt=1,AJ540,IF(GRLProdukt=2,AV540,IF(GRLProdukt=3,BH540,IF(GRLProdukt=4,BT540,0))))","v":0},{"$f":"IF(GRLProdukt=1,AK540,IF(GRLProdukt=2,AW540,IF(GRLProdukt=3,BI540,IF(GRLProdukt=4,BU540,0))))","v":0},{"$f":"IF(GRLProdukt=1,AL540,IF(GRLProdukt=2,AX540,IF(GRLProdukt=3,BJ540,IF(GRLProdukt=4,BV540,0))))","v":0},{"$f":"IF(GRLProdukt=1,AM540,IF(GRLProdukt=2,AY540,IF(GRLProdukt=3,BK540,IF(GRLProdukt=4,BW540,0))))","v":0},{"$f":"IF(GRLProdukt=1,AN540,IF(GRLProdukt=2,AZ540,IF(GRLProdukt=3,BL540,IF(GRLProdukt=4,BX540,0))))","v":0},20]
[8,6,1,2,null,null,null,"Skurtresker",null,"H.GR. 13 - Skurtresker",{"$f":"IF(E541<>\"\",1,0)","v":0},{"$f":"IF(F541<>\"\",1,0)+K541","v":0},{"$f":"IF(G541<>\"\",1,0)+L541","v":0},{"$f":"IF(H541<>\"\",1,0)+M541","v":1},{"$f":"A541+1","v":9},{"$f":"VALUE(A541&B541&C541&D541)","v":8612},{"$f":"IF(GRLProdukt=1,AC541,IF(GRLProdukt=2,AO541,IF(GRLProdukt=3,BA541,IF(GRLProdukt=4,BM541,0))))","v":0},{"$f":"IF(GRLProdukt=1,AD541,IF(GRLProdukt=2,AP541,IF(GRLProdukt=3,BB541,IF(GRLProdukt=4,BN541,0))))","v":0},{"$f":"IF(GRLProdukt=1,AE541,IF(GRLProdukt=2,AQ541,IF(GRLProdukt=3,BC541,IF(GRLProdukt=4,BO541,0))))","v":0},{"$f":"IF(GRLProdukt=1,AF541,IF(GRLProdukt=2,AR541,IF(GRLProdukt=3,BD541,IF(GRLProdukt=4,BP541,0))))","v":0},{"$f":"IF(GRLProdukt=1,AG541,IF(GRLProdukt=2,AS541,IF(GRLProdukt=3,BE541,IF(GRLProdukt=4,BQ541,0))))","v":0},{"$f":"IF(GRLProdukt=1,AH541,IF(GRLProdukt=2,AT541,IF(GRLProdukt=3,BF541,IF(GRLProdukt=4,BR541,0))))","v":0},{"$f":"IF(GRLProdukt=1,AI541,IF(GRLProdukt=2,AU541,IF(GRLProdukt=3,BG541,IF(GRLProdukt=4,BS541,0))))","v":0},{"$f":"IF(GRLProdukt=1,AJ541,IF(GRLProdukt=2,AV541,IF(GRLProdukt=3,BH541,IF(GRLProdukt=4,BT541,0))))","v":0},{"$f":"IF(GRLProdukt=1,AK541,IF(GRLProdukt=2,AW541,IF(GRLProdukt=3,BI541,IF(GRLProdukt=4,BU541,0))))","v":0},{"$f":"IF(GRLProdukt=1,AL541,IF(GRLProdukt=2,AX541,IF(GRLProdukt=3,BJ541,IF(GRLProdukt=4,BV541,0))))","v":0},{"$f":"IF(GRLProdukt=1,AM541,IF(GRLProdukt=2,AY541,IF(GRLProdukt=3,BK541,IF(GRLProdukt=4,BW541,0))))","v":0},{"$f":"IF(GRLProdukt=1,AN541,IF(GRLProdukt=2,AZ541,IF(GRLProdukt=3,BL541,IF(GRLProdukt=4,BX541,0))))","v":0},20]
[8,6,1,3,null,null,null,"Gravemaskin",null,null,{"$f":"IF(E542<>\"\",1,0)","v":0},{"$f":"IF(F542<>\"\",1,0)+K542","v":0},{"$f":"IF(G542<>\"\",1,0)+L542","v":0},{"$f":"IF(H542<>\"\",1,0)+M542","v":1},{"$f":"A542+1","v":9},{"$f":"VALUE(A542&B542&C542&D542)","v":8613},{"$f":"IF(GRLProdukt=1,AC542,IF(GRLProdukt=2,AO542,IF(GRLProdukt=3,BA542,IF(GRLProdukt=4,BM542,0))))","v":0},{"$f":"IF(GRLProdukt=1,AD542,IF(GRLProdukt=2,AP542,IF(GRLProdukt=3,BB542,IF(GRLProdukt=4,BN542,0))))","v":0},{"$f":"IF(GRLProdukt=1,AE542,IF(GRLProdukt=2,AQ542,IF(GRLProdukt=3,BC542,IF(GRLProdukt=4,BO542,0))))","v":0},{"$f":"IF(GRLProdukt=1,AF542,IF(GRLProdukt=2,AR542,IF(GRLProdukt=3,BD542,IF(GRLProdukt=4,BP542,0))))","v":0},{"$f":"IF(GRLProdukt=1,AG542,IF(GRLProdukt=2,AS542,IF(GRLProdukt=3,BE542,IF(GRLProdukt=4,BQ542,0))))","v":0},{"$f":"IF(GRLProdukt=1,AH542,IF(GRLProdukt=2,AT542,IF(GRLProdukt=3,BF542,IF(GRLProdukt=4,BR542,0))))","v":0},{"$f":"IF(GRLProdukt=1,AI542,IF(GRLProdukt=2,AU542,IF(GRLProdukt=3,BG542,IF(GRLProdukt=4,BS542,0))))","v":0},{"$f":"IF(GRLProdukt=1,AJ542,IF(GRLProdukt=2,AV542,IF(GRLProdukt=3,BH542,IF(GRLProdukt=4,BT542,0))))","v":0},{"$f":"IF(GRLProdukt=1,AK542,IF(GRLProdukt=2,AW542,IF(GRLProdukt=3,BI542,IF(GRLProdukt=4,BU542,0))))","v":0},{"$f":"IF(GRLProdukt=1,AL542,IF(GRLProdukt=2,AX542,IF(GRLProdukt=3,BJ542,IF(GRLProdukt=4,BV542,0))))","v":0},{"$f":"IF(GRLProdukt=1,AM542,IF(GRLProdukt=2,AY542,IF(GRLProdukt=3,BK542,IF(GRLProdukt=4,BW542,0))))","v":0},{"$f":"IF(GRLProdukt=1,AN542,IF(GRLProdukt=2,AZ542,IF(GRLProdukt=3,BL542,IF(GRLProdukt=4,BX542,0))))","v":0},20]
[8,6,1,4,null,null,null,"Annet motorisert driftsmiddel",null,"(motorvogn) f.eks ATV, kompakt-/minilastere",{"$f":"IF(E543<>\"\",1,0)","v":0},{"$f":"IF(F543<>\"\",1,0)+K543","v":0},{"$f":"IF(G543<>\"\",1,0)+L543","v":0},{"$f":"IF(H543<>\"\",1,0)+M543","v":1},{"$f":"A543+1","v":9},{"$f":"VALUE(A543&B543&C543&D543)","v":8614},{"$f":"IF(GRLProdukt=1,AC543,IF(GRLProdukt=2,AO543,IF(GRLProdukt=3,BA543,IF(GRLProdukt=4,BM543,0))))","v":0},{"$f":"IF(GRLProdukt=1,AD543,IF(GRLProdukt=2,AP543,IF(GRLProdukt=3,BB543,IF(GRLProdukt=4,BN543,0))))","v":0},{"$f":"IF(GRLProdukt=1,AE543,IF(GRLProdukt=2,AQ543,IF(GRLProdukt=3,BC543,IF(GRLProdukt=4,BO543,0))))","v":0},{"$f":"IF(GRLProdukt=1,AF543,IF(GRLProdukt=2,AR543,IF(GRLProdukt=3,BD543,IF(GRLProdukt=4,BP543,0))))","v":0},{"$f":"IF(GRLProdukt=1,AG543,IF(GRLProdukt=2,AS543,IF(GRLProdukt=3,BE543,IF(GRLProdukt=4,BQ543,0))))","v":0},{"$f":"IF(GRLProdukt=1,AH543,IF(GRLProdukt=2,AT543,IF(GRLProdukt=3,BF543,IF(GRLProdukt=4,BR543,0))))","v":0},{"$f":"IF(GRLProdukt=1,AI543,IF(GRLProdukt=2,AU543,IF(GRLProdukt=3,BG543,IF(GRLProdukt=4,BS543,0))))","v":0},{"$f":"IF(GRLProdukt=1,AJ543,IF(GRLProdukt=2,AV543,IF(GRLProdukt=3,BH543,IF(GRLProdukt=4,BT543,0))))","v":0},{"$f":"IF(GRLProdukt=1,AK543,IF(GRLProdukt=2,AW543,IF(GRLProdukt=3,BI543,IF(GRLProdukt=4,BU543,0))))","v":0},{"$f":"IF(GRLProdukt=1,AL543,IF(GRLProdukt=2,AX543,IF(GRLProdukt=3,BJ543,IF(GRLProdukt=4,BV543,0))))","v":0},{"$f":"IF(GRLProdukt=1,AM543,IF(GRLProdukt=2,AY543,IF(GRLProdukt=3,BK543,IF(GRLProdukt=4,BW543,0))))","v":0},{"$f":"IF(GRLProdukt=1,AN543,IF(GRLProdukt=2,AZ543,IF(GRLProdukt=3,BL543,IF(GRLProdukt=4,BX543,0))))","v":0},20]
[8,6,1,5,null,null,null,"Bil i Næring",null,null,{"$f":"IF(E544<>\"\",1,0)","v":0},{"$f":"IF(F544<>\"\",1,0)+K544","v":0},{"$f":"IF(G544<>\"\",1,0)+L544","v":0},{"$f":"IF(H544<>\"\",1,0)+M544","v":1},{"$f":"A544+1","v":9},{"$f":"VALUE(A544&B544&C544&D544)","v":8615},{"$f":"IF(GRLProdukt=1,AC544,IF(GRLProdukt=2,AO544,IF(GRLProdukt=3,BA544,IF(GRLProdukt=4,BM544,0))))","v":0},{"$f":"IF(GRLProdukt=1,AD544,IF(GRLProdukt=2,AP544,IF(GRLProdukt=3,BB544,IF(GRLProdukt=4,BN544,0))))","v":0},{"$f":"IF(GRLProdukt=1,AE544,IF(GRLProdukt=2,AQ544,IF(GRLProdukt=3,BC544,IF(GRLProdukt=4,BO544,0))))","v":0},{"$f":"IF(GRLProdukt=1,AF544,IF(GRLProdukt=2,AR544,IF(GRLProdukt=3,BD544,IF(GRLProdukt=4,BP544,0))))","v":0},{"$f":"IF(GRLProdukt=1,AG544,IF(GRLProdukt=2,AS544,IF(GRLProdukt=3,BE544,IF(GRLProdukt=4,BQ544,0))))","v":0},{"$f":"IF(GRLProdukt=1,AH544,IF(GRLProdukt=2,AT544,IF(GRLProdukt=3,BF544,IF(GRLProdukt=4,BR544,0))))","v":0},{"$f":"IF(GRLProdukt=1,AI544,IF(GRLProdukt=2,AU544,IF(GRLProdukt=3,BG544,IF(GRLProdukt=4,BS544,0))))","v":0},{"$f":"IF(GRLProdukt=1,AJ544,IF(GRLProdukt=2,AV544,IF(GRLProdukt=3,BH544,IF(GRLProdukt=4,BT544,0))))","v":0},{"$f":"IF(GRLProdukt=1,AK544,IF(GRLProdukt=2,AW544,IF(GRLProdukt=3,BI544,IF(GRLProdukt=4,BU544,0))))","v":0},{"$f":"IF(GRLProdukt=1,AL544,IF(GRLProdukt=2,AX544,IF(GRLProdukt=3,BJ544,IF(GRLProdukt=4,BV544,0))))","v":0},{"$f":"IF(GRLProdukt=1,AM544,IF(GRLProdukt=2,AY544,IF(GRLProdukt=3,BK544,IF(GRLProdukt=4,BW544,0))))","v":0},{"$f":"IF(GRLProdukt=1,AN544,IF(GRLProdukt=2,AZ544,IF(GRLProdukt=3,BL544,IF(GRLProdukt=4,BX544,0))))","v":0},20]
[8,6,2,0,null,null,"Maskiner og redskaper",null,null,null,{"$f":"IF(E545<>\"\",1,0)","v":0},{"$f":"IF(F545<>\"\",1,0)+K545","v":0},{"$f":"IF(G545<>\"\",1,0)+L545","v":1},{"$f":"IF(H545<>\"\",1,0)+M545","v":1},{"$f":"A545+1","v":9},{"$f":"VALUE(A545&B545&C545&D545)","v":8620},{"$f":"IF(GRLProdukt=1,AC545,IF(GRLProdukt=2,AO545,IF(GRLProdukt=3,BA545,IF(GRLProdukt=4,BM545,0))))","v":0},{"$f":"IF(GRLProdukt=1,AD545,IF(GRLProdukt=2,AP545,IF(GRLProdukt=3,BB545,IF(GRLProdukt=4,BN545,0))))","v":0},{"$f":"IF(GRLProdukt=1,AE545,IF(GRLProdukt=2,AQ545,IF(GRLProdukt=3,BC545,IF(GRLProdukt=4,BO545,0))))","v":0},{"$f":"IF(GRLProdukt=1,AF545,IF(GRLProdukt=2,AR545,IF(GRLProdukt=3,BD545,IF(GRLProdukt=4,BP545,0))))","v":0},{"$f":"IF(GRLProdukt=1,AG545,IF(GRLProdukt=2,AS545,IF(GRLProdukt=3,BE545,IF(GRLProdukt=4,BQ545,0))))","v":0},{"$f":"IF(GRLProdukt=1,AH545,IF(GRLProdukt=2,AT545,IF(GRLProdukt=3,BF545,IF(GRLProdukt=4,BR545,0))))","v":0},{"$f":"IF(GRLProdukt=1,AI545,IF(GRLProdukt=2,AU545,IF(GRLProdukt=3,BG545,IF(GRLProdukt=4,BS545,0))))","v":0},{"$f":"IF(GRLProdukt=1,AJ545,IF(GRLProdukt=2,AV545,IF(GRLProdukt=3,BH545,IF(GRLProdukt=4,BT545,0))))","v":0},{"$f":"IF(GRLProdukt=1,AK545,IF(GRLProdukt=2,AW545,IF(GRLProdukt=3,BI545,IF(GRLProdukt=4,BU545,0))))","v":0},{"$f":"IF(GRLProdukt=1,AL545,IF(GRLProdukt=2,AX545,IF(GRLProdukt=3,BJ545,IF(GRLProdukt=4,BV545,0))))","v":0},{"$f":"IF(GRLProdukt=1,AM545,IF(GRLProdukt=2,AY545,IF(GRLProdukt=3,BK545,IF(GRLProdukt=4,BW545,0))))","v":0},{"$f":"IF(GRLProdukt=1,AN545,IF(GRLProdukt=2,AZ545,IF(GRLProdukt=3,BL545,IF(GRLProdukt=4,BX545,0))))","v":0},20]
[8,6,2,1,null,null,null,"Jordbearbeidingsredskaper",null,"H.GR. 01 - Jordbearbeidingsredsk.",{"$f":"IF(E546<>\"\",1,0)","v":0},{"$f":"IF(F546<>\"\",1,0)+K546","v":0},{"$f":"IF(G546<>\"\",1,0)+L546","v":0},{"$f":"IF(H546<>\"\",1,0)+M546","v":1},{"$f":"A546+1","v":9},{"$f":"VALUE(A546&B546&C546&D546)","v":8621},{"$f":"IF(GRLProdukt=1,AC546,IF(GRLProdukt=2,AO546,IF(GRLProdukt=3,BA546,IF(GRLProdukt=4,BM546,0))))","v":0},{"$f":"IF(GRLProdukt=1,AD546,IF(GRLProdukt=2,AP546,IF(GRLProdukt=3,BB546,IF(GRLProdukt=4,BN546,0))))","v":0},{"$f":"IF(GRLProdukt=1,AE546,IF(GRLProdukt=2,AQ546,IF(GRLProdukt=3,BC546,IF(GRLProdukt=4,BO546,0))))","v":0},{"$f":"IF(GRLProdukt=1,AF546,IF(GRLProdukt=2,AR546,IF(GRLProdukt=3,BD546,IF(GRLProdukt=4,BP546,0))))","v":0},{"$f":"IF(GRLProdukt=1,AG546,IF(GRLProdukt=2,AS546,IF(GRLProdukt=3,BE546,IF(GRLProdukt=4,BQ546,0))))","v":0},{"$f":"IF(GRLProdukt=1,AH546,IF(GRLProdukt=2,AT546,IF(GRLProdukt=3,BF546,IF(GRLProdukt=4,BR546,0))))","v":0},{"$f":"IF(GRLProdukt=1,AI546,IF(GRLProdukt=2,AU546,IF(GRLProdukt=3,BG546,IF(GRLProdukt=4,BS546,0))))","v":0},{"$f":"IF(GRLProdukt=1,AJ546,IF(GRLProdukt=2,AV546,IF(GRLProdukt=3,BH546,IF(GRLProdukt=4,BT546,0))))","v":0},{"$f":"IF(GRLProdukt=1,AK546,IF(GRLProdukt=2,AW546,IF(GRLProdukt=3,BI546,IF(GRLProdukt=4,BU546,0))))","v":0},{"$f":"IF(GRLProdukt=1,AL546,IF(GRLProdukt=2,AX546,IF(GRLProdukt=3,BJ546,IF(GRLProdukt=4,BV546,0))))","v":0},{"$f":"IF(GRLProdukt=1,AM546,IF(GRLProdukt=2,AY546,IF(GRLProdukt=3,BK546,IF(GRLProdukt=4,BW546,0))))","v":0},{"$f":"IF(GRLProdukt=1,AN546,IF(GRLProdukt=2,AZ546,IF(GRLProdukt=3,BL546,IF(GRLProdukt=4,BX546,0))))","v":0},20]
[8,6,2,2,null,null,null,"Gjødselutstyr",null,"H.GR. 02 - Gjødselutstyr",{"$f":"IF(E547<>\"\",1,0)","v":0},{"$f":"IF(F547<>\"\",1,0)+K547","v":0},{"$f":"IF(G547<>\"\",1,0)+L547","v":0},{"$f":"IF(H547<>\"\",1,0)+M547","v":1},{"$f":"A547+1","v":9},{"$f":"VALUE(A547&B547&C547&D547)","v":8622},{"$f":"IF(GRLProdukt=1,AC547,IF(GRLProdukt=2,AO547,IF(GRLProdukt=3,BA547,IF(GRLProdukt=4,BM547,0))))","v":0},{"$f":"IF(GRLProdukt=1,AD547,IF(GRLProdukt=2,AP547,IF(GRLProdukt=3,BB547,IF(GRLProdukt=4,BN547,0))))","v":0},{"$f":"IF(GRLProdukt=1,AE547,IF(GRLProdukt=2,AQ547,IF(GRLProdukt=3,BC547,IF(GRLProdukt=4,BO547,0))))","v":0},{"$f":"IF(GRLProdukt=1,AF547,IF(GRLProdukt=2,AR547,IF(GRLProdukt=3,BD547,IF(GRLProdukt=4,BP547,0))))","v":0},{"$f":"IF(GRLProdukt=1,AG547,IF(GRLProdukt=2,AS547,IF(GRLProdukt=3,BE547,IF(GRLProdukt=4,BQ547,0))))","v":0},{"$f":"IF(GRLProdukt=1,AH547,IF(GRLProdukt=2,AT547,IF(GRLProdukt=3,BF547,IF(GRLProdukt=4,BR547,0))))","v":0},{"$f":"IF(GRLProdukt=1,AI547,IF(GRLProdukt=2,AU547,IF(GRLProdukt=3,BG547,IF(GRLProdukt=4,BS547,0))))","v":0},{"$f":"IF(GRLProdukt=1,AJ547,IF(GRLProdukt=2,AV547,IF(GRLProdukt=3,BH547,IF(GRLProdukt=4,BT547,0))))","v":0},{"$f":"IF(GRLProdukt=1,AK547,IF(GRLProdukt=2,AW547,IF(GRLProdukt=3,BI547,IF(GRLProdukt=4,BU547,0))))","v":0},{"$f":"IF(GRLProdukt=1,AL547,IF(GRLProdukt=2,AX547,IF(GRLProdukt=3,BJ547,IF(GRLProdukt=4,BV547,0))))","v":0},{"$f":"IF(GRLProdukt=1,AM547,IF(GRLProdukt=2,AY547,IF(GRLProdukt=3,BK547,IF(GRLProdukt=4,BW547,0))))","v":0},{"$f":"IF(GRLProdukt=1,AN547,IF(GRLProdukt=2,AZ547,IF(GRLProdukt=3,BL547,IF(GRLProdukt=4,BX547,0))))","v":0},20]
[8,6,2,3,null,null,null,"Så- og plantemaskiner",null,"H.GR. 03 - Så- og plantemaskiner",{"$f":"IF(E548<>\"\",1,0)","v":0},{"$f":"IF(F548<>\"\",1,0)+K548","v":0},{"$f":"IF(G548<>\"\",1,0)+L548","v":0},{"$f":"IF(H548<>\"\",1,0)+M548","v":1},{"$f":"A548+1","v":9},{"$f":"VALUE(A548&B548&C548&D548)","v":8623},{"$f":"IF(GRLProdukt=1,AC548,IF(GRLProdukt=2,AO548,IF(GRLProdukt=3,BA548,IF(GRLProdukt=4,BM548,0))))","v":0},{"$f":"IF(GRLProdukt=1,AD548,IF(GRLProdukt=2,AP548,IF(GRLProdukt=3,BB548,IF(GRLProdukt=4,BN548,0))))","v":0},{"$f":"IF(GRLProdukt=1,AE548,IF(GRLProdukt=2,AQ548,IF(GRLProdukt=3,BC548,IF(GRLProdukt=4,BO548,0))))","v":0},{"$f":"IF(GRLProdukt=1,AF548,IF(GRLProdukt=2,AR548,IF(GRLProdukt=3,BD548,IF(GRLProdukt=4,BP548,0))))","v":0},{"$f":"IF(GRLProdukt=1,AG548,IF(GRLProdukt=2,AS548,IF(GRLProdukt=3,BE548,IF(GRLProdukt=4,BQ548,0))))","v":0},{"$f":"IF(GRLProdukt=1,AH548,IF(GRLProdukt=2,AT548,IF(GRLProdukt=3,BF548,IF(GRLProdukt=4,BR548,0))))","v":0},{"$f":"IF(GRLProdukt=1,AI548,IF(GRLProdukt=2,AU548,IF(GRLProdukt=3,BG548,IF(GRLProdukt=4,BS548,0))))","v":0},{"$f":"IF(GRLProdukt=1,AJ548,IF(GRLProdukt=2,AV548,IF(GRLProdukt=3,BH548,IF(GRLProdukt=4,BT548,0))))","v":0},{"$f":"IF(GRLProdukt=1,AK548,IF(GRLProdukt=2,AW548,IF(GRLProdukt=3,BI548,IF(GRLProdukt=4,BU548,0))))","v":0},{"$f":"IF(GRLProdukt=1,AL548,IF(GRLProdukt=2,AX548,IF(GRLProdukt=3,BJ548,IF(GRLProdukt=4,BV548,0))))","v":0},{"$f":"IF(GRLProdukt=1,AM548,IF(GRLProdukt=2,AY548,IF(GRLProdukt=3,BK548,IF(GRLProdukt=4,BW548,0))))","v":0},{"$f":"IF(GRLProdukt=1,AN548,IF(GRLProdukt=2,AZ548,IF(GRLProdukt=3,BL548,IF(GRLProdukt=4,BX548,0))))","v":0},20]
[8,6,2,4,null,null,null,"Gras- og høybergingsutstyr",null,"H.GR. 04 - Gras- og høybergingsutstyr",{"$f":"IF(E549<>\"\",1,0)","v":0},{"$f":"IF(F549<>\"\",1,0)+K549","v":0},{"$f":"IF(G549<>\"\",1,0)+L549","v":0},{"$f":"IF(H549<>\"\",1,0)+M549","v":1},{"$f":"A549+1","v":9},{"$f":"VALUE(A549&B549&C549&D549)","v":8624},{"$f":"IF(GRLProdukt=1,AC549,IF(GRLProdukt=2,AO549,IF(GRLProdukt=3,BA549,IF(GRLProdukt=4,BM549,0))))","v":0},{"$f":"IF(GRLProdukt=1,AD549,IF(GRLProdukt=2,AP549,IF(GRLProdukt=3,BB549,IF(GRLProdukt=4,BN549,0))))","v":0},{"$f":"IF(GRLProdukt=1,AE549,IF(GRLProdukt=2,AQ549,IF(GRLProdukt=3,BC549,IF(GRLProdukt=4,BO549,0))))","v":0},{"$f":"IF(GRLProdukt=1,AF549,IF(GRLProdukt=2,AR549,IF(GRLProdukt=3,BD549,IF(GRLProdukt=4,BP549,0))))","v":0},{"$f":"IF(GRLProdukt=1,AG549,IF(GRLProdukt=2,AS549,IF(GRLProdukt=3,BE549,IF(GRLProdukt=4,BQ549,0))))","v":0},{"$f":"IF(GRLProdukt=1,AH549,IF(GRLProdukt=2,AT549,IF(GRLProdukt=3,BF549,IF(GRLProdukt=4,BR549,0))))","v":0},{"$f":"IF(GRLProdukt=1,AI549,IF(GRLProdukt=2,AU549,IF(GRLProdukt=3,BG549,IF(GRLProdukt=4,BS549,0))))","v":0},{"$f":"IF(GRLProdukt=1,AJ549,IF(GRLProdukt=2,AV549,IF(GRLProdukt=3,BH549,IF(GRLProdukt=4,BT549,0))))","v":0},{"$f":"IF(GRLProdukt=1,AK549,IF(GRLProdukt=2,AW549,IF(GRLProdukt=3,BI549,IF(GRLProdukt=4,BU549,0))))","v":0},{"$f":"IF(GRLProdukt=1,AL549,IF(GRLProdukt=2,AX549,IF(GRLProdukt=3,BJ549,IF(GRLProdukt=4,BV549,0))))","v":0},{"$f":"IF(GRLProdukt=1,AM549,IF(GRLProdukt=2,AY549,IF(GRLProdukt=3,BK549,IF(GRLProdukt=4,BW549,0))))","v":0},{"$f":"IF(GRLProdukt=1,AN549,IF(GRLProdukt=2,AZ549,IF(GRLProdukt=3,BL549,IF(GRLProdukt=4,BX549,0))))","v":0},20]
[8,6,2,5,null,null,null,"Høstemaskiner",null,"H.GR. 05 - Høstemaskiner",{"$f":"IF(E550<>\"\",1,0)","v":0},{"$f":"IF(F550<>\"\",1,0)+K550","v":0},{"$f":"IF(G550<>\"\",1,0)+L550","v":0},{"$f":"IF(H550<>\"\",1,0)+M550","v":1},{"$f":"A550+1","v":9},{"$f":"VALUE(A550&B550&C550&D550)","v":8625},{"$f":"IF(GRLProdukt=1,AC550,IF(GRLProdukt=2,AO550,IF(GRLProdukt=3,BA550,IF(GRLProdukt=4,BM550,0))))","v":0},{"$f":"IF(GRLProdukt=1,AD550,IF(GRLProdukt=2,AP550,IF(GRLProdukt=3,BB550,IF(GRLProdukt=4,BN550,0))))","v":0},{"$f":"IF(GRLProdukt=1,AE550,IF(GRLProdukt=2,AQ550,IF(GRLProdukt=3,BC550,IF(GRLProdukt=4,BO550,0))))","v":0},{"$f":"IF(GRLProdukt=1,AF550,IF(GRLProdukt=2,AR550,IF(GRLProdukt=3,BD550,IF(GRLProdukt=4,BP550,0))))","v":0},{"$f":"IF(GRLProdukt=1,AG550,IF(GRLProdukt=2,AS550,IF(GRLProdukt=3,BE550,IF(GRLProdukt=4,BQ550,0))))","v":0},{"$f":"IF(GRLProdukt=1,AH550,IF(GRLProdukt=2,AT550,IF(GRLProdukt=3,BF550,IF(GRLProdukt=4,BR550,0))))","v":0},{"$f":"IF(GRLProdukt=1,AI550,IF(GRLProdukt=2,AU550,IF(GRLProdukt=3,BG550,IF(GRLProdukt=4,BS550,0))))","v":0},{"$f":"IF(GRLProdukt=1,AJ550,IF(GRLProdukt=2,AV550,IF(GRLProdukt=3,BH550,IF(GRLProdukt=4,BT550,0))))","v":0},{"$f":"IF(GRLProdukt=1,AK550,IF(GRLProdukt=2,AW550,IF(GRLProdukt=3,BI550,IF(GRLProdukt=4,BU550,0))))","v":0},{"$f":"IF(GRLProdukt=1,AL550,IF(GRLProdukt=2,AX550,IF(GRLProdukt=3,BJ550,IF(GRLProdukt=4,BV550,0))))","v":0},{"$f":"IF(GRLProdukt=1,AM550,IF(GRLProdukt=2,AY550,IF(GRLProdukt=3,BK550,IF(GRLProdukt=4,BW550,0))))","v":0},{"$f":"IF(GRLProdukt=1,AN550,IF(GRLProdukt=2,AZ550,IF(GRLProdukt=3,BL550,IF(GRLProdukt=4,BX550,0))))","v":0},20]
[8,6,2,6,null,null,null,"Sprøyteutstyr",null,"H.GR. 06 - Sprøyteutstyr",{"$f":"IF(E551<>\"\",1,0)","v":0},{"$f":"IF(F551<>\"\",1,0)+K551","v":0},{"$f":"IF(G551<>\"\",1,0)+L551","v":0},{"$f":"IF(H551<>\"\",1,0)+M551","v":1},{"$f":"A551+1","v":9},{"$f":"VALUE(A551&B551&C551&D551)","v":8626},{"$f":"IF(GRLProdukt=1,AC551,IF(GRLProdukt=2,AO551,IF(GRLProdukt=3,BA551,IF(GRLProdukt=4,BM551,0))))","v":0},{"$f":"IF(GRLProdukt=1,AD551,IF(GRLProdukt=2,AP551,IF(GRLProdukt=3,BB551,IF(GRLProdukt=4,BN551,0))))","v":0},{"$f":"IF(GRLProdukt=1,AE551,IF(GRLProdukt=2,AQ551,IF(GRLProdukt=3,BC551,IF(GRLProdukt=4,BO551,0))))","v":0},{"$f":"IF(GRLProdukt=1,AF551,IF(GRLProdukt=2,AR551,IF(GRLProdukt=3,BD551,IF(GRLProdukt=4,BP551,0))))","v":0},{"$f":"IF(GRLProdukt=1,AG551,IF(GRLProdukt=2,AS551,IF(GRLProdukt=3,BE551,IF(GRLProdukt=4,BQ551,0))))","v":0},{"$f":"IF(GRLProdukt=1,AH551,IF(GRLProdukt=2,AT551,IF(GRLProdukt=3,BF551,IF(GRLProdukt=4,BR551,0))))","v":0},{"$f":"IF(GRLProdukt=1,AI551,IF(GRLProdukt=2,AU551,IF(GRLProdukt=3,BG551,IF(GRLProdukt=4,BS551,0))))","v":0},{"$f":"IF(GRLProdukt=1,AJ551,IF(GRLProdukt=2,AV551,IF(GRLProdukt=3,BH551,IF(GRLProdukt=4,BT551,0))))","v":0},{"$f":"IF(GRLProdukt=1,AK551,IF(GRLProdukt=2,AW551,IF(GRLProdukt=3,BI551,IF(GRLProdukt=4,BU551,0))))","v":0},{"$f":"IF(GRLProdukt=1,AL551,IF(GRLProdukt=2,AX551,IF(GRLProdukt=3,BJ551,IF(GRLProdukt=4,BV551,0))))","v":0},{"$f":"IF(GRLProdukt=1,AM551,IF(GRLProdukt=2,AY551,IF(GRLProdukt=3,BK551,IF(GRLProdukt=4,BW551,0))))","v":0},{"$f":"IF(GRLProdukt=1,AN551,IF(GRLProdukt=2,AZ551,IF(GRLProdukt=3,BL551,IF(GRLProdukt=4,BX551,0))))","v":0},20]
[8,6,2,7,null,null,null,"Transportutstyr/vegvedlikeholdsutstyr",null,"H.GR. 07 - Transportutstyr/vegvedlikehold",{"$f":"IF(E552<>\"\",1,0)","v":0},{"$f":"IF(F552<>\"\",1,0)+K552","v":0},{"$f":"IF(G552<>\"\",1,0)+L552","v":0},{"$f":"IF(H552<>\"\",1,0)+M552","v":1},{"$f":"A552+1","v":9},{"$f":"VALUE(A552&B552&C552&D552)","v":8627},{"$f":"IF(GRLProdukt=1,AC552,IF(GRLProdukt=2,AO552,IF(GRLProdukt=3,BA552,IF(GRLProdukt=4,BM552,0))))","v":0},{"$f":"IF(GRLProdukt=1,AD552,IF(GRLProdukt=2,AP552,IF(GRLProdukt=3,BB552,IF(GRLProdukt=4,BN552,0))))","v":0},{"$f":"IF(GRLProdukt=1,AE552,IF(GRLProdukt=2,AQ552,IF(GRLProdukt=3,BC552,IF(GRLProdukt=4,BO552,0))))","v":0},{"$f":"IF(GRLProdukt=1,AF552,IF(GRLProdukt=2,AR552,IF(GRLProdukt=3,BD552,IF(GRLProdukt=4,BP552,0))))","v":0},{"$f":"IF(GRLProdukt=1,AG552,IF(GRLProdukt=2,AS552,IF(GRLProdukt=3,BE552,IF(GRLProdukt=4,BQ552,0))))","v":0},{"$f":"IF(GRLProdukt=1,AH552,IF(GRLProdukt=2,AT552,IF(GRLProdukt=3,BF552,IF(GRLProdukt=4,BR552,0))))","v":0},{"$f":"IF(GRLProdukt=1,AI552,IF(GRLProdukt=2,AU552,IF(GRLProdukt=3,BG552,IF(GRLProdukt=4,BS552,0))))","v":0},{"$f":"IF(GRLProdukt=1,AJ552,IF(GRLProdukt=2,AV552,IF(GRLProdukt=3,BH552,IF(GRLProdukt=4,BT552,0))))","v":0},{"$f":"IF(GRLProdukt=1,AK552,IF(GRLProdukt=2,AW552,IF(GRLProdukt=3,BI552,IF(GRLProdukt=4,BU552,0))))","v":0},{"$f":"IF(GRLProdukt=1,AL552,IF(GRLProdukt=2,AX552,IF(GRLProdukt=3,BJ552,IF(GRLProdukt=4,BV552,0))))","v":0},{"$f":"IF(GRLProdukt=1,AM552,IF(GRLProdukt=2,AY552,IF(GRLProdukt=3,BK552,IF(GRLProdukt=4,BW552,0))))","v":0},{"$f":"IF(GRLProdukt=1,AN552,IF(GRLProdukt=2,AZ552,IF(GRLProdukt=3,BL552,IF(GRLProdukt=4,BX552,0))))","v":0},20]
[8,6,2,8,null,null,null,"Kornbehandlingsutstyr",null,"H.GR. 08 - Kornbehandlingsutstyr",{"$f":"IF(E553<>\"\",1,0)","v":0},{"$f":"IF(F553<>\"\",1,0)+K553","v":0},{"$f":"IF(G553<>\"\",1,0)+L553","v":0},{"$f":"IF(H553<>\"\",1,0)+M553","v":1},{"$f":"A553+1","v":9},{"$f":"VALUE(A553&B553&C553&D553)","v":8628},{"$f":"IF(GRLProdukt=1,AC553,IF(GRLProdukt=2,AO553,IF(GRLProdukt=3,BA553,IF(GRLProdukt=4,BM553,0))))","v":0},{"$f":"IF(GRLProdukt=1,AD553,IF(GRLProdukt=2,AP553,IF(GRLProdukt=3,BB553,IF(GRLProdukt=4,BN553,0))))","v":0},{"$f":"IF(GRLProdukt=1,AE553,IF(GRLProdukt=2,AQ553,IF(GRLProdukt=3,BC553,IF(GRLProdukt=4,BO553,0))))","v":0},{"$f":"IF(GRLProdukt=1,AF553,IF(GRLProdukt=2,AR553,IF(GRLProdukt=3,BD553,IF(GRLProdukt=4,BP553,0))))","v":0},{"$f":"IF(GRLProdukt=1,AG553,IF(GRLProdukt=2,AS553,IF(GRLProdukt=3,BE553,IF(GRLProdukt=4,BQ553,0))))","v":0},{"$f":"IF(GRLProdukt=1,AH553,IF(GRLProdukt=2,AT553,IF(GRLProdukt=3,BF553,IF(GRLProdukt=4,BR553,0))))","v":0},{"$f":"IF(GRLProdukt=1,AI553,IF(GRLProdukt=2,AU553,IF(GRLProdukt=3,BG553,IF(GRLProdukt=4,BS553,0))))","v":0},{"$f":"IF(GRLProdukt=1,AJ553,IF(GRLProdukt=2,AV553,IF(GRLProdukt=3,BH553,IF(GRLProdukt=4,BT553,0))))","v":0},{"$f":"IF(GRLProdukt=1,AK553,IF(GRLProdukt=2,AW553,IF(GRLProdukt=3,BI553,IF(GRLProdukt=4,BU553,0))))","v":0},{"$f":"IF(GRLProdukt=1,AL553,IF(GRLProdukt=2,AX553,IF(GRLProdukt=3,BJ553,IF(GRLProdukt=4,BV553,0))))","v":0},{"$f":"IF(GRLProdukt=1,AM553,IF(GRLProdukt=2,AY553,IF(GRLProdukt=3,BK553,IF(GRLProdukt=4,BW553,0))))","v":0},{"$f":"IF(GRLProdukt=1,AN553,IF(GRLProdukt=2,AZ553,IF(GRLProdukt=3,BL553,IF(GRLProdukt=4,BX553,0))))","v":0},20]
[8,6,2,9,null,null,null,"Vanningsutstyr",null,"H.GR. 10 - Vanningsutstyr/hydroteknikk",{"$f":"IF(E554<>\"\",1,0)","v":0},{"$f":"IF(F554<>\"\",1,0)+K554","v":0},{"$f":"IF(G554<>\"\",1,0)+L554","v":0},{"$f":"IF(H554<>\"\",1,0)+M554","v":1},{"$f":"A554+1","v":9},{"$f":"VALUE(A554&B554&C554&D554)","v":8629},{"$f":"IF(GRLProdukt=1,AC554,IF(GRLProdukt=2,AO554,IF(GRLProdukt=3,BA554,IF(GRLProdukt=4,BM554,0))))","v":0},{"$f":"IF(GRLProdukt=1,AD554,IF(GRLProdukt=2,AP554,IF(GRLProdukt=3,BB554,IF(GRLProdukt=4,BN554,0))))","v":0},{"$f":"IF(GRLProdukt=1,AE554,IF(GRLProdukt=2,AQ554,IF(GRLProdukt=3,BC554,IF(GRLProdukt=4,BO554,0))))","v":0},{"$f":"IF(GRLProdukt=1,AF554,IF(GRLProdukt=2,AR554,IF(GRLProdukt=3,BD554,IF(GRLProdukt=4,BP554,0))))","v":0},{"$f":"IF(GRLProdukt=1,AG554,IF(GRLProdukt=2,AS554,IF(GRLProdukt=3,BE554,IF(GRLProdukt=4,BQ554,0))))","v":0},{"$f":"IF(GRLProdukt=1,AH554,IF(GRLProdukt=2,AT554,IF(GRLProdukt=3,BF554,IF(GRLProdukt=4,BR554,0))))","v":0},{"$f":"IF(GRLProdukt=1,AI554,IF(GRLProdukt=2,AU554,IF(GRLProdukt=3,BG554,IF(GRLProdukt=4,BS554,0))))","v":0},{"$f":"IF(GRLProdukt=1,AJ554,IF(GRLProdukt=2,AV554,IF(GRLProdukt=3,BH554,IF(GRLProdukt=4,BT554,0))))","v":0},{"$f":"IF(GRLProdukt=1,AK554,IF(GRLProdukt=2,AW554,IF(GRLProdukt=3,BI554,IF(GRLProdukt=4,BU554,0))))","v":0},{"$f":"IF(GRLProdukt=1,AL554,IF(GRLProdukt=2,AX554,IF(GRLProdukt=3,BJ554,IF(GRLProdukt=4,BV554,0))))","v":0},{"$f":"IF(GRLProdukt=1,AM554,IF(GRLProdukt=2,AY554,IF(GRLProdukt=3,BK554,IF(GRLProdukt=4,BW554,0))))","v":0},{"$f":"IF(GRLProdukt=1,AN554,IF(GRLProdukt=2,AZ554,IF(GRLProdukt=3,BL554,IF(GRLProdukt=4,BX554,0))))","v":0},20]
[8,6,4,0,null,null,"Skogsutstyr",null,null,"H.GR. 09 - Skogsutstyr, vei og snø",{"$f":"IF(E555<>\"\",1,0)","v":0},{"$f":"IF(F555<>\"\",1,0)+K555","v":0},{"$f":"IF(G555<>\"\",1,0)+L555","v":1},{"$f":"IF(H555<>\"\",1,0)+M555","v":1},{"$f":"A555+1","v":9},{"$f":"VALUE(A555&B555&C555&D555)","v":8640},{"$f":"IF(GRLProdukt=1,AC555,IF(GRLProdukt=2,AO555,IF(GRLProdukt=3,BA555,IF(GRLProdukt=4,BM555,0))))","v":0},{"$f":"IF(GRLProdukt=1,AD555,IF(GRLProdukt=2,AP555,IF(GRLProdukt=3,BB555,IF(GRLProdukt=4,BN555,0))))","v":0},{"$f":"IF(GRLProdukt=1,AE555,IF(GRLProdukt=2,AQ555,IF(GRLProdukt=3,BC555,IF(GRLProdukt=4,BO555,0))))","v":0},{"$f":"IF(GRLProdukt=1,AF555,IF(GRLProdukt=2,AR555,IF(GRLProdukt=3,BD555,IF(GRLProdukt=4,BP555,0))))","v":0},{"$f":"IF(GRLProdukt=1,AG555,IF(GRLProdukt=2,AS555,IF(GRLProdukt=3,BE555,IF(GRLProdukt=4,BQ555,0))))","v":0},{"$f":"IF(GRLProdukt=1,AH555,IF(GRLProdukt=2,AT555,IF(GRLProdukt=3,BF555,IF(GRLProdukt=4,BR555,0))))","v":0},{"$f":"IF(GRLProdukt=1,AI555,IF(GRLProdukt=2,AU555,IF(GRLProdukt=3,BG555,IF(GRLProdukt=4,BS555,0))))","v":0},{"$f":"IF(GRLProdukt=1,AJ555,IF(GRLProdukt=2,AV555,IF(GRLProdukt=3,BH555,IF(GRLProdukt=4,BT555,0))))","v":0},{"$f":"IF(GRLProdukt=1,AK555,IF(GRLProdukt=2,AW555,IF(GRLProdukt=3,BI555,IF(GRLProdukt=4,BU555,0))))","v":0},{"$f":"IF(GRLProdukt=1,AL555,IF(GRLProdukt=2,AX555,IF(GRLProdukt=3,BJ555,IF(GRLProdukt=4,BV555,0))))","v":0},{"$f":"IF(GRLProdukt=1,AM555,IF(GRLProdukt=2,AY555,IF(GRLProdukt=3,BK555,IF(GRLProdukt=4,BW555,0))))","v":0},{"$f":"IF(GRLProdukt=1,AN555,IF(GRLProdukt=2,AZ555,IF(GRLProdukt=3,BL555,IF(GRLProdukt=4,BX555,0))))","v":0},30]
[8,6,4,1,null,null,null,"Traktor (skog)",null,null,{"$f":"IF(E556<>\"\",1,0)","v":0},{"$f":"IF(F556<>\"\",1,0)+K556","v":0},{"$f":"IF(G556<>\"\",1,0)+L556","v":0},{"$f":"IF(H556<>\"\",1,0)+M556","v":1},{"$f":"A556+1","v":9},{"$f":"VALUE(A556&B556&C556&D556)","v":8641},{"$f":"IF(GRLProdukt=1,AC556,IF(GRLProdukt=2,AO556,IF(GRLProdukt=3,BA556,IF(GRLProdukt=4,BM556,0))))","v":0},{"$f":"IF(GRLProdukt=1,AD556,IF(GRLProdukt=2,AP556,IF(GRLProdukt=3,BB556,IF(GRLProdukt=4,BN556,0))))","v":0},{"$f":"IF(GRLProdukt=1,AE556,IF(GRLProdukt=2,AQ556,IF(GRLProdukt=3,BC556,IF(GRLProdukt=4,BO556,0))))","v":0},{"$f":"IF(GRLProdukt=1,AF556,IF(GRLProdukt=2,AR556,IF(GRLProdukt=3,BD556,IF(GRLProdukt=4,BP556,0))))","v":0},{"$f":"IF(GRLProdukt=1,AG556,IF(GRLProdukt=2,AS556,IF(GRLProdukt=3,BE556,IF(GRLProdukt=4,BQ556,0))))","v":0},{"$f":"IF(GRLProdukt=1,AH556,IF(GRLProdukt=2,AT556,IF(GRLProdukt=3,BF556,IF(GRLProdukt=4,BR556,0))))","v":0},{"$f":"IF(GRLProdukt=1,AI556,IF(GRLProdukt=2,AU556,IF(GRLProdukt=3,BG556,IF(GRLProdukt=4,BS556,0))))","v":0},{"$f":"IF(GRLProdukt=1,AJ556,IF(GRLProdukt=2,AV556,IF(GRLProdukt=3,BH556,IF(GRLProdukt=4,BT556,0))))","v":0},{"$f":"IF(GRLProdukt=1,AK556,IF(GRLProdukt=2,AW556,IF(GRLProdukt=3,BI556,IF(GRLProdukt=4,BU556,0))))","v":0},{"$f":"IF(GRLProdukt=1,AL556,IF(GRLProdukt=2,AX556,IF(GRLProdukt=3,BJ556,IF(GRLProdukt=4,BV556,0))))","v":0},{"$f":"IF(GRLProdukt=1,AM556,IF(GRLProdukt=2,AY556,IF(GRLProdukt=3,BK556,IF(GRLProdukt=4,BW556,0))))","v":0},{"$f":"IF(GRLProdukt=1,AN556,IF(GRLProdukt=2,AZ556,IF(GRLProdukt=3,BL556,IF(GRLProdukt=4,BX556,0))))","v":0},30]
[8,6,4,2,null,null,null,"Utstyr for tømmerdrift (inkl. traktormontert)",null,null,{"$f":"IF(E557<>\"\",1,0)","v":0},{"$f":"IF(F557<>\"\",1,0)+K557","v":0},{"$f":"IF(G557<>\"\",1,0)+L557","v":0},{"$f":"IF(H557<>\"\",1,0)+M557","v":1},{"$f":"A557+1","v":9},{"$f":"VALUE(A557&B557&C557&D557)","v":8642},{"$f":"IF(GRLProdukt=1,AC557,IF(GRLProdukt=2,AO557,IF(GRLProdukt=3,BA557,IF(GRLProdukt=4,BM557,0))))","v":0},{"$f":"IF(GRLProdukt=1,AD557,IF(GRLProdukt=2,AP557,IF(GRLProdukt=3,BB557,IF(GRLProdukt=4,BN557,0))))","v":0},{"$f":"IF(GRLProdukt=1,AE557,IF(GRLProdukt=2,AQ557,IF(GRLProdukt=3,BC557,IF(GRLProdukt=4,BO557,0))))","v":0},{"$f":"IF(GRLProdukt=1,AF557,IF(GRLProdukt=2,AR557,IF(GRLProdukt=3,BD557,IF(GRLProdukt=4,BP557,0))))","v":0},{"$f":"IF(GRLProdukt=1,AG557,IF(GRLProdukt=2,AS557,IF(GRLProdukt=3,BE557,IF(GRLProdukt=4,BQ557,0))))","v":0},{"$f":"IF(GRLProdukt=1,AH557,IF(GRLProdukt=2,AT557,IF(GRLProdukt=3,BF557,IF(GRLProdukt=4,BR557,0))))","v":0},{"$f":"IF(GRLProdukt=1,AI557,IF(GRLProdukt=2,AU557,IF(GRLProdukt=3,BG557,IF(GRLProdukt=4,BS557,0))))","v":0},{"$f":"IF(GRLProdukt=1,AJ557,IF(GRLProdukt=2,AV557,IF(GRLProdukt=3,BH557,IF(GRLProdukt=4,BT557,0))))","v":0},{"$f":"IF(GRLProdukt=1,AK557,IF(GRLProdukt=2,AW557,IF(GRLProdukt=3,BI557,IF(GRLProdukt=4,BU557,0))))","v":0},{"$f":"IF(GRLProdukt=1,AL557,IF(GRLProdukt=2,AX557,IF(GRLProdukt=3,BJ557,IF(GRLProdukt=4,BV557,0))))","v":0},{"$f":"IF(GRLProdukt=1,AM557,IF(GRLProdukt=2,AY557,IF(GRLProdukt=3,BK557,IF(GRLProdukt=4,BW557,0))))","v":0},{"$f":"IF(GRLProdukt=1,AN557,IF(GRLProdukt=2,AZ557,IF(GRLProdukt=3,BL557,IF(GRLProdukt=4,BX557,0))))","v":0},30]
[8,6,4,3,null,null,null,"Vedutstyr",null,null,{"$f":"IF(E558<>\"\",1,0)","v":0},{"$f":"IF(F558<>\"\",1,0)+K558","v":0},{"$f":"IF(G558<>\"\",1,0)+L558","v":0},{"$f":"IF(H558<>\"\",1,0)+M558","v":1},{"$f":"A558+1","v":9},{"$f":"VALUE(A558&B558&C558&D558)","v":8643},{"$f":"IF(GRLProdukt=1,AC558,IF(GRLProdukt=2,AO558,IF(GRLProdukt=3,BA558,IF(GRLProdukt=4,BM558,0))))","v":0},{"$f":"IF(GRLProdukt=1,AD558,IF(GRLProdukt=2,AP558,IF(GRLProdukt=3,BB558,IF(GRLProdukt=4,BN558,0))))","v":0},{"$f":"IF(GRLProdukt=1,AE558,IF(GRLProdukt=2,AQ558,IF(GRLProdukt=3,BC558,IF(GRLProdukt=4,BO558,0))))","v":0},{"$f":"IF(GRLProdukt=1,AF558,IF(GRLProdukt=2,AR558,IF(GRLProdukt=3,BD558,IF(GRLProdukt=4,BP558,0))))","v":0},{"$f":"IF(GRLProdukt=1,AG558,IF(GRLProdukt=2,AS558,IF(GRLProdukt=3,BE558,IF(GRLProdukt=4,BQ558,0))))","v":0},{"$f":"IF(GRLProdukt=1,AH558,IF(GRLProdukt=2,AT558,IF(GRLProdukt=3,BF558,IF(GRLProdukt=4,BR558,0))))","v":0},{"$f":"IF(GRLProdukt=1,AI558,IF(GRLProdukt=2,AU558,IF(GRLProdukt=3,BG558,IF(GRLProdukt=4,BS558,0))))","v":0},{"$f":"IF(GRLProdukt=1,AJ558,IF(GRLProdukt=2,AV558,IF(GRLProdukt=3,BH558,IF(GRLProdukt=4,BT558,0))))","v":0},{"$f":"IF(GRLProdukt=1,AK558,IF(GRLProdukt=2,AW558,IF(GRLProdukt=3,BI558,IF(GRLProdukt=4,BU558,0))))","v":0},{"$f":"IF(GRLProdukt=1,AL558,IF(GRLProdukt=2,AX558,IF(GRLProdukt=3,BJ558,IF(GRLProdukt=4,BV558,0))))","v":0},{"$f":"IF(GRLProdukt=1,AM558,IF(GRLProdukt=2,AY558,IF(GRLProdukt=3,BK558,IF(GRLProdukt=4,BW558,0))))","v":0},{"$f":"IF(GRLProdukt=1,AN558,IF(GRLProdukt=2,AZ558,IF(GRLProdukt=3,BL558,IF(GRLProdukt=4,BX558,0))))","v":0},30]
[8,6,4,4,null,null,null,"Annet traktormontert utstyr",null,null,{"$f":"IF(E559<>\"\",1,0)","v":0},{"$f":"IF(F559<>\"\",1,0)+K559","v":0},{"$f":"IF(G559<>\"\",1,0)+L559","v":0},{"$f":"IF(H559<>\"\",1,0)+M559","v":1},{"$f":"A559+1","v":9},{"$f":"VALUE(A559&B559&C559&D559)","v":8644},{"$f":"IF(GRLProdukt=1,AC559,IF(GRLProdukt=2,AO559,IF(GRLProdukt=3,BA559,IF(GRLProdukt=4,BM559,0))))","v":0},{"$f":"IF(GRLProdukt=1,AD559,IF(GRLProdukt=2,AP559,IF(GRLProdukt=3,BB559,IF(GRLProdukt=4,BN559,0))))","v":0},{"$f":"IF(GRLProdukt=1,AE559,IF(GRLProdukt=2,AQ559,IF(GRLProdukt=3,BC559,IF(GRLProdukt=4,BO559,0))))","v":0},{"$f":"IF(GRLProdukt=1,AF559,IF(GRLProdukt=2,AR559,IF(GRLProdukt=3,BD559,IF(GRLProdukt=4,BP559,0))))","v":0},{"$f":"IF(GRLProdukt=1,AG559,IF(GRLProdukt=2,AS559,IF(GRLProdukt=3,BE559,IF(GRLProdukt=4,BQ559,0))))","v":0},{"$f":"IF(GRLProdukt=1,AH559,IF(GRLProdukt=2,AT559,IF(GRLProdukt=3,BF559,IF(GRLProdukt=4,BR559,0))))","v":0},{"$f":"IF(GRLProdukt=1,AI559,IF(GRLProdukt=2,AU559,IF(GRLProdukt=3,BG559,IF(GRLProdukt=4,BS559,0))))","v":0},{"$f":"IF(GRLProdukt=1,AJ559,IF(GRLProdukt=2,AV559,IF(GRLProdukt=3,BH559,IF(GRLProdukt=4,BT559,0))))","v":0},{"$f":"IF(GRLProdukt=1,AK559,IF(GRLProdukt=2,AW559,IF(GRLProdukt=3,BI559,IF(GRLProdukt=4,BU559,0))))","v":0},{"$f":"IF(GRLProdukt=1,AL559,IF(GRLProdukt=2,AX559,IF(GRLProdukt=3,BJ559,IF(GRLProdukt=4,BV559,0))))","v":0},{"$f":"IF(GRLProdukt=1,AM559,IF(GRLProdukt=2,AY559,IF(GRLProdukt=3,BK559,IF(GRLProdukt=4,BW559,0))))","v":0},{"$f":"IF(GRLProdukt=1,AN559,IF(GRLProdukt=2,AZ559,IF(GRLProdukt=3,BL559,IF(GRLProdukt=4,BX559,0))))","v":0},30]
[8,6,4,5,null,null,null,"Diverse håndredskaper inkl. sagutstyr",null,null,{"$f":"IF(E560<>\"\",1,0)","v":0},{"$f":"IF(F560<>\"\",1,0)+K560","v":0},{"$f":"IF(G560<>\"\",1,0)+L560","v":0},{"$f":"IF(H560<>\"\",1,0)+M560","v":1},{"$f":"A560+1","v":9},{"$f":"VALUE(A560&B560&C560&D560)","v":8645},{"$f":"IF(GRLProdukt=1,AC560,IF(GRLProdukt=2,AO560,IF(GRLProdukt=3,BA560,IF(GRLProdukt=4,BM560,0))))","v":0},{"$f":"IF(GRLProdukt=1,AD560,IF(GRLProdukt=2,AP560,IF(GRLProdukt=3,BB560,IF(GRLProdukt=4,BN560,0))))","v":0},{"$f":"IF(GRLProdukt=1,AE560,IF(GRLProdukt=2,AQ560,IF(GRLProdukt=3,BC560,IF(GRLProdukt=4,BO560,0))))","v":0},{"$f":"IF(GRLProdukt=1,AF560,IF(GRLProdukt=2,AR560,IF(GRLProdukt=3,BD560,IF(GRLProdukt=4,BP560,0))))","v":0},{"$f":"IF(GRLProdukt=1,AG560,IF(GRLProdukt=2,AS560,IF(GRLProdukt=3,BE560,IF(GRLProdukt=4,BQ560,0))))","v":0},{"$f":"IF(GRLProdukt=1,AH560,IF(GRLProdukt=2,AT560,IF(GRLProdukt=3,BF560,IF(GRLProdukt=4,BR560,0))))","v":0},{"$f":"IF(GRLProdukt=1,AI560,IF(GRLProdukt=2,AU560,IF(GRLProdukt=3,BG560,IF(GRLProdukt=4,BS560,0))))","v":0},{"$f":"IF(GRLProdukt=1,AJ560,IF(GRLProdukt=2,AV560,IF(GRLProdukt=3,BH560,IF(GRLProdukt=4,BT560,0))))","v":0},{"$f":"IF(GRLProdukt=1,AK560,IF(GRLProdukt=2,AW560,IF(GRLProdukt=3,BI560,IF(GRLProdukt=4,BU560,0))))","v":0},{"$f":"IF(GRLProdukt=1,AL560,IF(GRLProdukt=2,AX560,IF(GRLProdukt=3,BJ560,IF(GRLProdukt=4,BV560,0))))","v":0},{"$f":"IF(GRLProdukt=1,AM560,IF(GRLProdukt=2,AY560,IF(GRLProdukt=3,BK560,IF(GRLProdukt=4,BW560,0))))","v":0},{"$f":"IF(GRLProdukt=1,AN560,IF(GRLProdukt=2,AZ560,IF(GRLProdukt=3,BL560,IF(GRLProdukt=4,BX560,0))))","v":0},30]
[8,6,5,0,null,null,"Driftsbygg",null,null,null,{"$f":"IF(E561<>\"\",1,0)","v":0},{"$f":"IF(F561<>\"\",1,0)+K561","v":0},{"$f":"IF(G561<>\"\",1,0)+L561","v":1},{"$f":"IF(H561<>\"\",1,0)+M561","v":1},{"$f":"A561+1","v":9},{"$f":"VALUE(A561&B561&C561&D561)","v":8650},{"$f":"IF(GRLProdukt=1,AC561,IF(GRLProdukt=2,AO561,IF(GRLProdukt=3,BA561,IF(GRLProdukt=4,BM561,0))))","v":0},{"$f":"IF(GRLProdukt=1,AD561,IF(GRLProdukt=2,AP561,IF(GRLProdukt=3,BB561,IF(GRLProdukt=4,BN561,0))))","v":0},{"$f":"IF(GRLProdukt=1,AE561,IF(GRLProdukt=2,AQ561,IF(GRLProdukt=3,BC561,IF(GRLProdukt=4,BO561,0))))","v":0},{"$f":"IF(GRLProdukt=1,AF561,IF(GRLProdukt=2,AR561,IF(GRLProdukt=3,BD561,IF(GRLProdukt=4,BP561,0))))","v":0},{"$f":"IF(GRLProdukt=1,AG561,IF(GRLProdukt=2,AS561,IF(GRLProdukt=3,BE561,IF(GRLProdukt=4,BQ561,0))))","v":0},{"$f":"IF(GRLProdukt=1,AH561,IF(GRLProdukt=2,AT561,IF(GRLProdukt=3,BF561,IF(GRLProdukt=4,BR561,0))))","v":0},{"$f":"IF(GRLProdukt=1,AI561,IF(GRLProdukt=2,AU561,IF(GRLProdukt=3,BG561,IF(GRLProdukt=4,BS561,0))))","v":0},{"$f":"IF(GRLProdukt=1,AJ561,IF(GRLProdukt=2,AV561,IF(GRLProdukt=3,BH561,IF(GRLProdukt=4,BT561,0))))","v":0},{"$f":"IF(GRLProdukt=1,AK561,IF(GRLProdukt=2,AW561,IF(GRLProdukt=3,BI561,IF(GRLProdukt=4,BU561,0))))","v":0},{"$f":"IF(GRLProdukt=1,AL561,IF(GRLProdukt=2,AX561,IF(GRLProdukt=3,BJ561,IF(GRLProdukt=4,BV561,0))))","v":0},{"$f":"IF(GRLProdukt=1,AM561,IF(GRLProdukt=2,AY561,IF(GRLProdukt=3,BK561,IF(GRLProdukt=4,BW561,0))))","v":0},{"$f":"IF(GRLProdukt=1,AN561,IF(GRLProdukt=2,AZ561,IF(GRLProdukt=3,BL561,IF(GRLProdukt=4,BX561,0))))","v":0},20]
[8,6,5,4,null,null,null,"Driftsbygg, teknisk utstyr",null,null,{"$f":"IF(E562<>\"\",1,0)","v":0},{"$f":"IF(F562<>\"\",1,0)+K562","v":0},{"$f":"IF(G562<>\"\",1,0)+L562","v":0},{"$f":"IF(H562<>\"\",1,0)+M562","v":1},{"$f":"A562+1","v":9},{"$f":"VALUE(A562&B562&C562&D562)","v":8654},{"$f":"IF(GRLProdukt=1,AC562,IF(GRLProdukt=2,AO562,IF(GRLProdukt=3,BA562,IF(GRLProdukt=4,BM562,0))))","v":0},{"$f":"IF(GRLProdukt=1,AD562,IF(GRLProdukt=2,AP562,IF(GRLProdukt=3,BB562,IF(GRLProdukt=4,BN562,0))))","v":0},{"$f":"IF(GRLProdukt=1,AE562,IF(GRLProdukt=2,AQ562,IF(GRLProdukt=3,BC562,IF(GRLProdukt=4,BO562,0))))","v":0},{"$f":"IF(GRLProdukt=1,AF562,IF(GRLProdukt=2,AR562,IF(GRLProdukt=3,BD562,IF(GRLProdukt=4,BP562,0))))","v":0},{"$f":"IF(GRLProdukt=1,AG562,IF(GRLProdukt=2,AS562,IF(GRLProdukt=3,BE562,IF(GRLProdukt=4,BQ562,0))))","v":0},{"$f":"IF(GRLProdukt=1,AH562,IF(GRLProdukt=2,AT562,IF(GRLProdukt=3,BF562,IF(GRLProdukt=4,BR562,0))))","v":0},{"$f":"IF(GRLProdukt=1,AI562,IF(GRLProdukt=2,AU562,IF(GRLProdukt=3,BG562,IF(GRLProdukt=4,BS562,0))))","v":0},{"$f":"IF(GRLProdukt=1,AJ562,IF(GRLProdukt=2,AV562,IF(GRLProdukt=3,BH562,IF(GRLProdukt=4,BT562,0))))","v":0},{"$f":"IF(GRLProdukt=1,AK562,IF(GRLProdukt=2,AW562,IF(GRLProdukt=3,BI562,IF(GRLProdukt=4,BU562,0))))","v":0},{"$f":"IF(GRLProdukt=1,AL562,IF(GRLProdukt=2,AX562,IF(GRLProdukt=3,BJ562,IF(GRLProdukt=4,BV562,0))))","v":0},{"$f":"IF(GRLProdukt=1,AM562,IF(GRLProdukt=2,AY562,IF(GRLProdukt=3,BK562,IF(GRLProdukt=4,BW562,0))))","v":0},{"$f":"IF(GRLProdukt=1,AN562,IF(GRLProdukt=2,AZ562,IF(GRLProdukt=3,BL562,IF(GRLProdukt=4,BX562,0))))","v":0},20,null,null,null,null,6640]
[8,7,0,0,null,"Andre kostnader",null,null,null,null,{"$f":"IF(E563<>\"\",1,0)","v":0},{"$f":"IF(F563<>\"\",1,0)+K563","v":1},{"$f":"IF(G563<>\"\",1,0)+L563","v":1},{"$f":"IF(H563<>\"\",1,0)+M563","v":1},{"$f":"A563+1","v":9},{"$f":"VALUE(A563&B563&C563&D563)","v":8700},{"$f":"IF(GRLProdukt=1,AC563,IF(GRLProdukt=2,AO563,IF(GRLProdukt=3,BA563,IF(GRLProdukt=4,BM563,0))))","v":0},{"$f":"IF(GRLProdukt=1,AD563,IF(GRLProdukt=2,AP563,IF(GRLProdukt=3,BB563,IF(GRLProdukt=4,BN563,0))))","v":0},{"$f":"IF(GRLProdukt=1,AE563,IF(GRLProdukt=2,AQ563,IF(GRLProdukt=3,BC563,IF(GRLProdukt=4,BO563,0))))","v":0},{"$f":"IF(GRLProdukt=1,AF563,IF(GRLProdukt=2,AR563,IF(GRLProdukt=3,BD563,IF(GRLProdukt=4,BP563,0))))","v":0},{"$f":"IF(GRLProdukt=1,AG563,IF(GRLProdukt=2,AS563,IF(GRLProdukt=3,BE563,IF(GRLProdukt=4,BQ563,0))))","v":0},{"$f":"IF(GRLProdukt=1,AH563,IF(GRLProdukt=2,AT563,IF(GRLProdukt=3,BF563,IF(GRLProdukt=4,BR563,0))))","v":0},{"$f":"IF(GRLProdukt=1,AI563,IF(GRLProdukt=2,AU563,IF(GRLProdukt=3,BG563,IF(GRLProdukt=4,BS563,0))))","v":0},{"$f":"IF(GRLProdukt=1,AJ563,IF(GRLProdukt=2,AV563,IF(GRLProdukt=3,BH563,IF(GRLProdukt=4,BT563,0))))","v":0},{"$f":"IF(GRLProdukt=1,AK563,IF(GRLProdukt=2,AW563,IF(GRLProdukt=3,BI563,IF(GRLProdukt=4,BU563,0))))","v":0},{"$f":"IF(GRLProdukt=1,AL563,IF(GRLProdukt=2,AX563,IF(GRLProdukt=3,BJ563,IF(GRLProdukt=4,BV563,0))))","v":0},{"$f":"IF(GRLProdukt=1,AM563,IF(GRLProdukt=2,AY563,IF(GRLProdukt=3,BK563,IF(GRLProdukt=4,BW563,0))))","v":0},{"$f":"IF(GRLProdukt=1,AN563,IF(GRLProdukt=2,AZ563,IF(GRLProdukt=3,BL563,IF(GRLProdukt=4,BX563,0))))","v":0},20]
[8,7,2,0,null,null,"Energi",null,null,null,{"$f":"IF(E564<>\"\",1,0)","v":0},{"$f":"IF(F564<>\"\",1,0)+K564","v":0},{"$f":"IF(G564<>\"\",1,0)+L564","v":1},{"$f":"IF(H564<>\"\",1,0)+M564","v":1},{"$f":"A564+1","v":9},{"$f":"VALUE(A564&B564&C564&D564)","v":8720},{"$f":"IF(GRLProdukt=1,AC564,IF(GRLProdukt=2,AO564,IF(GRLProdukt=3,BA564,IF(GRLProdukt=4,BM564,0))))","v":0},{"$f":"IF(GRLProdukt=1,AD564,IF(GRLProdukt=2,AP564,IF(GRLProdukt=3,BB564,IF(GRLProdukt=4,BN564,0))))","v":0},{"$f":"IF(GRLProdukt=1,AE564,IF(GRLProdukt=2,AQ564,IF(GRLProdukt=3,BC564,IF(GRLProdukt=4,BO564,0))))","v":0},{"$f":"IF(GRLProdukt=1,AF564,IF(GRLProdukt=2,AR564,IF(GRLProdukt=3,BD564,IF(GRLProdukt=4,BP564,0))))","v":0},{"$f":"IF(GRLProdukt=1,AG564,IF(GRLProdukt=2,AS564,IF(GRLProdukt=3,BE564,IF(GRLProdukt=4,BQ564,0))))","v":0},{"$f":"IF(GRLProdukt=1,AH564,IF(GRLProdukt=2,AT564,IF(GRLProdukt=3,BF564,IF(GRLProdukt=4,BR564,0))))","v":0},{"$f":"IF(GRLProdukt=1,AI564,IF(GRLProdukt=2,AU564,IF(GRLProdukt=3,BG564,IF(GRLProdukt=4,BS564,0))))","v":0},{"$f":"IF(GRLProdukt=1,AJ564,IF(GRLProdukt=2,AV564,IF(GRLProdukt=3,BH564,IF(GRLProdukt=4,BT564,0))))","v":0},{"$f":"IF(GRLProdukt=1,AK564,IF(GRLProdukt=2,AW564,IF(GRLProdukt=3,BI564,IF(GRLProdukt=4,BU564,0))))","v":0},{"$f":"IF(GRLProdukt=1,AL564,IF(GRLProdukt=2,AX564,IF(GRLProdukt=3,BJ564,IF(GRLProdukt=4,BV564,0))))","v":0},{"$f":"IF(GRLProdukt=1,AM564,IF(GRLProdukt=2,AY564,IF(GRLProdukt=3,BK564,IF(GRLProdukt=4,BW564,0))))","v":0},{"$f":"IF(GRLProdukt=1,AN564,IF(GRLProdukt=2,AZ564,IF(GRLProdukt=3,BL564,IF(GRLProdukt=4,BX564,0))))","v":0},20]
[8,7,2,1,null,null,null,"Elektrisitet",null,null,{"$f":"IF(E565<>\"\",1,0)","v":0},{"$f":"IF(F565<>\"\",1,0)+K565","v":0},{"$f":"IF(G565<>\"\",1,0)+L565","v":0},{"$f":"IF(H565<>\"\",1,0)+M565","v":1},{"$f":"A565+1","v":9},{"$f":"VALUE(A565&B565&C565&D565)","v":8721},{"$f":"IF(GRLProdukt=1,AC565,IF(GRLProdukt=2,AO565,IF(GRLProdukt=3,BA565,IF(GRLProdukt=4,BM565,0))))","v":0},{"$f":"IF(GRLProdukt=1,AD565,IF(GRLProdukt=2,AP565,IF(GRLProdukt=3,BB565,IF(GRLProdukt=4,BN565,0))))","v":0},{"$f":"IF(GRLProdukt=1,AE565,IF(GRLProdukt=2,AQ565,IF(GRLProdukt=3,BC565,IF(GRLProdukt=4,BO565,0))))","v":0},{"$f":"IF(GRLProdukt=1,AF565,IF(GRLProdukt=2,AR565,IF(GRLProdukt=3,BD565,IF(GRLProdukt=4,BP565,0))))","v":0},{"$f":"IF(GRLProdukt=1,AG565,IF(GRLProdukt=2,AS565,IF(GRLProdukt=3,BE565,IF(GRLProdukt=4,BQ565,0))))","v":0},{"$f":"IF(GRLProdukt=1,AH565,IF(GRLProdukt=2,AT565,IF(GRLProdukt=3,BF565,IF(GRLProdukt=4,BR565,0))))","v":0},{"$f":"IF(GRLProdukt=1,AI565,IF(GRLProdukt=2,AU565,IF(GRLProdukt=3,BG565,IF(GRLProdukt=4,BS565,0))))","v":0},{"$f":"IF(GRLProdukt=1,AJ565,IF(GRLProdukt=2,AV565,IF(GRLProdukt=3,BH565,IF(GRLProdukt=4,BT565,0))))","v":0},{"$f":"IF(GRLProdukt=1,AK565,IF(GRLProdukt=2,AW565,IF(GRLProdukt=3,BI565,IF(GRLProdukt=4,BU565,0))))","v":0},{"$f":"IF(GRLProdukt=1,AL565,IF(GRLProdukt=2,AX565,IF(GRLProdukt=3,BJ565,IF(GRLProdukt=4,BV565,0))))","v":0},{"$f":"IF(GRLProdukt=1,AM565,IF(GRLProdukt=2,AY565,IF(GRLProdukt=3,BK565,IF(GRLProdukt=4,BW565,0))))","v":0},{"$f":"IF(GRLProdukt=1,AN565,IF(GRLProdukt=2,AZ565,IF(GRLProdukt=3,BL565,IF(GRLProdukt=4,BX565,0))))","v":0},20,null,null,null,null,6200]
[8,7,2,2,null,null,null,"Gass vedrørende produksjon",null,null,{"$f":"IF(E566<>\"\",1,0)","v":0},{"$f":"IF(F566<>\"\",1,0)+K566","v":0},{"$f":"IF(G566<>\"\",1,0)+L566","v":0},{"$f":"IF(H566<>\"\",1,0)+M566","v":1},{"$f":"A566+1","v":9},{"$f":"VALUE(A566&B566&C566&D566)","v":8722},{"$f":"IF(GRLProdukt=1,AC566,IF(GRLProdukt=2,AO566,IF(GRLProdukt=3,BA566,IF(GRLProdukt=4,BM566,0))))","v":0},{"$f":"IF(GRLProdukt=1,AD566,IF(GRLProdukt=2,AP566,IF(GRLProdukt=3,BB566,IF(GRLProdukt=4,BN566,0))))","v":0},{"$f":"IF(GRLProdukt=1,AE566,IF(GRLProdukt=2,AQ566,IF(GRLProdukt=3,BC566,IF(GRLProdukt=4,BO566,0))))","v":0},{"$f":"IF(GRLProdukt=1,AF566,IF(GRLProdukt=2,AR566,IF(GRLProdukt=3,BD566,IF(GRLProdukt=4,BP566,0))))","v":0},{"$f":"IF(GRLProdukt=1,AG566,IF(GRLProdukt=2,AS566,IF(GRLProdukt=3,BE566,IF(GRLProdukt=4,BQ566,0))))","v":0},{"$f":"IF(GRLProdukt=1,AH566,IF(GRLProdukt=2,AT566,IF(GRLProdukt=3,BF566,IF(GRLProdukt=4,BR566,0))))","v":0},{"$f":"IF(GRLProdukt=1,AI566,IF(GRLProdukt=2,AU566,IF(GRLProdukt=3,BG566,IF(GRLProdukt=4,BS566,0))))","v":0},{"$f":"IF(GRLProdukt=1,AJ566,IF(GRLProdukt=2,AV566,IF(GRLProdukt=3,BH566,IF(GRLProdukt=4,BT566,0))))","v":0},{"$f":"IF(GRLProdukt=1,AK566,IF(GRLProdukt=2,AW566,IF(GRLProdukt=3,BI566,IF(GRLProdukt=4,BU566,0))))","v":0},{"$f":"IF(GRLProdukt=1,AL566,IF(GRLProdukt=2,AX566,IF(GRLProdukt=3,BJ566,IF(GRLProdukt=4,BV566,0))))","v":0},{"$f":"IF(GRLProdukt=1,AM566,IF(GRLProdukt=2,AY566,IF(GRLProdukt=3,BK566,IF(GRLProdukt=4,BW566,0))))","v":0},{"$f":"IF(GRLProdukt=1,AN566,IF(GRLProdukt=2,AZ566,IF(GRLProdukt=3,BL566,IF(GRLProdukt=4,BX566,0))))","v":0},20,null,null,null,null,6210]
[8,7,2,3,null,null,null,"Fyringsolje vedrørende produksjon",null,"Fyringsolje og kull",{"$f":"IF(E567<>\"\",1,0)","v":0},{"$f":"IF(F567<>\"\",1,0)+K567","v":0},{"$f":"IF(G567<>\"\",1,0)+L567","v":0},{"$f":"IF(H567<>\"\",1,0)+M567","v":1},{"$f":"A567+1","v":9},{"$f":"VALUE(A567&B567&C567&D567)","v":8723},{"$f":"IF(GRLProdukt=1,AC567,IF(GRLProdukt=2,AO567,IF(GRLProdukt=3,BA567,IF(GRLProdukt=4,BM567,0))))","v":0},{"$f":"IF(GRLProdukt=1,AD567,IF(GRLProdukt=2,AP567,IF(GRLProdukt=3,BB567,IF(GRLProdukt=4,BN567,0))))","v":0},{"$f":"IF(GRLProdukt=1,AE567,IF(GRLProdukt=2,AQ567,IF(GRLProdukt=3,BC567,IF(GRLProdukt=4,BO567,0))))","v":0},{"$f":"IF(GRLProdukt=1,AF567,IF(GRLProdukt=2,AR567,IF(GRLProdukt=3,BD567,IF(GRLProdukt=4,BP567,0))))","v":0},{"$f":"IF(GRLProdukt=1,AG567,IF(GRLProdukt=2,AS567,IF(GRLProdukt=3,BE567,IF(GRLProdukt=4,BQ567,0))))","v":0},{"$f":"IF(GRLProdukt=1,AH567,IF(GRLProdukt=2,AT567,IF(GRLProdukt=3,BF567,IF(GRLProdukt=4,BR567,0))))","v":0},{"$f":"IF(GRLProdukt=1,AI567,IF(GRLProdukt=2,AU567,IF(GRLProdukt=3,BG567,IF(GRLProdukt=4,BS567,0))))","v":0},{"$f":"IF(GRLProdukt=1,AJ567,IF(GRLProdukt=2,AV567,IF(GRLProdukt=3,BH567,IF(GRLProdukt=4,BT567,0))))","v":0},{"$f":"IF(GRLProdukt=1,AK567,IF(GRLProdukt=2,AW567,IF(GRLProdukt=3,BI567,IF(GRLProdukt=4,BU567,0))))","v":0},{"$f":"IF(GRLProdukt=1,AL567,IF(GRLProdukt=2,AX567,IF(GRLProdukt=3,BJ567,IF(GRLProdukt=4,BV567,0))))","v":0},{"$f":"IF(GRLProdukt=1,AM567,IF(GRLProdukt=2,AY567,IF(GRLProdukt=3,BK567,IF(GRLProdukt=4,BW567,0))))","v":0},{"$f":"IF(GRLProdukt=1,AN567,IF(GRLProdukt=2,AZ567,IF(GRLProdukt=3,BL567,IF(GRLProdukt=4,BX567,0))))","v":0},20,null,null,null,null,6220]
[8,7,2,4,null,null,null,"Ved vedrørende produksjon",null,null,{"$f":"IF(E568<>\"\",1,0)","v":0},{"$f":"IF(F568<>\"\",1,0)+K568","v":0},{"$f":"IF(G568<>\"\",1,0)+L568","v":0},{"$f":"IF(H568<>\"\",1,0)+M568","v":1},{"$f":"A568+1","v":9},{"$f":"VALUE(A568&B568&C568&D568)","v":8724},{"$f":"IF(GRLProdukt=1,AC568,IF(GRLProdukt=2,AO568,IF(GRLProdukt=3,BA568,IF(GRLProdukt=4,BM568,0))))","v":0},{"$f":"IF(GRLProdukt=1,AD568,IF(GRLProdukt=2,AP568,IF(GRLProdukt=3,BB568,IF(GRLProdukt=4,BN568,0))))","v":0},{"$f":"IF(GRLProdukt=1,AE568,IF(GRLProdukt=2,AQ568,IF(GRLProdukt=3,BC568,IF(GRLProdukt=4,BO568,0))))","v":0},{"$f":"IF(GRLProdukt=1,AF568,IF(GRLProdukt=2,AR568,IF(GRLProdukt=3,BD568,IF(GRLProdukt=4,BP568,0))))","v":0},{"$f":"IF(GRLProdukt=1,AG568,IF(GRLProdukt=2,AS568,IF(GRLProdukt=3,BE568,IF(GRLProdukt=4,BQ568,0))))","v":0},{"$f":"IF(GRLProdukt=1,AH568,IF(GRLProdukt=2,AT568,IF(GRLProdukt=3,BF568,IF(GRLProdukt=4,BR568,0))))","v":0},{"$f":"IF(GRLProdukt=1,AI568,IF(GRLProdukt=2,AU568,IF(GRLProdukt=3,BG568,IF(GRLProdukt=4,BS568,0))))","v":0},{"$f":"IF(GRLProdukt=1,AJ568,IF(GRLProdukt=2,AV568,IF(GRLProdukt=3,BH568,IF(GRLProdukt=4,BT568,0))))","v":0},{"$f":"IF(GRLProdukt=1,AK568,IF(GRLProdukt=2,AW568,IF(GRLProdukt=3,BI568,IF(GRLProdukt=4,BU568,0))))","v":0},{"$f":"IF(GRLProdukt=1,AL568,IF(GRLProdukt=2,AX568,IF(GRLProdukt=3,BJ568,IF(GRLProdukt=4,BV568,0))))","v":0},{"$f":"IF(GRLProdukt=1,AM568,IF(GRLProdukt=2,AY568,IF(GRLProdukt=3,BK568,IF(GRLProdukt=4,BW568,0))))","v":0},{"$f":"IF(GRLProdukt=1,AN568,IF(GRLProdukt=2,AZ568,IF(GRLProdukt=3,BL568,IF(GRLProdukt=4,BX568,0))))","v":0},20,null,null,null,null,6240]
[8,7,2,5,null,null,null,"Drivstoff vedr. produksjon",null,8210,{"$f":"IF(E569<>\"\",1,0)","v":0},{"$f":"IF(F569<>\"\",1,0)+K569","v":0},{"$f":"IF(G569<>\"\",1,0)+L569","v":0},{"$f":"IF(H569<>\"\",1,0)+M569","v":1},{"$f":"A569+1","v":9},{"$f":"VALUE(A569&B569&C569&D569)","v":8725},{"$f":"IF(GRLProdukt=1,AC569,IF(GRLProdukt=2,AO569,IF(GRLProdukt=3,BA569,IF(GRLProdukt=4,BM569,0))))","v":0},{"$f":"IF(GRLProdukt=1,AD569,IF(GRLProdukt=2,AP569,IF(GRLProdukt=3,BB569,IF(GRLProdukt=4,BN569,0))))","v":0},{"$f":"IF(GRLProdukt=1,AE569,IF(GRLProdukt=2,AQ569,IF(GRLProdukt=3,BC569,IF(GRLProdukt=4,BO569,0))))","v":0},{"$f":"IF(GRLProdukt=1,AF569,IF(GRLProdukt=2,AR569,IF(GRLProdukt=3,BD569,IF(GRLProdukt=4,BP569,0))))","v":0},{"$f":"IF(GRLProdukt=1,AG569,IF(GRLProdukt=2,AS569,IF(GRLProdukt=3,BE569,IF(GRLProdukt=4,BQ569,0))))","v":0},{"$f":"IF(GRLProdukt=1,AH569,IF(GRLProdukt=2,AT569,IF(GRLProdukt=3,BF569,IF(GRLProdukt=4,BR569,0))))","v":0},{"$f":"IF(GRLProdukt=1,AI569,IF(GRLProdukt=2,AU569,IF(GRLProdukt=3,BG569,IF(GRLProdukt=4,BS569,0))))","v":0},{"$f":"IF(GRLProdukt=1,AJ569,IF(GRLProdukt=2,AV569,IF(GRLProdukt=3,BH569,IF(GRLProdukt=4,BT569,0))))","v":0},{"$f":"IF(GRLProdukt=1,AK569,IF(GRLProdukt=2,AW569,IF(GRLProdukt=3,BI569,IF(GRLProdukt=4,BU569,0))))","v":0},{"$f":"IF(GRLProdukt=1,AL569,IF(GRLProdukt=2,AX569,IF(GRLProdukt=3,BJ569,IF(GRLProdukt=4,BV569,0))))","v":0},{"$f":"IF(GRLProdukt=1,AM569,IF(GRLProdukt=2,AY569,IF(GRLProdukt=3,BK569,IF(GRLProdukt=4,BW569,0))))","v":0},{"$f":"IF(GRLProdukt=1,AN569,IF(GRLProdukt=2,AZ569,IF(GRLProdukt=3,BL569,IF(GRLProdukt=4,BX569,0))))","v":0},20,null,null,null,null,6250]
[8,7,2,8,null,null,null,"Strømstøtte",null,null,{"$f":"IF(E570<>\"\",1,0)","v":0},{"$f":"IF(F570<>\"\",1,0)+K570","v":0},{"$f":"IF(G570<>\"\",1,0)+L570","v":0},{"$f":"IF(H570<>\"\",1,0)+M570","v":1},{"$f":"A570+1","v":9},{"$f":"VALUE(A570&B570&C570&D570)","v":8728},{"$f":"IF(GRLProdukt=1,AC570,IF(GRLProdukt=2,AO570,IF(GRLProdukt=3,BA570,IF(GRLProdukt=4,BM570,0))))","v":0},{"$f":"IF(GRLProdukt=1,AD570,IF(GRLProdukt=2,AP570,IF(GRLProdukt=3,BB570,IF(GRLProdukt=4,BN570,0))))","v":0},{"$f":"IF(GRLProdukt=1,AE570,IF(GRLProdukt=2,AQ570,IF(GRLProdukt=3,BC570,IF(GRLProdukt=4,BO570,0))))","v":0},{"$f":"IF(GRLProdukt=1,AF570,IF(GRLProdukt=2,AR570,IF(GRLProdukt=3,BD570,IF(GRLProdukt=4,BP570,0))))","v":0},{"$f":"IF(GRLProdukt=1,AG570,IF(GRLProdukt=2,AS570,IF(GRLProdukt=3,BE570,IF(GRLProdukt=4,BQ570,0))))","v":0},{"$f":"IF(GRLProdukt=1,AH570,IF(GRLProdukt=2,AT570,IF(GRLProdukt=3,BF570,IF(GRLProdukt=4,BR570,0))))","v":0},{"$f":"IF(GRLProdukt=1,AI570,IF(GRLProdukt=2,AU570,IF(GRLProdukt=3,BG570,IF(GRLProdukt=4,BS570,0))))","v":0},{"$f":"IF(GRLProdukt=1,AJ570,IF(GRLProdukt=2,AV570,IF(GRLProdukt=3,BH570,IF(GRLProdukt=4,BT570,0))))","v":0},{"$f":"IF(GRLProdukt=1,AK570,IF(GRLProdukt=2,AW570,IF(GRLProdukt=3,BI570,IF(GRLProdukt=4,BU570,0))))","v":0},{"$f":"IF(GRLProdukt=1,AL570,IF(GRLProdukt=2,AX570,IF(GRLProdukt=3,BJ570,IF(GRLProdukt=4,BV570,0))))","v":0},{"$f":"IF(GRLProdukt=1,AM570,IF(GRLProdukt=2,AY570,IF(GRLProdukt=3,BK570,IF(GRLProdukt=4,BW570,0))))","v":0},{"$f":"IF(GRLProdukt=1,AN570,IF(GRLProdukt=2,AZ570,IF(GRLProdukt=3,BL570,IF(GRLProdukt=4,BX570,0))))","v":0},20,null,null,null,null,6201]
[8,7,2,9,null,null,null,"Brensel, annet vedrørende produksjon",null,null,{"$f":"IF(E571<>\"\",1,0)","v":0},{"$f":"IF(F571<>\"\",1,0)+K571","v":0},{"$f":"IF(G571<>\"\",1,0)+L571","v":0},{"$f":"IF(H571<>\"\",1,0)+M571","v":1},{"$f":"A571+1","v":9},{"$f":"VALUE(A571&B571&C571&D571)","v":8729},{"$f":"IF(GRLProdukt=1,AC571,IF(GRLProdukt=2,AO571,IF(GRLProdukt=3,BA571,IF(GRLProdukt=4,BM571,0))))","v":0},{"$f":"IF(GRLProdukt=1,AD571,IF(GRLProdukt=2,AP571,IF(GRLProdukt=3,BB571,IF(GRLProdukt=4,BN571,0))))","v":0},{"$f":"IF(GRLProdukt=1,AE571,IF(GRLProdukt=2,AQ571,IF(GRLProdukt=3,BC571,IF(GRLProdukt=4,BO571,0))))","v":0},{"$f":"IF(GRLProdukt=1,AF571,IF(GRLProdukt=2,AR571,IF(GRLProdukt=3,BD571,IF(GRLProdukt=4,BP571,0))))","v":0},{"$f":"IF(GRLProdukt=1,AG571,IF(GRLProdukt=2,AS571,IF(GRLProdukt=3,BE571,IF(GRLProdukt=4,BQ571,0))))","v":0},{"$f":"IF(GRLProdukt=1,AH571,IF(GRLProdukt=2,AT571,IF(GRLProdukt=3,BF571,IF(GRLProdukt=4,BR571,0))))","v":0},{"$f":"IF(GRLProdukt=1,AI571,IF(GRLProdukt=2,AU571,IF(GRLProdukt=3,BG571,IF(GRLProdukt=4,BS571,0))))","v":0},{"$f":"IF(GRLProdukt=1,AJ571,IF(GRLProdukt=2,AV571,IF(GRLProdukt=3,BH571,IF(GRLProdukt=4,BT571,0))))","v":0},{"$f":"IF(GRLProdukt=1,AK571,IF(GRLProdukt=2,AW571,IF(GRLProdukt=3,BI571,IF(GRLProdukt=4,BU571,0))))","v":0},{"$f":"IF(GRLProdukt=1,AL571,IF(GRLProdukt=2,AX571,IF(GRLProdukt=3,BJ571,IF(GRLProdukt=4,BV571,0))))","v":0},{"$f":"IF(GRLProdukt=1,AM571,IF(GRLProdukt=2,AY571,IF(GRLProdukt=3,BK571,IF(GRLProdukt=4,BW571,0))))","v":0},{"$f":"IF(GRLProdukt=1,AN571,IF(GRLProdukt=2,AZ571,IF(GRLProdukt=3,BL571,IF(GRLProdukt=4,BX571,0))))","v":0},20,null,null,null,null,6290]
[8,7,3,0,null,null,"Drivstoff til bil",null,null,null,{"$f":"IF(E572<>\"\",1,0)","v":0},{"$f":"IF(F572<>\"\",1,0)+K572","v":0},{"$f":"IF(G572<>\"\",1,0)+L572","v":1},{"$f":"IF(H572<>\"\",1,0)+M572","v":1},{"$f":"A572+1","v":9},{"$f":"VALUE(A572&B572&C572&D572)","v":8730},{"$f":"IF(GRLProdukt=1,AC572,IF(GRLProdukt=2,AO572,IF(GRLProdukt=3,BA572,IF(GRLProdukt=4,BM572,0))))","v":0},{"$f":"IF(GRLProdukt=1,AD572,IF(GRLProdukt=2,AP572,IF(GRLProdukt=3,BB572,IF(GRLProdukt=4,BN572,0))))","v":0},{"$f":"IF(GRLProdukt=1,AE572,IF(GRLProdukt=2,AQ572,IF(GRLProdukt=3,BC572,IF(GRLProdukt=4,BO572,0))))","v":0},{"$f":"IF(GRLProdukt=1,AF572,IF(GRLProdukt=2,AR572,IF(GRLProdukt=3,BD572,IF(GRLProdukt=4,BP572,0))))","v":0},{"$f":"IF(GRLProdukt=1,AG572,IF(GRLProdukt=2,AS572,IF(GRLProdukt=3,BE572,IF(GRLProdukt=4,BQ572,0))))","v":0},{"$f":"IF(GRLProdukt=1,AH572,IF(GRLProdukt=2,AT572,IF(GRLProdukt=3,BF572,IF(GRLProdukt=4,BR572,0))))","v":0},{"$f":"IF(GRLProdukt=1,AI572,IF(GRLProdukt=2,AU572,IF(GRLProdukt=3,BG572,IF(GRLProdukt=4,BS572,0))))","v":0},{"$f":"IF(GRLProdukt=1,AJ572,IF(GRLProdukt=2,AV572,IF(GRLProdukt=3,BH572,IF(GRLProdukt=4,BT572,0))))","v":0},{"$f":"IF(GRLProdukt=1,AK572,IF(GRLProdukt=2,AW572,IF(GRLProdukt=3,BI572,IF(GRLProdukt=4,BU572,0))))","v":0},{"$f":"IF(GRLProdukt=1,AL572,IF(GRLProdukt=2,AX572,IF(GRLProdukt=3,BJ572,IF(GRLProdukt=4,BV572,0))))","v":0},{"$f":"IF(GRLProdukt=1,AM572,IF(GRLProdukt=2,AY572,IF(GRLProdukt=3,BK572,IF(GRLProdukt=4,BW572,0))))","v":0},{"$f":"IF(GRLProdukt=1,AN572,IF(GRLProdukt=2,AZ572,IF(GRLProdukt=3,BL572,IF(GRLProdukt=4,BX572,0))))","v":0},20,null,null,null,null,7000]
[8,7,3,1,null,null,null,"Drivstoff, personbil",null,null,{"$f":"IF(E573<>\"\",1,0)","v":0},{"$f":"IF(F573<>\"\",1,0)+K573","v":0},{"$f":"IF(G573<>\"\",1,0)+L573","v":0},{"$f":"IF(H573<>\"\",1,0)+M573","v":1},{"$f":"A573+1","v":9},{"$f":"VALUE(A573&B573&C573&D573)","v":8731},{"$f":"IF(GRLProdukt=1,AC573,IF(GRLProdukt=2,AO573,IF(GRLProdukt=3,BA573,IF(GRLProdukt=4,BM573,0))))","v":0},{"$f":"IF(GRLProdukt=1,AD573,IF(GRLProdukt=2,AP573,IF(GRLProdukt=3,BB573,IF(GRLProdukt=4,BN573,0))))","v":0},{"$f":"IF(GRLProdukt=1,AE573,IF(GRLProdukt=2,AQ573,IF(GRLProdukt=3,BC573,IF(GRLProdukt=4,BO573,0))))","v":0},{"$f":"IF(GRLProdukt=1,AF573,IF(GRLProdukt=2,AR573,IF(GRLProdukt=3,BD573,IF(GRLProdukt=4,BP573,0))))","v":0},{"$f":"IF(GRLProdukt=1,AG573,IF(GRLProdukt=2,AS573,IF(GRLProdukt=3,BE573,IF(GRLProdukt=4,BQ573,0))))","v":0},{"$f":"IF(GRLProdukt=1,AH573,IF(GRLProdukt=2,AT573,IF(GRLProdukt=3,BF573,IF(GRLProdukt=4,BR573,0))))","v":0},{"$f":"IF(GRLProdukt=1,AI573,IF(GRLProdukt=2,AU573,IF(GRLProdukt=3,BG573,IF(GRLProdukt=4,BS573,0))))","v":0},{"$f":"IF(GRLProdukt=1,AJ573,IF(GRLProdukt=2,AV573,IF(GRLProdukt=3,BH573,IF(GRLProdukt=4,BT573,0))))","v":0},{"$f":"IF(GRLProdukt=1,AK573,IF(GRLProdukt=2,AW573,IF(GRLProdukt=3,BI573,IF(GRLProdukt=4,BU573,0))))","v":0},{"$f":"IF(GRLProdukt=1,AL573,IF(GRLProdukt=2,AX573,IF(GRLProdukt=3,BJ573,IF(GRLProdukt=4,BV573,0))))","v":0},{"$f":"IF(GRLProdukt=1,AM573,IF(GRLProdukt=2,AY573,IF(GRLProdukt=3,BK573,IF(GRLProdukt=4,BW573,0))))","v":0},{"$f":"IF(GRLProdukt=1,AN573,IF(GRLProdukt=2,AZ573,IF(GRLProdukt=3,BL573,IF(GRLProdukt=4,BX573,0))))","v":0},20,null,null,null,null,7001]
[8,7,3,2,null,null,null,"Drivstoff, varebil",null,null,{"$f":"IF(E574<>\"\",1,0)","v":0},{"$f":"IF(F574<>\"\",1,0)+K574","v":0},{"$f":"IF(G574<>\"\",1,0)+L574","v":0},{"$f":"IF(H574<>\"\",1,0)+M574","v":1},{"$f":"A574+1","v":9},{"$f":"VALUE(A574&B574&C574&D574)","v":8732},{"$f":"IF(GRLProdukt=1,AC574,IF(GRLProdukt=2,AO574,IF(GRLProdukt=3,BA574,IF(GRLProdukt=4,BM574,0))))","v":0},{"$f":"IF(GRLProdukt=1,AD574,IF(GRLProdukt=2,AP574,IF(GRLProdukt=3,BB574,IF(GRLProdukt=4,BN574,0))))","v":0},{"$f":"IF(GRLProdukt=1,AE574,IF(GRLProdukt=2,AQ574,IF(GRLProdukt=3,BC574,IF(GRLProdukt=4,BO574,0))))","v":0},{"$f":"IF(GRLProdukt=1,AF574,IF(GRLProdukt=2,AR574,IF(GRLProdukt=3,BD574,IF(GRLProdukt=4,BP574,0))))","v":0},{"$f":"IF(GRLProdukt=1,AG574,IF(GRLProdukt=2,AS574,IF(GRLProdukt=3,BE574,IF(GRLProdukt=4,BQ574,0))))","v":0},{"$f":"IF(GRLProdukt=1,AH574,IF(GRLProdukt=2,AT574,IF(GRLProdukt=3,BF574,IF(GRLProdukt=4,BR574,0))))","v":0},{"$f":"IF(GRLProdukt=1,AI574,IF(GRLProdukt=2,AU574,IF(GRLProdukt=3,BG574,IF(GRLProdukt=4,BS574,0))))","v":0},{"$f":"IF(GRLProdukt=1,AJ574,IF(GRLProdukt=2,AV574,IF(GRLProdukt=3,BH574,IF(GRLProdukt=4,BT574,0))))","v":0},{"$f":"IF(GRLProdukt=1,AK574,IF(GRLProdukt=2,AW574,IF(GRLProdukt=3,BI574,IF(GRLProdukt=4,BU574,0))))","v":0},{"$f":"IF(GRLProdukt=1,AL574,IF(GRLProdukt=2,AX574,IF(GRLProdukt=3,BJ574,IF(GRLProdukt=4,BV574,0))))","v":0},{"$f":"IF(GRLProdukt=1,AM574,IF(GRLProdukt=2,AY574,IF(GRLProdukt=3,BK574,IF(GRLProdukt=4,BW574,0))))","v":0},{"$f":"IF(GRLProdukt=1,AN574,IF(GRLProdukt=2,AZ574,IF(GRLProdukt=3,BL574,IF(GRLProdukt=4,BX574,0))))","v":0},20,null,null,null,null,7003]
[8,7,3,3,null,null,null,"Drivstoff, lastebil",null,null,{"$f":"IF(E575<>\"\",1,0)","v":0},{"$f":"IF(F575<>\"\",1,0)+K575","v":0},{"$f":"IF(G575<>\"\",1,0)+L575","v":0},{"$f":"IF(H575<>\"\",1,0)+M575","v":1},{"$f":"A575+1","v":9},{"$f":"VALUE(A575&B575&C575&D575)","v":8733},{"$f":"IF(GRLProdukt=1,AC575,IF(GRLProdukt=2,AO575,IF(GRLProdukt=3,BA575,IF(GRLProdukt=4,BM575,0))))","v":0},{"$f":"IF(GRLProdukt=1,AD575,IF(GRLProdukt=2,AP575,IF(GRLProdukt=3,BB575,IF(GRLProdukt=4,BN575,0))))","v":0},{"$f":"IF(GRLProdukt=1,AE575,IF(GRLProdukt=2,AQ575,IF(GRLProdukt=3,BC575,IF(GRLProdukt=4,BO575,0))))","v":0},{"$f":"IF(GRLProdukt=1,AF575,IF(GRLProdukt=2,AR575,IF(GRLProdukt=3,BD575,IF(GRLProdukt=4,BP575,0))))","v":0},{"$f":"IF(GRLProdukt=1,AG575,IF(GRLProdukt=2,AS575,IF(GRLProdukt=3,BE575,IF(GRLProdukt=4,BQ575,0))))","v":0},{"$f":"IF(GRLProdukt=1,AH575,IF(GRLProdukt=2,AT575,IF(GRLProdukt=3,BF575,IF(GRLProdukt=4,BR575,0))))","v":0},{"$f":"IF(GRLProdukt=1,AI575,IF(GRLProdukt=2,AU575,IF(GRLProdukt=3,BG575,IF(GRLProdukt=4,BS575,0))))","v":0},{"$f":"IF(GRLProdukt=1,AJ575,IF(GRLProdukt=2,AV575,IF(GRLProdukt=3,BH575,IF(GRLProdukt=4,BT575,0))))","v":0},{"$f":"IF(GRLProdukt=1,AK575,IF(GRLProdukt=2,AW575,IF(GRLProdukt=3,BI575,IF(GRLProdukt=4,BU575,0))))","v":0},{"$f":"IF(GRLProdukt=1,AL575,IF(GRLProdukt=2,AX575,IF(GRLProdukt=3,BJ575,IF(GRLProdukt=4,BV575,0))))","v":0},{"$f":"IF(GRLProdukt=1,AM575,IF(GRLProdukt=2,AY575,IF(GRLProdukt=3,BK575,IF(GRLProdukt=4,BW575,0))))","v":0},{"$f":"IF(GRLProdukt=1,AN575,IF(GRLProdukt=2,AZ575,IF(GRLProdukt=3,BL575,IF(GRLProdukt=4,BX575,0))))","v":0},20,null,null,null,null,7005]
[8,7,5,0,null,null,"Verktøy,inventar mm",null,null,null,{"$f":"IF(E576<>\"\",1,0)","v":0},{"$f":"IF(F576<>\"\",1,0)+K576","v":0},{"$f":"IF(G576<>\"\",1,0)+L576","v":1},{"$f":"IF(H576<>\"\",1,0)+M576","v":1},{"$f":"A576+1","v":9},{"$f":"VALUE(A576&B576&C576&D576)","v":8750},{"$f":"IF(GRLProdukt=1,AC576,IF(GRLProdukt=2,AO576,IF(GRLProdukt=3,BA576,IF(GRLProdukt=4,BM576,0))))","v":0},{"$f":"IF(GRLProdukt=1,AD576,IF(GRLProdukt=2,AP576,IF(GRLProdukt=3,BB576,IF(GRLProdukt=4,BN576,0))))","v":0},{"$f":"IF(GRLProdukt=1,AE576,IF(GRLProdukt=2,AQ576,IF(GRLProdukt=3,BC576,IF(GRLProdukt=4,BO576,0))))","v":0},{"$f":"IF(GRLProdukt=1,AF576,IF(GRLProdukt=2,AR576,IF(GRLProdukt=3,BD576,IF(GRLProdukt=4,BP576,0))))","v":0},{"$f":"IF(GRLProdukt=1,AG576,IF(GRLProdukt=2,AS576,IF(GRLProdukt=3,BE576,IF(GRLProdukt=4,BQ576,0))))","v":0},{"$f":"IF(GRLProdukt=1,AH576,IF(GRLProdukt=2,AT576,IF(GRLProdukt=3,BF576,IF(GRLProdukt=4,BR576,0))))","v":0},{"$f":"IF(GRLProdukt=1,AI576,IF(GRLProdukt=2,AU576,IF(GRLProdukt=3,BG576,IF(GRLProdukt=4,BS576,0))))","v":0},{"$f":"IF(GRLProdukt=1,AJ576,IF(GRLProdukt=2,AV576,IF(GRLProdukt=3,BH576,IF(GRLProdukt=4,BT576,0))))","v":0},{"$f":"IF(GRLProdukt=1,AK576,IF(GRLProdukt=2,AW576,IF(GRLProdukt=3,BI576,IF(GRLProdukt=4,BU576,0))))","v":0},{"$f":"IF(GRLProdukt=1,AL576,IF(GRLProdukt=2,AX576,IF(GRLProdukt=3,BJ576,IF(GRLProdukt=4,BV576,0))))","v":0},{"$f":"IF(GRLProdukt=1,AM576,IF(GRLProdukt=2,AY576,IF(GRLProdukt=3,BK576,IF(GRLProdukt=4,BW576,0))))","v":0},{"$f":"IF(GRLProdukt=1,AN576,IF(GRLProdukt=2,AZ576,IF(GRLProdukt=3,BL576,IF(GRLProdukt=4,BX576,0))))","v":0},20]
[8,7,5,3,null,null,null,"Rekvisita og driftsmateriell",null,null,{"$f":"IF(E577<>\"\",1,0)","v":0},{"$f":"IF(F577<>\"\",1,0)+K577","v":0},{"$f":"IF(G577<>\"\",1,0)+L577","v":0},{"$f":"IF(H577<>\"\",1,0)+M577","v":1},{"$f":"A577+1","v":9},{"$f":"VALUE(A577&B577&C577&D577)","v":8753},{"$f":"IF(GRLProdukt=1,AC577,IF(GRLProdukt=2,AO577,IF(GRLProdukt=3,BA577,IF(GRLProdukt=4,BM577,0))))","v":0},{"$f":"IF(GRLProdukt=1,AD577,IF(GRLProdukt=2,AP577,IF(GRLProdukt=3,BB577,IF(GRLProdukt=4,BN577,0))))","v":0},{"$f":"IF(GRLProdukt=1,AE577,IF(GRLProdukt=2,AQ577,IF(GRLProdukt=3,BC577,IF(GRLProdukt=4,BO577,0))))","v":0},{"$f":"IF(GRLProdukt=1,AF577,IF(GRLProdukt=2,AR577,IF(GRLProdukt=3,BD577,IF(GRLProdukt=4,BP577,0))))","v":0},{"$f":"IF(GRLProdukt=1,AG577,IF(GRLProdukt=2,AS577,IF(GRLProdukt=3,BE577,IF(GRLProdukt=4,BQ577,0))))","v":0},{"$f":"IF(GRLProdukt=1,AH577,IF(GRLProdukt=2,AT577,IF(GRLProdukt=3,BF577,IF(GRLProdukt=4,BR577,0))))","v":0},{"$f":"IF(GRLProdukt=1,AI577,IF(GRLProdukt=2,AU577,IF(GRLProdukt=3,BG577,IF(GRLProdukt=4,BS577,0))))","v":0},{"$f":"IF(GRLProdukt=1,AJ577,IF(GRLProdukt=2,AV577,IF(GRLProdukt=3,BH577,IF(GRLProdukt=4,BT577,0))))","v":0},{"$f":"IF(GRLProdukt=1,AK577,IF(GRLProdukt=2,AW577,IF(GRLProdukt=3,BI577,IF(GRLProdukt=4,BU577,0))))","v":0},{"$f":"IF(GRLProdukt=1,AL577,IF(GRLProdukt=2,AX577,IF(GRLProdukt=3,BJ577,IF(GRLProdukt=4,BV577,0))))","v":0},{"$f":"IF(GRLProdukt=1,AM577,IF(GRLProdukt=2,AY577,IF(GRLProdukt=3,BK577,IF(GRLProdukt=4,BW577,0))))","v":0},{"$f":"IF(GRLProdukt=1,AN577,IF(GRLProdukt=2,AZ577,IF(GRLProdukt=3,BL577,IF(GRLProdukt=4,BX577,0))))","v":0},20,null,null,null,null,6560]
[8,8,0,0,null,"Ledig",null,null,null,"Satt ledig januar 2023 (har ikke vært i bruk)",{"$f":"IF(E578<>\"\",1,0)","v":0},{"$f":"IF(F578<>\"\",1,0)+K578","v":1},{"$f":"IF(G578<>\"\",1,0)+L578","v":1},{"$f":"IF(H578<>\"\",1,0)+M578","v":1},{"$f":"A578+1","v":9},8800,0,0,0,0,0,0,0,0,0,0,0,0,20]
[8,8,1,0,null,null,"Ledig",null,null,"Satt ledig januar 2023 (har ikke vært i bruk)",0,0,1,1,9,8810,0,0,0,0,0,0,0,0,0,0,0,0,20]
[8,8,1,1,null,null,null,"Ledig",null,"Satt ledig januar 2023 (har ikke vært i bruk)",0,0,0,1,9,8811,0,0,0,0,0,0,0,0,0,0,0,0,20]
[8,8,1,2,null,null,null,"Ledig",null,"Satt ledig januar 2023 (har ikke vært i bruk)",0,0,0,1,9,8812,0,0,0,0,0,0,0,0,0,0,0,0,20]
[8,8,1,3,null,null,null,"Ledig",null,"Satt ledig januar 2023 (har ikke vært i bruk)",0,0,0,1,9,8813,{"$f":"IF(GRLProdukt=1,AC582,IF(GRLProdukt=2,AO582,IF(GRLProdukt=3,BA582,IF(GRLProdukt=4,BM582,0))))","v":0},{"$f":"IF(GRLProdukt=1,AD582,IF(GRLProdukt=2,AP582,IF(GRLProdukt=3,BB582,IF(GRLProdukt=4,BN582,0))))","v":0},0,{"$f":"IF(GRLProdukt=1,AF582,IF(GRLProdukt=2,AR582,IF(GRLProdukt=3,BD582,IF(GRLProdukt=4,BP582,0))))","v":0},{"$f":"IF(GRLProdukt=1,AG582,IF(GRLProdukt=2,AS582,IF(GRLProdukt=3,BE582,IF(GRLProdukt=4,BQ582,0))))","v":0},{"$f":"IF(GRLProdukt=1,AH582,IF(GRLProdukt=2,AT582,IF(GRLProdukt=3,BF582,IF(GRLProdukt=4,BR582,0))))","v":0},{"$f":"IF(GRLProdukt=1,AI582,IF(GRLProdukt=2,AU582,IF(GRLProdukt=3,BG582,IF(GRLProdukt=4,BS582,0))))","v":0},{"$f":"IF(GRLProdukt=1,AJ582,IF(GRLProdukt=2,AV582,IF(GRLProdukt=3,BH582,IF(GRLProdukt=4,BT582,0))))","v":0},{"$f":"IF(GRLProdukt=1,AK582,IF(GRLProdukt=2,AW582,IF(GRLProdukt=3,BI582,IF(GRLProdukt=4,BU582,0))))","v":0},{"$f":"IF(GRLProdukt=1,AL582,IF(GRLProdukt=2,AX582,IF(GRLProdukt=3,BJ582,IF(GRLProdukt=4,BV582,0))))","v":0},{"$f":"IF(GRLProdukt=1,AM582,IF(GRLProdukt=2,AY582,IF(GRLProdukt=3,BK582,IF(GRLProdukt=4,BW582,0))))","v":0},{"$f":"IF(GRLProdukt=1,AN582,IF(GRLProdukt=2,AZ582,IF(GRLProdukt=3,BL582,IF(GRLProdukt=4,BX582,0))))","v":0},20]
[8,8,1,4,null,null,null,"Ledig",null,"Satt ledig januar 2023 (har ikke vært i bruk)",0,0,0,1,9,8814,0,0,0,0,0,0,0,0,0,0,0,0,20]
[8,8,2,0,null,null,"Ledig",null,null,"Satt ledig januar 2023 (har ikke vært i bruk)",0,0,1,1,9,8820,0,0,0,0,0,0,0,0,0,0,0,0,20]
[8,8,2,1,null,null,null,"Ledig",null,"Satt ledig januar 2023 (har ikke vært i bruk)",0,0,0,1,9,8821,0,0,0,0,0,0,0,0,0,0,0,0,20]
[8,8,2,2,null,null,null,"Ledig",null,"Satt ledig januar 2023 (har ikke vært i bruk)",0,0,0,1,9,8822,0,0,0,0,0,0,0,0,0,0,0,0,20]
[8,8,2,3,null,null,null,"Ledig",null,"Satt ledig januar 2023 (har ikke vært i bruk)",0,0,0,1,9,8823,0,0,0,0,0,0,0,0,0,0,0,0,20]
[8,8,2,4,null,null,null,"Ledig",null,"Satt ledig januar 2023 (har ikke vært i bruk)",0,0,0,1,9,8824,0,0,0,0,0,0,0,0,0,0,0,0,20]
[8,8,2,5,null,null,null,"Ledig",null,"Satt ledig januar 2023 (har ikke vært i bruk)",0,0,0,1,9,8825,0,0,0,0,0,0,0,0,0,0,0,0,20]
[8,8,2,6,null,null,null,"Ledig",null,"Satt ledig januar 2023 (har ikke vært i bruk)",0,0,0,1,9,8826,0,0,0,0,0,0,0,0,0,0,0,0,20]
[8,8,2,9,null,null,null,"Ledig",null,"Satt ledig januar 2023 (har ikke vært i bruk)",0,0,0,1,9,8829,0,0,0,0,0,0,0,0,0,0,0,0,20]
[8,8,3,0,null,null,"Ledig",null,null,"Satt ledig januar 2023 (har ikke vært i bruk)",0,0,1,1,9,8830,0,0,0,0,0,0,0,0,0,0,0,0,20]
[8,8,3,1,null,null,null,"Ledig",null,"Satt ledig januar 2023 (har ikke vært i bruk)",0,0,0,1,9,8831,0,0,0,0,0,0,0,0,0,0,0,0,20]
[8,8,3,2,null,null,null,"Ledig",null,"Satt ledig januar 2023 (har ikke vært i bruk)",0,0,0,1,9,8832,0,0,0,0,0,0,0,0,0,0,0,0,20]
[8,8,3,3,null,null,null,"Ledig",null,"Satt ledig januar 2023 (har ikke vært i bruk)",0,0,0,1,9,8833,0,0,0,0,0,0,0,0,0,0,0,0,20]
[8,8,3,4,null,null,null,"Ledig",null,"Satt ledig januar 2023 (har ikke vært i bruk)",0,0,0,1,9,8834,0,0,0,0,0,0,0,0,0,0,0,0,20]
[8,8,4,0,null,null,"Ledig",null,null,"Satt ledig januar 2023 (har ikke vært i bruk)",0,0,1,1,9,8840,0,0,0,0,0,0,0,0,0,0,0,0,30]
[8,8,4,1,null,null,null,"Ledig",null,"Satt ledig januar 2023 (har ikke vært i bruk)",0,0,0,1,9,8841,0,0,0,0,0,0,0,0,0,0,0,0,30]
[8,8,4,2,null,null,null,"Ledig",null,"Satt ledig januar 2023 (har ikke vært i bruk)",0,0,0,1,9,8842,0,0,0,0,0,0,0,0,0,0,0,0,30]
[8,8,4,3,null,null,null,"Ledig",null,"Satt ledig januar 2023 (har ikke vært i bruk)",0,0,0,1,9,8843,0,0,0,0,0,0,0,0,0,0,0,0,30]
[8,9,9,9,null,null,null,null,null,null,{"$f":"IF(E601<>\"\",1,0)","v":0},{"$f":"IF(F601<>\"\",1,0)+K601","v":0},{"$f":"IF(G601<>\"\",1,0)+L601","v":0},{"$f":"IF(H601<>\"\",1,0)+M601","v":0},{"$f":"A601+1","v":9},{"$f":"VALUE(A601&B601&C601&D601)","v":8999},{"$f":"IF(GRLProdukt=1,AC601,IF(GRLProdukt=2,AO601,IF(GRLProdukt=3,BA601,IF(GRLProdukt=4,BM601,0))))","v":0},{"$f":"IF(GRLProdukt=1,AD601,IF(GRLProdukt=2,AP601,IF(GRLProdukt=3,BB601,IF(GRLProdukt=4,BN601,0))))","v":0},{"$f":"IF(GRLProdukt=1,AE601,IF(GRLProdukt=2,AQ601,IF(GRLProdukt=3,BC601,IF(GRLProdukt=4,BO601,0))))","v":0},{"$f":"IF(GRLProdukt=1,AF601,IF(GRLProdukt=2,AR601,IF(GRLProdukt=3,BD601,IF(GRLProdukt=4,BP601,0))))","v":0},{"$f":"IF(GRLProdukt=1,AG601,IF(GRLProdukt=2,AS601,IF(GRLProdukt=3,BE601,IF(GRLProdukt=4,BQ601,0))))","v":0},{"$f":"IF(GRLProdukt=1,AH601,IF(GRLProdukt=2,AT601,IF(GRLProdukt=3,BF601,IF(GRLProdukt=4,BR601,0))))","v":0},{"$f":"IF(GRLProdukt=1,AI601,IF(GRLProdukt=2,AU601,IF(GRLProdukt=3,BG601,IF(GRLProdukt=4,BS601,0))))","v":0},{"$f":"IF(GRLProdukt=1,AJ601,IF(GRLProdukt=2,AV601,IF(GRLProdukt=3,BH601,IF(GRLProdukt=4,BT601,0))))","v":0},{"$f":"IF(GRLProdukt=1,AK601,IF(GRLProdukt=2,AW601,IF(GRLProdukt=3,BI601,IF(GRLProdukt=4,BU601,0))))","v":0},{"$f":"IF(GRLProdukt=1,AL601,IF(GRLProdukt=2,AX601,IF(GRLProdukt=3,BJ601,IF(GRLProdukt=4,BV601,0))))","v":0},{"$f":"IF(GRLProdukt=1,AM601,IF(GRLProdukt=2,AY601,IF(GRLProdukt=3,BK601,IF(GRLProdukt=4,BW601,0))))","v":0},{"$f":"IF(GRLProdukt=1,AN601,IF(GRLProdukt=2,AZ601,IF(GRLProdukt=3,BL601,IF(GRLProdukt=4,BX601,0))))","v":0}]
[9,0,0,0,"Ledig",null,null,null,null,null,{"$f":"IF(E602<>\"\",1,0)","v":1},{"$f":"IF(F602<>\"\",1,0)+K602","v":1},{"$f":"IF(G602<>\"\",1,0)+L602","v":1},{"$f":"IF(H602<>\"\",1,0)+M602","v":1},{"$f":"A602+1","v":10},9000]
[9,1,0,0,null,"Produkt 1 nivå 2",null,null,null,"Ledig",0,1,1,1,10,9100,{"$f":"IF(GRLProdukt=1,AC603,IF(GRLProdukt=2,AO603,IF(GRLProdukt=3,BA603,IF(GRLProdukt=4,BM603,0))))","v":0},{"$f":"IF(GRLProdukt=1,AD603,IF(GRLProdukt=2,AP603,IF(GRLProdukt=3,BB603,IF(GRLProdukt=4,BN603,0))))","v":0},{"$f":"IF(GRLProdukt=1,AE603,IF(GRLProdukt=2,AQ603,IF(GRLProdukt=3,BC603,IF(GRLProdukt=4,BO603,0))))","v":0},{"$f":"IF(GRLProdukt=1,AF603,IF(GRLProdukt=2,AR603,IF(GRLProdukt=3,BD603,IF(GRLProdukt=4,BP603,0))))","v":0},{"$f":"IF(GRLProdukt=1,AG603,IF(GRLProdukt=2,AS603,IF(GRLProdukt=3,BE603,IF(GRLProdukt=4,BQ603,0))))","v":0},{"$f":"IF(GRLProdukt=1,AH603,IF(GRLProdukt=2,AT603,IF(GRLProdukt=3,BF603,IF(GRLProdukt=4,BR603,0))))","v":0},{"$f":"IF(GRLProdukt=1,AI603,IF(GRLProdukt=2,AU603,IF(GRLProdukt=3,BG603,IF(GRLProdukt=4,BS603,0))))","v":0},{"$f":"IF(GRLProdukt=1,AJ603,IF(GRLProdukt=2,AV603,IF(GRLProdukt=3,BH603,IF(GRLProdukt=4,BT603,0))))","v":0},{"$f":"IF(GRLProdukt=1,AK603,IF(GRLProdukt=2,AW603,IF(GRLProdukt=3,BI603,IF(GRLProdukt=4,BU603,0))))","v":0},{"$f":"IF(GRLProdukt=1,AL603,IF(GRLProdukt=2,AX603,IF(GRLProdukt=3,BJ603,IF(GRLProdukt=4,BV603,0))))","v":0},{"$f":"IF(GRLProdukt=1,AM603,IF(GRLProdukt=2,AY603,IF(GRLProdukt=3,BK603,IF(GRLProdukt=4,BW603,0))))","v":0},{"$f":"IF(GRLProdukt=1,AN603,IF(GRLProdukt=2,AZ603,IF(GRLProdukt=3,BL603,IF(GRLProdukt=4,BX603,0))))","v":0}]
[9,1,1,0,null,null,"Produkt 1 nivå 3",null,null,"Ledig",0,0,1,1,10,9110,0,0,0,0,0,0,0,0,0,0,0,0]
[9,1,1,1,null,null,null,"Produkt 1 nivå 4",null,"Ledig",0,0,0,1,10,9111,0,0,0,0,0,0,0,0,0,0,0,0]
[9,2,0,0,null,"Produkt 2 nivå 2",null,null,null,"Ledig",{"$f":"IF(E606<>\"\",1,0)","v":0},{"$f":"IF(F606<>\"\",1,0)+K606","v":1},{"$f":"IF(G606<>\"\",1,0)+L606","v":1},{"$f":"IF(H606<>\"\",1,0)+M606","v":1},10,9200,0,0,0,0,0,0,0,0,0,0,0,0]
[9,2,1,0,null,null,"Produkt 2 nivå 3",null,null,"Ledig",0,0,1,1,10,9210,0,0,0,0,0,0,0,0,0,0,0,0]
[9,2,1,1,null,null,null,"Produkt 2 nivå 4",null,"Ledig",0,0,0,1,10,9211,0,0,0,0,0,0,0,0,0,0,0,0]
["Nye linjer må settes inn over denne linja"]
[]
[null,null,null,null,null,null,null,null,null,"Grupper"]
[null,null,null,null,null,null,null,null,1,"Alle grupper"]
[null,null,null,null,null,null,null,null,2,{"$f":"A4&B4&C4&D4&\"   \"&E4","v":"1000   Korn, frø og grovfôr"}]
[null,null,null,null,null,null,null,null,3,{"$f":"A73&B73&C73&D73&\"   \"&E73","v":"2000   Poteter, grønnsaker, frukt, bær, blomster og hagebruksvekster"}]
[null,null,null,null,null,null,null,null,4,{"$f":"A120&B120&C120&D120&\"   \"&E120","v":"3000   Husdyrprodukter"}]
[null,null,null,null,null,null,null,null,5,{"$f":"A154&B154&C154&D154&\"   \"&E154","v":"4000   Husdyr, slakt og skrotter"}]
[null,null,null,null,null,null,null,null,6,{"$f":"A198&B198&C198&D198&\"   \"&E198","v":"5000   Husdyr, livdyr, fôringsdyr, produksjonsdyr og balanse"}]
[null,null,null,null,null,null,null,null,7,{"$f":"A304&B304&C304&D304&\"   \"&E304","v":"6000   Skogbruk og andre næringer"}]
[null,null,null,null,null,null,null,null,8,{"$f":"A347&B347&C347&D347&\"   \"&E347","v":"7000   Tilskudd fra/forvaltet av landbruksdirektoratet, annen offentlig etat og finansiering, renter etc."}]
[null,null,null,null,null,null,null,null,9,{"$f":"A405&B405&C405&D405&\"   \"&E405","v":"8000   Varer og tjenester knyttet til produksjonene"}]
[null,null,null,null,null,null,null,null,10,{"$f":"A602&B602&C602&D602&\"   \"&E602","v":"9000   Ledig"}]

{"sheet":"ProduktDetalj","index":2,"n_rows":2611,"n_cols":18,"rows_kept":2611,"cut":false,"hidden":false,"merged":[[1,0,1,4],[1,8,2,8],[2,5,2,6],[2,0,2,3]]}
["Produkt detaljer",null,null,null,null,null,null,null,{"$f":"Admin!D1","v":"1.3.6"},null,3,null,null,1,"Startlinje",{"$f":"ROW(I4)","v":4},"Sluttlinje",{"$f":"ROW(I2599)-1","v":2598}]
["Kode detaljer",null,null,null,null,{"$f":"\"Gruppenivå (\"&NivaaProduktDetalj&\")\"","v":"Gruppenivå (3)"},null,null,"Sammen-slått kode"]
["Gruppenr",null,null,null,"Løpenr","Tekst",null,"Merknader",null,null,1,2,3,"Viser \nhovedgr"]
[1,0,0,0,0,{"$f":"Produkt!E4","v":"Korn, frø og grovfôr"},null,null,{"$f":"VALUE(A4&B4&C4&D4&IF(LEN(E4)=1,\"00\"&E4,IF(LEN(E4)=2,\"0\"&E4,E4)))","v":1000000},null,{"$f":"IF(B4=0,1,0)","v":1},{"$f":"IF(AND(D4=0,E4=0),1,0)","v":1},1,{"$f":"A4+1","v":2}]
[1,1,0,0,0,{"$f":"Produkt!F5","v":"Korn, oljefrø mm. til modning"},null,null,1100000,null,{"$f":"IF(B5=0,1,0)","v":0},{"$f":"IF(AND(D5=0,E5=0),1,0)","v":1},1,{"$f":"A5+1","v":2}]
[1,1,1,0,0,{"$f":"Produkt!G6","v":"Hvete"},null,null,1110000,null,0,1,1,2]
[1,1,1,1,1,"Vårhvete Zebra",null,null,1111001,null,0,0,1,2]
[1,1,1,1,{"$f":"E7+1","v":2},"Vårhvete Demonstrant",null,null,1111002,null,0,0,1,2]
[1,1,1,1,{"$f":"E8+1","v":3},"Vårhvete Bjarne",null,null,1111003,null,0,0,1,2]
[1,1,1,1,4,"Vårhvete Berserk",null,null,1111004,null,0,0,1,2]
[1,1,1,1,5,"Vårhvete Krabat",null,null,1111005,null,0,0,1,2]
[1,1,1,1,6,"Vårhvete Tjalve",null,null,1111006,null,0,0,1,2]
[1,1,1,1,7,"Vårhvete Bastian",null,null,1111007,null,0,0,1,2]
[1,1,1,1,8,"Vårhvete Mirakel",null,null,{"$f":"VALUE(A14&B14&C14&D14&IF(LEN(E14)=1,\"00\"&E14,IF(LEN(E14)=2,\"0\"&E14,E14)))","v":1111008},null,0,0,1,{"$f":"A14+1","v":2}]
[1,1,1,1,9,"Vårhvete Quarna",null,"Økologisk",{"$f":"VALUE(A15&B15&C15&D15&IF(LEN(E15)=1,\"00\"&E15,IF(LEN(E15)=2,\"0\"&E15,E15)))","v":1111009},null,{"$f":"IF(B15=0,1,0)","v":0},{"$f":"IF(AND(D15=0,E15=0),1,0)","v":0},1,{"$f":"A15+1","v":2}]
[1,1,1,1,10,"Vårhvete Rabagast",null,null,{"$f":"VALUE(A16&B16&C16&D16&IF(LEN(E16)=1,\"00\"&E16,IF(LEN(E16)=2,\"0\"&E16,E16)))","v":1111010},null,{"$f":"IF(B16=0,1,0)","v":0},{"$f":"IF(AND(D16=0,E16=0),1,0)","v":0},1,{"$f":"A16+1","v":2}]
[1,1,1,1,11,"Vårhvete Caress",null,null,{"$f":"VALUE(A17&B17&C17&D17&IF(LEN(E17)=1,\"00\"&E17,IF(LEN(E17)=2,\"0\"&E17,E17)))","v":1111011},null,{"$f":"IF(B17=0,1,0)","v":0},{"$f":"IF(AND(D17=0,E17=0),1,0)","v":0},1,{"$f":"A17+1","v":2}]
[1,1,1,1,12,"Vårhvete Betong",null,null,{"$f":"VALUE(A18&B18&C18&D18&IF(LEN(E18)=1,\"00\"&E18,IF(LEN(E18)=2,\"0\"&E18,E18)))","v":1111012},null,{"$f":"IF(B18=0,1,0)","v":0},{"$f":"IF(AND(D18=0,E18=0),1,0)","v":0},1,{"$f":"A18+1","v":2}]
[1,1,1,1,13,"Vårhvete Festus",null,null,{"$f":"VALUE(A19&B19&C19&D19&IF(LEN(E19)=1,\"00\"&E19,IF(LEN(E19)=2,\"0\"&E19,E19)))","v":1111013},null,{"$f":"IF(B19=0,1,0)","v":0},{"$f":"IF(AND(D19=0,E19=0),1,0)","v":0},1,{"$f":"A19+1","v":2}]
[1,1,1,1,14,"Vårhvete Helmi",null,null,{"$f":"VALUE(A20&B20&C20&D20&IF(LEN(E20)=1,\"00\"&E20,IF(LEN(E20)=2,\"0\"&E20,E20)))","v":1111014},null,{"$f":"IF(B20=0,1,0)","v":0},{"$f":"IF(AND(D20=0,E20=0),1,0)","v":0},1,{"$f":"A20+1","v":2}]
[1,1,1,1,15,"Vårhvete Embla",null,null,{"$f":"VALUE(A21&B21&C21&D21&IF(LEN(E21)=1,\"00\"&E21,IF(LEN(E21)=2,\"0\"&E21,E21)))","v":1111015},null,{"$f":"IF(B21=0,1,0)","v":0},{"$f":"IF(AND(D21=0,E21=0),1,0)","v":0},1,{"$f":"A21+1","v":2}]
[1,1,1,1,16,"Vårhvete Sibelius",null,null,{"$f":"VALUE(A22&B22&C22&D22&IF(LEN(E22)=1,\"00\"&E22,IF(LEN(E22)=2,\"0\"&E22,E22)))","v":1111016},null,{"$f":"IF(B22=0,1,0)","v":0},{"$f":"IF(AND(D22=0,E22=0),1,0)","v":0},1,{"$f":"A22+1","v":2}]
[1,1,1,1,999,"Vårhvete andre sorter",null,null,1111999,null,0,0,1,2]
[1,1,1,2,1,"Høsthvete Mjølner",null,null,1112001,null,0,0,1,2]
[1,1,1,2,2,"Høsthvete Magnifik",null,null,1112002,null,0,0,1,2]
[1,1,1,2,3,"Høsthvete Olivin",null,null,1112003,null,0,0,1,2]
[1,1,1,2,4,"Høsthvete Skagen",null,null,1112004,null,0,0,1,2]
[1,1,1,2,5,"Høsthvete Bjørke",null,null,1112005,null,0,0,1,2]
[1,1,1,2,6,"Høsthvete Finans",null,null,1112006,null,0,0,1,2]
[1,1,1,2,7,"Høsthvete Kuban",null,null,1112007,null,0,0,1,2]
[1,1,1,2,8,"Høsthvete Lars",null,null,1112008,null,0,0,1,2]
[1,1,1,2,9,"Høsthvete Ellvis",null,null,{"$f":"VALUE(A32&B32&C32&D32&IF(LEN(E32)=1,\"00\"&E32,IF(LEN(E32)=2,\"0\"&E32,E32)))","v":1112009},null,0,0,1,{"$f":"A32+1","v":2}]
[1,1,1,2,10,"Høsthvete Mariboss",null,null,{"$f":"VALUE(A33&B33&C33&D33&IF(LEN(E33)=1,\"00\"&E33,IF(LEN(E33)=2,\"0\"&E33,E33)))","v":1112010},null,0,0,1,{"$f":"A33+1","v":2}]
[1,1,1,2,11,"Høsthvete Ozon",null,null,{"$f":"VALUE(A34&B34&C34&D34&IF(LEN(E34)=1,\"00\"&E34,IF(LEN(E34)=2,\"0\"&E34,E34)))","v":1112011},null,{"$f":"IF(B34=0,1,0)","v":0},{"$f":"IF(AND(D34=0,E34=0),1,0)","v":0},1,{"$f":"A34+1","v":2}]
[1,1,1,2,12,"Høsthvete Torp",null,null,{"$f":"VALUE(A35&B35&C35&D35&IF(LEN(E35)=1,\"00\"&E35,IF(LEN(E35)=2,\"0\"&E35,E35)))","v":1112012},null,{"$f":"IF(B35=0,1,0)","v":0},{"$f":"IF(AND(D35=0,E35=0),1,0)","v":0},1,{"$f":"A35+1","v":2}]
[1,1,1,2,13,"Høsthvete Jantarka",null,null,{"$f":"VALUE(A36&B36&C36&D36&IF(LEN(E36)=1,\"00\"&E36,IF(LEN(E36)=2,\"0\"&E36,E36)))","v":1112013},null,{"$f":"IF(B36=0,1,0)","v":0},{"$f":"IF(AND(D36=0,E36=0),1,0)","v":0},1,{"$f":"A36+1","v":2}]
[1,1,1,2,14,"Høsthvete Festival",null,"Økologisk",{"$f":"VALUE(A37&B37&C37&D37&IF(LEN(E37)=1,\"00\"&E37,IF(LEN(E37)=2,\"0\"&E37,E37)))","v":1112014},null,{"$f":"IF(B37=0,1,0)","v":0},{"$f":"IF(AND(D37=0,E37=0),1,0)","v":0},1,{"$f":"A37+1","v":2}]
[1,1,1,2,15,"Høsthvete Praktik",null,null,{"$f":"VALUE(A38&B38&C38&D38&IF(LEN(E38)=1,\"00\"&E38,IF(LEN(E38)=2,\"0\"&E38,E38)))","v":1112015},null,{"$f":"IF(B38=0,1,0)","v":0},{"$f":"IF(AND(D38=0,E38=0),1,0)","v":0},1,{"$f":"A38+1","v":2}]
[1,1,1,2,16,"Høsthvete Julius",null,null,{"$f":"VALUE(A39&B39&C39&D39&IF(LEN(E39)=1,\"00\"&E39,IF(LEN(E39)=2,\"0\"&E39,E39)))","v":1112016},null,{"$f":"IF(B39=0,1,0)","v":0},{"$f":"IF(AND(D39=0,E39=0),1,0)","v":0},1,{"$f":"A39+1","v":2}]
[1,1,1,2,17,"Høsthvete Informer",null,null,1112017,null,0,0,1,{"$f":"A40+1","v":2}]
[1,1,1,2,18,"Høsthvete KWS Ahoi",null,null,{"$f":"VALUE(A41&B41&C41&D41&IF(LEN(E41)=1,\"00\"&E41,IF(LEN(E41)=2,\"0\"&E41,E41)))","v":1112018},null,{"$f":"IF(B41=0,1,0)","v":0},{"$f":"IF(AND(D41=0,E41=0),1,0)","v":0},1,2]
[1,1,1,2,19,"Høsthvete Rotax",null,null,{"$f":"VALUE(A42&B42&C42&D42&IF(LEN(E42)=1,\"00\"&E42,IF(LEN(E42)=2,\"0\"&E42,E42)))","v":1112019},null,{"$f":"IF(B42=0,1,0)","v":0},{"$f":"IF(AND(D42=0,E42=0),1,0)","v":0},1,2]
[1,1,1,2,20,"Høsthvete Bernstein",null,null,{"$f":"VALUE(A43&B43&C43&D43&IF(LEN(E43)=1,\"00\"&E43,IF(LEN(E43)=2,\"0\"&E43,E43)))","v":1112020},null,{"$f":"IF(B43=0,1,0)","v":0},{"$f":"IF(AND(D43=0,E43=0),1,0)","v":0},1,2]
[1,1,1,2,21,"Høsthvete Alomar",null,null,{"$f":"VALUE(A44&B44&C44&D44&IF(LEN(E44)=1,\"00\"&E44,IF(LEN(E44)=2,\"0\"&E44,E44)))","v":1112021},null,{"$f":"IF(B44=0,1,0)","v":0},{"$f":"IF(AND(D44=0,E44=0),1,0)","v":0},1,{"$f":"A44+1","v":2}]
[1,1,1,2,22,"Høsthvete Lizzie",null,null,{"$f":"VALUE(A45&B45&C45&D45&IF(LEN(E45)=1,\"00\"&E45,IF(LEN(E45)=2,\"0\"&E45,E45)))","v":1112022},null,{"$f":"IF(B45=0,1,0)","v":0},{"$f":"IF(AND(D45=0,E45=0),1,0)","v":0},1,{"$f":"A45+1","v":2}]
[1,1,1,2,99,"Høsthvete Spelt",null,"Hybrid",{"$f":"VALUE(A46&B46&C46&D46&IF(LEN(E46)=1,\"00\"&E46,IF(LEN(E46)=2,\"0\"&E46,E46)))","v":1112099},null,{"$f":"IF(B46=0,1,0)","v":0},{"$f":"IF(AND(D46=0,E46=0),1,0)","v":0},1,2]
[1,1,1,2,999,"Høsthvete andre sorter",null,null,1112999,null,0,0,1,2]
[1,1,2,0,0,{"$f":"Produkt!G9","v":"Bygg"},null,null,1120000,null,0,1,1,2]
[1,1,2,1,1,"Toradsbygg Helium",null,null,1121001,null,0,0,1,2]
[1,1,2,1,{"$f":"E49+1","v":2},"Toradsbygg Marigold",null,null,1121002,null,0,0,1,2]
[1,1,2,1,{"$f":"E50+1","v":3},"Toradsbygg Tyra",null,null,1121003,null,0,0,1,2]
[1,1,2,1,4,"Toradsbygg Gustav",null,null,1121004,null,0,0,1,2]
[1,1,2,1,5,"Toradsbygg Iver",null,null,1121005,null,0,0,1,2]
[1,1,2,1,6,"Toradsbygg Olve",null,null,1121006,null,0,0,1,2]
[1,1,2,1,7,"Toradsbygg Annabell",null,null,1121007,null,0,0,1,2]
[1,1,2,1,8,"Toradsbygg Kinnan",null,null,1121008,null,0,0,1,2]
[1,1,2,1,9,"Toradsbygg Iron",null,null,1121009,null,0,0,1,2]
[1,1,2,1,10,"Toradsbygg Sunnita",null,null,1121010,null,0,0,1,2]
[1,1,2,1,11,"Toradsbygg Mitja",null,null,1121011,null,0,0,1,{"$f":"A59+1","v":2}]
[1,1,2,1,12,"Toradsbygg Varberg",null,null,1121012,null,0,0,1,2]
[1,1,2,1,13,"Toradsbygg Simba",null,null,1121013,null,0,0,1,2]
[1,1,2,1,14,"Toradsbygg Quench C2",null,null,1121014,null,0,0,1,2]
[1,1,2,1,15,"Toradsbygg Fairytale",null,"Fairytale",{"$f":"VALUE(A63&B63&C63&D63&IF(LEN(E63)=1,\"00\"&E63,IF(LEN(E63)=2,\"0\"&E63,E63)))","v":1121015},null,0,0,1,2]
[1,1,2,1,16,"Toradsbygg Salome",null,null,{"$f":"VALUE(A64&B64&C64&D64&IF(LEN(E64)=1,\"00\"&E64,IF(LEN(E64)=2,\"0\"&E64,E64)))","v":1121016},null,0,0,1,2]
[1,1,2,1,17,"Toradsbygg Thermus",null,null,{"$f":"VALUE(A65&B65&C65&D65&IF(LEN(E65)=1,\"00\"&E65,IF(LEN(E65)=2,\"0\"&E65,E65)))","v":1121017},null,{"$f":"IF(B65=0,1,0)","v":0},{"$f":"IF(AND(D65=0,E65=0),1,0)","v":0},1,{"$f":"A65+1","v":2}]
[1,1,2,1,18,"Toradsbygg Frigg",null,null,{"$f":"VALUE(A66&B66&C66&D66&IF(LEN(E66)=1,\"00\"&E66,IF(LEN(E66)=2,\"0\"&E66,E66)))","v":1121018},null,{"$f":"IF(B66=0,1,0)","v":0},{"$f":"IF(AND(D66=0,E66=0),1,0)","v":0},1,{"$f":"A66+1","v":2}]
[1,1,2,1,19,"Toradsbygg Arild",null,null,{"$f":"VALUE(A67&B67&C67&D67&IF(LEN(E67)=1,\"00\"&E67,IF(LEN(E67)=2,\"0\"&E67,E67)))","v":1121019},null,{"$f":"IF(B67=0,1,0)","v":0},{"$f":"IF(AND(D67=0,E67=0),1,0)","v":0},1,{"$f":"A67+1","v":2}]
[1,1,2,1,20,"Toradsbygg KWS Irina",null,null,{"$f":"VALUE(A68&B68&C68&D68&IF(LEN(E68)=1,\"00\"&E68,IF(LEN(E68)=2,\"0\"&E68,E68)))","v":1121020},null,{"$f":"IF(B68=0,1,0)","v":0},{"$f":"IF(AND(D68=0,E68=0),1,0)","v":0},1,{"$f":"A68+1","v":2}]
[1,1,2,1,21,"Toradsbygg RGT Planet",null,null,{"$f":"VALUE(A69&B69&C69&D69&IF(LEN(E69)=1,\"00\"&E69,IF(LEN(E69)=2,\"0\"&E69,E69)))","v":1121021},null,{"$f":"IF(B69=0,1,0)","v":0},{"$f":"IF(AND(D69=0,E69=0),1,0)","v":0},1,{"$f":"A69+1","v":2}]
[1,1,2,1,22,"Toradsbygg Vanille",null,null,{"$f":"VALUE(A70&B70&C70&D70&IF(LEN(E70)=1,\"00\"&E70,IF(LEN(E70)=2,\"0\"&E70,E70)))","v":1121022},null,{"$f":"IF(B70=0,1,0)","v":0},{"$f":"IF(AND(D70=0,E70=0),1,0)","v":0},1,{"$f":"A70+1","v":2}]
[1,1,2,1,23,"Toradsbygg Laurikka",null,null,{"$f":"VALUE(A71&B71&C71&D71&IF(LEN(E71)=1,\"00\"&E71,IF(LEN(E71)=2,\"0\"&E71,E71)))","v":1121023},null,{"$f":"IF(B71=0,1,0)","v":0},{"$f":"IF(AND(D71=0,E71=0),1,0)","v":0},1,{"$f":"A71+1","v":2}]
[1,1,2,1,24,"Toradsbygg Bente",null,null,{"$f":"VALUE(A72&B72&C72&D72&IF(LEN(E72)=1,\"00\"&E72,IF(LEN(E72)=2,\"0\"&E72,E72)))","v":1121024},null,{"$f":"IF(B72=0,1,0)","v":0},{"$f":"IF(AND(D72=0,E72=0),1,0)","v":0},1,{"$f":"A72+1","v":2}]
[1,1,2,1,25,"Toradsbygg Atrika",null,null,{"$f":"VALUE(A73&B73&C73&D73&IF(LEN(E73)=1,\"00\"&E73,IF(LEN(E73)=2,\"0\"&E73,E73)))","v":1121025},null,{"$f":"IF(B73=0,1,0)","v":0},{"$f":"IF(AND(D73=0,E73=0),1,0)","v":0},1,{"$f":"A73+1","v":2}]
[1,1,2,1,26,"Toradsbygg Myway",null,null,{"$f":"VALUE(A74&B74&C74&D74&IF(LEN(E74)=1,\"00\"&E74,IF(LEN(E74)=2,\"0\"&E74,E74)))","v":1121026},null,{"$f":"IF(B74=0,1,0)","v":0},{"$f":"IF(AND(D74=0,E74=0),1,0)","v":0},1,{"$f":"A74+1","v":2}]
[1,1,2,1,27,"Toradsbygg Pihl",null,"Nakenbygg, KWS 10/214",{"$f":"VALUE(A75&B75&C75&D75&IF(LEN(E75)=1,\"00\"&E75,IF(LEN(E75)=2,\"0\"&E75,E75)))","v":1121027},null,{"$f":"IF(B75=0,1,0)","v":0},{"$f":"IF(AND(D75=0,E75=0),1,0)","v":0},1,{"$f":"A75+1","v":2}]
[1,1,2,1,28,"Toradsbygg Annika",null,null,{"$f":"VALUE(A76&B76&C76&D76&IF(LEN(E76)=1,\"00\"&E76,IF(LEN(E76)=2,\"0\"&E76,E76)))","v":1121028},null,{"$f":"IF(B76=0,1,0)","v":0},{"$f":"IF(AND(D76=0,E76=0),1,0)","v":0},1,{"$f":"A76+1","v":2}]
[1,1,2,1,29,"Toradsbygg Fandaga",null,null,{"$f":"VALUE(A77&B77&C77&D77&IF(LEN(E77)=1,\"00\"&E77,IF(LEN(E77)=2,\"0\"&E77,E77)))","v":1121029},null,{"$f":"IF(B77=0,1,0)","v":0},{"$f":"IF(AND(D77=0,E77=0),1,0)","v":0},1,{"$f":"A77+1","v":2}]
[1,1,2,1,30,"Toradsbygg Ellinor",null,null,{"$f":"VALUE(A78&B78&C78&D78&IF(LEN(E78)=1,\"00\"&E78,IF(LEN(E78)=2,\"0\"&E78,E78)))","v":1121030},null,{"$f":"IF(B78=0,1,0)","v":0},{"$f":"IF(AND(D78=0,E78=0),1,0)","v":0},1,{"$f":"A78+1","v":2}]
[1,1,2,1,31,"Toradsbygg Torgeir",null,null,{"$f":"VALUE(A79&B79&C79&D79&IF(LEN(E79)=1,\"00\"&E79,IF(LEN(E79)=2,\"0\"&E79,E79)))","v":1121031},null,{"$f":"IF(B79=0,1,0)","v":0},{"$f":"IF(AND(D79=0,E79=0),1,0)","v":0},1,{"$f":"A79+1","v":2}]
[1,1,2,1,32,"Toradsbygg Blixen",null,null,{"$f":"VALUE(A80&B80&C80&D80&IF(LEN(E80)=1,\"00\"&E80,IF(LEN(E80)=2,\"0\"&E80,E80)))","v":1121032},null,{"$f":"IF(B80=0,1,0)","v":0},{"$f":"IF(AND(D80=0,E80=0),1,0)","v":0},1,{"$f":"A80+1","v":2}]
[1,1,2,1,33,"Toradsbygg Skyway",null,null,{"$f":"VALUE(A81&B81&C81&D81&IF(LEN(E81)=1,\"00\"&E81,IF(LEN(E81)=2,\"0\"&E81,E81)))","v":1121033},null,{"$f":"IF(B81=0,1,0)","v":0},{"$f":"IF(AND(D81=0,E81=0),1,0)","v":0},1,{"$f":"A81+1","v":2}]
[1,1,2,1,999,"Toradsbygg andre sorter",null,null,1121999,null,0,0,1,2]
[1,1,2,2,1,"Seksrads bygg Lavrans",null,null,1122001,null,0,0,1,2]
[1,1,2,2,{"$f":"E83+1","v":2},"Seksrads bygg Ven",null,null,1122002,null,0,0,1,2]
[1,1,2,2,{"$f":"E84+1","v":3},"Seksrads bygg Tiril",null,null,1122003,null,0,0,1,2]
[1,1,2,2,4,"Seksrads bygg Gaute",null,null,1122004,null,0,0,1,2]
[1,1,2,2,5,"Seksrads bygg Edel",null,null,1122005,null,0,0,1,2]
[1,1,2,2,6,"Seksrads bygg Heder",null,null,1122006,null,0,0,1,2]
[1,1,2,2,7,"Seksrads bygg Olsok",null,null,1122007,null,0,0,1,2]
[1,1,2,2,8,"Seksrads bygg Brage",null,null,1122008,null,0,0,1,2]
[1,1,2,2,9,"Seksrads bygg Famke",null,null,1122009,null,0,0,1,2]
[1,1,2,2,10,"Seksrads bygg Vilde",null,null,1122010,null,0,0,1,2]
[1,1,2,2,11,"Seksrads bygg Habil",null,null,1122011,null,0,0,1,2]
[1,1,2,2,12,"Seksrads bygg Rødhette",null,null,{"$f":"VALUE(A94&B94&C94&D94&IF(LEN(E94)=1,\"00\"&E94,IF(LEN(E94)=2,\"0\"&E94,E94)))","v":1122012},null,0,0,1,{"$f":"A94+1","v":2}]
[1,1,2,2,13,"Seksrads bygg Akusti",null,null,{"$f":"VALUE(A95&B95&C95&D95&IF(LEN(E95)=1,\"00\"&E95,IF(LEN(E95)=2,\"0\"&E95,E95)))","v":1122013},null,{"$f":"IF(B95=0,1,0)","v":0},{"$f":"IF(AND(D95=0,E95=0),1,0)","v":0},1,{"$f":"A95+1","v":2}]
[1,1,2,2,14,"Seksrads bygg Su Ellen",null,null,{"$f":"VALUE(A96&B96&C96&D96&IF(LEN(E96)=1,\"00\"&E96,IF(LEN(E96)=2,\"0\"&E96,E96)))","v":1122014},null,{"$f":"IF(B96=0,1,0)","v":0},{"$f":"IF(AND(D96=0,E96=0),1,0)","v":0},1,{"$f":"A96+1","v":2}]
[1,1,2,2,15,"Seksrads bygg Wootan",null,null,{"$f":"VALUE(A97&B97&C97&D97&IF(LEN(E97)=1,\"00\"&E97,IF(LEN(E97)=2,\"0\"&E97,E97)))","v":1122015},null,{"$f":"IF(B97=0,1,0)","v":0},{"$f":"IF(AND(D97=0,E97=0),1,0)","v":0},1,{"$f":"A97+1","v":2}]
[1,1,2,2,16,"Seksrads bygg Edvin",null,null,{"$f":"VALUE(A98&B98&C98&D98&IF(LEN(E98)=1,\"00\"&E98,IF(LEN(E98)=2,\"0\"&E98,E98)))","v":1122016},null,{"$f":"IF(B98=0,1,0)","v":0},{"$f":"IF(AND(D98=0,E98=0),1,0)","v":0},1,{"$f":"A98+1","v":2}]
[1,1,2,2,17,"Seksrads bygg Toria",null,null,{"$f":"VALUE(A99&B99&C99&D99&IF(LEN(E99)=1,\"00\"&E99,IF(LEN(E99)=2,\"0\"&E99,E99)))","v":1122017},null,{"$f":"IF(B99=0,1,0)","v":0},{"$f":"IF(AND(D99=0,E99=0),1,0)","v":0},1,{"$f":"A99+1","v":2}]
[1,1,2,2,18,"Seksrads bygg Høst Mercurioo ss",null,null,{"$f":"VALUE(A100&B100&C100&D100&IF(LEN(E100)=1,\"00\"&E100,IF(LEN(E100)=2,\"0\"&E100,E100)))","v":1122018},null,{"$f":"IF(B100=0,1,0)","v":0},{"$f":"IF(AND(D100=0,E100=0),1,0)","v":0},1,{"$f":"A100+1","v":2}]
[1,1,2,2,19,"Seksrads bygg Høst Meridian",null,null,{"$f":"VALUE(A101&B101&C101&D101&IF(LEN(E101)=1,\"00\"&E101,IF(LEN(E101)=2,\"0\"&E101,E101)))","v":1122019},null,{"$f":"IF(B101=0,1,0)","v":0},{"$f":"IF(AND(D101=0,E101=0),1,0)","v":0},1,{"$f":"A101+1","v":2}]
[1,1,2,2,20,"Seksrads bygg Høst Galileoo",null,null,{"$f":"VALUE(A102&B102&C102&D102&IF(LEN(E102)=1,\"00\"&E102,IF(LEN(E102)=2,\"0\"&E102,E102)))","v":1122020},null,{"$f":"IF(B102=0,1,0)","v":0},{"$f":"IF(AND(D102=0,E102=0),1,0)","v":0},1,{"$f":"A102+1","v":2}]
[1,1,2,2,21,"Seksrads bygg Kaarle",null,null,{"$f":"VALUE(A103&B103&C103&D103&IF(LEN(E103)=1,\"00\"&E103,IF(LEN(E103)=2,\"0\"&E103,E103)))","v":1122021},null,{"$f":"IF(B103=0,1,0)","v":0},{"$f":"IF(AND(D103=0,E103=0),1,0)","v":0},1,{"$f":"A103+1","v":2}]
[1,1,2,2,22,"Seksrads bygg Vertti",null,null,{"$f":"VALUE(A104&B104&C104&D104&IF(LEN(E104)=1,\"00\"&E104,IF(LEN(E104)=2,\"0\"&E104,E104)))","v":1122022},null,{"$f":"IF(B104=0,1,0)","v":0},{"$f":"IF(AND(D104=0,E104=0),1,0)","v":0},1,{"$f":"A104+1","v":2}]
[1,1,2,2,23,"Seksrads bygg Einar",null,null,{"$f":"VALUE(A105&B105&C105&D105&IF(LEN(E105)=1,\"00\"&E105,IF(LEN(E105)=2,\"0\"&E105,E105)))","v":1122023},null,{"$f":"IF(B105=0,1,0)","v":0},{"$f":"IF(AND(D105=0,E105=0),1,0)","v":0},1,{"$f":"A105+1","v":2}]
[1,1,2,2,24,"Seksrads bygg Wolmari",null,null,{"$f":"VALUE(A106&B106&C106&D106&IF(LEN(E106)=1,\"00\"&E106,IF(LEN(E106)=2,\"0\"&E106,E106)))","v":1122024},null,{"$f":"IF(B106=0,1,0)","v":0},{"$f":"IF(AND(D106=0,E106=0),1,0)","v":0},1,{"$f":"A106+1","v":2}]
[1,1,2,2,25,"Seksrads bygg Bredo",null,null,{"$f":"VALUE(A107&B107&C107&D107&IF(LEN(E107)=1,\"00\"&E107,IF(LEN(E107)=2,\"0\"&E107,E107)))","v":1122025},null,{"$f":"IF(B107=0,1,0)","v":0},{"$f":"IF(AND(D107=0,E107=0),1,0)","v":0},1,{"$f":"A107+1","v":2}]
[1,1,2,2,26,"Seksrads bygg Birk",null,"GN 12086",{"$f":"VALUE(A108&B108&C108&D108&IF(LEN(E108)=1,\"00\"&E108,IF(LEN(E108)=2,\"0\"&E108,E108)))","v":1122026},null,{"$f":"IF(B108=0,1,0)","v":0},{"$f":"IF(AND(D108=0,E108=0),1,0)","v":0},1,{"$f":"A108+1","v":2}]
[1,1,2,2,27,"Seksrads bygg Severi",null,null,{"$f":"VALUE(A109&B109&C109&D109&IF(LEN(E109)=1,\"00\"&E109,IF(LEN(E109)=2,\"0\"&E109,E109)))","v":1122027},null,{"$f":"IF(B109=0,1,0)","v":0},{"$f":"IF(AND(D109=0,E109=0),1,0)","v":0},1,{"$f":"A109+1","v":2}]
[1,1,2,2,28,"Seksrads bygg Huima",null,null,{"$f":"VALUE(A110&B110&C110&D110&IF(LEN(E110)=1,\"00\"&E110,IF(LEN(E110)=2,\"0\"&E110,E110)))","v":1122028},null,{"$f":"IF(B110=0,1,0)","v":0},{"$f":"IF(AND(D110=0,E110=0),1,0)","v":0},1,{"$f":"A110+1","v":2}]
[1,1,2,2,29,"Seksrads bygg Shetty",null,null,{"$f":"VALUE(A111&B111&C111&D111&IF(LEN(E111)=1,\"00\"&E111,IF(LEN(E111)=2,\"0\"&E111,E111)))","v":1122029},null,{"$f":"IF(B111=0,1,0)","v":0},{"$f":"IF(AND(D111=0,E111=0),1,0)","v":0},1,{"$f":"A111+1","v":2}]
[1,1,2,2,30,"Seksrads bygg GN16329",null,null,{"$f":"VALUE(A112&B112&C112&D112&IF(LEN(E112)=1,\"00\"&E112,IF(LEN(E112)=2,\"0\"&E112,E112)))","v":1122030},null,{"$f":"IF(B112=0,1,0)","v":0},{"$f":"IF(AND(D112=0,E112=0),1,0)","v":0},1,{"$f":"A112+1","v":2}]
[1,1,2,2,31,"Seksrads bygg Prospect",null,null,{"$f":"VALUE(A113&B113&C113&D113&IF(LEN(E113)=1,\"00\"&E113,IF(LEN(E113)=2,\"0\"&E113,E113)))","v":1122031},null,{"$f":"IF(B113=0,1,0)","v":0},{"$f":"IF(AND(D113=0,E113=0),1,0)","v":0},1,{"$f":"A113+1","v":2}]
[1,1,2,2,999,"Seksrads bygg andre sorter",null,null,1122999,null,0,0,1,2]
[1,1,3,0,0,{"$f":"Produkt!G12","v":"Havre"},null,null,1130000,null,0,1,1,2]
[1,1,3,0,1,"Havre Veli",null,null,1130001,null,0,0,1,2]
[1,1,3,0,{"$f":"E116+1","v":2},"Havre Ringsaker",null,null,1130002,null,0,0,1,2]
[1,1,3,0,{"$f":"E117+1","v":3},"Havre Biri",null,null,1130003,null,0,0,1,2]
[1,1,3,0,4,"Havre Gere",null,null,1130004,null,0,0,1,2]
[1,1,3,0,5,"Havre Hurdal",null,null,1130005,null,0,0,1,2]
[1,1,3,0,6,"Havre Odal",null,null,1130006,null,0,0,1,2]
[1,1,3,0,7,"Havre Haga",null,null,1130007,null,0,0,1,2]
[1,1,3,0,8,"Havre Roope",null,null,1130008,null,0,0,1,2]
[1,1,3,0,9,"Havre Belinda",null,null,1130009,null,0,0,1,2]
[1,1,3,0,10,"Havre Nes",null,null,1130010,null,{"$f":"IF(B125=0,1,0)","v":0},{"$f":"IF(AND(D125=0,E125=0),1,0)","v":0},1,2]
[1,1,3,0,11,"Havre Ivory",null,null,1130011,null,0,0,1,2]
[1,1,3,0,12,"Havre Bessin",null,null,1130012,null,0,0,1,2]
[1,1,3,0,13,"Havre Ingeborg",null,null,1130013,null,0,0,1,2]
[1,1,3,0,14,"Havre Gunhild",null,null,1130014,null,0,0,1,2]
[1,1,3,0,15,"Havre Grønnfôrhavre",null,null,1130015,null,0,0,1,2]
[1,1,3,0,16,"Havre Lena",null,null,1130016,null,0,0,1,2]
[1,1,3,0,17,"Havre Scorpion",null,null,1130017,null,0,0,1,2]
[1,1,3,0,18,"Havre Vinger",null,null,1130018,null,0,0,1,{"$f":"A133+1","v":2}]
[1,1,3,0,19,"Havre Våler",null,null,{"$f":"VALUE(A134&B134&C134&D134&IF(LEN(E134)=1,\"00\"&E134,IF(LEN(E134)=2,\"0\"&E134,E134)))","v":1130019},null,0,0,1,2]
[1,1,3,0,20,"Havre Akseli",null,null,{"$f":"VALUE(A135&B135&C135&D135&IF(LEN(E135)=1,\"00\"&E135,IF(LEN(E135)=2,\"0\"&E135,E135)))","v":1130020},null,{"$f":"IF(B135=0,1,0)","v":0},{"$f":"IF(AND(D135=0,E135=0),1,0)","v":0},1,2]
[1,1,3,0,21,"Havre Zorro",null,null,{"$f":"VALUE(A136&B136&C136&D136&IF(LEN(E136)=1,\"00\"&E136,IF(LEN(E136)=2,\"0\"&E136,E136)))","v":1130021},null,{"$f":"IF(B136=0,1,0)","v":0},{"$f":"IF(AND(D136=0,E136=0),1,0)","v":0},1,2]
[1,1,3,0,22,"Havre Nike",null,null,{"$f":"VALUE(A137&B137&C137&D137&IF(LEN(E137)=1,\"00\"&E137,IF(LEN(E137)=2,\"0\"&E137,E137)))","v":1130022},null,{"$f":"IF(B137=0,1,0)","v":0},{"$f":"IF(AND(D137=0,E137=0),1,0)","v":0},1,2]
[1,1,3,0,23,"Havre Gimse",null,null,1130023,null,0,0,1,2]
[1,1,3,0,24,"Havre Niklas",null,null,{"$f":"VALUE(A139&B139&C139&D139&IF(LEN(E139)=1,\"00\"&E139,IF(LEN(E139)=2,\"0\"&E139,E139)))","v":1130024},null,{"$f":"IF(B139=0,1,0)","v":0},{"$f":"IF(AND(D139=0,E139=0),1,0)","v":0},1,{"$f":"A139+1","v":2}]
[1,1,3,0,25,"Havre Symphony",null,null,{"$f":"VALUE(A140&B140&C140&D140&IF(LEN(E140)=1,\"00\"&E140,IF(LEN(E140)=2,\"0\"&E140,E140)))","v":1130025},null,{"$f":"IF(B140=0,1,0)","v":0},{"$f":"IF(AND(D140=0,E140=0),1,0)","v":0},1,{"$f":"A140+1","v":2}]
[1,1,3,0,26,"Havre Steinar",null,null,{"$f":"VALUE(A141&B141&C141&D141&IF(LEN(E141)=1,\"00\"&E141,IF(LEN(E141)=2,\"0\"&E141,E141)))","v":1130026},null,{"$f":"IF(B141=0,1,0)","v":0},{"$f":"IF(AND(D141=0,E141=0),1,0)","v":0},1,{"$f":"A141+1","v":2}]
[1,1,3,0,27,"Havre Harmony",null,null,{"$f":"VALUE(A142&B142&C142&D142&IF(LEN(E142)=1,\"00\"&E142,IF(LEN(E142)=2,\"0\"&E142,E142)))","v":1130027},null,{"$f":"IF(B142=0,1,0)","v":0},{"$f":"IF(AND(D142=0,E142=0),1,0)","v":0},1,{"$f":"A142+1","v":2}]
[1,1,3,0,28,"Havre Obelix",null,null,{"$f":"VALUE(A143&B143&C143&D143&IF(LEN(E143)=1,\"00\"&E143,IF(LEN(E143)=2,\"0\"&E143,E143)))","v":1130028},null,{"$f":"IF(B143=0,1,0)","v":0},{"$f":"IF(AND(D143=0,E143=0),1,0)","v":0},1,{"$f":"A143+1","v":2}]
[1,1,3,0,29,"Havre Peppi",null,null,{"$f":"VALUE(A144&B144&C144&D144&IF(LEN(E144)=1,\"00\"&E144,IF(LEN(E144)=2,\"0\"&E144,E144)))","v":1130029},null,{"$f":"IF(B144=0,1,0)","v":0},{"$f":"IF(AND(D144=0,E144=0),1,0)","v":0},1,{"$f":"A144+1","v":2}]
[1,1,3,0,30,"Havre Nemesis",null,null,{"$f":"VALUE(A145&B145&C145&D145&IF(LEN(E145)=1,\"00\"&E145,IF(LEN(E145)=2,\"0\"&E145,E145)))","v":1130030},null,{"$f":"IF(B145=0,1,0)","v":0},{"$f":"IF(AND(D145=0,E145=0),1,0)","v":0},1,{"$f":"A145+1","v":2}]
[1,1,3,0,31,"Havre Dominik",null,null,{"$f":"VALUE(A146&B146&C146&D146&IF(LEN(E146)=1,\"00\"&E146,IF(LEN(E146)=2,\"0\"&E146,E146)))","v":1130031},null,{"$f":"IF(B146=0,1,0)","v":0},{"$f":"IF(AND(D146=0,E146=0),1,0)","v":0},1,{"$f":"A146+1","v":2}]
[1,1,3,0,32,"Havre Ridabu",null,null,{"$f":"VALUE(A147&B147&C147&D147&IF(LEN(E147)=1,\"00\"&E147,IF(LEN(E147)=2,\"0\"&E147,E147)))","v":1130032},null,{"$f":"IF(B147=0,1,0)","v":0},{"$f":"IF(AND(D147=0,E147=0),1,0)","v":0},1,{"$f":"A147+1","v":2}]
[1,1,3,0,33,"Havre Mo",null,null,{"$f":"VALUE(A148&B148&C148&D148&IF(LEN(E148)=1,\"00\"&E148,IF(LEN(E148)=2,\"0\"&E148,E148)))","v":1130033},null,{"$f":"IF(B148=0,1,0)","v":0},{"$f":"IF(AND(D148=0,E148=0),1,0)","v":0},1,{"$f":"A148+1","v":2}]
[1,1,3,0,34,"Havre Perttu",null,null,{"$f":"VALUE(A149&B149&C149&D149&IF(LEN(E149)=1,\"00\"&E149,IF(LEN(E149)=2,\"0\"&E149,E149)))","v":1130034},null,{"$f":"IF(B149=0,1,0)","v":0},{"$f":"IF(AND(D149=0,E149=0),1,0)","v":0},1,{"$f":"A149+1","v":2}]
[1,1,3,0,35,"Havre Vahva",null,null,{"$f":"VALUE(A150&B150&C150&D150&IF(LEN(E150)=1,\"00\"&E150,IF(LEN(E150)=2,\"0\"&E150,E150)))","v":1130035},null,{"$f":"IF(B150=0,1,0)","v":0},{"$f":"IF(AND(D150=0,E150=0),1,0)","v":0},1,{"$f":"A150+1","v":2}]
[1,1,3,0,36,"Havre Scotty",null,null,{"$f":"VALUE(A151&B151&C151&D151&IF(LEN(E151)=1,\"00\"&E151,IF(LEN(E151)=2,\"0\"&E151,E151)))","v":1130036},null,{"$f":"IF(B151=0,1,0)","v":0},{"$f":"IF(AND(D151=0,E151=0),1,0)","v":0},1,{"$f":"A151+1","v":2}]
[1,1,3,0,37,"Havre Romedal",null,null,{"$f":"VALUE(A152&B152&C152&D152&IF(LEN(E152)=1,\"00\"&E152,IF(LEN(E152)=2,\"0\"&E152,E152)))","v":1130037},null,{"$f":"IF(B152=0,1,0)","v":0},{"$f":"IF(AND(D152=0,E152=0),1,0)","v":0},1,{"$f":"A152+1","v":2}]
[1,1,3,0,38,"Havre Delfin",null,null,{"$f":"VALUE(A153&B153&C153&D153&IF(LEN(E153)=1,\"00\"&E153,IF(LEN(E153)=2,\"0\"&E153,E153)))","v":1130038},null,{"$f":"IF(B153=0,1,0)","v":0},{"$f":"IF(AND(D153=0,E153=0),1,0)","v":0},1,{"$f":"A153+1","v":2}]
[1,1,3,0,39,"Havre Luukas",null,null,{"$f":"VALUE(A154&B154&C154&D154&IF(LEN(E154)=1,\"00\"&E154,IF(LEN(E154)=2,\"0\"&E154,E154)))","v":1130039},null,{"$f":"IF(B154=0,1,0)","v":0},{"$f":"IF(AND(D154=0,E154=0),1,0)","v":0},1,{"$f":"A154+1","v":2}]
[1,1,3,0,40,"Havre Nella",null,null,{"$f":"VALUE(A155&B155&C155&D155&IF(LEN(E155)=1,\"00\"&E155,IF(LEN(E155)=2,\"0\"&E155,E155)))","v":1130040},null,{"$f":"IF(B155=0,1,0)","v":0},{"$f":"IF(AND(D155=0,E155=0),1,0)","v":0},1,{"$f":"A155+1","v":2}]
[1,1,3,0,99,"Svarthavre",null,"Hybrid",{"$f":"VALUE(A156&B156&C156&D156&IF(LEN(E156)=1,\"00\"&E156,IF(LEN(E156)=2,\"0\"&E156,E156)))","v":1130099},null,{"$f":"IF(B156=0,1,0)","v":0},{"$f":"IF(AND(D156=0,E156=0),1,0)","v":0},1,{"$f":"A156+1","v":2}]
[1,1,3,0,999,"Havre andre sorter",null,null,1130999,null,0,0,1,2]
[1,1,4,0,0,{"$f":"Produkt!G13","v":"Rug"},null,null,1140000,null,0,1,1,{"$f":"A158+1","v":2}]
[1,1,4,0,1,"Rug Danko høstrug",null,null,{"$f":"VALUE(A159&B159&C159&D159&IF(LEN(E159)=1,\"00\"&E159,IF(LEN(E159)=2,\"0\"&E159,E159)))","v":1140001},null,0,0,1,2]
[1,1,4,0,{"$f":"E159+1","v":2},"Rug Picasso hybridrug",null,null,1140002,null,0,0,1,2]
[1,1,4,0,3,"Rug Evolo hybridrug",null,null,1140003,null,0,0,1,2]
[1,1,4,0,4,"Rug Palazzo hybridrug",null,null,1140004,null,0,0,1,2]
[1,1,4,0,5,"Rug Høst Binntto",null,null,1140005,null,0,0,1,2]
[1,1,4,0,6,"Rug Caspian",null,null,{"$f":"VALUE(A164&B164&C164&D164&IF(LEN(E164)=1,\"00\"&E164,IF(LEN(E164)=2,\"0\"&E164,E164)))","v":1140006},null,{"$f":"IF(B164=0,1,0)","v":0},{"$f":"IF(AND(D164=0,E164=0),1,0)","v":0},1,{"$f":"A164+1","v":2}]
[1,1,4,0,7,"Rug Herakles",null,null,{"$f":"VALUE(A165&B165&C165&D165&IF(LEN(E165)=1,\"00\"&E165,IF(LEN(E165)=2,\"0\"&E165,E165)))","v":1140007},null,{"$f":"IF(B165=0,1,0)","v":0},{"$f":"IF(AND(D165=0,E165=0),1,0)","v":0},1,{"$f":"A165+1","v":2}]
[1,1,4,0,8,"Rug Livado",null,null,{"$f":"VALUE(A166&B166&C166&D166&IF(LEN(E166)=1,\"00\"&E166,IF(LEN(E166)=2,\"0\"&E166,E166)))","v":1140008},null,{"$f":"IF(B166=0,1,0)","v":0},{"$f":"IF(AND(D166=0,E166=0),1,0)","v":0},1,{"$f":"A166+1","v":2}]
[1,1,4,0,9,"Rug Magnifico",null,null,{"$f":"VALUE(A167&B167&C167&D167&IF(LEN(E167)=1,\"00\"&E167,IF(LEN(E167)=2,\"0\"&E167,E167)))","v":1140009},null,{"$f":"IF(B167=0,1,0)","v":0},{"$f":"IF(AND(D167=0,E167=0),1,0)","v":0},1,{"$f":"A167+1","v":2}]
[1,1,4,0,10,"Rug Høst Daniello",null,null,{"$f":"VALUE(A168&B168&C168&D168&IF(LEN(E168)=1,\"00\"&E168,IF(LEN(E168)=2,\"0\"&E168,E168)))","v":1140010},null,{"$f":"IF(B168=0,1,0)","v":0},{"$f":"IF(AND(D168=0,E168=0),1,0)","v":0},1,{"$f":"A168+1","v":2}]
[1,1,4,0,11,"Rug Høst Rubin",null,null,{"$f":"VALUE(A169&B169&C169&D169&IF(LEN(E169)=1,\"00\"&E169,IF(LEN(E169)=2,\"0\"&E169,E169)))","v":1140011},null,{"$f":"IF(B169=0,1,0)","v":0},{"$f":"IF(AND(D169=0,E169=0),1,0)","v":0},1,{"$f":"A169+1","v":2}]
[1,1,4,0,12,"Rug Høst Marcelo",null,null,{"$f":"VALUE(A170&B170&C170&D170&IF(LEN(E170)=1,\"00\"&E170,IF(LEN(E170)=2,\"0\"&E170,E170)))","v":1140012},null,{"$f":"IF(B170=0,1,0)","v":0},{"$f":"IF(AND(D170=0,E170=0),1,0)","v":0},1,{"$f":"A170+1","v":2}]
[1,1,4,0,13,"Rug Høst Granat",null,null,{"$f":"VALUE(A171&B171&C171&D171&IF(LEN(E171)=1,\"00\"&E171,IF(LEN(E171)=2,\"0\"&E171,E171)))","v":1140013},null,{"$f":"IF(B171=0,1,0)","v":0},{"$f":"IF(AND(D171=0,E171=0),1,0)","v":0},1,{"$f":"A171+1","v":2}]
[1,1,4,0,14,"Rug Høst SU Performer",null,null,{"$f":"VALUE(A172&B172&C172&D172&IF(LEN(E172)=1,\"00\"&E172,IF(LEN(E172)=2,\"0\"&E172,E172)))","v":1140014},null,{"$f":"IF(B172=0,1,0)","v":0},{"$f":"IF(AND(D172=0,E172=0),1,0)","v":0},1,{"$f":"A172+1","v":2}]
[1,1,4,0,15,"Rug Amilo",null,null,{"$f":"VALUE(A173&B173&C173&D173&IF(LEN(E173)=1,\"00\"&E173,IF(LEN(E173)=2,\"0\"&E173,E173)))","v":1140015},null,{"$f":"IF(B173=0,1,0)","v":0},{"$f":"IF(AND(D173=0,E173=0),1,0)","v":0},1,{"$f":"A173+1","v":2}]
[1,1,4,0,16,"Rug Høst KWS Trebiano",null,null,{"$f":"VALUE(A174&B174&C174&D174&IF(LEN(E174)=1,\"00\"&E174,IF(LEN(E174)=2,\"0\"&E174,E174)))","v":1140016},null,{"$f":"IF(B174=0,1,0)","v":0},{"$f":"IF(AND(D174=0,E174=0),1,0)","v":0},1,{"$f":"A174+1","v":2}]
[1,1,4,0,17,"Rug Høst Inspector",null,"POP. RUG-MODNING/BEITE/SLÅTT",{"$f":"VALUE(A175&B175&C175&D175&IF(LEN(E175)=1,\"00\"&E175,IF(LEN(E175)=2,\"0\"&E175,E175)))","v":1140017},null,{"$f":"IF(B175=0,1,0)","v":0},{"$f":"IF(AND(D175=0,E175=0),1,0)","v":0},1,{"$f":"A175+1","v":2}]
[1,1,4,0,18,"Rug Høst KWS Tutor 12",null,null,{"$f":"VALUE(A176&B176&C176&D176&IF(LEN(E176)=1,\"00\"&E176,IF(LEN(E176)=2,\"0\"&E176,E176)))","v":1140018},null,{"$f":"IF(B176=0,1,0)","v":0},{"$f":"IF(AND(D176=0,E176=0),1,0)","v":0},1,{"$f":"A176+1","v":2}]
[1,1,4,0,19,"Rug Høst Opal",null,"POP. RUG-MODNING/BEITE/SLÅTT",{"$f":"VALUE(A177&B177&C177&D177&IF(LEN(E177)=1,\"00\"&E177,IF(LEN(E177)=2,\"0\"&E177,E177)))","v":1140019},null,{"$f":"IF(B177=0,1,0)","v":0},{"$f":"IF(AND(D177=0,E177=0),1,0)","v":0},1,{"$f":"A177+1","v":2}]
[1,1,4,0,20,"Rug Høst SU Perspectiv",null,null,{"$f":"VALUE(A178&B178&C178&D178&IF(LEN(E178)=1,\"00\"&E178,IF(LEN(E178)=2,\"0\"&E178,E178)))","v":1140020},null,{"$f":"IF(B178=0,1,0)","v":0},{"$f":"IF(AND(D178=0,E178=0),1,0)","v":0},1,{"$f":"A178+1","v":2}]
[1,1,4,0,21,"Rug Høst KWS Rotor 12 Unit",null,null,{"$f":"VALUE(A179&B179&C179&D179&IF(LEN(E179)=1,\"00\"&E179,IF(LEN(E179)=2,\"0\"&E179,E179)))","v":1140021},null,{"$f":"IF(B179=0,1,0)","v":0},{"$f":"IF(AND(D179=0,E179=0),1,0)","v":0},1,{"$f":"A179+1","v":2}]
[1,1,4,0,22,"Rug Høst Kantor Unit",null,null,{"$f":"VALUE(A180&B180&C180&D180&IF(LEN(E180)=1,\"00\"&E180,IF(LEN(E180)=2,\"0\"&E180,E180)))","v":1140022},null,{"$f":"IF(B180=0,1,0)","v":0},{"$f":"IF(AND(D180=0,E180=0),1,0)","v":0},1,{"$f":"A180+1","v":2}]
[1,1,4,0,23,"Rug Høst Skand",null,null,{"$f":"VALUE(A181&B181&C181&D181&IF(LEN(E181)=1,\"00\"&E181,IF(LEN(E181)=2,\"0\"&E181,E181)))","v":1140023},null,{"$f":"IF(B181=0,1,0)","v":0},{"$f":"IF(AND(D181=0,E181=0),1,0)","v":0},1,{"$f":"A181+1","v":2}]
[1,1,4,0,999,"Rug andre sorter",null,null,1140999,null,0,0,1,2]
[1,1,5,0,0,{"$f":"Produkt!G14","v":"Rughvete"},null,null,1150000,null,0,1,1,2]
[1,1,5,0,1,"Rughvete Grenado",null,"Hybrid",1150001,null,0,0,1,2]
[1,1,5,0,{"$f":"E184+1","v":2},"Rughvete Milewo",null,"Hybrid",{"$f":"VALUE(A185&B185&C185&D185&IF(LEN(E185)=1,\"00\"&E185,IF(LEN(E185)=2,\"0\"&E185,E185)))","v":1150002},null,{"$f":"IF(B185=0,1,0)","v":0},{"$f":"IF(AND(D185=0,E185=0),1,0)","v":0},1,{"$f":"A185+1","v":2}]
[1,1,5,0,3,"Rughvete Empero",null,"Hybrid Dyrkes også økologisk",{"$f":"VALUE(A186&B186&C186&D186&IF(LEN(E186)=1,\"00\"&E186,IF(LEN(E186)=2,\"0\"&E186,E186)))","v":1150003},null,{"$f":"IF(B186=0,1,0)","v":0},{"$f":"IF(AND(D186=0,E186=0),1,0)","v":0},1,{"$f":"A186+1","v":2}]
[1,1,5,0,4,"Rughvete Nilex",null,"Hybrid",{"$f":"VALUE(A187&B187&C187&D187&IF(LEN(E187)=1,\"00\"&E187,IF(LEN(E187)=2,\"0\"&E187,E187)))","v":1150004},null,{"$f":"IF(B187=0,1,0)","v":0},{"$f":"IF(AND(D187=0,E187=0),1,0)","v":0},1,{"$f":"A187+1","v":2}]
[1,1,5,0,5,"Rughvete Tulus",null,"Hybrid",{"$f":"VALUE(A188&B188&C188&D188&IF(LEN(E188)=1,\"00\"&E188,IF(LEN(E188)=2,\"0\"&E188,E188)))","v":1150005},null,{"$f":"IF(B188=0,1,0)","v":0},{"$f":"IF(AND(D188=0,E188=0),1,0)","v":0},1,{"$f":"A188+1","v":2}]
[1,1,5,0,6,"Rughvete Dinaro",null,"Hybrid",{"$f":"VALUE(A189&B189&C189&D189&IF(LEN(E189)=1,\"00\"&E189,IF(LEN(E189)=2,\"0\"&E189,E189)))","v":1150006},null,{"$f":"IF(B189=0,1,0)","v":0},{"$f":"IF(AND(D189=0,E189=0),1,0)","v":0},1,{"$f":"A189+1","v":2}]
[1,1,5,0,7,"Rughvete Høst Capricia",null,"Hybrid",{"$f":"VALUE(A190&B190&C190&D190&IF(LEN(E190)=1,\"00\"&E190,IF(LEN(E190)=2,\"0\"&E190,E190)))","v":1150007},null,{"$f":"IF(B190=0,1,0)","v":0},{"$f":"IF(AND(D190=0,E190=0),1,0)","v":0},1,{"$f":"A190+1","v":2}]
[1,1,5,0,8,"Rughvete Høst Probus",null,"Hybrid",{"$f":"VALUE(A191&B191&C191&D191&IF(LEN(E191)=1,\"00\"&E191,IF(LEN(E191)=2,\"0\"&E191,E191)))","v":1150008},null,{"$f":"IF(B191=0,1,0)","v":0},{"$f":"IF(AND(D191=0,E191=0),1,0)","v":0},1,{"$f":"A191+1","v":2}]
[1,1,5,0,9,"Rughvete Kasyno",null,"Hybrid",{"$f":"VALUE(A192&B192&C192&D192&IF(LEN(E192)=1,\"00\"&E192,IF(LEN(E192)=2,\"0\"&E192,E192)))","v":1150009},null,{"$f":"IF(B192=0,1,0)","v":0},{"$f":"IF(AND(D192=0,E192=0),1,0)","v":0},1,{"$f":"A192+1","v":2}]
[1,1,5,0,10,"Rughvete Høst Trapero",null,"Hybrid",{"$f":"VALUE(A193&B193&C193&D193&IF(LEN(E193)=1,\"00\"&E193,IF(LEN(E193)=2,\"0\"&E193,E193)))","v":1150010},null,{"$f":"IF(B193=0,1,0)","v":0},{"$f":"IF(AND(D193=0,E193=0),1,0)","v":0},1,{"$f":"A193+1","v":2}]
[1,1,5,0,11,"Rughvete Vår Mamut",null,"Hybrid",{"$f":"VALUE(A194&B194&C194&D194&IF(LEN(E194)=1,\"00\"&E194,IF(LEN(E194)=2,\"0\"&E194,E194)))","v":1150011},null,{"$f":"IF(B194=0,1,0)","v":0},{"$f":"IF(AND(D194=0,E194=0),1,0)","v":0},1,{"$f":"A194+1","v":2}]
[1,1,5,0,12,"Rughvete Høst Temuco",null,"Hybrid",{"$f":"VALUE(A195&B195&C195&D195&IF(LEN(E195)=1,\"00\"&E195,IF(LEN(E195)=2,\"0\"&E195,E195)))","v":1150012},null,{"$f":"IF(B195=0,1,0)","v":0},{"$f":"IF(AND(D195=0,E195=0),1,0)","v":0},1,{"$f":"A195+1","v":2}]
[1,1,5,0,13,"Rughvete Høst Avokad",null,null,{"$f":"VALUE(A196&B196&C196&D196&IF(LEN(E196)=1,\"00\"&E196,IF(LEN(E196)=2,\"0\"&E196,E196)))","v":1150013},null,{"$f":"IF(B196=0,1,0)","v":0},{"$f":"IF(AND(D196=0,E196=0),1,0)","v":0},1,{"$f":"A196+1","v":2}]
[1,1,5,0,14,"Rughvete Høst Dragon",null,null,{"$f":"VALUE(A197&B197&C197&D197&IF(LEN(E197)=1,\"00\"&E197,IF(LEN(E197)=2,\"0\"&E197,E197)))","v":1150014},null,{"$f":"IF(B197=0,1,0)","v":0},{"$f":"IF(AND(D197=0,E197=0),1,0)","v":0},1,{"$f":"A197+1","v":2}]
[1,1,5,0,15,"Rughvete Høst Reflector",null,null,{"$f":"VALUE(A198&B198&C198&D198&IF(LEN(E198)=1,\"00\"&E198,IF(LEN(E198)=2,\"0\"&E198,E198)))","v":1150015},null,{"$f":"IF(B198=0,1,0)","v":0},{"$f":"IF(AND(D198=0,E198=0),1,0)","v":0},1,{"$f":"A198+1","v":2}]
[1,1,5,0,16,"Rughvete Høst Belcanto",null,null,{"$f":"VALUE(A199&B199&C199&D199&IF(LEN(E199)=1,\"00\"&E199,IF(LEN(E199)=2,\"0\"&E199,E199)))","v":1150016},null,{"$f":"IF(B199=0,1,0)","v":0},{"$f":"IF(AND(D199=0,E199=0),1,0)","v":0},1,{"$f":"A199+1","v":2}]
[1,1,5,0,999,"Rughvete andre sorter",null,null,1150999,null,0,0,1,2]
[1,1,6,0,0,{"$f":"Produkt!G15","v":"Olje- og belgvekster til modning"},null,null,1160000,null,0,1,1,2]
[1,1,6,1,0,{"$f":"Produkt!H16","v":"Raps"},null,null,{"$f":"VALUE(A202&B202&C202&D202&IF(LEN(E202)=1,\"00\"&E202,IF(LEN(E202)=2,\"0\"&E202,E202)))","v":1161000},null,{"$f":"IF(B202=0,1,0)","v":0},{"$f":"IF(AND(D202=0,E202=0),1,0)","v":0},1,{"$f":"A202+1","v":2}]
[1,1,6,1,{"$f":"E202+1","v":1},"Raps Sheik",null,null,1161001,null,0,0,1,2]
[1,1,6,1,2,"Raps Joplin",null,null,1161002,null,0,0,1,2]
[1,1,6,1,3,"Raps Banjo",null,null,1161003,null,0,0,1,2]
[1,1,6,1,4,"Raps Calypso",null,null,1161004,null,0,0,1,2]
[1,1,6,1,5,"Raps Majong",null,"Hybrid",{"$f":"VALUE(A207&B207&C207&D207&IF(LEN(E207)=1,\"00\"&E207,IF(LEN(E207)=2,\"0\"&E207,E207)))","v":1161005},null,{"$f":"IF(B207=0,1,0)","v":0},{"$f":"IF(AND(D207=0,E207=0),1,0)","v":0},1,{"$f":"A207+1","v":2}]
[1,1,6,1,6,"Raps Builder",null,null,{"$f":"VALUE(A208&B208&C208&D208&IF(LEN(E208)=1,\"00\"&E208,IF(LEN(E208)=2,\"0\"&E208,E208)))","v":1161006},null,{"$f":"IF(B208=0,1,0)","v":0},{"$f":"IF(AND(D208=0,E208=0),1,0)","v":0},1,{"$f":"A208+1","v":2}]
[1,1,6,1,7,"Raps Compass",null,null,{"$f":"VALUE(A209&B209&C209&D209&IF(LEN(E209)=1,\"00\"&E209,IF(LEN(E209)=2,\"0\"&E209,E209)))","v":1161007},null,{"$f":"IF(B209=0,1,0)","v":0},{"$f":"IF(AND(D209=0,E209=0),1,0)","v":0},1,{"$f":"A209+1","v":2}]
[1,1,6,1,8,"Raps Dk Explicit",null,null,{"$f":"VALUE(A210&B210&C210&D210&IF(LEN(E210)=1,\"00\"&E210,IF(LEN(E210)=2,\"0\"&E210,E210)))","v":1161008},null,{"$f":"IF(B210=0,1,0)","v":0},{"$f":"IF(AND(D210=0,E210=0),1,0)","v":0},1,{"$f":"A210+1","v":2}]
[1,1,6,1,9,"Raps PR44D06",null,null,{"$f":"VALUE(A211&B211&C211&D211&IF(LEN(E211)=1,\"00\"&E211,IF(LEN(E211)=2,\"0\"&E211,E211)))","v":1161009},null,{"$f":"IF(B211=0,1,0)","v":0},{"$f":"IF(AND(D211=0,E211=0),1,0)","v":0},1,{"$f":"A211+1","v":2}]
[1,1,6,1,10,"Raps Høst DK Exception",null,null,{"$f":"VALUE(A212&B212&C212&D212&IF(LEN(E212)=1,\"00\"&E212,IF(LEN(E212)=2,\"0\"&E212,E212)))","v":1161010},null,{"$f":"IF(B212=0,1,0)","v":0},{"$f":"IF(AND(D212=0,E212=0),1,0)","v":0},1,{"$f":"A212+1","v":2}]
[1,1,6,1,11,"Raps Høst Florian",null,null,{"$f":"VALUE(A213&B213&C213&D213&IF(LEN(E213)=1,\"00\"&E213,IF(LEN(E213)=2,\"0\"&E213,E213)))","v":1161011},null,{"$f":"IF(B213=0,1,0)","v":0},{"$f":"IF(AND(D213=0,E213=0),1,0)","v":0},1,{"$f":"A213+1","v":2}]
[1,1,6,1,12,"Raps Høst Mercedes",null,null,{"$f":"VALUE(A214&B214&C214&D214&IF(LEN(E214)=1,\"00\"&E214,IF(LEN(E214)=2,\"0\"&E214,E214)))","v":1161012},null,{"$f":"IF(B214=0,1,0)","v":0},{"$f":"IF(AND(D214=0,E214=0),1,0)","v":0},1,{"$f":"A214+1","v":2}]
[1,1,6,1,13,"Raps Høst Dariot",null,null,{"$f":"VALUE(A215&B215&C215&D215&IF(LEN(E215)=1,\"00\"&E215,IF(LEN(E215)=2,\"0\"&E215,E215)))","v":1161013},null,{"$f":"IF(B215=0,1,0)","v":0},{"$f":"IF(AND(D215=0,E215=0),1,0)","v":0},1,{"$f":"A215+1","v":2}]
[1,1,6,1,14,"Raps Høst DK Sephor",null,null,{"$f":"VALUE(A216&B216&C216&D216&IF(LEN(E216)=1,\"00\"&E216,IF(LEN(E216)=2,\"0\"&E216,E216)))","v":1161014},null,{"$f":"IF(B216=0,1,0)","v":0},{"$f":"IF(AND(D216=0,E216=0),1,0)","v":0},1,{"$f":"A216+1","v":2}]
[1,1,6,1,999,"Raps andre sorter",null,null,1161999,null,0,0,1,2]
[1,1,6,2,0,{"$f":"Produkt!H17","v":"Rybs"},null,null,{"$f":"VALUE(A218&B218&C218&D218&IF(LEN(E218)=1,\"00\"&E218,IF(LEN(E218)=2,\"0\"&E218,E218)))","v":1162000},null,{"$f":"IF(B218=0,1,0)","v":0},{"$f":"IF(AND(D218=0,E218=0),1,0)","v":0},1,{"$f":"A218+1","v":2}]
[1,1,6,2,{"$f":"E218+1","v":1},"Rybs Valo",null,null,1162001,null,0,0,1,2]
[1,1,6,2,{"$f":"E219+1","v":2},"Vårrybs Cordelia",null,null,{"$f":"VALUE(A220&B220&C220&D220&IF(LEN(E220)=1,\"00\"&E220,IF(LEN(E220)=2,\"0\"&E220,E220)))","v":1162002},null,0,0,1,{"$f":"A220+1","v":2}]
[1,1,6,2,{"$f":"E220+1","v":3},"Høstrybs Arrivee",null,null,{"$f":"VALUE(A221&B221&C221&D221&IF(LEN(E221)=1,\"00\"&E221,IF(LEN(E221)=2,\"0\"&E221,E221)))","v":1162003},null,{"$f":"IF(B221=0,1,0)","v":0},{"$f":"IF(AND(D221=0,E221=0),1,0)","v":0},1,{"$f":"A221+1","v":2}]
[1,1,6,2,999,"Rybs andre sorter",null,null,1162999,null,0,0,1,2]
[1,1,6,5,0,{"$f":"Produkt!H18","v":"Belgvekster til modning"},null,null,{"$f":"VALUE(A223&B223&C223&D223&IF(LEN(E223)=1,\"00\"&E223,IF(LEN(E223)=2,\"0\"&E223,E223)))","v":1165000},null,{"$f":"IF(B223=0,1,0)","v":0},{"$f":"IF(AND(D223=0,E223=0),1,0)","v":0},1,{"$f":"A223+1","v":2}]
[1,1,6,5,{"$f":"E223+1","v":1},"Erter til modning",null,null,{"$f":"VALUE(A224&B224&C224&D224&IF(LEN(E224)=1,\"00\"&E224,IF(LEN(E224)=2,\"0\"&E224,E224)))","v":1165001},null,{"$f":"IF(B224=0,1,0)","v":0},{"$f":"IF(AND(D224=0,E224=0),1,0)","v":0},1,{"$f":"A224+1","v":2}]
[1,1,6,5,999,"Andre belgvekster til modning",null,null,{"$f":"VALUE(A225&B225&C225&D225&IF(LEN(E225)=1,\"00\"&E225,IF(LEN(E225)=2,\"0\"&E225,E225)))","v":1165999},null,{"$f":"IF(B225=0,1,0)","v":0},{"$f":"IF(AND(D225=0,E225=0),1,0)","v":0},1,{"$f":"A225+1","v":2}]
[1,1,9,0,0,{"$f":"Produkt!G19","v":"Andre kornvekster"},null,"Ingen detaljer per i dag",1190000,null,0,1,1,2]
[1,2,0,0,0,{"$f":"Produkt!F20","v":"Grasfrø"},null,null,1200000,null,0,1,1,2]
[1,2,1,0,0,{"$f":"Produkt!G21","v":"Timotei"},null,null,1210000,null,0,1,1,2]
[1,2,1,0,1,"Timotei Grindstad",null,null,1210001,null,0,0,1,2]
[1,2,1,0,{"$f":"E229+1","v":2},"Timotei Vega",null,null,1210002,null,0,0,1,2]
[1,2,1,0,3,"Timotei Noreng",null,null,1210003,null,0,0,1,2]
[1,2,1,0,4,"Timotei Lidar",null,null,1210004,null,0,0,1,2]
[1,2,1,0,5,"Timotei Liljeros",null,null,{"$f":"VALUE(A233&B233&C233&D233&IF(LEN(E233)=1,\"00\"&E233,IF(LEN(E233)=2,\"0\"&E233,E233)))","v":1210005},null,{"$f":"IF(B233=0,1,0)","v":0},{"$f":"IF(AND(D233=0,E233=0),1,0)","v":0},1,{"$f":"A233+1","v":2}]
[1,2,1,0,6,"Timotei Leidang",null,null,{"$f":"VALUE(A234&B234&C234&D234&IF(LEN(E234)=1,\"00\"&E234,IF(LEN(E234)=2,\"0\"&E234,E234)))","v":1210006},null,{"$f":"IF(B234=0,1,0)","v":0},{"$f":"IF(AND(D234=0,E234=0),1,0)","v":0},1,{"$f":"A234+1","v":2}]
[1,2,1,0,7,"Timotei Switch",null,null,{"$f":"VALUE(A235&B235&C235&D235&IF(LEN(E235)=1,\"00\"&E235,IF(LEN(E235)=2,\"0\"&E235,E235)))","v":1210007},null,{"$f":"IF(B235=0,1,0)","v":0},{"$f":"IF(AND(D235=0,E235=0),1,0)","v":0},1,{"$f":"A235+1","v":2}]
[1,2,1,0,8,"Timotei Gunnar",null,null,{"$f":"VALUE(A236&B236&C236&D236&IF(LEN(E236)=1,\"00\"&E236,IF(LEN(E236)=2,\"0\"&E236,E236)))","v":1210008},null,{"$f":"IF(B236=0,1,0)","v":0},{"$f":"IF(AND(D236=0,E236=0),1,0)","v":0},1,{"$f":"A236+1","v":2}]
[1,2,1,0,9,"Timotei Varg",null,null,{"$f":"VALUE(A237&B237&C237&D237&IF(LEN(E237)=1,\"00\"&E237,IF(LEN(E237)=2,\"0\"&E237,E237)))","v":1210009},null,{"$f":"IF(B237=0,1,0)","v":0},{"$f":"IF(AND(D237=0,E237=0),1,0)","v":0},1,{"$f":"A237+1","v":2}]
[1,2,1,0,10,"Timotei Lerke",null,null,{"$f":"VALUE(A238&B238&C238&D238&IF(LEN(E238)=1,\"00\"&E238,IF(LEN(E238)=2,\"0\"&E238,E238)))","v":1210010},null,{"$f":"IF(B238=0,1,0)","v":0},{"$f":"IF(AND(D238=0,E238=0),1,0)","v":0},1,{"$f":"A238+1","v":2}]
[1,2,1,0,11,"Timotei Engmo",null,null,{"$f":"VALUE(A239&B239&C239&D239&IF(LEN(E239)=1,\"00\"&E239,IF(LEN(E239)=2,\"0\"&E239,E239)))","v":1210011},null,{"$f":"IF(B239=0,1,0)","v":0},{"$f":"IF(AND(D239=0,E239=0),1,0)","v":0},1,{"$f":"A239+1","v":2}]
[1,2,1,0,12,"Timotei Lakta",null,null,{"$f":"VALUE(A240&B240&C240&D240&IF(LEN(E240)=1,\"00\"&E240,IF(LEN(E240)=2,\"0\"&E240,E240)))","v":1210012},null,{"$f":"IF(B240=0,1,0)","v":0},{"$f":"IF(AND(D240=0,E240=0),1,0)","v":0},1,{"$f":"A240+1","v":2}]
[1,2,1,0,999,"Andre sorter timotei",null,null,1210999,null,0,0,1,2]
[1,2,2,0,0,{"$f":"Produkt!G22","v":"Svingel"},null,null,1220000,null,0,1,1,2]
[1,2,2,1,0,{"$f":"Produkt!H23","v":"Engsvingel"},null,null,1221000,null,0,0,1,{"$f":"A243+1","v":2}]
[1,2,2,1,1,"Engsvingel Fure",null,null,1221001,null,0,0,1,2]
[1,2,2,1,{"$f":"E244+1","v":2},"Engsvingel Norild",null,null,1221002,null,0,0,1,2]
[1,2,2,1,3,"Engsvingel Kasper",null,null,1221003,null,0,0,1,2]
[1,2,2,1,4,"Engsvingel Minto",null,null,1221004,null,0,0,1,2]
[1,2,2,1,5,"Engsvingel Sigmund",null,null,1221005,null,0,0,1,2]
[1,2,2,1,6,"Engsvingel Stella",null,null,1221006,null,0,0,1,2]
[1,2,2,1,7,"Engsvingel Vinjar",null,null,{"$f":"VALUE(A250&B250&C250&D250&IF(LEN(E250)=1,\"00\"&E250,IF(LEN(E250)=2,\"0\"&E250,E250)))","v":1221007},null,0,0,1,{"$f":"A250+1","v":2}]
[1,2,2,1,8,"Engsvingel Vestar",null,null,{"$f":"VALUE(A251&B251&C251&D251&IF(LEN(E251)=1,\"00\"&E251,IF(LEN(E251)=2,\"0\"&E251,E251)))","v":1221008},null,0,0,1,{"$f":"A251+1","v":2}]
[1,2,2,1,9,"Engsvingel Veid",null,null,{"$f":"VALUE(A252&B252&C252&D252&IF(LEN(E252)=1,\"00\"&E252,IF(LEN(E252)=2,\"0\"&E252,E252)))","v":1221009},null,{"$f":"IF(B252=0,1,0)","v":0},{"$f":"IF(AND(D252=0,E252=0),1,0)","v":0},1,{"$f":"A252+1","v":2}]
[1,2,2,1,10,"Engsvingel Vidar",null,null,{"$f":"VALUE(A253&B253&C253&D253&IF(LEN(E253)=1,\"00\"&E253,IF(LEN(E253)=2,\"0\"&E253,E253)))","v":1221010},null,{"$f":"IF(B253=0,1,0)","v":0},{"$f":"IF(AND(D253=0,E253=0),1,0)","v":0},1,{"$f":"A253+1","v":2}]
[1,2,2,1,11,"Engsvingel Vidvin",null,null,{"$f":"VALUE(A254&B254&C254&D254&IF(LEN(E254)=1,\"00\"&E254,IF(LEN(E254)=2,\"0\"&E254,E254)))","v":1221011},null,{"$f":"IF(B254=0,1,0)","v":0},{"$f":"IF(AND(D254=0,E254=0),1,0)","v":0},1,{"$f":"A254+1","v":2}]
[1,2,2,1,12,"Engsvingel Vollan",null,null,{"$f":"VALUE(A255&B255&C255&D255&IF(LEN(E255)=1,\"00\"&E255,IF(LEN(E255)=2,\"0\"&E255,E255)))","v":1221012},null,{"$f":"IF(B255=0,1,0)","v":0},{"$f":"IF(AND(D255=0,E255=0),1,0)","v":0},1,{"$f":"A255+1","v":2}]
[1,2,2,1,13,"Engsvingel Revansch",null,"SW",{"$f":"VALUE(A256&B256&C256&D256&IF(LEN(E256)=1,\"00\"&E256,IF(LEN(E256)=2,\"0\"&E256,E256)))","v":1221013},null,{"$f":"IF(B256=0,1,0)","v":0},{"$f":"IF(AND(D256=0,E256=0),1,0)","v":0},1,{"$f":"A256+1","v":2}]
[1,2,2,1,14,"Engsvingel Vang",null,null,{"$f":"VALUE(A257&B257&C257&D257&IF(LEN(E257)=1,\"00\"&E257,IF(LEN(E257)=2,\"0\"&E257,E257)))","v":1221014},null,{"$f":"IF(B257=0,1,0)","v":0},{"$f":"IF(AND(D257=0,E257=0),1,0)","v":0},1,{"$f":"A257+1","v":2}]
[1,2,2,1,15,"Engsvingel Vikan",null,null,{"$f":"VALUE(A258&B258&C258&D258&IF(LEN(E258)=1,\"00\"&E258,IF(LEN(E258)=2,\"0\"&E258,E258)))","v":1221015},null,{"$f":"IF(B258=0,1,0)","v":0},{"$f":"IF(AND(D258=0,E258=0),1,0)","v":0},1,{"$f":"A258+1","v":2}]
[1,2,2,1,16,"Engsvingel Gollum",null,null,{"$f":"VALUE(A259&B259&C259&D259&IF(LEN(E259)=1,\"00\"&E259,IF(LEN(E259)=2,\"0\"&E259,E259)))","v":1221016},null,{"$f":"IF(B259=0,1,0)","v":0},{"$f":"IF(AND(D259=0,E259=0),1,0)","v":0},1,{"$f":"A259+1","v":2}]
[1,2,2,1,17,"Engsvingel Gyda",null,null,{"$f":"VALUE(A260&B260&C260&D260&IF(LEN(E260)=1,\"00\"&E260,IF(LEN(E260)=2,\"0\"&E260,E260)))","v":1221017},null,{"$f":"IF(B260=0,1,0)","v":0},{"$f":"IF(AND(D260=0,E260=0),1,0)","v":0},1,{"$f":"A260+1","v":2}]
[1,2,2,1,18,"Engsvingel Vanja",null,null,{"$f":"VALUE(A261&B261&C261&D261&IF(LEN(E261)=1,\"00\"&E261,IF(LEN(E261)=2,\"0\"&E261,E261)))","v":1221018},null,{"$f":"IF(B261=0,1,0)","v":0},{"$f":"IF(AND(D261=0,E261=0),1,0)","v":0},1,{"$f":"A261+1","v":2}]
[1,2,2,1,999,"Engsvingel andre sorter",null,null,1221999,null,0,0,1,2]
[1,2,2,2,0,{"$f":"Produkt!H24","v":"Rødsvingel"},null,null,1222000,null,0,0,1,{"$f":"A263+1","v":2}]
[1,2,2,2,1,"Rødsvingel Leik",null,null,1222001,null,0,0,1,2]
[1,2,2,2,{"$f":"E264+1","v":2},"Rødsvingel Frigg",null,null,1222002,null,0,0,1,2]
[1,2,2,2,3,"Rødsvingel Barcrown",null,null,1222003,null,0,0,1,{"$f":"A266+1","v":2}]
[1,2,2,2,4,"Rødsvingel Calliope",null,null,1222004,null,0,0,1,2]
[1,2,2,2,5,"Rødsvingel Wilma",null,null,1222005,null,0,0,1,2]
[1,2,2,2,6,"Rødsvingel Linda Plen",null,null,{"$f":"VALUE(A269&B269&C269&D269&IF(LEN(E269)=1,\"00\"&E269,IF(LEN(E269)=2,\"0\"&E269,E269)))","v":1222006},null,0,0,1,2]
[1,2,2,2,7,"Rødsvingel Lystig",null,null,{"$f":"VALUE(A270&B270&C270&D270&IF(LEN(E270)=1,\"00\"&E270,IF(LEN(E270)=2,\"0\"&E270,E270)))","v":1222007},null,{"$f":"IF(B270=0,1,0)","v":0},{"$f":"IF(AND(D270=0,E270=0),1,0)","v":0},1,2]
[1,2,2,2,8,"Rødsvingel Lykke Plen",null,null,{"$f":"VALUE(A271&B271&C271&D271&IF(LEN(E271)=1,\"00\"&E271,IF(LEN(E271)=2,\"0\"&E271,E271)))","v":1222008},null,{"$f":"IF(B271=0,1,0)","v":0},{"$f":"IF(AND(D271=0,E271=0),1,0)","v":0},1,2]
[1,2,2,2,9,"Rødsvingel Barpearl Plen",null,null,{"$f":"VALUE(A272&B272&C272&D272&IF(LEN(E272)=1,\"00\"&E272,IF(LEN(E272)=2,\"0\"&E272,E272)))","v":1222009},null,{"$f":"IF(B272=0,1,0)","v":0},{"$f":"IF(AND(D272=0,E272=0),1,0)","v":0},1,{"$f":"A272+1","v":2}]
[1,2,2,2,10,"Rødsvingel Wagner Plen",null,null,{"$f":"VALUE(A273&B273&C273&D273&IF(LEN(E273)=1,\"00\"&E273,IF(LEN(E273)=2,\"0\"&E273,E273)))","v":1222010},null,{"$f":"IF(B273=0,1,0)","v":0},{"$f":"IF(AND(D273=0,E273=0),1,0)","v":0},1,{"$f":"A273+1","v":2}]
[1,2,2,2,11,"Rødsvingel Barlineus Plen",null,null,{"$f":"VALUE(A274&B274&C274&D274&IF(LEN(E274)=1,\"00\"&E274,IF(LEN(E274)=2,\"0\"&E274,E274)))","v":1222011},null,{"$f":"IF(B274=0,1,0)","v":0},{"$f":"IF(AND(D274=0,E274=0),1,0)","v":0},1,{"$f":"A274+1","v":2}]
[1,2,2,2,999,"Rødsvingel andre sorter",null,null,1222999,null,0,0,1,2]
[1,2,2,3,0,{"$f":"Produkt!H25","v":"Strandsvingel"},null,null,1223000,null,0,0,1,{"$f":"A276+1","v":2}]
[1,2,2,3,1,"Strandsvingel Kora",null,null,1223001,null,0,0,1,2]
[1,2,2,3,{"$f":"E277+1","v":2},"Strandsvingel Swaj",null,null,{"$f":"VALUE(A278&B278&C278&D278&IF(LEN(E278)=1,\"00\"&E278,IF(LEN(E278)=2,\"0\"&E278,E278)))","v":1223002},null,{"$f":"IF(B278=0,1,0)","v":0},{"$f":"IF(AND(D278=0,E278=0),1,0)","v":0},1,{"$f":"A278+1","v":2}]
[1,2,2,3,{"$f":"E278+1","v":3},"Strandsvingel Barolex",null,null,{"$f":"VALUE(A279&B279&C279&D279&IF(LEN(E279)=1,\"00\"&E279,IF(LEN(E279)=2,\"0\"&E279,E279)))","v":1223003},null,{"$f":"IF(B279=0,1,0)","v":0},{"$f":"IF(AND(D279=0,E279=0),1,0)","v":0},1,{"$f":"A279+1","v":2}]
[1,2,2,3,{"$f":"E279+1","v":4},"Strandsvingel Tower (Soft leaf)",null,null,{"$f":"VALUE(A280&B280&C280&D280&IF(LEN(E280)=1,\"00\"&E280,IF(LEN(E280)=2,\"0\"&E280,E280)))","v":1223004},null,{"$f":"IF(B280=0,1,0)","v":0},{"$f":"IF(AND(D280=0,E280=0),1,0)","v":0},1,{"$f":"A280+1","v":2}]
[1,2,2,3,999,"Strandsvingel andre sorter",null,null,1223999,null,0,0,1,2]
[1,2,2,4,0,{"$f":"Produkt!H26","v":"Raisvingel"},null,null,1224000,null,0,0,1,{"$f":"A282+1","v":2}]
[1,2,2,4,1,"Raisvingel Hykor",null,null,1224001,null,0,0,1,2]
[1,2,2,4,{"$f":"E283+1","v":2},"Raisvingel Felina",null,null,1224002,null,0,0,1,2]
[1,2,2,4,{"$f":"E284+1","v":3},"Raisvingel Perseus",null,null,1224003,null,{"$f":"IF(B285=0,1,0)","v":0},{"$f":"IF(AND(D285=0,E285=0),1,0)","v":0},1,{"$f":"A285+1","v":2}]
[1,2,2,4,{"$f":"E285+1","v":4},"Raisvingel Lofa",null,null,1224004,null,0,0,1,{"$f":"A286+1","v":2}]
[1,2,2,4,{"$f":"E286+1","v":5},"Raisvingel Hipast",null,null,{"$f":"VALUE(A287&B287&C287&D287&IF(LEN(E287)=1,\"00\"&E287,IF(LEN(E287)=2,\"0\"&E287,E287)))","v":1224005},null,{"$f":"IF(B287=0,1,0)","v":0},{"$f":"IF(AND(D287=0,E287=0),1,0)","v":0},1,{"$f":"A287+1","v":2}]
[1,2,2,4,{"$f":"E287+1","v":6},"Raisvingel Fojtan",null,null,{"$f":"VALUE(A288&B288&C288&D288&IF(LEN(E288)=1,\"00\"&E288,IF(LEN(E288)=2,\"0\"&E288,E288)))","v":1224006},null,{"$f":"IF(B288=0,1,0)","v":0},{"$f":"IF(AND(D288=0,E288=0),1,0)","v":0},1,{"$f":"A288+1","v":2}]
[1,2,2,4,999,"Raisvingel andre sorter",null,null,1224999,null,0,0,1,2]
[1,2,2,5,0,{"$f":"Produkt!H27","v":"Sauesvingel"},null,null,{"$f":"VALUE(A290&B290&C290&D290&IF(LEN(E290)=1,\"00\"&E290,IF(LEN(E290)=2,\"0\"&E290,E290)))","v":1225000},null,{"$f":"IF(B290=0,1,0)","v":0},{"$f":"IF(AND(D290=0,E290=0),1,0)","v":0},1,{"$f":"A290+1","v":2}]
[1,2,2,5,{"$f":"E290+1","v":1},"Sauesvingel Lillian",null,null,{"$f":"VALUE(A291&B291&C291&D291&IF(LEN(E291)=1,\"00\"&E291,IF(LEN(E291)=2,\"0\"&E291,E291)))","v":1225001},null,{"$f":"IF(B291=0,1,0)","v":0},{"$f":"IF(AND(D291=0,E291=0),1,0)","v":0},1,{"$f":"A291+1","v":2}]
[1,2,2,5,{"$f":"E291+1","v":2},"Sauesvingel Quattro",null,"Sauesvingel eller Fåresvingel",{"$f":"VALUE(A292&B292&C292&D292&IF(LEN(E292)=1,\"00\"&E292,IF(LEN(E292)=2,\"0\"&E292,E292)))","v":1225002},null,{"$f":"IF(B292=0,1,0)","v":0},{"$f":"IF(AND(D292=0,E292=0),1,0)","v":0},1,{"$f":"A292+1","v":2}]
[1,2,2,9,0,{"$f":"Produkt!H28","v":"Svingel andre arter og sorter"},null,null,1229000,null,0,0,1,{"$f":"A293+1","v":2}]
[1,2,2,9,1,"Ledig",null,"Tidligere Svingel andre arter og sorter",1229001,null,0,0,1,2]
[1,2,2,9,{"$f":"E294+1","v":2},"Ledig",null,"Tidligere Quattro",1229002,null,0,0,1,{"$f":"A295+1","v":2}]
[1,2,2,9,999,"Andre (foreløpig)",null,null,1229999,null,0,0,1,{"$f":"A296+1","v":2}]
[1,2,3,0,0,{"$f":"Produkt!G29","v":"Strandrør"},null,null,1230000,null,0,1,1,2]
[1,2,3,0,{"$f":"E297+1","v":1},"Strandrør Lara",null,null,1230001,null,0,0,1,2]
[1,2,3,0,999,"Strandrør andre sorter",null,null,1230999,null,0,0,1,2]
[1,2,4,0,0,{"$f":"Produkt!G30","v":"Kvein"},null,"Bytt til 1241, 1240 bør være overordnet",1240000,null,0,1,1,2]
[1,2,4,0,1,"Engkvein Leikvin",null,null,1240001,null,0,0,1,2]
[1,2,4,0,{"$f":"E301+1","v":2},"Engkvein Nor",null,null,1240002,null,0,0,1,2]
[1,2,4,0,3,"Engkvein Bardot",null,null,1240003,null,0,0,1,{"$f":"A303+1","v":2}]
[1,2,4,0,4,"Engkvein Leirin",null,null,{"$f":"VALUE(A304&B304&C304&D304&IF(LEN(E304)=1,\"00\"&E304,IF(LEN(E304)=2,\"0\"&E304,E304)))","v":1240004},null,0,0,1,2]
[1,2,4,0,5,"Engkvein Jorvik",null,null,{"$f":"VALUE(A305&B305&C305&D305&IF(LEN(E305)=1,\"00\"&E305,IF(LEN(E305)=2,\"0\"&E305,E305)))","v":1240005},null,{"$f":"IF(B305=0,1,0)","v":0},{"$f":"IF(AND(D305=0,E305=0),1,0)","v":0},1,2]
[1,2,4,0,6,"Engkvein Tracenta",null,null,{"$f":"VALUE(A306&B306&C306&D306&IF(LEN(E306)=1,\"00\"&E306,IF(LEN(E306)=2,\"0\"&E306,E306)))","v":1240006},null,{"$f":"IF(B306=0,1,0)","v":0},{"$f":"IF(AND(D306=0,E306=0),1,0)","v":0},1,2]
[1,2,4,0,7,"Engkvein Oasis",null,null,{"$f":"VALUE(A307&B307&C307&D307&IF(LEN(E307)=1,\"00\"&E307,IF(LEN(E307)=2,\"0\"&E307,E307)))","v":1240007},null,{"$f":"IF(B307=0,1,0)","v":0},{"$f":"IF(AND(D307=0,E307=0),1,0)","v":0},1,2]
[1,2,4,0,8,"Engkvein Heriot",null,null,{"$f":"VALUE(A308&B308&C308&D308&IF(LEN(E308)=1,\"00\"&E308,IF(LEN(E308)=2,\"0\"&E308,E308)))","v":1240008},null,{"$f":"IF(B308=0,1,0)","v":0},{"$f":"IF(AND(D308=0,E308=0),1,0)","v":0},1,2]
[1,2,4,0,9,"Engkvein Highland Bent",null,null,{"$f":"VALUE(A309&B309&C309&D309&IF(LEN(E309)=1,\"00\"&E309,IF(LEN(E309)=2,\"0\"&E309,E309)))","v":1240009},null,{"$f":"IF(B309=0,1,0)","v":0},{"$f":"IF(AND(D309=0,E309=0),1,0)","v":0},1,2]
[1,2,4,0,10,"Engkvein Polana",null,null,{"$f":"VALUE(A310&B310&C310&D310&IF(LEN(E310)=1,\"00\"&E310,IF(LEN(E310)=2,\"0\"&E310,E310)))","v":1240010},null,{"$f":"IF(B310=0,1,0)","v":0},{"$f":"IF(AND(D310=0,E310=0),1,0)","v":0},1,2]
[1,2,4,0,11,"Engkvein Barking",null,null,{"$f":"VALUE(A311&B311&C311&D311&IF(LEN(E311)=1,\"00\"&E311,IF(LEN(E311)=2,\"0\"&E311,E311)))","v":1240011},null,{"$f":"IF(B311=0,1,0)","v":0},{"$f":"IF(AND(D311=0,E311=0),1,0)","v":0},1,2]
[1,2,4,0,999,"Engkvein andre sorter",null,null,1240999,null,0,0,1,2]
[1,2,5,0,0,{"$f":"Produkt!G31","v":"Hundegras"},null,"Bytt til 1251, 1250 bør være overordnet?",1250000,null,0,1,1,2]
[1,2,5,0,1,"Hundegras Frisk",null,null,1250001,null,0,0,1,2]
[1,2,5,0,{"$f":"E314+1","v":2},"Hundegras Glorus",null,null,1250002,null,0,0,1,2]
[1,2,5,0,{"$f":"E315+1","v":3},"Hundegras Laban",null,null,{"$f":"VALUE(A316&B316&C316&D316&IF(LEN(E316)=1,\"00\"&E316,IF(LEN(E316)=2,\"0\"&E316,E316)))","v":1250003},null,0,0,1,{"$f":"A316+1","v":2}]
[1,2,5,0,999,"Hundegras andre sorter",null,null,1250999,null,0,0,1,2]
[1,2,6,0,0,{"$f":"Produkt!G32","v":"Bladfaks"},null,"Bytt til 1261, 1260 bør være overordnet?",1260000,null,0,1,1,2]
[1,2,6,0,{"$f":"E318+1","v":1},"Bladfaks Leif",null,null,1260001,null,0,0,1,2]
[1,2,6,0,999,"Bladfaks andre sorter",null,null,1260999,null,0,0,1,2]
[1,2,7,0,0,{"$f":"Produkt!G33","v":"Rapp"},null,"Bytt til 1271, 1270 bær være overordnet",1270000,null,0,1,1,2]
[1,2,7,0,1,"Engrapp Knut",null,null,1270001,null,0,0,1,2]
[1,2,7,0,{"$f":"E322+1","v":2},"Engrapp Monopoly",null,null,1270002,null,0,0,1,2]
[1,2,7,0,{"$f":"E323+1","v":3},"Engrapp Oxford",null,null,1270003,null,0,0,1,2]
[1,2,7,0,{"$f":"E324+1","v":4},"Engrapp Limagie",null,null,1270004,null,0,0,1,2]
[1,2,7,0,{"$f":"E325+1","v":5},"Engrapp Conni",null,null,1270005,null,0,0,1,{"$f":"A326+1","v":2}]
[1,2,7,0,999,"Engrapp andre sorter",null,null,1270999,null,0,0,1,2]
[1,2,8,0,0,{"$f":"Produkt!G34","v":"Raigras"},null,null,1280000,null,0,1,1,2]
[1,2,8,1,0,{"$f":"Produkt!H35","v":"Flerårig raigras"},null,null,1281000,null,0,0,1,{"$f":"A329+1","v":2}]
[1,2,8,1,1,"Flerårig raigras Calibra",null,null,1281001,null,0,0,1,2]
[1,2,8,1,{"$f":"E330+1","v":2},"Flerårig raigras Fia",null,null,{"$f":"VALUE(A331&B331&C331&D331&IF(LEN(E331)=1,\"00\"&E331,IF(LEN(E331)=2,\"0\"&E331,E331)))","v":1281002},null,0,0,1,2]
[1,2,8,1,{"$f":"E331+1","v":3},"Flerårig raigras Figgjo",null,null,1281003,null,0,0,1,2]
[1,2,8,1,4,"Flerårig raigras Lasso",null,null,1281004,null,0,0,1,{"$f":"A333+1","v":2}]
[1,2,8,1,5,"Flerårig raigras Pomposa",null,null,1281005,null,0,0,1,2]
[1,2,8,1,6,"Flerårig raigras Aston Energi",null,null,1281006,null,0,0,1,2]
[1,2,8,1,7,"Flerårig raigras Perun og Lofta",null,null,1281007,null,0,0,1,2]
[1,2,8,1,8,"Flerårig raigras Tivoli",null,null,1281008,null,0,0,1,{"$f":"A337+1","v":2}]
[1,2,8,1,9,"Flerårig raigras Prana",null,null,1281009,null,0,0,1,2]
[1,2,8,1,10,"Flerårig raigras Barreine",null,null,1281010,null,0,0,1,2]
[1,2,8,1,11,"Flerårig raigras Birger",null,null,1281011,null,0,0,1,2]
[1,2,8,1,12,"Flerårig raigras Trygve",null,null,{"$f":"VALUE(A341&B341&C341&D341&IF(LEN(E341)=1,\"00\"&E341,IF(LEN(E341)=2,\"0\"&E341,E341)))","v":1281012},null,0,0,1,2]
[1,2,8,1,13,"Flerårig raigras Picaro",null,null,{"$f":"VALUE(A342&B342&C342&D342&IF(LEN(E342)=1,\"00\"&E342,IF(LEN(E342)=2,\"0\"&E342,E342)))","v":1281013},null,{"$f":"IF(B342=0,1,0)","v":0},{"$f":"IF(AND(D342=0,E342=0),1,0)","v":0},1,2]
[1,2,8,1,14,"Flerårig raigras WW Graxer Nova",null,null,{"$f":"VALUE(A343&B343&C343&D343&IF(LEN(E343)=1,\"00\"&E343,IF(LEN(E343)=2,\"0\"&E343,E343)))","v":1281014},null,{"$f":"IF(B343=0,1,0)","v":0},{"$f":"IF(AND(D343=0,E343=0),1,0)","v":0},1,{"$f":"A343+1","v":2}]
[1,2,8,1,15,"Flerårig raigras Kentaur (engelsk)",null,null,{"$f":"VALUE(A344&B344&C344&D344&IF(LEN(E344)=1,\"00\"&E344,IF(LEN(E344)=2,\"0\"&E344,E344)))","v":1281015},null,{"$f":"IF(B344=0,1,0)","v":0},{"$f":"IF(AND(D344=0,E344=0),1,0)","v":0},1,{"$f":"A344+1","v":2}]
[1,2,8,1,16,"Flerårig raigras Fagerlin",null,null,{"$f":"VALUE(A345&B345&C345&D345&IF(LEN(E345)=1,\"00\"&E345,IF(LEN(E345)=2,\"0\"&E345,E345)))","v":1281016},null,{"$f":"IF(B345=0,1,0)","v":0},{"$f":"IF(AND(D345=0,E345=0),1,0)","v":0},1,{"$f":"A345+1","v":2}]
[1,2,8,1,17,"Flerårig raigras Barkamaz",null,null,{"$f":"VALUE(A346&B346&C346&D346&IF(LEN(E346)=1,\"00\"&E346,IF(LEN(E346)=2,\"0\"&E346,E346)))","v":1281017},null,{"$f":"IF(B346=0,1,0)","v":0},{"$f":"IF(AND(D346=0,E346=0),1,0)","v":0},1,{"$f":"A346+1","v":2}]
[1,2,8,1,18,"Flerårig raigras Barpasto",null,null,{"$f":"VALUE(A347&B347&C347&D347&IF(LEN(E347)=1,\"00\"&E347,IF(LEN(E347)=2,\"0\"&E347,E347)))","v":1281018},null,{"$f":"IF(B347=0,1,0)","v":0},{"$f":"IF(AND(D347=0,E347=0),1,0)","v":0},1,{"$f":"A347+1","v":2}]
[1,2,8,1,999,"Flerårig raigras andre sorter",null,null,1281999,null,0,0,1,2]
[1,2,8,2,0,{"$f":"Produkt!H36","v":"Toårig raigras"},null,null,1282000,null,0,0,1,2]
[1,2,8,2,1,"Toårig raigras Mondora",null,null,1282001,null,0,0,1,2]
[1,2,8,2,{"$f":"E350+1","v":2},"Toårig raigras Merita",null,null,1282002,null,0,0,1,2]
[1,2,8,2,3,"Toårig raigras Fabio",null,null,1282003,null,0,0,1,2]
[1,2,8,2,4,"Toårig raigras Nabucco",null,null,1282004,null,0,0,1,2]
[1,2,8,2,5,"Toårig raigras Macho",null,null,1282005,null,0,0,1,2]
[1,2,8,2,6,"Toårig raigras Meroa",null,null,1282006,null,0,0,1,2]
[1,2,8,2,7,"Toårig raigras Barpluto",null,null,1282007,null,0,0,1,2]
[1,2,8,2,8,"Toårig raigras Bargrosso",null,null,1282008,null,0,0,1,2]
[1,2,8,2,9,"Toårig raigras Storm",null,"Hybrid riktig nummer her",1282009,null,0,0,1,{"$f":"A358+1","v":2}]
[1,2,8,2,10,"Toårig raigras Barmultra",null,null,{"$f":"VALUE(A359&B359&C359&D359&IF(LEN(E359)=1,\"00\"&E359,IF(LEN(E359)=2,\"0\"&E359,E359)))","v":1282010},null,{"$f":"IF(B359=0,1,0)","v":0},{"$f":"IF(AND(D359=0,E359=0),1,0)","v":0},1,2]
[1,2,8,2,11,"Toårig raigras Turgo",null,"Økologisk",{"$f":"VALUE(A360&B360&C360&D360&IF(LEN(E360)=1,\"00\"&E360,IF(LEN(E360)=2,\"0\"&E360,E360)))","v":1282011},null,{"$f":"IF(B360=0,1,0)","v":0},{"$f":"IF(AND(D360=0,E360=0),1,0)","v":0},1,2]
[1,2,8,2,12,"Ledig",null,null,{"$f":"VALUE(A361&B361&C361&D361&IF(LEN(E361)=1,\"00\"&E361,IF(LEN(E361)=2,\"0\"&E361,E361)))","v":1282012},null,{"$f":"IF(B361=0,1,0)","v":0},{"$f":"IF(AND(D361=0,E361=0),1,0)","v":0},1,2]
[1,2,8,2,13,"Toårig raigras Danegro",null,"Økologisk",{"$f":"VALUE(A362&B362&C362&D362&IF(LEN(E362)=1,\"00\"&E362,IF(LEN(E362)=2,\"0\"&E362,E362)))","v":1282013},null,{"$f":"IF(B362=0,1,0)","v":0},{"$f":"IF(AND(D362=0,E362=0),1,0)","v":0},1,2]
[1,2,8,2,14,"Toårig raigras EF486 Dasas",null,null,{"$f":"VALUE(A363&B363&C363&D363&IF(LEN(E363)=1,\"00\"&E363,IF(LEN(E363)=2,\"0\"&E363,E363)))","v":1282014},null,{"$f":"IF(B363=0,1,0)","v":0},{"$f":"IF(AND(D363=0,E363=0),1,0)","v":0},1,2]
[1,2,8,2,999,"Toårig raigras andre sorter",null,null,1282999,null,0,0,1,2]
[1,2,8,3,0,{"$f":"Produkt!H37","v":"Ettårig raigras"},null,null,1283000,null,0,0,1,2]
[1,2,8,3,1,"Ettårig raigras Bartigra",null,null,1283001,null,0,0,1,2]
[1,2,8,3,{"$f":"E366+1","v":2},"Ettårig raigras Labelle",null,null,1283002,null,0,0,1,2]
[1,2,8,3,3,"Ettårig raigras Caremo",null,null,1283003,null,0,0,1,2]
[1,2,8,3,4,"Ettårig raigras Polanum",null,null,1283004,null,0,0,1,2]
[1,2,8,3,5,"Ettårig raigras Spark",null,null,1283005,null,0,0,1,2]
[1,2,8,3,6,"Ettårig raigras Swale",null,null,1283006,null,0,0,1,2]
[1,2,8,3,7,"Ettårig raigras Jivet",null,null,{"$f":"VALUE(A372&B372&C372&D372&IF(LEN(E372)=1,\"00\"&E372,IF(LEN(E372)=2,\"0\"&E372,E372)))","v":1283007},null,{"$f":"IF(B372=0,1,0)","v":0},{"$f":"IF(AND(D372=0,E372=0),1,0)","v":0},1,{"$f":"A372+1","v":2}]
[1,2,8,3,8,"Ettårig raigras Andy",null,null,{"$f":"VALUE(A373&B373&C373&D373&IF(LEN(E373)=1,\"00\"&E373,IF(LEN(E373)=2,\"0\"&E373,E373)))","v":1283008},null,{"$f":"IF(B373=0,1,0)","v":0},{"$f":"IF(AND(D373=0,E373=0),1,0)","v":0},1,{"$f":"A373+1","v":2}]
[1,2,8,3,9,"Ettårig raigras Polly",null,"Hybrid",{"$f":"VALUE(A374&B374&C374&D374&IF(LEN(E374)=1,\"00\"&E374,IF(LEN(E374)=2,\"0\"&E374,E374)))","v":1283009},null,{"$f":"IF(B374=0,1,0)","v":0},{"$f":"IF(AND(D374=0,E374=0),1,0)","v":0},1,{"$f":"A374+1","v":2}]
[1,2,8,3,10,"Ledig",null,"Tidligere Danegro tatt ut her",{"$f":"VALUE(A375&B375&C375&D375&IF(LEN(E375)=1,\"00\"&E375,IF(LEN(E375)=2,\"0\"&E375,E375)))","v":1283010},null,{"$f":"IF(B375=0,1,0)","v":0},{"$f":"IF(AND(D375=0,E375=0),1,0)","v":0},1,{"$f":"A375+1","v":2}]
[1,2,8,3,11,"Ettårig raigras Barsutra",null,null,{"$f":"VALUE(A376&B376&C376&D376&IF(LEN(E376)=1,\"00\"&E376,IF(LEN(E376)=2,\"0\"&E376,E376)))","v":1283011},null,{"$f":"IF(B376=0,1,0)","v":0},{"$f":"IF(AND(D376=0,E376=0),1,0)","v":0},1,{"$f":"A376+1","v":2}]
[1,2,8,3,12,"Ettårig raigras Major",null,null,{"$f":"VALUE(A377&B377&C377&D377&IF(LEN(E377)=1,\"00\"&E377,IF(LEN(E377)=2,\"0\"&E377,E377)))","v":1283012},null,{"$f":"IF(B377=0,1,0)","v":0},{"$f":"IF(AND(D377=0,E377=0),1,0)","v":0},1,{"$f":"A377+1","v":2}]
[1,2,8,3,13,"Ettårig raigras Libonus",null,null,{"$f":"VALUE(A378&B378&C378&D378&IF(LEN(E378)=1,\"00\"&E378,IF(LEN(E378)=2,\"0\"&E378,E378)))","v":1283013},null,{"$f":"IF(B378=0,1,0)","v":0},{"$f":"IF(AND(D378=0,E378=0),1,0)","v":0},1,{"$f":"A378+1","v":2}]
[1,2,8,3,999,"Ettårig raigras andre",null,null,1283999,null,{"$f":"IF(B379=0,1,0)","v":0},{"$f":"IF(AND(D379=0,E379=0),1,0)","v":0},1,2]
[1,2,9,0,0,{"$f":"Produkt!G38","v":"Andre grasfrøarter"},null,"Ingen detaljer per i dag",1290000,null,0,1,1,2]
[1,3,0,0,0,{"$f":"Produkt!F39","v":"Kløverfrø"},null,null,1300000,null,0,1,1,2]
[1,3,1,0,0,{"$f":"Produkt!G40","v":"Rødkløver"},null,null,1310000,null,0,1,1,2]
[1,3,1,0,1,"Rødkløver Bjursele",null,null,1310001,null,0,0,1,2]
[1,3,1,0,{"$f":"E383+1","v":2},"Rødkløver Reipo",null,null,1310002,null,0,0,1,2]
[1,3,1,0,3,"Rødkløver Ares",null,null,1310003,null,0,0,1,2]
[1,3,1,0,4,"Rødkløver Lea",null,null,1310004,null,0,0,1,2]
[1,3,1,0,5,"Rødkløver Nordi",null,null,1310005,null,0,0,1,2]
[1,3,1,0,6,"Rødkløver Yngve",null,null,1310006,null,0,0,1,2]
[1,3,1,0,7,"Rødkløver Altaswede",null,null,1310007,null,0,0,1,2]
[1,3,1,0,8,"Rødkløver Lars",null,null,{"$f":"VALUE(A390&B390&C390&D390&IF(LEN(E390)=1,\"00\"&E390,IF(LEN(E390)=2,\"0\"&E390,E390)))","v":1310008},null,0,0,1,{"$f":"A390+1","v":2}]
[1,3,1,0,9,"Rødkløver Gandalf",null,null,{"$f":"VALUE(A391&B391&C391&D391&IF(LEN(E391)=1,\"00\"&E391,IF(LEN(E391)=2,\"0\"&E391,E391)))","v":1310009},null,0,0,1,{"$f":"A391+1","v":2}]
[1,3,1,0,10,"Rødkløver Linus",null,null,{"$f":"VALUE(A392&B392&C392&D392&IF(LEN(E392)=1,\"00\"&E392,IF(LEN(E392)=2,\"0\"&E392,E392)))","v":1310010},null,{"$f":"IF(B392=0,1,0)","v":0},{"$f":"IF(AND(D392=0,E392=0),1,0)","v":0},1,{"$f":"A392+1","v":2}]
[1,3,1,0,11,"Rødkløver Lasang",null,null,{"$f":"VALUE(A393&B393&C393&D393&IF(LEN(E393)=1,\"00\"&E393,IF(LEN(E393)=2,\"0\"&E393,E393)))","v":1310011},null,{"$f":"IF(B393=0,1,0)","v":0},{"$f":"IF(AND(D393=0,E393=0),1,0)","v":0},1,{"$f":"A393+1","v":2}]
[1,3,1,0,12,"Rødkløver Lasse",null,null,{"$f":"VALUE(A394&B394&C394&D394&IF(LEN(E394)=1,\"00\"&E394,IF(LEN(E394)=2,\"0\"&E394,E394)))","v":1310012},null,{"$f":"IF(B394=0,1,0)","v":0},{"$f":"IF(AND(D394=0,E394=0),1,0)","v":0},1,{"$f":"A394+1","v":2}]
[1,3,1,0,13,"Rødkløver Legato",null,null,{"$f":"VALUE(A395&B395&C395&D395&IF(LEN(E395)=1,\"00\"&E395,IF(LEN(E395)=2,\"0\"&E395,E395)))","v":1310013},null,{"$f":"IF(B395=0,1,0)","v":0},{"$f":"IF(AND(D395=0,E395=0),1,0)","v":0},1,{"$f":"A395+1","v":2}]
[1,3,1,0,999,"Rødkløver andre sorter",null,null,1310999,null,0,0,1,2]
[1,3,2,0,0,{"$f":"Produkt!G41","v":"Kvitkløver"},null,null,1320000,null,0,1,1,2]
[1,3,2,0,1,"Kvitkløver Milkanova",null,null,1320001,null,0,0,1,2]
[1,3,2,0,{"$f":"E398+1","v":2},"Kvitkløver Hebe",null,null,1320002,null,0,0,1,2]
[1,3,2,0,3,"Kvitkløver Norstar",null,null,1320003,null,0,0,1,2]
[1,3,2,0,4,"Kvitkløver Litago",null,null,1320004,null,0,0,1,2]
[1,3,2,0,5,"Kvitkløver Kolondike",null,null,1320005,null,0,0,1,{"$f":"A402+1","v":2}]
[1,3,2,0,6,"Kvitkløver Milo",null,null,1320006,null,0,0,1,2]
[1,3,2,0,7,"Kvitkløver Snowy",null,null,{"$f":"VALUE(A404&B404&C404&D404&IF(LEN(E404)=1,\"00\"&E404,IF(LEN(E404)=2,\"0\"&E404,E404)))","v":1320007},null,{"$f":"IF(B404=0,1,0)","v":0},{"$f":"IF(AND(D404=0,E404=0),1,0)","v":0},1,2]
[1,3,2,0,8,"Kvitkløver Undrom",null,null,{"$f":"VALUE(A405&B405&C405&D405&IF(LEN(E405)=1,\"00\"&E405,IF(LEN(E405)=2,\"0\"&E405,E405)))","v":1320008},null,{"$f":"IF(B405=0,1,0)","v":0},{"$f":"IF(AND(D405=0,E405=0),1,0)","v":0},1,2]
[1,3,2,0,9,"Kvitkløver Rivendel",null,null,{"$f":"VALUE(A406&B406&C406&D406&IF(LEN(E406)=1,\"00\"&E406,IF(LEN(E406)=2,\"0\"&E406,E406)))","v":1320009},null,{"$f":"IF(B406=0,1,0)","v":0},{"$f":"IF(AND(D406=0,E406=0),1,0)","v":0},1,2]
[1,3,2,0,10,"Kvitkløver Silvester",null,null,{"$f":"VALUE(A407&B407&C407&D407&IF(LEN(E407)=1,\"00\"&E407,IF(LEN(E407)=2,\"0\"&E407,E407)))","v":1320010},null,{"$f":"IF(B407=0,1,0)","v":0},{"$f":"IF(AND(D407=0,E407=0),1,0)","v":0},1,2]
[1,3,2,0,11,"Kvitkløver Largo",null,null,{"$f":"VALUE(A408&B408&C408&D408&IF(LEN(E408)=1,\"00\"&E408,IF(LEN(E408)=2,\"0\"&E408,E408)))","v":1320011},null,{"$f":"IF(B408=0,1,0)","v":0},{"$f":"IF(AND(D408=0,E408=0),1,0)","v":0},1,{"$f":"A408+1","v":2}]
[1,3,2,0,12,"Kvitkløver Lilja",null,null,{"$f":"VALUE(A409&B409&C409&D409&IF(LEN(E409)=1,\"00\"&E409,IF(LEN(E409)=2,\"0\"&E409,E409)))","v":1320012},null,{"$f":"IF(B409=0,1,0)","v":0},{"$f":"IF(AND(D409=0,E409=0),1,0)","v":0},1,{"$f":"A409+1","v":2}]
[1,3,2,0,13,"Kvitkløver Edith",null,null,{"$f":"VALUE(A410&B410&C410&D410&IF(LEN(E410)=1,\"00\"&E410,IF(LEN(E410)=2,\"0\"&E410,E410)))","v":1320013},null,{"$f":"IF(B410=0,1,0)","v":0},{"$f":"IF(AND(D410=0,E410=0),1,0)","v":0},1,{"$f":"A410+1","v":2}]
[1,3,2,0,14,"Kvitkløver Brianna",null,null,{"$f":"VALUE(A411&B411&C411&D411&IF(LEN(E411)=1,\"00\"&E411,IF(LEN(E411)=2,\"0\"&E411,E411)))","v":1320014},null,{"$f":"IF(B411=0,1,0)","v":0},{"$f":"IF(AND(D411=0,E411=0),1,0)","v":0},1,{"$f":"A411+1","v":2}]
[1,3,2,0,999,"Kvitkløver andre sorter",null,null,1320999,null,0,0,1,2]
[1,3,3,0,0,{"$f":"Produkt!G42","v":"Alsikekøver"},null,null,1330000,null,0,1,1,2]
[1,3,3,0,1,"Alsikekløver Alpo",null,null,1330001,null,0,0,1,2]
[1,3,3,0,{"$f":"E414+1","v":2},"Alsikekløver Frida",null,null,1330002,null,0,0,1,2]
[1,3,3,0,999,"Alsikekløver Andre sorter",null,null,1330999,null,0,0,1,2]
[1,3,9,0,0,{"$f":"Produkt!G43","v":"Annet kløverfrø"},null,null,1390000,null,0,1,1,2]
[1,3,9,0,1,"Perserkløver",null,"Vurdere om kløvertypene skal ha egen gruppe?",{"$f":"VALUE(A418&B418&C418&D418&IF(LEN(E418)=1,\"00\"&E418,IF(LEN(E418)=2,\"0\"&E418,E418)))","v":1390001},null,0,0,1,{"$f":"A418+1","v":2}]
[1,3,9,0,{"$f":"E418+1","v":2},"Blodkløver Kardinal",null,null,{"$f":"VALUE(A419&B419&C419&D419&IF(LEN(E419)=1,\"00\"&E419,IF(LEN(E419)=2,\"0\"&E419,E419)))","v":1390002},null,{"$f":"IF(B419=0,1,0)","v":0},{"$f":"IF(AND(D419=0,E419=0),1,0)","v":0},1,{"$f":"A419+1","v":2}]
[1,3,9,0,{"$f":"E419+1","v":3},"Blodkløver Cicero",null,null,{"$f":"VALUE(A420&B420&C420&D420&IF(LEN(E420)=1,\"00\"&E420,IF(LEN(E420)=2,\"0\"&E420,E420)))","v":1390003},null,{"$f":"IF(B420=0,1,0)","v":0},{"$f":"IF(AND(D420=0,E420=0),1,0)","v":0},1,{"$f":"A420+1","v":2}]
[1,3,9,0,{"$f":"E420+1","v":4},"Alexandrinekløver Marmilla",null,null,{"$f":"VALUE(A421&B421&C421&D421&IF(LEN(E421)=1,\"00\"&E421,IF(LEN(E421)=2,\"0\"&E421,E421)))","v":1390004},null,{"$f":"IF(B421=0,1,0)","v":0},{"$f":"IF(AND(D421=0,E421=0),1,0)","v":0},1,{"$f":"A421+1","v":2}]
[1,4,0,0,0,{"$f":"Produkt!F44","v":"Andre frøsorter"},null,null,{"$f":"VALUE(A422&B422&C422&D422&IF(LEN(E422)=1,\"00\"&E422,IF(LEN(E422)=2,\"0\"&E422,E422)))","v":1400000},null,0,1,1,2]
[1,4,1,0,0,{"$f":"Produkt!G45","v":"Fôrreddik"},null,null,1410000,null,0,1,1,2]
[1,4,1,0,1,"Fôrreddik Brutus",null,null,1410001,null,0,0,1,2]
[1,4,1,0,{"$f":"E424+1","v":2},"Fôrreddik Ikarus",null,null,{"$f":"VALUE(A425&B425&C425&D425&IF(LEN(E425)=1,\"00\"&E425,IF(LEN(E425)=2,\"0\"&E425,E425)))","v":1410002},null,{"$f":"IF(B425=0,1,0)","v":0},{"$f":"IF(AND(D425=0,E425=0),1,0)","v":0},1,{"$f":"A425+1","v":2}]
[1,4,1,0,3,"Fôrreddik Stinger -Tillage Radish",null,null,{"$f":"VALUE(A426&B426&C426&D426&IF(LEN(E426)=1,\"00\"&E426,IF(LEN(E426)=2,\"0\"&E426,E426)))","v":1410003},null,{"$f":"IF(B426=0,1,0)","v":0},{"$f":"IF(AND(D426=0,E426=0),1,0)","v":0},1,{"$f":"A426+1","v":2}]
[1,4,1,0,4,"Fôrreddik Structurator -Tillage Radish",null,null,{"$f":"VALUE(A427&B427&C427&D427&IF(LEN(E427)=1,\"00\"&E427,IF(LEN(E427)=2,\"0\"&E427,E427)))","v":1410004},null,{"$f":"IF(B427=0,1,0)","v":0},{"$f":"IF(AND(D427=0,E427=0),1,0)","v":0},1,{"$f":"A427+1","v":2}]
[1,4,1,0,5,"Fôrreddik Siletina-tidlig",null,null,{"$f":"VALUE(A428&B428&C428&D428&IF(LEN(E428)=1,\"00\"&E428,IF(LEN(E428)=2,\"0\"&E428,E428)))","v":1410005},null,{"$f":"IF(B428=0,1,0)","v":0},{"$f":"IF(AND(D428=0,E428=0),1,0)","v":0},1,{"$f":"A428+1","v":2}]
[1,4,1,0,6,"Fôrreddik Radetzky",null,null,{"$f":"VALUE(A429&B429&C429&D429&IF(LEN(E429)=1,\"00\"&E429,IF(LEN(E429)=2,\"0\"&E429,E429)))","v":1410006},null,{"$f":"IF(B429=0,1,0)","v":0},{"$f":"IF(AND(D429=0,E429=0),1,0)","v":0},1,{"$f":"A429+1","v":2}]
[1,4,1,0,7,"Fôrreddik Cassius",null,null,{"$f":"VALUE(A430&B430&C430&D430&IF(LEN(E430)=1,\"00\"&E430,IF(LEN(E430)=2,\"0\"&E430,E430)))","v":1410007},null,{"$f":"IF(B430=0,1,0)","v":0},{"$f":"IF(AND(D430=0,E430=0),1,0)","v":0},1,{"$f":"A430+1","v":2}]
[1,4,1,0,999,"Fôrreddik Andre sorter",null,null,1410999,null,0,0,1,2]
[1,4,2,0,0,{"$f":"Produkt!G46","v":"Grønnfôrnepe"},null,null,1420000,null,0,1,1,2]
[1,4,2,0,{"$f":"E432+1","v":1},"Grønnfôrnepe Civasto",null,null,1420001,null,0,0,1,2]
[1,4,2,0,{"$f":"E433+1","v":2},"Grønnfôrnepe Marco",null,null,{"$f":"VALUE(A434&B434&C434&D434&IF(LEN(E434)=1,\"00\"&E434,IF(LEN(E434)=2,\"0\"&E434,E434)))","v":1420002},null,{"$f":"IF(B434=0,1,0)","v":0},{"$f":"IF(AND(D434=0,E434=0),1,0)","v":0},1,{"$f":"A434+1","v":2}]
[1,4,2,0,999,"Grønnfôrnepe Andre sorter",null,null,1420999,null,0,0,1,2]
[1,4,3,0,0,{"$f":"Produkt!G47","v":"Fôrraps"},null,null,1430000,null,0,1,1,2]
[1,4,3,0,1,"Fôrraps Bonar",null,null,1430001,null,0,0,1,2]
[1,4,3,0,{"$f":"E437+1","v":2},"Fôrraps Solan",null,null,1430002,null,0,0,1,2]
[1,4,3,0,{"$f":"E438+1","v":3},"Fôrraps Fontan",null,null,{"$f":"VALUE(A439&B439&C439&D439&IF(LEN(E439)=1,\"00\"&E439,IF(LEN(E439)=2,\"0\"&E439,E439)))","v":1430003},null,{"$f":"IF(B439=0,1,0)","v":0},{"$f":"IF(AND(D439=0,E439=0),1,0)","v":0},1,{"$f":"A439+1","v":2}]
[1,4,3,0,{"$f":"E439+1","v":4},"Fôrraps Barcoli",null,null,{"$f":"VALUE(A440&B440&C440&D440&IF(LEN(E440)=1,\"00\"&E440,IF(LEN(E440)=2,\"0\"&E440,E440)))","v":1430004},null,{"$f":"IF(B440=0,1,0)","v":0},{"$f":"IF(AND(D440=0,E440=0),1,0)","v":0},1,{"$f":"A440+1","v":2}]
[1,4,3,0,{"$f":"E440+1","v":5},"Fôrraps Barsica",null,null,{"$f":"VALUE(A441&B441&C441&D441&IF(LEN(E441)=1,\"00\"&E441,IF(LEN(E441)=2,\"0\"&E441,E441)))","v":1430005},null,{"$f":"IF(B441=0,1,0)","v":0},{"$f":"IF(AND(D441=0,E441=0),1,0)","v":0},1,{"$f":"A441+1","v":2}]
[1,4,3,0,999,"Fôrraps Andre sorter",null,null,1430999,null,0,0,1,2]
[1,4,4,0,0,{"$f":"Produkt!G48","v":"Fôrmargkål"},null,null,1440000,null,0,1,1,2]
[1,4,4,0,1,"Fôrmargkål Grüner Angeliter",null,null,1440001,null,0,0,1,{"$f":"A444+1","v":2}]
[1,4,4,0,{"$f":"E444+1","v":2},"Fôrmargkål Camaro",null,null,{"$f":"VALUE(A445&B445&C445&D445&IF(LEN(E445)=1,\"00\"&E445,IF(LEN(E445)=2,\"0\"&E445,E445)))","v":1440002},null,{"$f":"IF(B445=0,1,0)","v":0},{"$f":"IF(AND(D445=0,E445=0),1,0)","v":0},1,{"$f":"A445+1","v":2}]
[1,4,5,0,0,{"$f":"Produkt!G49","v":"Grønnfôrert"},null,null,1450000,null,0,1,1,2]
[1,4,5,0,1,"Grønnfôrert Bohatyr",null,null,1450001,null,0,0,1,2]
[1,4,5,0,{"$f":"E447+1","v":2},"Grønnfôrert Javlo",null,null,1450002,null,0,0,1,2]
[1,4,5,0,3,"Grønnfôrert Ingrid",null,null,{"$f":"VALUE(A449&B449&C449&D449&IF(LEN(E449)=1,\"00\"&E449,IF(LEN(E449)=2,\"0\"&E449,E449)))","v":1450003},null,0,0,1,{"$f":"A449+1","v":2}]
[1,4,5,0,4,"Grønnfôrert Tinker",null,null,{"$f":"VALUE(A450&B450&C450&D450&IF(LEN(E450)=1,\"00\"&E450,IF(LEN(E450)=2,\"0\"&E450,E450)))","v":1450004},null,0,0,1,{"$f":"A450+1","v":2}]
[1,4,5,0,5,"Grønnfôrert Rubin",null,null,{"$f":"VALUE(A451&B451&C451&D451&IF(LEN(E451)=1,\"00\"&E451,IF(LEN(E451)=2,\"0\"&E451,E451)))","v":1450005},null,{"$f":"IF(B451=0,1,0)","v":0},{"$f":"IF(AND(D451=0,E451=0),1,0)","v":0},1,{"$f":"A451+1","v":2}]
[1,4,5,0,6,"Grønnfôrert ESO",null,null,{"$f":"VALUE(A452&B452&C452&D452&IF(LEN(E452)=1,\"00\"&E452,IF(LEN(E452)=2,\"0\"&E452,E452)))","v":1450006},null,{"$f":"IF(B452=0,1,0)","v":0},{"$f":"IF(AND(D452=0,E452=0),1,0)","v":0},1,{"$f":"A452+1","v":2}]
[1,4,5,0,7,"Grønnfôrert Onyx",null,null,{"$f":"VALUE(A453&B453&C453&D453&IF(LEN(E453)=1,\"00\"&E453,IF(LEN(E453)=2,\"0\"&E453,E453)))","v":1450007},null,{"$f":"IF(B453=0,1,0)","v":0},{"$f":"IF(AND(D453=0,E453=0),1,0)","v":0},1,{"$f":"A453+1","v":2}]
[1,4,5,0,8,"Grønnfôrert Pinochio",null,null,{"$f":"VALUE(A454&B454&C454&D454&IF(LEN(E454)=1,\"00\"&E454,IF(LEN(E454)=2,\"0\"&E454,E454)))","v":1450008},null,{"$f":"IF(B454=0,1,0)","v":0},{"$f":"IF(AND(D454=0,E454=0),1,0)","v":0},1,{"$f":"A454+1","v":2}]
[1,4,5,0,999,"Grønnfôrert Andre sorter",null,null,1450999,null,0,0,1,2]
[1,4,6,0,0,{"$f":"Produkt!G50","v":"Vikke, åkerbønner og andre belgvekster"},null,null,1460000,null,0,1,1,2]
[1,4,6,0,1,"Åkerbønner",null,"Kontu, Alfred, Louhi mv.",{"$f":"VALUE(A457&B457&C457&D457&IF(LEN(E457)=1,\"00\"&E457,IF(LEN(E457)=2,\"0\"&E457,E457)))","v":1460001},null,0,0,1,{"$f":"A457+1","v":2}]
[1,4,6,0,{"$f":"E457+1","v":2},"Vikke",null,"Hungvillosa, Jagra, Nitra, Carole, Lodne, Vintervikke",{"$f":"VALUE(A458&B458&C458&D458&IF(LEN(E458)=1,\"00\"&E458,IF(LEN(E458)=2,\"0\"&E458,E458)))","v":1460002},null,0,0,1,{"$f":"A458+1","v":2}]
[1,4,6,0,{"$f":"E458+1","v":3},"Luserne",null,"Lesina, Live, Creno mv",{"$f":"VALUE(A459&B459&C459&D459&IF(LEN(E459)=1,\"00\"&E459,IF(LEN(E459)=2,\"0\"&E459,E459)))","v":1460003},null,{"$f":"IF(B459=0,1,0)","v":0},{"$f":"IF(AND(D459=0,E459=0),1,0)","v":0},1,{"$f":"A459+1","v":2}]
[1,4,6,0,{"$f":"E459+1","v":4},"Lupin",null,"Hvit, Prima, Boregine, Regent",{"$f":"VALUE(A460&B460&C460&D460&IF(LEN(E460)=1,\"00\"&E460,IF(LEN(E460)=2,\"0\"&E460,E460)))","v":1460004},null,{"$f":"IF(B460=0,1,0)","v":0},{"$f":"IF(AND(D460=0,E460=0),1,0)","v":0},1,{"$f":"A460+1","v":2}]
[1,4,9,0,0,{"$f":"Produkt!G51","v":"Annet frø"},null,null,1490000,null,0,1,1,2]
[1,4,9,0,1,"Honningurt",null,"Honningplante for bier",{"$f":"VALUE(A462&B462&C462&D462&IF(LEN(E462)=1,\"00\"&E462,IF(LEN(E462)=2,\"0\"&E462,E462)))","v":1490001},null,0,0,1,{"$f":"A462+1","v":2}]
[1,4,9,0,{"$f":"E462+1","v":2},"Grønnfôrmais",null,null,1490002,null,0,0,1,2]
[1,4,9,0,3,"Fôrsukkerbete Troya",null,null,1490003,null,0,0,1,2]
[1,4,9,0,4,"Ledig",null,null,1490004,null,0,0,1,2]
[1,4,9,0,5,"Fôrsukkerbete Magnum",null,null,1490005,null,0,0,1,2]
[1,4,9,0,6,"Fiberlin",null,"Sorter: Suzanne, Noemi, Nathalie",1490006,null,{"$f":"IF(B467=0,1,0)","v":0},{"$f":"IF(AND(D467=0,E467=0),1,0)","v":0},1,2]
[1,4,9,0,7,"Oljelin",null,"Sorter: Serenada, Batsman, Juliet, Zoltan",1490007,null,{"$f":"IF(B468=0,1,0)","v":0},{"$f":"IF(AND(D468=0,E468=0),1,0)","v":0},1,2]
[1,4,9,0,8,"Bokhvete",null,"Sorter: Hajnalka, Lileja",{"$f":"VALUE(A469&B469&C469&D469&IF(LEN(E469)=1,\"00\"&E469,IF(LEN(E469)=2,\"0\"&E469,E469)))","v":1490008},null,{"$f":"IF(B469=0,1,0)","v":0},{"$f":"IF(AND(D469=0,E469=0),1,0)","v":0},1,{"$f":"A469+1","v":2}]
[1,4,9,0,9,"Tiriltunge",null,null,{"$f":"VALUE(A470&B470&C470&D470&IF(LEN(E470)=1,\"00\"&E470,IF(LEN(E470)=2,\"0\"&E470,E470)))","v":1490009},null,{"$f":"IF(B470=0,1,0)","v":0},{"$f":"IF(AND(D470=0,E470=0),1,0)","v":0},1,{"$f":"A470+1","v":2}]
[1,4,9,0,10,"Andre oljefrø",null,"OLJEDODRE (CAMELINA SATIVA) ALBA ",{"$f":"VALUE(A471&B471&C471&D471&IF(LEN(E471)=1,\"00\"&E471,IF(LEN(E471)=2,\"0\"&E471,E471)))","v":1490010},null,{"$f":"IF(B471=0,1,0)","v":0},{"$f":"IF(AND(D471=0,E471=0),1,0)","v":0},1,{"$f":"A471+1","v":2}]
[1,4,9,0,11,"Solsikke",null,null,{"$f":"VALUE(A472&B472&C472&D472&IF(LEN(E472)=1,\"00\"&E472,IF(LEN(E472)=2,\"0\"&E472,E472)))","v":1490011},null,{"$f":"IF(B472=0,1,0)","v":0},{"$f":"IF(AND(D472=0,E472=0),1,0)","v":0},1,{"$f":"A472+1","v":2}]
[1,4,9,0,12,"Gul sennep Albatros",null,null,{"$f":"VALUE(A473&B473&C473&D473&IF(LEN(E473)=1,\"00\"&E473,IF(LEN(E473)=2,\"0\"&E473,E473)))","v":1490012},null,{"$f":"IF(B473=0,1,0)","v":0},{"$f":"IF(AND(D473=0,E473=0),1,0)","v":0},1,{"$f":"A473+1","v":2}]
[1,4,9,0,13,"Sikori",null,null,{"$f":"VALUE(A474&B474&C474&D474&IF(LEN(E474)=1,\"00\"&E474,IF(LEN(E474)=2,\"0\"&E474,E474)))","v":1490013},null,{"$f":"IF(B474=0,1,0)","v":0},{"$f":"IF(AND(D474=0,E474=0),1,0)","v":0},1,{"$f":"A474+1","v":2}]
[1,4,9,0,999,"Andre frøsorter",null,null,{"$f":"VALUE(A475&B475&C475&D475&IF(LEN(E475)=1,\"00\"&E475,IF(LEN(E475)=2,\"0\"&E475,E475)))","v":1490999},null,{"$f":"IF(B475=0,1,0)","v":0},{"$f":"IF(AND(D475=0,E475=0),1,0)","v":0},1,{"$f":"A475+1","v":2}]
[1,5,0,0,0,{"$f":"Produkt!F52","v":"Grovfôr og annet fôr til salg og eget bruk"},null,null,{"$f":"VALUE(A476&B476&C476&D476&IF(LEN(E476)=1,\"00\"&E476,IF(LEN(E476)=2,\"0\"&E476,E476)))","v":1500000},null,0,1,1,2]
[1,5,6,0,0,{"$f":"Produkt!G71","v":"Rotvekster til fôr"},null,null,{"$f":"VALUE(A477&B477&C477&D477&IF(LEN(E477)=1,\"00\"&E477,IF(LEN(E477)=2,\"0\"&E477,E477)))","v":1560000},null,0,1,1,{"$f":"A477+1","v":2}]
[1,5,6,0,1,"Fôrbete",null,null,1560001,null,0,0,1,2]
[1,5,6,0,{"$f":"E478+1","v":2},"Fôrkålrot",null,null,1560002,null,0,0,1,2]
[1,5,6,0,{"$f":"E479+1","v":3},"Nepe",null,null,1560003,null,0,0,1,2]
[1,5,6,0,{"$f":"E480+1","v":4},"Grønnfôrnepe",null,null,1560004,null,0,0,1,2]
[1,5,6,0,{"$f":"E481+1","v":5},"Rotvekstblad",null,null,1560005,null,0,0,1,2]
[1,5,6,0,999,"Rotvekster annet",null,null,1560999,null,0,0,1,2]
[1,5,9,0,0,{"$f":"Produkt!G72","v":"Annet grovfôr"},null,null,1590000,null,{"$f":"IF(B484=0,1,0)","v":0},{"$f":"IF(AND(D484=0,E484=0),1,0)","v":1},1,2]
[1,5,9,0,1,"Fôrmargkål",null,null,1590001,null,0,0,1,2]
[1,5,9,0,{"$f":"E485+1","v":2},"Oljevekster til fôr",null,null,1590002,null,0,0,1,2]
[1,5,9,0,999,"Andre grovfôrvekster",null,null,1590999,null,0,0,1,2]
[2,0,0,0,0,{"$f":"Produkt!E73","v":"Poteter, grønnsaker, frukt, bær, blomster og hagebruksvekster"},null,null,2000000,null,1,1,1,3]
[2,1,0,0,0,{"$f":"Produkt!F74","v":"Poteter"},null,null,2100000,null,0,1,1,3]
[2,1,0,0,1,"Potet Arielle",null,null,2100001,null,0,0,1,3]
[2,1,0,0,{"$f":"E490+1","v":2},"Potet Asterix",null,null,2100002,null,0,0,1,3]
[2,1,0,0,{"$f":"E491+1","v":3},"Potet Beate",null,null,2100003,null,0,0,1,3]
[2,1,0,0,4,"Potet Blå Kongo, Blåpotet",null,null,2100004,null,0,0,1,3]
[2,1,0,0,5,"Potet Brage",null,null,2100005,null,0,0,1,3]
[2,1,0,0,6,"Potet Bruse",null,null,2100006,null,0,0,1,3]
[2,1,0,0,7,"Potet Fakse",null,null,2100007,null,0,0,1,3]
[2,1,0,0,8,"Potet Folva",null,null,2100008,null,0,0,1,3]
[2,1,0,0,9,"Potet Grom",null,null,2100009,null,0,0,1,3]
[2,1,0,0,10,"Potet Gulløye",null,null,2100010,null,0,0,1,3]
[2,1,0,0,11,"Potet Innovator",null,null,2100011,null,0,0,1,3]
[2,1,0,0,12,"Potet Jo",null,null,2100012,null,0,0,1,3]
[2,1,0,0,13,"Potet Kerrs Pink",null,null,2100013,null,0,0,1,3]
[2,1,0,0,14,"Potet King Edward",null,null,2100014,null,0,0,1,3]
[2,1,0,0,15,"Potet Kuras",null,null,2100015,null,0,0,1,3]
[2,1,0,0,16,"Potet Lady",null,null,2100016,null,0,0,1,3]
[2,1,0,0,17,"Potet Lady Claire",null,null,2100017,null,0,0,1,3]
[2,1,0,0,18,"Potet Laila",null,null,2100018,null,0,0,1,3]
[2,1,0,0,19,"Potet Mandelpotet",null,null,2100019,null,0,0,1,3]
[2,1,0,0,20,"Potet Mozart",null,null,2100020,null,0,0,1,3]
[2,1,0,0,21,"Potet Oleva",null,null,2100021,null,0,0,1,3]
[2,1,0,0,22,"Potet Ostara",null,null,2100022,null,0,0,1,3]
[2,1,0,0,23,"Potet Peik",null,null,2100023,null,0,0,1,3]
[2,1,0,0,24,"Potet Pimpernel",null,null,2100024,null,0,0,1,3]
[2,1,0,0,25,"Potet Ringerikspotet",null,null,2100025,null,0,0,1,3]
[2,1,0,0,26,"Potet Rutt",null,null,2100026,null,0,0,1,3]
[2,1,0,0,27,"Potet Saturna",null,null,2100027,null,0,0,1,3]
[2,1,0,0,28,"Potet Sava",null,null,2100028,null,0,0,1,3]
[2,1,0,0,29,"Potet Solist",null,null,2100029,null,0,0,1,3]
[2,1,0,0,30,"Potet Sous-vide poteter",null,null,2100030,null,0,0,1,3]
[2,1,0,0,31,"Potet Troll",null,null,2100031,null,0,0,1,3]
[2,1,0,0,32,"Potet Ottar",null,null,2100032,null,0,0,1,{"$f":"A521+1","v":3}]
[2,1,0,0,33,"Potet Aksel",null,null,2100033,null,0,0,1,3]
[2,1,0,0,34,"Potet Berber",null,null,2100034,null,0,0,1,3]
[2,1,0,0,35,"Potet Van Gogh",null,null,2100035,null,0,0,1,3]
[2,1,0,0,36,"Potet Hero",null,null,2100036,null,0,0,1,3]
[2,1,0,0,37,"Potet Snøgg",null,null,2100037,null,0,0,1,3]
[2,1,0,0,38,"Potet Aspargespotet",null,null,2100038,null,0,0,1,3]
[2,1,0,0,39,"Potet Santana",null,null,2100039,null,0,0,1,3]
[2,1,0,0,40,"Potet Hamlet",null,null,2100040,null,0,0,1,3]
[2,1,0,0,41,"Potet Rosewald",null,null,2100041,null,0,0,1,3]
[2,1,0,0,42,"Potet Juno",null,null,2100042,null,0,0,1,3]
[2,1,0,0,43,"Potet Fontane",null,null,2100043,null,0,0,1,3]
[2,1,0,0,44,"Potet Secura",null,null,2100044,null,0,0,1,3]
[2,1,0,0,45,"Potet Dorado",null,null,2100045,null,0,0,1,3]
[2,1,0,0,46,"Potet Obelis",null,null,2100046,null,0,0,1,3]
[2,1,0,0,47,"Potet Sante",null,null,2100047,null,0,0,1,3]
[2,1,0,0,48,"Potet Redstar",null,null,2100048,null,0,0,1,3]
[2,1,0,0,49,"Potet Victoria",null,null,2100049,null,0,0,1,3]
[2,1,0,0,50,"Potet Ramos",null,null,2100050,null,0,0,1,3]
[2,1,0,0,51,"Potet Amandine",null,null,2100051,null,0,0,1,3]
[2,1,0,0,52,"Potet Anoe",null,null,2100052,null,0,0,1,3]
[2,1,0,0,53,"Potet Bjertnæs & Hoel",null,null,2100053,null,0,0,1,3]
[2,1,0,0,54,"Potet Vildmose",null,null,2100054,null,0,0,1,3]
[2,1,0,0,55,"Andre  småpoteter",null,"Bør få annen kode xxxx99x",2100055,null,0,0,1,3]
[2,1,0,0,56,"Potet Cherie",null,null,2100056,null,0,0,1,3]
[2,1,0,0,57,"Potet Perlepotet",null,null,2100057,null,0,0,1,3]
[2,1,0,0,58,"Potet Franceline",null,null,2100058,null,0,0,1,3]
[2,1,0,0,59,"Potet Cecilie",null,null,2100059,null,{"$f":"IF(B548=0,1,0)","v":0},{"$f":"IF(AND(D548=0,E548=0),1,0)","v":0},1,3]
[2,1,0,0,60,"Potet Nansen",null,null,2100060,null,0,0,1,3]
[2,1,0,0,61,"Potet Annabella",null,null,2100061,null,0,0,1,3]
[2,1,0,0,62,"Potet Carolus",null,null,2100062,null,0,0,1,3]
[2,1,0,0,63,"Potet Biogold",null,null,2100063,null,0,0,1,3]
[2,1,0,0,64,"Potet Allians",null,null,2100064,null,0,0,1,3]
[2,1,0,0,65,"Potet Galante",null,null,2100065,null,0,0,1,3]
[2,1,0,0,66,"Potet Nicola",null,null,2100066,null,0,0,1,3]
[2,1,0,0,{"$f":"E555+1","v":67},"Potet Kampion",null,null,2100067,null,0,0,1,3]
[2,1,0,0,68,"Grankonglepotet",null,null,2100068,null,0,0,1,3]
[2,1,0,0,69,"Potet Erika",null,null,2100069,null,0,0,1,3]
[2,1,0,0,70,"Potet Cerisa",null,null,2100070,null,0,0,1,3]
[2,1,0,0,71,"Potet Royal",null,null,2100071,null,0,0,1,3]
[2,1,0,0,72,"Potet Odinia",null,null,{"$f":"VALUE(A561&B561&C561&D561&IF(LEN(E561)=1,\"00\"&E561,IF(LEN(E561)=2,\"0\"&E561,E561)))","v":2100072},null,0,0,1,{"$f":"A561+1","v":3}]
[2,1,0,0,73,"Potet P04-6241",null,"Ny sort fra Graminor (ny uten navn)",{"$f":"VALUE(A562&B562&C562&D562&IF(LEN(E562)=1,\"00\"&E562,IF(LEN(E562)=2,\"0\"&E562,E562)))","v":2100073},null,0,0,1,{"$f":"A562+1","v":3}]
[2,1,0,0,74,"Potet Hassel",null,null,{"$f":"VALUE(A563&B563&C563&D563&IF(LEN(E563)=1,\"00\"&E563,IF(LEN(E563)=2,\"0\"&E563,E563)))","v":2100074},null,{"$f":"IF(B563=0,1,0)","v":0},{"$f":"IF(AND(D563=0,E563=0),1,0)","v":0},1,{"$f":"A563+1","v":3}]
[2,1,0,0,75,"Potet Lady Rosetta",null,null,{"$f":"VALUE(A564&B564&C564&D564&IF(LEN(E564)=1,\"00\"&E564,IF(LEN(E564)=2,\"0\"&E564,E564)))","v":2100075},null,{"$f":"IF(B564=0,1,0)","v":0},{"$f":"IF(AND(D564=0,E564=0),1,0)","v":0},1,{"$f":"A564+1","v":3}]
[2,1,0,0,76,"Potet Esmee",null,null,{"$f":"VALUE(A565&B565&C565&D565&IF(LEN(E565)=1,\"00\"&E565,IF(LEN(E565)=2,\"0\"&E565,E565)))","v":2100076},null,{"$f":"IF(B565=0,1,0)","v":0},{"$f":"IF(AND(D565=0,E565=0),1,0)","v":0},1,{"$f":"A565+1","v":3}]
[2,1,0,0,77,"Potet Taurus",null,"Ny sort meldt inn av Strand Unikorn",{"$f":"VALUE(A566&B566&C566&D566&IF(LEN(E566)=1,\"00\"&E566,IF(LEN(E566)=2,\"0\"&E566,E566)))","v":2100077},null,{"$f":"IF(B566=0,1,0)","v":0},{"$f":"IF(AND(D566=0,E566=0),1,0)","v":0},1,{"$f":"A566+1","v":3}]
[2,1,0,0,78,"Potet Anouk",null,"Ny sort meldt inn av Strand Unikorn",{"$f":"VALUE(A567&B567&C567&D567&IF(LEN(E567)=1,\"00\"&E567,IF(LEN(E567)=2,\"0\"&E567,E567)))","v":2100078},null,{"$f":"IF(B567=0,1,0)","v":0},{"$f":"IF(AND(D567=0,E567=0),1,0)","v":0},1,{"$f":"A567+1","v":3}]
[2,1,0,0,79,"Potet Colomba",null,"Ny sort meldt inn av Strand Unikorn",{"$f":"VALUE(A568&B568&C568&D568&IF(LEN(E568)=1,\"00\"&E568,IF(LEN(E568)=2,\"0\"&E568,E568)))","v":2100079},null,{"$f":"IF(B568=0,1,0)","v":0},{"$f":"IF(AND(D568=0,E568=0),1,0)","v":0},1,{"$f":"A568+1","v":3}]
[2,1,0,0,80,"Potet Lady Britta",null,"Ny sort meldt inn av Strand Unikorn",{"$f":"VALUE(A569&B569&C569&D569&IF(LEN(E569)=1,\"00\"&E569,IF(LEN(E569)=2,\"0\"&E569,E569)))","v":2100080},null,{"$f":"IF(B569=0,1,0)","v":0},{"$f":"IF(AND(D569=0,E569=0),1,0)","v":0},1,{"$f":"A569+1","v":3}]
[2,1,0,0,81,"Potet P02-1866",null,"Ny sort meldt inn av Strand Unikorn",{"$f":"VALUE(A570&B570&C570&D570&IF(LEN(E570)=1,\"00\"&E570,IF(LEN(E570)=2,\"0\"&E570,E570)))","v":2100081},null,{"$f":"IF(B570=0,1,0)","v":0},{"$f":"IF(AND(D570=0,E570=0),1,0)","v":0},1,{"$f":"A570+1","v":3}]
[2,1,0,0,82,"Potet Lunarossa",null,"Ny sort meldt inn av Strand Unikorn",{"$f":"VALUE(A571&B571&C571&D571&IF(LEN(E571)=1,\"00\"&E571,IF(LEN(E571)=2,\"0\"&E571,E571)))","v":2100082},null,{"$f":"IF(B571=0,1,0)","v":0},{"$f":"IF(AND(D571=0,E571=0),1,0)","v":0},1,{"$f":"A571+1","v":3}]
[2,1,0,0,83,"Potet Berle",null,"Ny sort meldt inn av Gartnerhallen",{"$f":"VALUE(A572&B572&C572&D572&IF(LEN(E572)=1,\"00\"&E572,IF(LEN(E572)=2,\"0\"&E572,E572)))","v":2100083},null,{"$f":"IF(B572=0,1,0)","v":0},{"$f":"IF(AND(D572=0,E572=0),1,0)","v":0},1,{"$f":"A572+1","v":3}]
[2,1,0,0,84,"Potet Celandine",null,"Ny sort meldt inn av Strand Unikorn",{"$f":"VALUE(A573&B573&C573&D573&IF(LEN(E573)=1,\"00\"&E573,IF(LEN(E573)=2,\"0\"&E573,E573)))","v":2100084},null,{"$f":"IF(B573=0,1,0)","v":0},{"$f":"IF(AND(D573=0,E573=0),1,0)","v":0},1,{"$f":"A573+1","v":3}]
[2,1,0,0,85,"Potet Evolution",null,"Ny sort meldt inn av Strand Unikorn",{"$f":"VALUE(A574&B574&C574&D574&IF(LEN(E574)=1,\"00\"&E574,IF(LEN(E574)=2,\"0\"&E574,E574)))","v":2100085},null,{"$f":"IF(B574=0,1,0)","v":0},{"$f":"IF(AND(D574=0,E574=0),1,0)","v":0},1,{"$f":"A574+1","v":3}]
[2,1,0,0,86,"Potet Danique",null,"Ny sort meldt inn av Strand Unikorn",{"$f":"VALUE(A575&B575&C575&D575&IF(LEN(E575)=1,\"00\"&E575,IF(LEN(E575)=2,\"0\"&E575,E575)))","v":2100086},null,{"$f":"IF(B575=0,1,0)","v":0},{"$f":"IF(AND(D575=0,E575=0),1,0)","v":0},1,{"$f":"A575+1","v":3}]
[2,1,0,0,87,"Potet Frig",null,"Ny sort meldt inn av Strand Unikorn",{"$f":"VALUE(A576&B576&C576&D576&IF(LEN(E576)=1,\"00\"&E576,IF(LEN(E576)=2,\"0\"&E576,E576)))","v":2100087},null,{"$f":"IF(B576=0,1,0)","v":0},{"$f":"IF(AND(D576=0,E576=0),1,0)","v":0},1,{"$f":"A576+1","v":3}]
[2,1,0,0,88,"Potet Kiebitz",null,"Ny sort meldt inn av Strand Unikorn",{"$f":"VALUE(A577&B577&C577&D577&IF(LEN(E577)=1,\"00\"&E577,IF(LEN(E577)=2,\"0\"&E577,E577)))","v":2100088},null,{"$f":"IF(B577=0,1,0)","v":0},{"$f":"IF(AND(D577=0,E577=0),1,0)","v":0},1,{"$f":"A577+1","v":3}]
[2,1,0,0,89,"Potet Go 8-3167",null,"Ny sort meldt inn av Strand Unikorn",{"$f":"VALUE(A578&B578&C578&D578&IF(LEN(E578)=1,\"00\"&E578,IF(LEN(E578)=2,\"0\"&E578,E578)))","v":2100089},null,{"$f":"IF(B578=0,1,0)","v":0},{"$f":"IF(AND(D578=0,E578=0),1,0)","v":0},1,{"$f":"A578+1","v":3}]
[2,1,0,0,90,"Potet Monte Carlo",null,"Ny sort meldt inn av Strand Unikorn",{"$f":"VALUE(A579&B579&C579&D579&IF(LEN(E579)=1,\"00\"&E579,IF(LEN(E579)=2,\"0\"&E579,E579)))","v":2100090},null,{"$f":"IF(B579=0,1,0)","v":0},{"$f":"IF(AND(D579=0,E579=0),1,0)","v":0},1,{"$f":"A579+1","v":3}]
[2,1,0,0,91,"Potet Toronto",null,"Ny sort meldt inn av Strand Unikorn",{"$f":"VALUE(A580&B580&C580&D580&IF(LEN(E580)=1,\"00\"&E580,IF(LEN(E580)=2,\"0\"&E580,E580)))","v":2100091},null,{"$f":"IF(B580=0,1,0)","v":0},{"$f":"IF(AND(D580=0,E580=0),1,0)","v":0},1,{"$f":"A580+1","v":3}]
[2,1,0,0,92,"Potet Russet Burbank",null,null,2100092,null,{"$f":"IF(B581=0,1,0)","v":0},{"$f":"IF(AND(D581=0,E581=0),1,0)","v":0},1,{"$f":"A581+1","v":3}]
[2,1,0,0,93,"Potet Bintje",null,null,2100093,null,0,0,1,3]
[2,1,0,0,94,"Potet Cara",null,null,2100094,null,0,0,1,3]
[2,1,0,0,95,"Potet Danva",null,null,2100095,null,0,0,1,3]
[2,1,0,0,96,"Potet Agria",null,null,2100096,null,0,0,1,3]
[2,1,0,0,97,"Potet Maris Piper",null,null,2100097,null,0,0,1,3]
[2,1,0,0,98,"Potet Hansa",null,null,2100098,null,0,0,1,3]
[2,1,0,0,99,"Potet Estima",null,null,2100099,null,0,0,1,3]
[2,1,0,0,100,"Potet Nadine",null,null,2100100,null,0,0,1,3]
[2,1,0,0,101,"Potet Accent",null,null,2100101,null,0,0,1,3]
[2,1,0,0,102,"Potet Turbo",null,null,2100102,null,0,0,1,3]
[2,1,0,0,103,"Potet Kennebec",null,null,2100103,null,0,0,1,3]
[2,1,0,0,104,"Potet Fambo",null,null,2100104,null,0,0,1,3]
[2,1,0,0,105,"Potet Olsok",null,null,2100105,null,0,0,1,3]
[2,1,0,0,106,"Potet Dali",null,null,2100106,null,0,0,1,3]
[2,1,0,0,107,"Potet Bellona",null,null,2100107,null,0,0,1,3]
[2,1,0,0,108,"Potet Jutlandia",null,null,2100108,null,0,0,1,3]
[2,1,0,0,109,"Potet Markies",null,null,2100109,null,0,0,1,3]
[2,1,0,0,110,"Potet Romano",null,null,2100110,null,0,0,1,3]
[2,1,0,0,111,"Potet Diamant",null,null,2100111,null,0,0,1,3]
[2,1,0,0,112,"Potet Gullflaks",null,null,2100112,null,0,0,1,3]
[2,1,0,0,113,"Potet Challenger",null,null,2100113,null,0,0,1,3]
[2,1,0,0,114,"Potet Ora",null,null,2100114,null,0,0,1,3]
[2,1,0,0,115,"Potet Provita",null,null,2100115,null,0,0,1,3]
[2,1,0,0,116,"Potet Saphir",null,null,2100116,null,0,0,1,3]
[2,1,0,0,117,"Potet Hulda",null,null,2100117,null,0,0,1,3]
[2,1,0,0,118,"Potet Yvonne",null,null,2100118,null,0,0,1,3]
[2,1,0,0,119,"Potet Bimonde",null,null,2100119,null,0,0,1,3]
[2,1,0,0,120,"Potet Erntestolz",null,null,2100120,null,0,0,1,3]
[2,1,0,0,121,"Potet Shepody",null,null,2100121,null,0,0,1,3]
[2,1,0,0,122,"Potet Feliza",null,null,2100122,null,0,0,1,3]
[2,1,0,0,123,"Potet Premiere",null,null,2100123,null,0,0,1,3]
[2,1,0,0,124,"Potet Serafina",null,null,2100124,null,0,0,1,3]
[2,1,0,0,125,"Potet Adora",null,null,2100125,null,0,0,1,3]
[2,1,0,0,126,"Potet Pentland Squire",null,null,2100126,null,0,0,1,3]
[2,1,0,0,127,"Potet Multa",null,null,2100127,null,0,0,1,3]
[2,1,0,0,128,"Potet Liva",null,null,2100128,null,0,0,1,3]
[2,1,0,0,129,"Potet Tivoli",null,null,2100129,null,0,0,1,3]
[2,1,0,0,130,"Potet Satu",null,null,2100130,null,0,0,1,3]
[2,1,0,0,{"$f":"E619+1","v":131},"Potet Spey",null,null,2100131,null,0,0,1,3]
[2,1,0,0,132,"Potet Stefano",null,null,2100132,null,0,0,1,3]
[2,1,0,0,133,"Potet Marfona",null,null,2100133,null,0,0,1,3]
[2,1,0,0,134,"Potet Maxine",null,null,2100134,null,0,0,1,3]
[2,1,0,0,135,"Potet Inova",null,null,2100135,null,0,0,1,3]
[2,1,0,0,136,"Potet Saxon",null,null,2100136,null,0,0,1,3]
[2,1,0,0,137,"Potet Osprey",null,null,2100137,null,0,0,1,3]
[2,1,0,0,138,"Potet Lady Christl",null,null,2100138,null,0,0,1,3]
[2,1,0,0,139,"Potet Jupiter",null,null,2100139,null,0,0,1,3]
[2,1,0,0,140,"Potet Rustique",null,null,2100140,null,0,0,1,3]
[2,1,0,0,141,"Potet Albata",null,null,2100141,null,0,0,1,3]
[2,1,0,0,142,"Potet Hermes",null,null,2100142,null,0,0,1,3]
[2,1,0,0,143,"Potet Aurea",null,null,2100143,null,0,0,1,3]
[2,1,0,0,144,"Potet Bernadette",null,null,2100144,null,0,0,1,3]
[2,1,0,0,145,"Potet Krone",null,null,2100145,null,0,0,1,3]
[2,1,0,0,146,"Potet Aveka",null,null,2100146,null,0,0,1,3]
[2,1,0,0,147,"Potet Horizon",null,null,2100147,null,0,0,1,3]
[2,1,0,0,148,"Potet Hanna",null,null,2100148,null,0,0,1,3]
[2,1,0,0,149,"Potet Canasta",null,null,2100149,null,0,0,1,3]
[2,1,0,0,150,"Potet Sarpo Mira",null,null,2100150,null,0,0,1,3]
[2,1,0,0,151,"Potet Sassy",null,null,2100151,null,0,0,1,3]
[2,1,0,0,152,"Potet Sibu",null,null,2100152,null,0,0,1,3]
[2,1,0,0,153,"Potet Aslak",null,null,2100153,null,0,0,1,3]
[2,1,0,0,154,"Potet Isle of Jura",null,null,2100154,null,0,0,1,3]
[2,1,0,0,155,"Potet Chicago",null,null,{"$f":"VALUE(A644&B644&C644&D644&IF(LEN(E644)=1,\"00\"&E644,IF(LEN(E644)=2,\"0\"&E644,E644)))","v":2100155},null,0,0,1,3]
[2,1,0,0,156,"Potet Endeavour",null,null,2100156,null,{"$f":"IF(B645=0,1,0)","v":0},{"$f":"IF(AND(D645=0,E645=0),1,0)","v":0},1,{"$f":"A645+1","v":3}]
[2,1,0,0,157,"Potet Bionica",null,null,2100157,null,0,0,1,3]
[2,1,0,0,158,"Potet Rafaela",null,null,2100158,null,0,0,1,3]
[2,1,0,0,159,"Potet Spunta",null,null,2100159,null,0,0,1,3]
[2,1,0,0,160,"Potet Belana",null,null,2100160,null,0,0,1,3]
[2,1,0,0,161,"Potet Salome",null,null,2100161,null,0,0,1,3]
[2,1,0,0,162,"Potet Constanse",null,null,2100162,null,0,0,1,3]
[2,1,0,0,163,"Potet Kardal",null,null,2100163,null,0,0,1,3]
[2,1,0,0,164,"Potet Labella",null,null,2100164,null,0,0,1,3]
[2,1,0,0,165,"Potet Senna",null,null,2100165,null,0,0,1,3]
[2,1,0,0,166,"Potet Nofy",null,null,2100166,null,0,0,1,3]
[2,1,0,0,167,"Potet Thor",null,null,2100167,null,0,0,1,3]
[2,1,0,0,168,"Potet Sarion",null,null,2100168,null,0,0,1,3]
[2,1,0,0,169,"Potet Stratos",null,null,2100169,null,0,0,1,3]
[2,1,0,0,170,"Potet Cronos",null,null,2100170,null,0,0,1,3]
[2,1,0,0,171,"Potet Vitabella",null,null,2100171,null,0,0,1,3]
[2,1,0,0,172,"Potet Desiree",null,null,2100172,null,0,0,1,3]
[2,1,0,0,173,"Potet Euro Grande",null,null,2100173,null,0,0,1,3]
[2,1,0,0,174,"Potet Wotan",null,null,2100174,null,0,0,1,3]
[2,1,0,0,175,"Potet Avarna",null,null,2100175,null,0,0,1,3]
[2,1,0,0,176,"Potet Avenue",null,null,2100176,null,0,0,1,3]
[2,1,0,0,177,"Potet Ditta",null,null,2100177,null,0,0,1,3]
[2,1,0,0,178,"Potet Alizee",null,null,2100178,null,0,0,1,3]
[2,1,0,0,179,"Potet N83-2-104",null,null,2100179,null,0,0,1,3]
[2,1,0,0,180,"Potet Nr. 238",null,null,2100180,null,0,0,1,3]
[2,1,0,0,181,"Potet Nr. 11-1",null,null,2100181,null,0,0,1,3]
[2,1,0,0,182,"Potet N-84-4-36",null,null,2100182,null,0,0,1,3]
[2,1,0,0,183,"Potet Nr. 3 -13",null,null,2100183,null,0,0,1,3]
[2,1,0,0,184,"Potet 159",null,null,2100184,null,0,0,1,3]
[2,1,0,0,185,"Potet 4-36",null,null,2100185,null,0,0,1,3]
[2,1,0,0,186,"Potet N-88-9-49",null,null,2100186,null,0,0,1,3]
[2,1,0,0,187,"Potet N 93-7-6",null,null,2100187,null,0,0,1,3]
[2,1,0,0,188,"Potet Verdi",null,null,2100188,null,0,0,1,3]
[2,1,0,0,189,"Nordlys",null,null,2100189,null,0,0,1,3]
[2,1,0,0,190,"Undset",null,null,2100190,null,0,0,1,3]
[2,1,0,0,191,"Potet Linus",null,null,2100191,null,0,0,1,3]
[2,1,0,0,192,"Potet Balder",null,null,{"$f":"VALUE(A681&B681&C681&D681&IF(LEN(E681)=1,\"00\"&E681,IF(LEN(E681)=2,\"0\"&E681,E681)))","v":2100192},null,{"$f":"IF(B681=0,1,0)","v":0},{"$f":"IF(AND(D681=0,E681=0),1,0)","v":0},1,{"$f":"A681+1","v":3}]
[2,1,0,0,193,"Potet Austin",null,null,{"$f":"VALUE(A682&B682&C682&D682&IF(LEN(E682)=1,\"00\"&E682,IF(LEN(E682)=2,\"0\"&E682,E682)))","v":2100193},null,{"$f":"IF(B682=0,1,0)","v":0},{"$f":"IF(AND(D682=0,E682=0),1,0)","v":0},1,{"$f":"A682+1","v":3}]
[2,1,0,0,194,"Potet Lady Jane",null,null,{"$f":"VALUE(A683&B683&C683&D683&IF(LEN(E683)=1,\"00\"&E683,IF(LEN(E683)=2,\"0\"&E683,E683)))","v":2100194},null,{"$f":"IF(B683=0,1,0)","v":0},{"$f":"IF(AND(D683=0,E683=0),1,0)","v":0},1,{"$f":"A683+1","v":3}]
[2,1,0,0,195,"Potet Zorba",null,null,{"$f":"VALUE(A684&B684&C684&D684&IF(LEN(E684)=1,\"00\"&E684,IF(LEN(E684)=2,\"0\"&E684,E684)))","v":2100195},null,{"$f":"IF(B684=0,1,0)","v":0},{"$f":"IF(AND(D684=0,E684=0),1,0)","v":0},1,{"$f":"A684+1","v":3}]
[2,1,0,0,196,"Potet Morene",null,null,{"$f":"VALUE(A685&B685&C685&D685&IF(LEN(E685)=1,\"00\"&E685,IF(LEN(E685)=2,\"0\"&E685,E685)))","v":2100196},null,{"$f":"IF(B685=0,1,0)","v":0},{"$f":"IF(AND(D685=0,E685=0),1,0)","v":0},1,{"$f":"A685+1","v":3}]
[2,1,0,0,{"$f":"E685+1","v":197},"Potet Grenaille",null,null,{"$f":"VALUE(A686&B686&C686&D686&IF(LEN(E686)=1,\"00\"&E686,IF(LEN(E686)=2,\"0\"&E686,E686)))","v":2100197},null,{"$f":"IF(B686=0,1,0)","v":0},{"$f":"IF(AND(D686=0,E686=0),1,0)","v":0},1,{"$f":"A686+1","v":3}]
[2,1,0,0,198,"Potet Ballerina",null,null,{"$f":"VALUE(A687&B687&C687&D687&IF(LEN(E687)=1,\"00\"&E687,IF(LEN(E687)=2,\"0\"&E687,E687)))","v":2100198},null,{"$f":"IF(B687=0,1,0)","v":0},{"$f":"IF(AND(D687=0,E687=0),1,0)","v":0},1,{"$f":"A687+1","v":3}]
[2,1,0,0,199,"Potet Bye",null,null,{"$f":"VALUE(A688&B688&C688&D688&IF(LEN(E688)=1,\"00\"&E688,IF(LEN(E688)=2,\"0\"&E688,E688)))","v":2100199},null,{"$f":"IF(B688=0,1,0)","v":0},{"$f":"IF(AND(D688=0,E688=0),1,0)","v":0},1,{"$f":"A688+1","v":3}]
[2,1,0,0,200,"Potet Eggen",null,null,{"$f":"VALUE(A689&B689&C689&D689&IF(LEN(E689)=1,\"00\"&E689,IF(LEN(E689)=2,\"0\"&E689,E689)))","v":2100200},null,{"$f":"IF(B689=0,1,0)","v":0},{"$f":"IF(AND(D689=0,E689=0),1,0)","v":0},1,{"$f":"A689+1","v":3}]
[2,1,0,0,201,"Potet Edison",null,null,{"$f":"VALUE(A690&B690&C690&D690&IF(LEN(E690)=1,\"00\"&E690,IF(LEN(E690)=2,\"0\"&E690,E690)))","v":2100201},null,{"$f":"IF(B690=0,1,0)","v":0},{"$f":"IF(AND(D690=0,E690=0),1,0)","v":0},1,{"$f":"A690+1","v":3}]
[2,1,0,0,202,"Potet Jazzy",null,null,{"$f":"VALUE(A691&B691&C691&D691&IF(LEN(E691)=1,\"00\"&E691,IF(LEN(E691)=2,\"0\"&E691,E691)))","v":2100202},null,{"$f":"IF(B691=0,1,0)","v":0},{"$f":"IF(AND(D691=0,E691=0),1,0)","v":0},1,{"$f":"A691+1","v":3}]
[2,1,0,0,991,"Nypotet gule",null,null,{"$f":"VALUE(A692&B692&C692&D692&IF(LEN(E692)=1,\"00\"&E692,IF(LEN(E692)=2,\"0\"&E692,E692)))","v":2100991},null,0,0,1,{"$f":"A692+1","v":3}]
[2,1,0,0,{"$f":"E692+1","v":992},"Nypotet røde",null,null,{"$f":"VALUE(A693&B693&C693&D693&IF(LEN(E693)=1,\"00\"&E693,IF(LEN(E693)=2,\"0\"&E693,E693)))","v":2100992},null,0,0,1,{"$f":"A693+1","v":3}]
[2,1,0,0,999,"Potet andre sorter",null,null,2100999,null,0,0,1,3]
[2,2,0,0,0,{"$f":"Produkt!F75","v":"Grønnsaker på friland og i veksthus"},null,null,2200000,null,0,1,1,3]
[2,2,1,0,0,{"$f":"Produkt!G76","v":"Kålvekster"},null,null,2210000,null,{"$f":"IF(B696=0,1,0)","v":0},{"$f":"IF(AND(D696=0,E696=0),1,0)","v":1},1,{"$f":"A696+1","v":3}]
[2,2,1,0,{"$f":"E696+1","v":1},"Blomkål",null,null,2210001,null,0,0,1,3]
[2,2,1,0,{"$f":"E697+1","v":2},"Brokkoli",null,null,2210002,null,0,0,1,3]
[2,2,1,0,3,"Brokkolini",null,null,2210003,null,0,0,1,3]
[2,2,1,0,4,"Romanesco",null,null,2210004,null,0,0,1,3]
[2,2,1,0,5,"Hvitkål (hodekål)",null,null,2210005,null,0,0,1,3]
[2,2,1,0,6,"Rødkål",null,null,2210006,null,0,0,1,3]
[2,2,1,0,7,"Grønnkål",null,null,2210007,null,0,0,1,3]
[2,2,1,0,8,"Savoykål",null,null,2210008,null,0,0,1,3]
[2,2,1,0,9,"Spisskål",null,null,2210009,null,0,0,1,3]
[2,2,1,0,10,"Kinakål",null,null,2210010,null,0,0,1,3]
[2,2,1,0,11,"Rosenkål",null,null,2210011,null,0,0,1,3]
[2,2,1,0,12,"Pak choy",null,null,2210012,null,0,0,1,3]
[2,2,1,0,13,"Knutekål",null,null,2210013,null,0,0,1,3]
[2,2,1,0,14,"Sommerkål",null,null,2210014,null,0,0,1,3]
[2,2,1,0,15,"Blomkålini",null,null,{"$f":"VALUE(A711&B711&C711&D711&IF(LEN(E711)=1,\"00\"&E711,IF(LEN(E711)=2,\"0\"&E711,E711)))","v":2210015},null,{"$f":"IF(B711=0,1,0)","v":0},{"$f":"IF(AND(D711=0,E711=0),1,0)","v":0},1,{"$f":"A711+1","v":3}]
[2,2,1,0,16,"Sortkål/Palmekål ",null,null,2210016,null,{"$f":"IF(B712=0,1,0)","v":0},{"$f":"IF(AND(D712=0,E712=0),1,0)","v":0},1,{"$f":"A712+1","v":3}]
[2,2,1,0,17,"Kale/Bladkål",null,null,2210017,null,0,0,1,3]
[2,2,1,0,18,"Pyntekål",null,null,2210018,null,0,0,1,3]
[2,2,1,0,19,"Rosettkål",null,"Rosettkål, krysning rosenkål/grønnkål",2210019,null,0,0,1,3]
[2,2,1,0,999,"Andre kålvekster",null,null,2210999,null,0,0,1,3]
[2,2,4,0,0,{"$f":"Produkt!G77","v":"Rotvekster"},null,null,{"$f":"VALUE(A717&B717&C717&D717&IF(LEN(E717)=1,\"00\"&E717,IF(LEN(E717)=2,\"0\"&E717,E717)))","v":2240000},null,0,1,1,3]
[2,2,4,0,{"$f":"E717+1","v":1},"Vanlig gulrot",null,null,2240001,null,0,0,1,3]
[2,2,4,0,{"$f":"E718+1","v":2},"Smaksgulrot",null,null,2240002,null,0,0,1,3]
[2,2,4,0,3,"Minigulrot",null,null,2240003,null,0,0,1,3]
[2,2,4,0,4,"Knaskegulrot",null,null,2240004,null,0,0,1,3]
[2,2,4,0,5,"Gulrotsorter ikke spesifisert",null,null,2240005,null,0,0,1,3]
[2,2,4,0,6,"Nepe",null,null,2240006,null,{"$f":"IF(B723=0,1,0)","v":0},{"$f":"IF(AND(D723=0,E723=0),1,0)","v":0},1,{"$f":"A723+1","v":3}]
[2,2,4,0,7,"Matkålrot",null,null,2240007,null,0,0,1,3]
[2,2,4,0,8,"Jordskokk",null,null,2240008,null,0,0,1,3]
[2,2,4,0,9,"Pastinakk",null,null,2240009,null,0,0,1,3]
[2,2,4,0,10,"Pepperrot",null,null,2240010,null,0,0,1,3]
[2,2,4,0,11,"Persillerot",null,null,2240011,null,0,0,1,3]
[2,2,4,0,12,"Sellerirot",null,null,2240012,null,0,0,1,3]
[2,2,4,0,13,"Reddik",null,null,2240013,null,0,0,1,3]
[2,2,4,0,14,"Rødbete",null,null,2240014,null,0,0,1,3]
[2,2,4,0,15,"Fenikkel",null,null,2240015,null,0,0,1,3]
[2,2,4,0,16,"Artiskokker",null,null,2240016,null,0,0,1,3]
[2,2,4,0,17,"Skorsonnerot",null,null,2240017,null,0,0,1,3]
[2,2,4,0,18,"Andre beter",null,null,2240018,null,0,0,1,3]
[2,2,4,0,19,"Søtpotet",null,null,2240019,null,0,0,1,3]
[2,2,4,0,20,"Havrerot",null,null,2240020,null,{"$f":"IF(B737=0,1,0)","v":0},{"$f":"IF(AND(D737=0,E737=0),1,0)","v":0},1,{"$f":"A737+1","v":3}]
[2,2,4,0,21,"Ingefær",null,"Flyttet hit fra 2450029 i versjon 1.3.6",2240021,null,0,0,1,3]
[2,2,4,0,22,"Kinaskokk",null,null,2240022,null,0,0,1,3]
[2,2,4,0,999,"Andre rotvekster",null,null,2240999,null,0,0,1,3]
[2,2,7,0,0,{"$f":"Produkt!G78","v":"Salat og bladgrønnsaker"},null,null,2270000,null,0,1,1,3]
[2,2,7,0,{"$f":"E741+1","v":1},"Hodesalat",null,null,2270001,null,0,0,1,3]
[2,2,7,0,{"$f":"E742+1","v":2},"Isbergsalat",null,null,2270002,null,0,0,1,3]
[2,2,7,0,3,"Crispisalat",null,null,2270003,null,0,0,1,3]
[2,2,7,0,4,"Ekebladsalat",null,null,2270004,null,0,0,1,3]
[2,2,7,0,5,"Hjertesalat",null,null,2270005,null,0,0,1,3]
[2,2,7,0,6,"Romanosalat",null,null,2270006,null,0,0,1,3]
[2,2,7,0,7,"Ruccula",null,null,2270007,null,0,0,1,3]
[2,2,7,0,8,"Lollo",null,null,2270008,null,0,0,1,3]
[2,2,7,0,9,"Spinat",null,null,2270009,null,0,0,1,3]
[2,2,7,0,10,"Rapidsalat",null,null,2270010,null,0,0,1,3]
[2,2,7,0,11,"Plukksalat",null,null,2270011,null,0,0,1,3]
[2,2,7,0,12,"Bladbete",null,null,2270012,null,0,0,1,3]
[2,2,7,0,13,"Rosso",null,null,2270013,null,0,0,1,3]
[2,2,7,0,14,"Frisee og Frisella salat",null,null,2270014,null,0,0,1,3]
[2,2,7,0,15,"Sikkori salat",null,null,2270015,null,0,0,1,3]
[2,2,7,0,16,"Batavia salat",null,null,2270016,null,0,0,1,3]
[2,2,7,0,17,"Mizuna salat",null,null,2270017,null,0,0,1,3]
[2,2,7,0,18,"Salanova salat",null,null,2270018,null,0,0,1,3]
[2,2,7,0,19,"Feldsalat (vårsalat)",null,null,{"$f":"VALUE(A760&B760&C760&D760&IF(LEN(E760)=1,\"00\"&E760,IF(LEN(E760)=2,\"0\"&E760,E760)))","v":2270019},null,{"$f":"IF(B760=0,1,0)","v":0},{"$f":"IF(AND(D760=0,E760=0),1,0)","v":0},1,{"$f":"A760+1","v":3}]
[2,2,7,0,20,"Mikrogrønt/Babysalat",null,null,{"$f":"VALUE(A761&B761&C761&D761&IF(LEN(E761)=1,\"00\"&E761,IF(LEN(E761)=2,\"0\"&E761,E761)))","v":2270020},null,{"$f":"IF(B761=0,1,0)","v":0},{"$f":"IF(AND(D761=0,E761=0),1,0)","v":0},1,{"$f":"A761+1","v":3}]
[2,2,7,0,21,"Krøllsalat",null,null,{"$f":"VALUE(A762&B762&C762&D762&IF(LEN(E762)=1,\"00\"&E762,IF(LEN(E762)=2,\"0\"&E762,E762)))","v":2270021},null,{"$f":"IF(B762=0,1,0)","v":0},{"$f":"IF(AND(D762=0,E762=0),1,0)","v":0},1,{"$f":"A762+1","v":3}]
[2,2,7,0,22,"Cosmosalat",null,null,{"$f":"VALUE(A763&B763&C763&D763&IF(LEN(E763)=1,\"00\"&E763,IF(LEN(E763)=2,\"0\"&E763,E763)))","v":2270022},null,{"$f":"IF(B763=0,1,0)","v":0},{"$f":"IF(AND(D763=0,E763=0),1,0)","v":0},1,{"$f":"A763+1","v":3}]
[2,2,7,0,23,"Tatsoi ",null,null,2270023,null,{"$f":"IF(B764=0,1,0)","v":0},{"$f":"IF(AND(D764=0,E764=0),1,0)","v":0},1,{"$f":"A764+1","v":3}]
[2,2,7,0,24,"Red Rhubarb",null,null,2270024,null,0,0,1,3]
[2,2,7,0,25,"Asiasalat",null,null,2270025,null,0,0,1,3]
[2,2,7,0,999,"Andre salat og bladgrønnsaker",null,null,2270999,null,0,0,1,3]
[2,3,1,0,0,{"$f":"Produkt!G79","v":"Løk- og purrevekster"},null,null,2310000,null,0,1,1,3]
[2,3,1,0,{"$f":"E768+1","v":1},"Gul kepaløk",null,null,2310001,null,0,0,1,3]
[2,3,1,0,{"$f":"E769+1","v":2},"Rød kepaløk",null,null,2310002,null,0,0,1,3]
[2,3,1,0,3,"Sjalottløk",null,null,2310003,null,0,0,1,3]
[2,3,1,0,4,"Vårløk",null,null,2310004,null,0,0,1,3]
[2,3,1,0,5,"Purre",null,null,2310005,null,0,0,1,3]
[2,3,1,0,6,"Hvitløk",null,null,2310006,null,0,0,1,3]
[2,3,1,0,7,"Salatløk",null,null,2310007,null,0,0,1,3]
[2,3,1,0,8,"Ramsløk",null,null,{"$f":"VALUE(A776&B776&C776&D776&IF(LEN(E776)=1,\"00\"&E776,IF(LEN(E776)=2,\"0\"&E776,E776)))","v":2310008},null,{"$f":"IF(B776=0,1,0)","v":0},{"$f":"IF(AND(D776=0,E776=0),1,0)","v":0},1,{"$f":"A776+1","v":3}]
[2,3,1,0,9,"Sølvløk/sylteløk",null,null,{"$f":"VALUE(A777&B777&C777&D777&IF(LEN(E777)=1,\"00\"&E777,IF(LEN(E777)=2,\"0\"&E777,E777)))","v":2310009},null,{"$f":"IF(B777=0,1,0)","v":0},{"$f":"IF(AND(D777=0,E777=0),1,0)","v":0},1,{"$f":"A777+1","v":3}]
[2,3,1,0,999,"Andre løkvekster",null,null,2310999,null,0,0,1,3]
[2,3,3,0,0,{"$f":"Produkt!G80","v":"Stengelvekster"},null,null,2330000,null,0,1,1,3]
[2,3,3,0,{"$f":"E779+1","v":1},"Asparges grønn",null,null,2330001,null,0,0,1,3]
[2,3,3,0,{"$f":"E780+1","v":2},"Stilkselleri, Stangselleri",null,null,2330002,null,0,0,1,3]
[2,3,3,0,3,"Rabarbra",null,null,2330003,null,0,0,1,3]
[2,3,3,0,4,"Asparges hvit",null,null,2330004,null,0,0,1,3]
[2,3,3,0,999,"Andre stengelvekster",null,null,2330999,null,0,0,1,3]
[2,3,5,0,0,{"$f":"Produkt!G81","v":"Frø- og belgvekster"},null,null,2350000,null,0,1,1,3]
[2,3,5,0,{"$f":"E785+1","v":1},"Brekkbønner",null,null,2350001,null,0,0,1,3]
[2,3,5,0,{"$f":"E786+1","v":2},"Bondebønner",null,null,2350002,null,0,0,1,3]
[2,3,5,0,3,"Snittebønner",null,null,2350003,null,0,0,1,3]
[2,3,5,0,4,"Voksbønner",null,null,2350004,null,0,0,1,3]
[2,3,5,0,5,"Aspargesbønner",null,null,2350005,null,0,0,1,3]
[2,3,5,0,6,"Konserveserter",null,null,2350006,null,0,0,1,3]
[2,3,5,0,7,"Sukkererter",null,null,{"$f":"VALUE(A792&B792&C792&D792&IF(LEN(E792)=1,\"00\"&E792,IF(LEN(E792)=2,\"0\"&E792,E792)))","v":2350007},null,0,0,1,3]
[2,3,5,0,8,"Mais",null,null,2350008,null,0,0,1,3]
[2,3,5,0,9,"Solsikke",null,null,2350009,null,0,0,1,3]
[2,3,5,0,10,"Borlottibønner",null,null,2350010,null,0,0,1,3]
[2,3,5,0,11,"Romanobønner",null,null,2350011,null,0,0,1,3]
[2,3,5,0,12,"Spirer",null,null,2350012,null,0,0,1,3]
[2,3,5,0,13,"Kikerter",null,null,2350013,null,0,0,1,3]
[2,3,5,0,14,"Soyabønner",null,null,2350014,null,{"$f":"IF(B799=0,1,0)","v":0},{"$f":"IF(AND(D799=0,E799=0),1,0)","v":0},1,{"$f":"A799+1","v":3}]
[2,3,5,0,15,"Linser",null,null,{"$f":"VALUE(A800&B800&C800&D800&IF(LEN(E800)=1,\"00\"&E800,IF(LEN(E800)=2,\"0\"&E800,E800)))","v":2350015},null,{"$f":"IF(B800=0,1,0)","v":0},{"$f":"IF(AND(D800=0,E800=0),1,0)","v":0},1,{"$f":"A800+1","v":3}]
[2,3,5,0,999,"Andre frø- og belgvekster",null,null,2350999,null,0,0,1,3]
[2,3,8,0,0,{"$f":"Produkt!G82","v":"Agurk mv."},null,null,2380000,null,0,1,1,3]
[2,3,8,0,{"$f":"E802+1","v":1},"Slangeagurk",null,null,2380001,null,0,0,1,3]
[2,3,8,0,{"$f":"E803+1","v":2},"Sylteagurk",null,null,2380002,null,0,0,1,3]
[2,3,8,0,3,"Snackagurk",null,null,2380003,null,0,0,1,3]
[2,3,8,0,4,"Ledig",null,"Tidligere Gresskar flyttet 08.07.2025, vers. 1.3.6",2380004,null,0,0,1,3]
[2,3,8,0,5,"Squash",null,null,2380005,null,0,0,1,3]
[2,3,8,0,6,"Vannmelon",null,null,{"$f":"VALUE(A808&B808&C808&D808&IF(LEN(E808)=1,\"00\"&E808,IF(LEN(E808)=2,\"0\"&E808,E808)))","v":2380006},null,{"$f":"IF(B808=0,1,0)","v":0},{"$f":"IF(AND(D808=0,E808=0),1,0)","v":0},1,{"$f":"A808+1","v":3}]
[2,3,8,0,7,"Honningmelon",null,null,{"$f":"VALUE(A809&B809&C809&D809&IF(LEN(E809)=1,\"00\"&E809,IF(LEN(E809)=2,\"0\"&E809,E809)))","v":2380007},null,{"$f":"IF(B809=0,1,0)","v":0},{"$f":"IF(AND(D809=0,E809=0),1,0)","v":0},1,{"$f":"A809+1","v":3}]
[2,3,8,0,999,"Andre agurktyper mv",null,null,2380999,null,0,0,1,3]
[2,3,9,0,0,{"$f":"Produkt!G83","v":"Gresskar"},null,null,{"$f":"VALUE(A811&B811&C811&D811&IF(LEN(E811)=1,\"00\"&E811,IF(LEN(E811)=2,\"0\"&E811,E811)))","v":2390000},null,{"$f":"IF(B811=0,1,0)","v":0},{"$f":"IF(AND(D811=0,E811=0),1,0)","v":1},1,{"$f":"A811+1","v":3}]
[2,3,9,0,{"$f":"E811+1","v":1},"Gresskar Matgresskar",null,null,{"$f":"VALUE(A812&B812&C812&D812&IF(LEN(E812)=1,\"00\"&E812,IF(LEN(E812)=2,\"0\"&E812,E812)))","v":2390001},null,{"$f":"IF(B812=0,1,0)","v":0},{"$f":"IF(AND(D812=0,E812=0),1,0)","v":0},1,{"$f":"A812+1","v":3}]
[2,3,9,0,{"$f":"E812+1","v":2},"Gresskar Halloween Binge",null,null,{"$f":"VALUE(A813&B813&C813&D813&IF(LEN(E813)=1,\"00\"&E813,IF(LEN(E813)=2,\"0\"&E813,E813)))","v":2390002},null,{"$f":"IF(B813=0,1,0)","v":0},{"$f":"IF(AND(D813=0,E813=0),1,0)","v":0},1,{"$f":"A813+1","v":3}]
[2,3,9,0,{"$f":"E813+1","v":3},"Gresskar Hokkaido rød/grønn",null,null,{"$f":"VALUE(A814&B814&C814&D814&IF(LEN(E814)=1,\"00\"&E814,IF(LEN(E814)=2,\"0\"&E814,E814)))","v":2390003},null,{"$f":"IF(B814=0,1,0)","v":0},{"$f":"IF(AND(D814=0,E814=0),1,0)","v":0},1,{"$f":"A814+1","v":3}]
[2,3,9,0,{"$f":"E814+1","v":4},"Gresskar Butternuts",null,null,2390004,null,{"$f":"IF(B815=0,1,0)","v":0},{"$f":"IF(AND(D815=0,E815=0),1,0)","v":0},1,{"$f":"A815+1","v":3}]
[2,3,9,0,5,"Gresskar Pyntegresskar",null,null,2390005,null,0,0,1,3]
[2,3,9,0,6,"Gresskar Crown Grey",null,null,2390006,null,0,0,1,3]
[2,3,9,0,7,"Gresskar Naked Seed",null,null,2390007,null,0,0,1,3]
[2,3,9,0,8,"Gresskar Spagetti",null,null,2390008,null,0,0,1,3]
[2,3,9,0,9,"Gresskar Kjerne Kort & Godt",null,null,2390009,null,0,0,1,3]
[2,3,9,0,10,"Gresskar Acorn",null,null,2390010,null,0,0,1,3]
[2,3,9,0,11,"Gresskar Kabotea",null,null,2390011,null,0,0,1,3]
[2,3,9,0,12,"Gresskar Flaske",null,null,2390012,null,0,0,1,3]
[2,3,9,0,13,"Gresskar Tiger Cross",null,null,2390013,null,0,0,1,3]
[2,3,9,0,14,"Gresskar Buttercup",null,null,2390014,null,0,0,1,3]
[2,3,9,0,15,"Gresskar Patisson",null,null,{"$f":"VALUE(A826&B826&C826&D826&IF(LEN(E826)=1,\"00\"&E826,IF(LEN(E826)=2,\"0\"&E826,E826)))","v":2390015},null,{"$f":"IF(B826=0,1,0)","v":0},{"$f":"IF(AND(D826=0,E826=0),1,0)","v":0},1,{"$f":"A826+1","v":3}]
[2,3,9,0,16,"Gresskar Sweet Dumpling",null,null,{"$f":"VALUE(A827&B827&C827&D827&IF(LEN(E827)=1,\"00\"&E827,IF(LEN(E827)=2,\"0\"&E827,E827)))","v":2390016},null,{"$f":"IF(B827=0,1,0)","v":0},{"$f":"IF(AND(D827=0,E827=0),1,0)","v":0},1,{"$f":"A827+1","v":3}]
[2,3,9,0,17,"Gresskar Zentner",null,null,{"$f":"VALUE(A828&B828&C828&D828&IF(LEN(E828)=1,\"00\"&E828,IF(LEN(E828)=2,\"0\"&E828,E828)))","v":2390017},null,{"$f":"IF(B828=0,1,0)","v":0},{"$f":"IF(AND(D828=0,E828=0),1,0)","v":0},1,{"$f":"A828+1","v":3}]
[2,3,9,0,18,"Gresskar Rondini",null,null,{"$f":"VALUE(A829&B829&C829&D829&IF(LEN(E829)=1,\"00\"&E829,IF(LEN(E829)=2,\"0\"&E829,E829)))","v":2390018},null,{"$f":"IF(B829=0,1,0)","v":0},{"$f":"IF(AND(D829=0,E829=0),1,0)","v":0},1,{"$f":"A829+1","v":3}]
[2,3,9,0,999,"Andre gresskartyper mv",null,null,{"$f":"VALUE(A830&B830&C830&D830&IF(LEN(E830)=1,\"00\"&E830,IF(LEN(E830)=2,\"0\"&E830,E830)))","v":2390999},null,{"$f":"IF(B830=0,1,0)","v":0},{"$f":"IF(AND(D830=0,E830=0),1,0)","v":0},1,{"$f":"A830+1","v":3}]
[2,4,1,0,0,{"$f":"Produkt!G84","v":"Tomat"},null,null,2410000,null,0,1,1,3]
[2,4,1,0,{"$f":"E831+1","v":1},"Vanlig tomat",null,null,2410001,null,0,0,1,3]
[2,4,1,0,{"$f":"E832+1","v":2},"Bifftomat",null,null,2410002,null,0,0,1,3]
[2,4,1,0,3,"Cherrytomat",null,null,2410003,null,0,0,1,3]
[2,4,1,0,4,"Grønne tomater",null,null,2410004,null,0,0,1,3]
[2,4,1,0,5,"Aromatomat",null,null,2410005,null,0,0,1,3]
[2,4,1,0,6,"Klasetomat",null,null,2410006,null,0,0,1,3]
[2,4,1,0,7,"Smakstomat",null,null,2410007,null,0,0,1,3]
[2,4,1,0,8,"Plommetomat",null,null,2410008,null,0,0,1,3]
[2,4,1,0,999,"Andre tomattyper",null,null,2410999,null,0,0,1,3]
[2,4,4,0,0,{"$f":"Produkt!G85","v":"Paprika og chili"},null,null,2440000,null,0,1,1,3]
[2,4,4,0,{"$f":"E841+1","v":1},"Paprika",null,null,2440001,null,0,0,1,3]
[2,4,4,0,{"$f":"E842+1","v":2},"Chili",null,null,2440002,null,0,0,1,3]
[2,4,4,0,999,"Andre chilifrukter",null,null,2440999,null,0,0,1,3]
[2,4,5,0,0,{"$f":"Produkt!G86","v":"Krydderurter"},null,null,2450000,null,0,1,1,3]
[2,4,5,0,{"$f":"E845+1","v":1},"Kruspersille",null,null,2450001,null,0,0,1,3]
[2,4,5,0,{"$f":"E846+1","v":2},"Bladpersille",null,null,2450002,null,0,0,1,3]
[2,4,5,0,3,"Dill",null,null,2450003,null,0,0,1,3]
[2,4,5,0,4,"Gressløk",null,null,2450004,null,0,0,1,3]
[2,4,5,0,5,"Basilikum",null,null,2450005,null,0,0,1,3]
[2,4,5,0,6,"Koriander",null,null,2450006,null,0,0,1,3]
[2,4,5,0,7,"Timian",null,null,2450007,null,0,0,1,3]
[2,4,5,0,8,"Oregano",null,null,2450008,null,0,0,1,3]
[2,4,5,0,9,"Merian",null,null,2450009,null,0,0,1,3]
[2,4,5,0,10,"Sitronmelisse",null,null,2450010,null,0,0,1,3]
[2,4,5,0,11,"Mynte",null,null,2450011,null,0,0,1,3]
[2,4,5,0,12,"Malurt",null,null,2450012,null,0,0,1,3]
[2,4,5,0,13,"Salvie",null,null,2450013,null,0,0,1,3]
[2,4,5,0,14,"Løpstikke",null,null,2450014,null,0,0,1,3]
[2,4,5,0,15,"Karse",null,"Mikrogrønt?",2450015,null,0,0,1,3]
[2,4,5,0,16,"Estragon, urt",null,null,2450016,null,0,0,1,3]
[2,4,5,0,17,"Rosmarin, urt",null,null,2450017,null,0,0,1,3]
[2,4,5,0,18,"Karve, urt",null,null,2450018,null,0,0,1,3]
[2,4,5,0,19,"Spiselige blomster",null,null,2450019,null,0,0,1,3]
[2,4,5,0,20,"Portulakk",null,null,2450020,null,0,0,1,3]
[2,4,5,0,21,"Rosenrot, urt",null,null,{"$f":"VALUE(A866&B866&C866&D866&IF(LEN(E866)=1,\"00\"&E866,IF(LEN(E866)=2,\"0\"&E866,E866)))","v":2450021},null,0,0,1,3]
[2,4,5,0,22,"Quinoa, urt",null,null,{"$f":"VALUE(A867&B867&C867&D867&IF(LEN(E867)=1,\"00\"&E867,IF(LEN(E867)=2,\"0\"&E867,E867)))","v":2450022},null,0,0,1,3]
[2,4,5,0,23,"Syre, urt",null,"Også Oxalis",{"$f":"VALUE(A868&B868&C868&D868&IF(LEN(E868)=1,\"00\"&E868,IF(LEN(E868)=2,\"0\"&E868,E868)))","v":2450023},null,0,0,1,3]
[2,4,5,0,24,"Sitrongress, urt",null,null,{"$f":"VALUE(A869&B869&C869&D869&IF(LEN(E869)=1,\"00\"&E869,IF(LEN(E869)=2,\"0\"&E869,E869)))","v":2450024},null,{"$f":"IF(B869=0,1,0)","v":0},{"$f":"IF(AND(D869=0,E869=0),1,0)","v":0},1,{"$f":"A869+1","v":3}]
[2,4,5,0,25,"Kjørvel, urt",null,null,{"$f":"VALUE(A870&B870&C870&D870&IF(LEN(E870)=1,\"00\"&E870,IF(LEN(E870)=2,\"0\"&E870,E870)))","v":2450025},null,{"$f":"IF(B870=0,1,0)","v":0},{"$f":"IF(AND(D870=0,E870=0),1,0)","v":0},1,{"$f":"A870+1","v":3}]
[2,4,5,0,26,"Lavendel urt",null,null,{"$f":"VALUE(A871&B871&C871&D871&IF(LEN(E871)=1,\"00\"&E871,IF(LEN(E871)=2,\"0\"&E871,E871)))","v":2450026},null,{"$f":"IF(B871=0,1,0)","v":0},{"$f":"IF(AND(D871=0,E871=0),1,0)","v":0},1,{"$f":"A871+1","v":3}]
[2,4,5,0,27,"Isop",null,null,2450027,null,{"$f":"IF(B872=0,1,0)","v":0},{"$f":"IF(AND(D872=0,E872=0),1,0)","v":0},1,{"$f":"A872+1","v":3}]
[2,4,5,0,28,"Verbena",null,null,2450028,null,0,0,1,3]
[2,4,5,0,29,"Ledig",null,"Ingefær flyttet til 2240021 i versjon 1.3.6",2450029,null,0,0,1,3]
[2,4,5,0,30,"Kamille",null,null,2450030,null,0,0,1,3]
[2,4,5,0,31,"Sar",null,null,2450031,null,0,0,1,3]
[2,4,5,0,32,"Salaturter",null,null,2450032,null,0,0,1,3]
[2,4,5,0,33,"Østersurt",null,null,2450033,null,0,0,1,3]
[2,4,5,0,34,"Bladfenikkel",null,null,2450034,null,0,0,1,3]
[2,4,5,0,35,"Stevia",null,null,2450035,null,0,0,1,3]
[2,4,5,0,36,"Anis",null,null,2450036,null,0,0,1,3]
[2,4,5,0,37,"Karriplante",null,null,2450037,null,0,0,1,3]
[2,4,5,0,38,"Kvann",null,null,2450038,null,0,0,1,3]
[2,4,5,0,39,"Laurbærblader",null,null,2450039,null,0,0,1,3]
[2,4,5,0,40,"Brønnkarse",null,null,2450040,null,{"$f":"IF(B885=0,1,0)","v":0},{"$f":"IF(AND(D885=0,E885=0),1,0)","v":0},1,{"$f":"A885+1","v":3}]
[2,4,5,0,41,"Sitronverbena",null,null,2450041,null,0,0,1,3]
[2,4,5,0,42,"Selleripersille",null,null,2450042,null,0,0,1,3]
[2,4,5,0,43,"Sennepsblad",null,null,2450043,null,0,0,1,3]
[2,4,5,0,44,"Granskudd",null,null,2450044,null,0,0,1,3]
[2,4,5,0,45,"Nesle",null,null,2450045,null,0,0,1,3]
[2,4,5,0,999,"Andre urter",null,null,{"$f":"VALUE(A891&B891&C891&D891&IF(LEN(E891)=1,\"00\"&E891,IF(LEN(E891)=2,\"0\"&E891,E891)))","v":2450999},null,{"$f":"IF(B891=0,1,0)","v":0},{"$f":"IF(AND(D891=0,E891=0),1,0)","v":0},1,{"$f":"A891+1","v":3}]
[2,4,8,0,0,{"$f":"Produkt!G87","v":"Sopp"},null,null,2480000,null,0,1,1,3]
[2,4,8,0,{"$f":"E892+1","v":1},"Champinjong",null,null,2480001,null,0,0,1,3]
[2,4,8,0,{"$f":"E893+1","v":2},"Kantareller",null,null,2480002,null,0,0,1,3]
[2,4,8,0,3,"Fåresopp",null,null,2480003,null,{"$f":"IF(B895=0,1,0)","v":0},{"$f":"IF(AND(D895=0,E895=0),1,0)","v":0},1,{"$f":"A895+1","v":3}]
[2,4,8,0,4,"Aromasopp",null,null,2480004,null,0,0,1,3]
[2,4,8,0,5,"Shiitake",null,null,2480005,null,0,0,1,3]
[2,4,8,0,6,"Piggsopp",null,null,2480006,null,0,0,1,3]
[2,4,8,0,7,"Østerssopp",null,null,2480007,null,0,0,1,3]
[2,4,8,0,999,"Annen sopp",null,null,2480999,null,0,0,1,3]
[2,5,0,0,0,{"$f":"Produkt!F89","v":"Frukt"},null,null,2500000,null,0,1,1,{"$f":"A901+1","v":3}]
[2,5,1,0,0,{"$f":"Produkt!G90","v":"Epler"},null,null,{"$f":"VALUE(A902&B902&C902&D902&IF(LEN(E902)=1,\"00\"&E902,IF(LEN(E902)=2,\"0\"&E902,E902)))","v":2510000},null,0,1,1,3]
[2,5,1,0,1,"Epler Julyred",null,null,2510001,null,0,0,1,3]
[2,5,1,0,{"$f":"E903+1","v":2},"Epler Quinte",null,null,2510002,null,0,0,1,3]
[2,5,1,0,{"$f":"E904+1","v":3},"Epler Vista Bella",null,null,2510003,null,0,0,1,3]
[2,5,1,0,4,"Epler Close",null,null,2510004,null,0,0,1,3]
[2,5,1,0,5,"Epler Prins",null,null,2510005,null,0,0,1,3]
[2,5,1,0,6,"Epler Rød Prins",null,null,2510006,null,0,0,1,3]
[2,5,1,0,7,"Epler Kronprins",null,null,2510007,null,0,0,1,3]
[2,5,1,0,8,"Epler Discovery",null,null,2510008,null,0,0,1,3]
[2,5,1,0,9,"Epler James Grieve",null,null,2510009,null,0,0,1,3]
[2,5,1,0,10,"Epler Katinka",null,null,2510010,null,0,0,1,3]
[2,5,1,0,11,"Epler Summerred",null,null,2510011,null,0,0,1,3]
[2,5,1,0,12,"Epler Rød Gravenstein",null,null,2510012,null,0,0,1,3]
[2,5,1,0,13,"Epler Gravenstein",null,null,2510013,null,0,0,1,3]
[2,5,1,0,14,"Epler Aroma",null,null,2510014,null,0,0,1,3]
[2,5,1,0,15,"Epler Rød Aroma",null,null,2510015,null,0,0,1,3]
[2,5,1,0,16,"Epler Ingrid Marie",null,null,2510016,null,0,0,1,3]
[2,5,1,0,17,"Epler Karen Schneider",null,null,2510017,null,0,0,1,3]
[2,5,1,0,18,"Epler Elstar",null,null,2510018,null,0,0,1,3]
[2,5,1,0,19,"Epler Rubinstep",null,null,2510019,null,0,0,1,3]
[2,5,1,0,20,"Epler Katja",null,null,2510020,null,0,0,1,3]
[2,5,1,0,21,"Epler Lobo",null,null,2510021,null,0,0,1,3]
[2,5,1,0,22,"Epler Åkerø",null,null,2510022,null,0,0,1,3]
[2,5,1,0,23,"Epler Caroll",null,null,2510023,null,0,0,1,3]
[2,5,1,0,24,"Epler Delcorf",null,null,2510024,null,0,0,1,3]
[2,5,1,0,25,"Epler Geneva early",null,null,2510025,null,0,0,1,3]
[2,5,1,0,26,"Epler Idared",null,null,2510026,null,0,0,1,3]
[2,5,1,0,27,"Epler Sunrise",null,null,{"$f":"VALUE(A929&B929&C929&D929&IF(LEN(E929)=1,\"00\"&E929,IF(LEN(E929)=2,\"0\"&E929,E929)))","v":2510027},null,0,0,1,3]
[2,5,1,0,28,"Epler Rubinola",null,null,2510028,null,0,0,1,{"$f":"A930+1","v":3}]
[2,5,1,0,29,"Epler Alice",null,null,2510029,null,0,0,1,{"$f":"A931+1","v":3}]
[2,5,1,0,30,"Epler Filippa",null,null,2510030,null,0,0,1,3]
[2,5,1,0,31,"Epler Nanna",null,null,2510031,null,0,0,1,3]
[2,5,1,0,32,"Epler Rød Savstaholm",null,null,2510032,null,0,0,1,3]
[2,5,1,0,33,"Epler Torstein",null,null,2510033,null,0,0,1,3]
[2,5,1,0,34,"Epler Tr. Blanche",null,null,2510034,null,0,0,1,3]
[2,5,1,0,35,"Epler Melba",null,null,2510035,null,0,0,1,3]
[2,5,1,0,36,"Eoler Tohu",null,null,2510036,null,0,0,1,3]
[2,5,1,0,37,"Epler Jippi",null,null,2510037,null,0,0,1,3]
[2,5,1,0,38,"Epler Valentine",null,null,2510038,null,{"$f":"IF(B940=0,1,0)","v":0},{"$f":"IF(AND(D940=0,E940=0),1,0)","v":0},1,3]
[2,5,1,0,39,"Epler Pigeon",null,null,2510039,null,0,0,1,3]
[2,5,1,0,40,"Epler Zoete Armgaard",null,null,2510040,null,0,0,1,3]
[2,5,1,0,41,"Epler Eir",null,null,2510041,null,0,0,1,3]
[2,5,1,0,42,"Epler Idun",null,null,2510042,null,0,0,1,3]
[2,5,1,0,43,"Epler Siv",null,null,{"$f":"VALUE(A945&B945&C945&D945&IF(LEN(E945)=1,\"00\"&E945,IF(LEN(E945)=2,\"0\"&E945,E945)))","v":2510043},null,{"$f":"IF(B945=0,1,0)","v":0},{"$f":"IF(AND(D945=0,E945=0),1,0)","v":0},1,{"$f":"A945+1","v":3}]
[2,5,1,0,44,"Epler Eden",null,null,{"$f":"VALUE(A946&B946&C946&D946&IF(LEN(E946)=1,\"00\"&E946,IF(LEN(E946)=2,\"0\"&E946,E946)))","v":2510044},null,{"$f":"IF(B946=0,1,0)","v":0},{"$f":"IF(AND(D946=0,E946=0),1,0)","v":0},1,{"$f":"A946+1","v":3}]
[2,5,1,0,45,"Epler Fryd",null,null,{"$f":"VALUE(A947&B947&C947&D947&IF(LEN(E947)=1,\"00\"&E947,IF(LEN(E947)=2,\"0\"&E947,E947)))","v":2510045},null,{"$f":"IF(B947=0,1,0)","v":0},{"$f":"IF(AND(D947=0,E947=0),1,0)","v":0},1,{"$f":"A947+1","v":3}]
[2,5,1,0,46,"Epler Asfari Gul aroma",null,null,{"$f":"VALUE(A948&B948&C948&D948&IF(LEN(E948)=1,\"00\"&E948,IF(LEN(E948)=2,\"0\"&E948,E948)))","v":2510046},null,{"$f":"IF(B948=0,1,0)","v":0},{"$f":"IF(AND(D948=0,E948=0),1,0)","v":0},1,{"$f":"A948+1","v":3}]
[2,5,1,0,47,"Epler Linda",null,null,2510047,null,{"$f":"IF(B949=0,1,0)","v":0},{"$f":"IF(AND(D949=0,E949=0),1,0)","v":0},1,{"$f":"A949+1","v":3}]
[2,5,1,0,48,"Epler Tiara",null,null,2510048,null,{"$f":"IF(B950=0,1,0)","v":0},{"$f":"IF(AND(D950=0,E950=0),1,0)","v":0},1,{"$f":"A950+1","v":3}]
[2,5,1,0,49,"Epler Wur 21",null,null,2510049,null,0,0,1,3]
[2,5,1,0,50,"Epler Dugg",null,null,2510050,null,0,0,1,3]
[2,5,1,0,51,"Epler Julka",null,null,2510051,null,0,0,1,3]
[2,5,1,0,52,"Epler Rosette",null,null,2510052,null,0,0,1,3]
[2,5,1,0,53,"Epler Rubens",null,null,2510053,null,0,0,1,3]
[2,5,1,0,999,"Epler andre sorter",null,null,2510999,null,0,0,1,3]
[2,5,2,0,0,{"$f":"Produkt!G91","v":"Pærer"},null,null,2520000,null,0,1,1,3]
[2,5,2,0,1,"Pærer Julipære",null,null,2520001,null,0,0,1,3]
[2,5,2,0,{"$f":"E958+1","v":2},"Pærer Herrepære",null,null,2520002,null,0,0,1,3]
[2,5,2,0,{"$f":"E959+1","v":3},"Pærer Gråpære",null,null,2520003,null,0,0,1,3]
[2,5,2,0,4,"Pærer Keiserinne",null,null,2520004,null,0,0,1,3]
[2,5,2,0,5,"Pærer Amanlis",null,null,2520005,null,0,0,1,3]
[2,5,2,0,6,"Pærer Moltke",null,null,2520006,null,0,0,1,3]
[2,5,2,0,7,"Pærer Phillip",null,null,2520007,null,0,0,1,3]
[2,5,2,0,8,"Pærer Ingeborg",null,null,2520008,null,0,0,1,3]
[2,5,2,0,9,"Pærer Conference",null,null,2520009,null,0,0,1,3]
[2,5,2,0,10,"Pærer Clara Frijs",null,null,2520010,null,0,0,1,3]
[2,5,2,0,11,"Pærer Celina",null,null,2520011,null,0,0,1,3]
[2,5,2,0,12,"Pærer Anna",null,null,2520012,null,0,0,1,3]
[2,5,2,0,13,"Pærer Fritjof",null,null,2520013,null,0,0,1,3]
[2,5,2,0,14,"Pærer Herzogin Elsa",null,null,2520014,null,0,0,1,3]
[2,5,2,0,15,"Pærer Ingrid",null,null,2520015,null,0,0,1,3]
[2,5,2,0,16,"Pærer Kristina",null,null,2520016,null,0,0,1,3]
[2,5,2,0,17,"Pærer Precose",null,null,2520017,null,0,0,1,{"$f":"A974+1","v":3}]
[2,5,2,0,18,"Pærer Dr. Guyot",null,null,2520018,null,0,0,1,3]
[2,5,2,0,{"$f":"E975+1","v":19},"Broket juli",null,null,2520019,null,0,0,1,3]
[2,5,2,0,999,"Pærer andre sorter",null,null,2520999,null,0,0,1,3]
[2,5,3,0,0,{"$f":"Produkt!G92","v":"Plommer"},null,null,2530000,null,0,1,1,3]
[2,5,3,0,1,"Plommer Edda",null,null,2530001,null,0,0,1,3]
[2,5,3,0,{"$f":"E979+1","v":2},"Plommer First",null,null,2530002,null,0,0,1,3]
[2,5,3,0,3,"Plommer Reeves",null,null,2530003,null,0,0,1,3]
[2,5,3,0,4,"Plommer Rivers Early",null,null,2530004,null,0,0,1,3]
[2,5,3,0,5,"Plommer Opal",null,null,2530005,null,0,0,1,3]
[2,5,3,0,6,"Plommer Jubileum",null,null,2530006,null,0,0,1,3]
[2,5,3,0,7,"Plommer Mallard",null,null,2530007,null,0,0,1,3]
[2,5,3,0,8,"Plommer Victoria",null,null,2530008,null,0,0,1,3]
[2,5,3,0,9,"Plommer d'Ouillines",null,null,2530009,null,0,0,1,3]
[2,5,3,0,10,"Plommer Avalon",null,null,2530010,null,0,0,1,3]
[2,5,3,0,11,"Plommer Excalibur",null,null,2530011,null,0,0,1,3]
[2,5,3,0,12,"Plommer Reine Claude Souffriau",null,null,2530012,null,0,0,1,3]
[2,5,3,0,13,"Plommer Valor",null,null,2530013,null,0,0,1,3]
[2,5,3,0,14,"Plommer Althans",null,null,2530014,null,0,0,1,{"$f":"A992+1","v":3}]
[2,5,3,0,15,"Plommer Methley",null,null,2530015,null,0,0,1,3]
[2,5,3,0,16,"Plommer Czar",null,null,2530016,null,0,0,1,3]
[2,5,3,0,17,"Plommer Reine Claude",null,null,2530017,null,0,0,1,3]
[2,5,3,0,18,"Plommer Ive",null,null,2530018,null,0,0,1,3]
[2,5,3,0,19,"Plommer Merita",null,null,2530019,null,0,0,1,3]
[2,5,3,0,20,"Plommer Blue Oxi Dream",null,null,2530020,null,0,0,1,3]
[2,5,3,0,21,"Plommer Washington",null,null,2530021,null,0,0,1,3]
[2,5,3,0,{"$f":"E999+1","v":22},"Plommer Herman",null,null,2530022,null,0,0,1,{"$f":"A1000+1","v":3}]
[2,5,3,0,{"$f":"E1000+1","v":23},"Pommer Villplommer",null,null,{"$f":"VALUE(A1001&B1001&C1001&D1001&IF(LEN(E1001)=1,\"00\"&E1001,IF(LEN(E1001)=2,\"0\"&E1001,E1001)))","v":2530023},null,{"$f":"IF(B1001=0,1,0)","v":0},{"$f":"IF(AND(D1001=0,E1001=0),1,0)","v":0},1,{"$f":"A1001+1","v":3}]
[2,5,3,0,24,"Plommer Mirabell",null,null,2530024,null,0,0,1,3]
[2,5,3,0,999,"Plommer andre sorter",null,null,2530999,null,0,0,1,3]
[2,5,4,0,0,{"$f":"Produkt!G93","v":"Moreller"},null,null,2540000,null,0,1,1,3]
[2,5,4,0,1,"Moreller Burlat",null,null,2540001,null,0,0,1,3]
[2,5,4,0,{"$f":"E1005+1","v":2},"Moreller Dønissens gule",null,null,2540002,null,0,0,1,3]
[2,5,4,0,3,"Moreller Early Rivers",null,null,2540003,null,0,0,1,3]
[2,5,4,0,4,"Moreller Emperor Francis",null,null,2540004,null,0,0,1,3]
[2,5,4,0,5,"Moreller Frühe Meckenheimer",null,null,2540005,null,0,0,1,3]
[2,5,4,0,6,"Moreller Giorgia",null,null,2540006,null,0,0,1,3]
[2,5,4,0,7,"Moreller Kassin",null,null,2540007,null,0,0,1,3]
[2,5,4,0,8,"Moreller Kristin",null,null,2540008,null,0,0,1,3]
[2,5,4,0,9,"Moreller Lapins",null,null,2540009,null,0,0,1,3]
[2,5,4,0,10,"Moreller Merchant",null,null,2540010,null,0,0,1,3]
[2,5,4,0,11,"Moreller Merton Glory",null,null,2540011,null,0,0,1,3]
[2,5,4,0,12,"Moreller Merton Premier",null,null,2540012,null,0,0,1,3]
[2,5,4,0,13,"Moreller Rainier",null,null,2540013,null,{"$f":"IF(B1017=0,1,0)","v":0},{"$f":"IF(AND(D1017=0,E1017=0),1,0)","v":0},1,3]
[2,5,4,0,14,"Moreller Ranna",null,null,2540014,null,0,0,1,3]
[2,5,4,0,15,"Moreller Samba",null,null,2540015,null,0,0,1,3]
[2,5,4,0,16,"Moreller Stella",null,null,2540016,null,0,0,1,3]
[2,5,4,0,17,"Moreller Sue",null,null,2540017,null,0,0,1,3]
[2,5,4,0,18,"Moreller Sunburst",null,null,2540018,null,0,0,1,3]
[2,5,4,0,19,"Moreller Ulster",null,null,2540019,null,0,0,1,3]
[2,5,4,0,20,"Moreller Van",null,null,2540020,null,0,0,1,3]
[2,5,4,0,21,"Moreller Vista",null,null,2540021,null,0,0,1,3]
[2,5,4,0,22,"Moreller Ziraat",null,null,{"$f":"VALUE(A1026&B1026&C1026&D1026&IF(LEN(E1026)=1,\"00\"&E1026,IF(LEN(E1026)=2,\"0\"&E1026,E1026)))","v":2540022},null,0,0,1,{"$f":"A1026+1","v":3}]
[2,5,4,0,23,"Moreller Cevita",null,null,2540023,null,0,0,1,3]
[2,5,4,0,24,"Moreller Tamara",null,null,2540024,null,{"$f":"IF(B1028=0,1,0)","v":0},{"$f":"IF(AND(D1028=0,E1028=0),1,0)","v":0},1,{"$f":"A1028+1","v":3}]
[2,5,4,0,25,"Moreller Sweet Lorenz",null,null,2540025,null,0,0,1,3]
[2,5,4,0,26,"Moreller Sweet Aryana",null,null,2540026,null,0,0,1,3]
[2,5,4,0,27,"Moreller Sweethart",null,null,2540027,null,0,0,1,3]
[2,5,4,0,28,"Moreller Kordia",null,null,2540028,null,0,0,1,3]
[2,5,4,0,29,"Moreller Regina",null,null,2540029,null,0,0,1,3]
[2,5,4,0,30,"Moreller Sylvia",null,null,2540030,null,0,0,1,3]
[2,5,4,0,31,"Moreller Techlovan",null,null,2540031,null,0,0,1,3]
[2,5,4,0,999,"Moreller andre sorter",null,null,2540999,null,0,0,1,3]
[2,5,5,0,0,{"$f":"Produkt!G94","v":"Kirsebær"},null,null,2550000,null,0,1,1,3]
[2,5,5,0,1,"Kirsebær Fanal",null,null,2550001,null,0,0,1,3]
[2,5,5,0,{"$f":"E1038+1","v":2},"Kirsebær Kentish red",null,null,2550002,null,0,0,1,3]
[2,5,5,0,{"$f":"E1039+1","v":3},"Kirsebær Skyggemorell",null,null,2550003,null,0,0,1,3]
[2,5,5,0,{"$f":"E1040+1","v":4},"Kirsebær Vanlig surkirsebær",null,null,2550004,null,0,0,1,3]
[2,5,5,0,999,"Kirsebær andre sorter",null,null,{"$f":"VALUE(A1042&B1042&C1042&D1042&IF(LEN(E1042)=1,\"00\"&E1042,IF(LEN(E1042)=2,\"0\"&E1042,E1042)))","v":2550999},null,0,0,1,3]
[2,5,9,0,0,{"$f":"Produkt!G95","v":"Andre fruktsorter"},null,null,2590000,null,0,1,1,{"$f":"A1043+1","v":3}]
[2,5,9,0,{"$f":"E1043+1","v":1},"Aprikos",null,null,{"$f":"VALUE(A1044&B1044&C1044&D1044&IF(LEN(E1044)=1,\"00\"&E1044,IF(LEN(E1044)=2,\"0\"&E1044,E1044)))","v":2590001},null,{"$f":"IF(B1044=0,1,0)","v":0},{"$f":"IF(AND(D1044=0,E1044=0),1,0)","v":0},1,{"$f":"A1044+1","v":3}]
[2,5,9,0,999,"Andre",null,null,{"$f":"VALUE(A1045&B1045&C1045&D1045&IF(LEN(E1045)=1,\"00\"&E1045,IF(LEN(E1045)=2,\"0\"&E1045,E1045)))","v":2590999},null,{"$f":"IF(B1045=0,1,0)","v":0},{"$f":"IF(AND(D1045=0,E1045=0),1,0)","v":0},1,{"$f":"A1045+1","v":3}]
[2,6,0,0,0,{"$f":"Produkt!F96","v":"Bær"},null,null,2600000,null,0,1,1,3]
[2,6,1,0,0,{"$f":"Produkt!G97","v":"Jordbær"},null,null,2610000,null,0,1,1,3]
[2,6,1,0,1,"Jordbær Babette",null,null,2610001,null,0,0,1,3]
[2,6,1,0,{"$f":"E1048+1","v":2},"Jordbær Blink",null,null,2610002,null,0,0,1,3]
[2,6,1,0,3,"Jordbær Bounty",null,null,2610003,null,0,0,1,3]
[2,6,1,0,4,"Jordbær Florence",null,null,2610004,null,0,0,1,3]
[2,6,1,0,5,"Jordbær Frida",null,null,2610005,null,0,0,1,3]
[2,6,1,0,6,"Jordbær Gudleif",null,null,2610006,null,0,0,1,3]
[2,6,1,0,7,"Jordbær Hannibal",null,null,2610007,null,0,0,1,3]
[2,6,1,0,8,"Jordbær Honeoye",null,null,2610008,null,0,0,1,3]
[2,6,1,0,9,"Jordbær Iris",null,null,2610009,null,0,0,1,3]
[2,6,1,0,10,"Jordbær Korona",null,null,2610010,null,0,0,1,3]
[2,6,1,0,11,"Jordbær Polka",null,null,2610011,null,0,0,1,3]
[2,6,1,0,12,"Jordbær Rondo",null,null,2610012,null,0,0,1,3]
[2,6,1,0,13,"Jordbær Senga sengana",null,null,2610013,null,0,0,1,3]
[2,6,1,0,14,"Jordbær Sonata",null,null,2610014,null,0,0,1,3]
[2,6,1,0,15,"Jordbær Zefyr",null,null,2610015,null,0,0,1,3]
[2,6,1,0,16,"Jordbær Glen",null,null,2610016,null,0,0,1,3]
[2,6,1,0,17,"Jordbær Veten",null,null,2610017,null,0,0,1,3]
[2,6,1,0,18,"Jordbær Saga",null,null,2610018,null,0,0,1,{"$f":"A1065+1","v":3}]
[2,6,1,0,19,"Jordbær Rumba",null,"Ny lagt inn 01.07.2018",2610019,null,0,0,1,3]
[2,6,1,0,20,"Jordbær Nobel",null,"Tidligere ledig linje",2610020,null,0,0,1,3]
[2,6,1,0,21,"Jordbær Flair",null,"Meldt inn av Lindemark. Tidligere ledig linje",2610021,null,0,0,1,3]
[2,6,1,0,22,"Jordbær El Santa",null,null,2610022,null,0,0,1,3]
[2,6,1,0,23,"Jordbær Bendit",null,null,2610023,null,0,0,1,3]
[2,6,1,0,24,"Jordbær Elan",null,null,2610024,null,0,0,1,3]
[2,6,1,0,25,"Jordbær Glima",null,"Meldt inn av Lindemark",2610025,null,0,0,1,3]
[2,6,1,0,26,"Jordbær Sunsation",null,"Meldt inn av Lindemark",{"$f":"VALUE(A1073&B1073&C1073&D1073&IF(LEN(E1073)=1,\"00\"&E1073,IF(LEN(E1073)=2,\"0\"&E1073,E1073)))","v":2610026},null,{"$f":"IF(B1073=0,1,0)","v":0},{"$f":"IF(AND(D1073=0,E1073=0),1,0)","v":0},1,{"$f":"A1073+1","v":3}]
[2,6,1,0,27,"Jordbær Malwina",null,"Meldt inn av Lindemark",{"$f":"VALUE(A1074&B1074&C1074&D1074&IF(LEN(E1074)=1,\"00\"&E1074,IF(LEN(E1074)=2,\"0\"&E1074,E1074)))","v":2610027},null,{"$f":"IF(B1074=0,1,0)","v":0},{"$f":"IF(AND(D1074=0,E1074=0),1,0)","v":0},1,{"$f":"A1074+1","v":3}]
[2,6,1,0,28,"Jordbær Sunette",null,"Meldt inn av Lindemark",{"$f":"VALUE(A1075&B1075&C1075&D1075&IF(LEN(E1075)=1,\"00\"&E1075,IF(LEN(E1075)=2,\"0\"&E1075,E1075)))","v":2610028},null,{"$f":"IF(B1075=0,1,0)","v":0},{"$f":"IF(AND(D1075=0,E1075=0),1,0)","v":0},1,{"$f":"A1075+1","v":3}]
[2,6,1,0,29,"Jordbær Faith",null,"Meldt inn av Lindemark",{"$f":"VALUE(A1076&B1076&C1076&D1076&IF(LEN(E1076)=1,\"00\"&E1076,IF(LEN(E1076)=2,\"0\"&E1076,E1076)))","v":2610029},null,{"$f":"IF(B1076=0,1,0)","v":0},{"$f":"IF(AND(D1076=0,E1076=0),1,0)","v":0},1,{"$f":"A1076+1","v":3}]
[2,6,1,0,30,"Jordbær Favori",null,null,{"$f":"VALUE(A1077&B1077&C1077&D1077&IF(LEN(E1077)=1,\"00\"&E1077,IF(LEN(E1077)=2,\"0\"&E1077,E1077)))","v":2610030},null,{"$f":"IF(B1077=0,1,0)","v":0},{"$f":"IF(AND(D1077=0,E1077=0),1,0)","v":0},1,{"$f":"A1077+1","v":3}]
[2,6,1,0,31,"Jordbær Salsa",null,null,{"$f":"VALUE(A1078&B1078&C1078&D1078&IF(LEN(E1078)=1,\"00\"&E1078,IF(LEN(E1078)=2,\"0\"&E1078,E1078)))","v":2610031},null,{"$f":"IF(B1078=0,1,0)","v":0},{"$f":"IF(AND(D1078=0,E1078=0),1,0)","v":0},1,{"$f":"A1078+1","v":3}]
[2,6,1,0,32,"Jordbær Hvite",null,null,{"$f":"VALUE(A1079&B1079&C1079&D1079&IF(LEN(E1079)=1,\"00\"&E1079,IF(LEN(E1079)=2,\"0\"&E1079,E1079)))","v":2610032},null,{"$f":"IF(B1079=0,1,0)","v":0},{"$f":"IF(AND(D1079=0,E1079=0),1,0)","v":0},1,{"$f":"A1079+1","v":3}]
[2,6,1,0,33,"Jordbær Glede",null,null,2610033,null,0,0,1,3]
[2,6,1,0,34,"Jordbær Allegro",null,null,2610034,null,{"$f":"IF(B1081=0,1,0)","v":0},{"$f":"IF(AND(D1081=0,E1081=0),1,0)","v":0},1,{"$f":"A1081+1","v":3}]
[2,6,1,0,35,"Jordbær Verdi",null,null,2610035,null,0,0,1,3]
[2,6,1,0,990,"Markjordbær",null,"Flyttet fra 2610025",{"$f":"VALUE(A1083&B1083&C1083&D1083&IF(LEN(E1083)=1,\"00\"&E1083,IF(LEN(E1083)=2,\"0\"&E1083,E1083)))","v":2610990},null,{"$f":"IF(B1083=0,1,0)","v":0},{"$f":"IF(AND(D1083=0,E1083=0),1,0)","v":0},1,{"$f":"A1083+1","v":3}]
[2,6,1,0,999,"Jordbær andre sorter",null,null,2610999,null,0,0,1,3]
[2,6,2,0,0,{"$f":"Produkt!G98","v":"Ripsfamilien"},null,null,2620000,null,0,1,1,3]
[2,6,2,1,0,"Solbær",null,null,2621000,null,0,0,1,3]
[2,6,2,1,1,"Solbær Ben Alder",null,null,2621001,null,0,0,1,3]
[2,6,2,1,{"$f":"E1087+1","v":2},"Solbær Ben Gairn",null,null,2621002,null,0,0,1,3]
[2,6,2,1,3,"Solbær Ben Hope",null,null,2621003,null,0,0,1,3]
[2,6,2,1,4,"Solbær Ben Nare",null,null,2621004,null,0,0,1,3]
[2,6,2,1,5,"Solbær Ben Tron",null,null,2621005,null,0,0,1,3]
[2,6,2,1,6,"Solbær Hedda",null,null,2621006,null,0,0,1,3]
[2,6,2,1,7,"Solbær Intercontinental",null,null,2621007,null,0,0,1,3]
[2,6,2,1,8,"Solbær Kristin",null,null,2621008,null,0,0,1,3]
[2,6,2,1,9,"Solbær Narve viking",null,null,2621009,null,0,0,1,3]
[2,6,2,1,10,"Solbær Polar",null,null,2621010,null,0,0,1,3]
[2,6,2,1,11,"Solbær Titanina",null,null,2621011,null,0,0,1,3]
[2,6,2,1,12,"Solbær Varde viking",null,null,2621012,null,0,0,1,3]
[2,6,2,1,13,"Solbær Øyebyn",null,null,2621013,null,0,0,1,3]
[2,6,2,1,999,"Solbær andre sorter",null,null,2621999,null,0,0,1,3]
[2,6,2,2,0,"Ripsbær",null,null,2622000,null,0,0,1,3]
[2,6,2,2,1,"Ripsbær Altas",null,null,2622001,null,{"$f":"IF(B1102=0,1,0)","v":0},{"$f":"IF(AND(D1102=0,E1102=0),1,0)","v":0},1,3]
[2,6,2,2,{"$f":"E1102+1","v":2},"Ripsbær Fortun",null,null,2622002,null,0,0,1,3]
[2,6,2,2,3,"Ripsbær Jonkheer van Tetz",null,null,2622003,null,0,0,1,3]
[2,6,2,2,4,"Ripsbær Jotun",null,null,2622004,null,0,0,1,3]
[2,6,2,2,5,"Ripsbær Kvit Hollandsk",null,null,2622005,null,0,0,1,3]
[2,6,2,2,6,"Ripsbær Nortun",null,null,2622006,null,0,0,1,3]
[2,6,2,2,7,"Ripsbær Rondom",null,null,2622007,null,0,0,1,3]
[2,6,2,2,8,"Ripsbær Rosetta",null,null,2622008,null,0,0,1,3]
[2,6,2,2,9,"Ripsbær Rød hollandsk",null,null,2622009,null,0,0,1,3]
[2,6,2,2,999,"Ripsbær andre sorter",null,null,2622999,null,0,0,1,3]
[2,6,2,3,0,"Stikkelsbær",null,null,2623000,null,0,0,1,3]
[2,6,2,3,1,"Stikkelsbær Anneli",null,null,2623001,null,0,0,1,3]
[2,6,2,3,{"$f":"E1113+1","v":2},"Stikkelsbær Black Velvet",null,null,2623002,null,0,0,1,3]
[2,6,2,3,3,"Stikkelsbær Gold Ball",null,null,{"$f":"VALUE(A1115&B1115&C1115&D1115&IF(LEN(E1115)=1,\"00\"&E1115,IF(LEN(E1115)=2,\"0\"&E1115,E1115)))","v":2623003},null,0,0,1,3]
[2,6,2,3,4,"Stikkelsbær Hinnomaki grønn",null,null,2623004,null,0,0,1,{"$f":"A1116+1","v":3}]
[2,6,2,3,5,"Stikkelsbær Hinnomakii gul",null,null,2623005,null,0,0,1,3]
[2,6,2,3,6,"Stikkelsbær Hinnomakii rød",null,null,2623006,null,0,0,1,3]
[2,6,2,3,7,"Stikkelsbær Invicta",null,null,2623007,null,0,0,1,3]
[2,6,2,3,8,"Stikkelsbær Pax",null,null,2623008,null,0,0,1,3]
[2,6,2,3,9,"Stikkelsbær Whitesmith",null,null,2623009,null,0,0,1,3]
[2,6,2,3,10,"Stikkelsbær Winham's Industry",null,null,2623010,null,0,0,1,3]
[2,6,2,3,999,"Stikkelsbær andre sorter",null,null,2623999,null,0,0,1,3]
[2,6,3,0,0,{"$f":"Produkt!G102","v":"Bjørnebærslekta"},null,null,2630000,null,0,1,1,3]
[2,6,3,1,0,"Bringebær",null,null,2631000,null,0,0,1,3]
[2,6,3,1,1,"Bringebær Asker",null,null,{"$f":"VALUE(A1126&B1126&C1126&D1126&IF(LEN(E1126)=1,\"00\"&E1126,IF(LEN(E1126)=2,\"0\"&E1126,E1126)))","v":2631001},null,0,0,1,3]
[2,6,3,1,{"$f":"E1126+1","v":2},"Bringebær Balder",null,null,2631002,null,0,0,1,3]
[2,6,3,1,3,"Bringebær Borgund",null,null,2631003,null,0,0,1,3]
[2,6,3,1,4,"Bringebær Glen Ample",null,null,2631004,null,0,0,1,3]
[2,6,3,1,5,"Bringebær Orion",null,null,2631005,null,0,0,1,3]
[2,6,3,1,6,"Bringebær Preussen",null,null,2631006,null,0,0,1,3]
[2,6,3,1,7,"Bringebær Stiora",null,null,2631007,null,0,0,1,3]
[2,6,3,1,8,"Bringebær Tulameen",null,null,2631008,null,0,0,1,3]
[2,6,3,1,9,"Bringebær Varnes",null,null,2631009,null,0,0,1,3]
[2,6,3,1,10,"Bringebær Vene",null,null,2631010,null,0,0,1,3]
[2,6,3,1,11,"Bringebær Veten",null,null,2631011,null,0,0,1,3]
[2,6,3,1,12,"Bringebær Gr. Bendit",null,null,2631012,null,0,0,1,{"$f":"A1137+1","v":3}]
[2,6,3,1,13,"Bringebær Kwanza",null,null,2631013,null,0,0,1,3]
[2,6,3,1,14,"Bringebær Cevita",null,null,2631014,null,0,0,1,3]
[2,6,3,1,15,"Bringebær Gr Eat Me",null,null,2631015,null,0,0,1,3]
[2,6,3,1,16,"Bringebær Gul",null,null,2631016,null,0,0,1,3]
[2,6,3,1,17,"Bringebær Glen Fyne",null,null,2631017,null,{"$f":"IF(B1142=0,1,0)","v":0},{"$f":"IF(AND(D1142=0,E1142=0),1,0)","v":0},1,{"$f":"A1142+1","v":3}]
[2,6,3,1,999,"Bringebær andre sorter",null,null,2631999,null,0,0,1,3]
[2,6,3,2,0,"Bjørnebær",null,null,2632000,null,0,0,1,3]
[2,6,3,2,1,"Bjørnebær Adrienne",null,null,2632001,null,0,0,1,3]
[2,6,3,2,{"$f":"E1145+1","v":2},"Bjørnebær Bedford Giant",null,null,2632002,null,0,0,1,3]
[2,6,3,2,{"$f":"E1146+1","v":3},"Bjørnebær Douglas",null,null,2632003,null,0,0,1,3]
[2,6,3,2,{"$f":"E1147+1","v":4},"Bjørnebær Kotata",null,null,2632004,null,0,0,1,3]
[2,6,3,2,{"$f":"E1148+1","v":5},"Bjørnebær Loch Ness",null,null,2632005,null,0,0,1,3]
[2,6,3,2,{"$f":"E1149+1","v":6},"Bjørnebær Wilson's Early",null,null,2632006,null,0,0,1,3]
[2,6,3,2,999,"Bjørnebær andre sorter",null,null,2632999,null,0,0,1,3]
[2,6,3,3,0,{"$f":"Produkt!H105","v":"Boysenbær"},null,null,2633000,null,0,0,1,3]
[2,6,4,0,0,{"$f":"Produkt!G106","v":"Blåbær"},null,null,2640000,null,0,1,1,3]
[2,6,4,1,0,"Hageblåbær",null,null,2641000,null,0,0,1,{"$f":"A1154+1","v":3}]
[2,6,4,1,1,"Hageblåbær Blue crop",null,null,2641001,null,0,0,1,3]
[2,6,4,1,{"$f":"E1155+1","v":2},"Hageblåbær Blue ray",null,null,2641002,null,0,0,1,3]
[2,6,4,1,3,"Hageblåbær Bluetta",null,null,2641003,null,0,0,1,3]
[2,6,4,1,4,"Hageblåbær Chippawa",null,null,2641004,null,0,0,1,3]
[2,6,4,1,5,"Hageblåbær Duke",null,null,2641005,null,0,0,1,3]
[2,6,4,1,6,"Hageblåbær Early blue",null,null,2641006,null,0,0,1,3]
[2,6,4,1,7,"Hageblåbær Goldtraube",null,null,2641007,null,0,0,1,3]
[2,6,4,1,8,"Hageblåbær Hardiblue",null,null,2641008,null,0,0,1,3]
[2,6,4,1,9,"Hageblåbær Jersey",null,null,2641009,null,0,0,1,3]
[2,6,4,1,10,"Hageblåbær Northland",null,null,2641010,null,0,0,1,3]
[2,6,4,1,11,"Hageblåbær Patriot",null,null,2641011,null,0,0,1,3]
[2,6,4,1,12,"Hageblåbær Sierra",null,null,2641012,null,0,0,1,3]
[2,6,4,1,13,"Hageblåbær Toro",null,null,2641013,null,{"$f":"IF(B1167=0,1,0)","v":0},{"$f":"IF(AND(D1167=0,E1167=0),1,0)","v":0},1,3]
[2,6,4,1,999,"Hageblåbær andre sorter",null,null,2641999,null,0,0,1,3]
[2,6,4,2,0,{"$f":"Produkt!H108","v":"Skogsblåbær"},null,null,2642000,null,0,0,1,{"$f":"A1169+1","v":3}]
[2,6,5,0,0,{"$f":"Produkt!G109","v":"Molte"},null,null,2650000,null,0,1,1,{"$f":"A1170+1","v":3}]
[2,6,6,0,0,{"$f":"Produkt!G110","v":"Tyttebær"},null,null,{"$f":"VALUE(A1171&B1171&C1171&D1171&IF(LEN(E1171)=1,\"00\"&E1171,IF(LEN(E1171)=2,\"0\"&E1171,E1171)))","v":2660000},null,0,1,1,{"$f":"A1171+1","v":3}]
[2,6,9,0,0,{"$f":"Produkt!G111","v":"Andre arter bær"},null,null,2690000,null,0,1,1,3]
[2,6,9,0,{"$f":"E1172+1","v":1},"Haskap",null,null,{"$f":"VALUE(A1173&B1173&C1173&D1173&IF(LEN(E1173)=1,\"00\"&E1173,IF(LEN(E1173)=2,\"0\"&E1173,E1173)))","v":2690001},null,{"$f":"IF(B1173=0,1,0)","v":0},{"$f":"IF(AND(D1173=0,E1173=0),1,0)","v":0},1,{"$f":"A1173+1","v":3}]
[2,6,9,0,{"$f":"E1173+1","v":2},"Tindved",null,null,{"$f":"VALUE(A1174&B1174&C1174&D1174&IF(LEN(E1174)=1,\"00\"&E1174,IF(LEN(E1174)=2,\"0\"&E1174,E1174)))","v":2690002},null,{"$f":"IF(B1174=0,1,0)","v":0},{"$f":"IF(AND(D1174=0,E1174=0),1,0)","v":0},1,{"$f":"A1174+1","v":3}]
[2,6,9,0,999,"Andre arter bær uspesifisert",null,null,{"$f":"VALUE(A1175&B1175&C1175&D1175&IF(LEN(E1175)=1,\"00\"&E1175,IF(LEN(E1175)=2,\"0\"&E1175,E1175)))","v":2690999},null,{"$f":"IF(B1175=0,1,0)","v":0},{"$f":"IF(AND(D1175=0,E1175=0),1,0)","v":0},1,{"$f":"A1175+1","v":3}]
[2,7,0,0,0,{"$f":"Produkt!F112","v":"Ledig"},null,null,2700000,null,0,1,1,3]
[2,8,0,0,0,{"$f":"Produkt!F113","v":"Blomster og hagebruksvekster"},null,"http://www.obp.no",2800000,null,0,1,1,3]
[2,8,1,0,0,{"$f":"Produkt!G114","v":"Potteplanter"},null,null,2810000,null,0,1,1,3]
[2,8,1,0,1,"Blomstrende stueplanter",null,null,2810001,null,0,0,1,3]
[2,8,1,0,101,"Grønne planter",null,null,2810101,null,0,0,1,3]
[2,8,1,0,201,"Kaktus og sukkulenter",null,null,2810201,null,0,0,1,3]
[2,8,2,0,0,{"$f":"Produkt!G115","v":"Snittblomster"},null,null,2820000,null,0,1,1,3]
[2,8,2,0,1,"Gerbera",null,null,2820001,null,0,0,1,{"$f":"A1183+1","v":3}]
[2,8,2,0,{"$f":"E1183+1","v":2},"Gladiol",null,null,2820002,null,0,0,1,3]
[2,8,2,0,{"$f":"E1184+1","v":3},"Inkalilje/Alstromeria",null,null,2820003,null,0,0,1,3]
[2,8,2,0,4,"Krysanthemum",null,null,2820004,null,0,0,1,3]
[2,8,2,0,5,"Liljer",null,null,2820005,null,0,0,1,3]
[2,8,2,0,6,"Ranunkel",null,null,2820006,null,0,0,1,3]
[2,8,2,0,7,"Roser",null,null,2820007,null,0,0,1,3]
[2,8,2,0,8,"Tulipaner",null,null,2820008,null,0,0,1,3]
[2,8,2,0,9,"Amaryllis",null,null,2820009,null,0,0,1,3]
[2,8,2,0,10,"Cyclamen",null,null,2820010,null,0,0,1,3]
[2,8,3,0,0,{"$f":"Produkt!G116","v":"Sommerblomster"},null,null,2830000,null,0,1,1,3]
[2,8,3,0,1,"Asters",null,null,2830001,null,0,0,1,{"$f":"A1194+1","v":3}]
[2,8,3,0,{"$f":"E1194+1","v":2},"Bacopa",null,null,2830002,null,0,0,1,3]
[2,8,3,0,{"$f":"E1195+1","v":3},"Begonia, flere typer",null,null,2830003,null,0,0,1,3]
[2,8,3,0,4,"Blomkarse",null,null,2830004,null,0,0,1,3]
[2,8,3,0,5,"Fløyelsblomst/Tagetes",null,null,2830005,null,0,0,1,3]
[2,8,3,0,6,"Frilandskrysantemum",null,null,2830006,null,0,0,1,3]
[2,8,3,0,7,"Georgine",null,null,2830007,null,0,0,1,3]
[2,8,3,0,8,"Hanekam /Celosia",null,null,2830008,null,0,0,1,3]
[2,8,3,0,9,"Klokkeblomster, Campanula",null,null,2830009,null,0,0,1,3]
[2,8,3,0,10,"Lobelia",null,null,2830010,null,0,0,1,3]
[2,8,3,0,11,"Margeritt",null,null,2830011,null,0,0,1,3]
[2,8,3,0,12,"Nellik",null,null,2830012,null,0,0,1,3]
[2,8,3,0,13,"Pelargonium",null,null,2830013,null,0,0,1,3]
[2,8,3,0,14,"Petunia og Calibrachoa",null,null,2830014,null,0,0,1,3]
[2,8,3,0,15,"Planter med dekorative blader",null,null,2830015,null,0,0,1,3]
[2,8,3,0,16,"Praktspragle",null,null,2830016,null,0,0,1,3]
[2,8,3,0,17,"Prydkløver",null,null,2830017,null,0,0,1,3]
[2,8,3,0,18,"Salvie",null,null,2830018,null,0,0,1,3]
[2,8,3,0,19,"Spanske margritter",null,null,2830019,null,0,0,1,3]
[2,8,3,0,20,"Stemorsblomst",null,null,2830020,null,0,0,1,3]
[2,8,3,0,21,"Verbena",null,null,2830021,null,0,0,1,3]
[2,8,4,0,0,{"$f":"Produkt!G117","v":"Stauder"},null,null,2840000,null,0,1,1,3]
[2,8,5,0,0,{"$f":"Produkt!G118","v":"Hagebusker"},null,null,2850000,null,0,1,1,3]
[2,8,6,0,0,{"$f":"Produkt!G119","v":"Hagetrær"},null,null,2860000,null,0,1,1,3]
[3,0,0,0,0,{"$f":"Produkt!E120","v":"Husdyrprodukter"},null,null,3000000,null,1,1,1,{"$f":"A1218+1","v":4}]
[3,1,0,0,0,{"$f":"Produkt!F121","v":"Melk"},null,"Ingen detaljer per i dag",3100000,null,0,1,1,4]
[3,2,0,0,0,{"$f":"Produkt!F126","v":"Egg"},null,"Ingen detaljer per i dag",3200000,null,0,1,1,4]
[3,3,0,0,0,{"$f":"Produkt!F131","v":"Bier/Insekter"},null,"Ingen detaljer per i dag",3300000,null,0,1,1,4]
[3,4,0,0,0,{"$f":"Produkt!F135","v":"Ull, huder og skinn (jordbruk)"},null,"Ingen detaljer per i dag",3400000,null,0,1,1,4]
[3,5,0,0,0,{"$f":"Produkt!F143","v":"Pelsdyrskinn"},null,null,3500000,null,0,1,1,{"$f":"A1223+1","v":4}]
[3,9,0,0,0,{"$f":"Produkt!F153","v":"Andre husdyrprodukter"},null,"Ingen detaljer per i dag",3900000,null,0,1,1,4]
[4,0,0,0,0,{"$f":"Produkt!E154","v":"Husdyr, slakt og skrotter"},null,null,4000000,null,1,1,1,{"$f":"A1225+1","v":5}]
[5,0,0,0,0,{"$f":"Produkt!E198","v":"Husdyr, livdyr, fôringsdyr, produksjonsdyr og balanse"},null,null,5000000,null,1,1,1,6]
[5,1,0,0,0,"Storfe, gris, sau og geit",null,null,5100000,null,0,1,1,6]
[5,1,1,0,0,"Avlsdyr",null,"Med og uten stamtavle, se kvalitet",5110000,null,0,1,1,{"$f":"A1228+1","v":6}]
[5,1,1,0,1,"Voksne",null,"Okse, ku, vær osv.",5110001,null,0,0,1,6]
[5,1,1,0,{"$f":"E1229+1","v":2},"Voksne bedekte/drektige",null,"Ku/Sau/Purke",5110002,null,0,0,1,6]
[5,1,1,0,{"$f":"E1230+1","v":3},"Ungdyr",null,null,5110003,null,0,0,1,6]
[5,1,1,0,{"$f":"E1231+1","v":4},"Ungdyr bedekte/drektige",null,null,5110004,null,0,0,1,{"$f":"A1232+1","v":6}]
[5,1,2,0,0,"Fôringsdyr",null,null,5120000,null,0,1,1,6]
[5,1,2,0,1,"Vektklasse 1",null,"Storfe, 0 - 64 kg",5120001,null,{"$f":"IF(B1234=0,1,0)","v":0},{"$f":"IF(AND(D1234=0,E1234=0),1,0)","v":0},1,6]
[5,1,2,0,{"$f":"E1234+1","v":2},"Vektklasse 2",null,"Storfe, 65 - 119 kg",5120002,null,0,0,1,6]
[5,1,2,0,{"$f":"E1235+1","v":3},"Vektklasse 3",null,"Storfe, over 120 kg",5120003,null,0,0,1,6]
[5,1,3,0,0,"Produksjonsdyr",null,null,5130000,null,0,1,1,6]
[5,1,3,0,1,"Kjøtt",null,null,5130001,null,0,0,1,6]
[5,1,3,0,{"$f":"E1238+1","v":2},"Melk",null,null,5130002,null,0,0,1,6]
[5,1,3,0,{"$f":"E1239+1","v":3},"Ull/Pels",null,null,{"$f":"VALUE(A1240&B1240&C1240&D1240&IF(LEN(E1240)=1,\"00\"&E1240,IF(LEN(E1240)=2,\"0\"&E1240,E1240)))","v":5130003},null,0,0,1,6]
[5,4,0,0,0,{"$f":"Produkt!F247","v":"Fjørfe, livdyr"},null,null,5400000,null,0,1,1,6]
[5,5,0,0,0,{"$f":"Produkt!F267","v":"Hest og hund, livdyr"},null,null,5500000,null,0,1,1,6]
[5,5,1,0,0,{"$f":"Produkt!G268","v":"Dølahest, livdyr"},null,null,5510000,null,0,1,1,6]
[5,5,1,0,1,"Travhest",null,null,5510001,null,0,0,1,6]
[5,5,1,0,{"$f":"E1244+1","v":2},"Brukshest",null,"Som oftest i skogbruk, men også i økol.produksjon",5510002,null,0,0,1,6]
[5,5,1,0,{"$f":"E1245+1","v":3},"Ridehest",null,null,5510003,null,0,0,1,6]
[5,5,1,0,{"$f":"E1246+1","v":4},"Galopphest",null,null,5510004,null,0,0,1,6]
[5,6,0,0,0,{"$f":"Produkt!F282","v":"Pelsdyr, livdyr"},null,null,5600000,null,0,1,1,6]
[5,7,0,0,0,{"$f":"Produkt!F291","v":"Andre dyr, livdyr"},null,null,5700000,null,0,1,1,6]
[6,0,0,0,0,{"$f":"Produkt!E304","v":"Skogbruk og andre næringer"},null,null,6000000,null,1,1,1,7]
[6,1,0,0,0,{"$f":"Produkt!F305","v":"Skogbruk"},null,null,6100000,null,0,1,1,7]
[6,1,1,0,0,"Gran",null,null,6110000,null,0,1,1,7]
[6,1,1,0,1,"Vanlig gran",null,null,6110001,null,0,0,1,7]
[6,1,1,0,{"$f":"E1253+1","v":2},"Sitkagran",null,null,6110002,null,0,0,1,7]
[6,1,1,0,{"$f":"E1254+1","v":3},"Kvitgran",null,null,6110003,null,0,0,1,{"$f":"A1255+1","v":7}]
[6,1,1,0,{"$f":"E1255+1","v":4},"Lutzigran",null,"Krysning sitkagran og kvitgran",6110004,null,0,0,1,7]
[6,1,1,0,999,"Andre granarter",null,null,6110999,null,0,0,1,{"$f":"A1257+1","v":7}]
[6,1,2,0,0,"Furu",null,null,6120000,null,0,1,1,7]
[6,1,2,0,1,"Vanlig furu",null,null,6120001,null,0,0,1,7]
[6,1,2,0,{"$f":"E1259+1","v":2},"Contortafuru",null,null,6120002,null,0,0,1,{"$f":"A1260+1","v":7}]
[6,1,2,0,999,"Andre furuarter",null,null,6120999,null,0,0,1,{"$f":"A1261+1","v":7}]
[6,1,3,0,0,"Andre bartre",null,null,6130000,null,0,1,1,7]
[6,1,3,0,1,"Edelgran",null,null,6130001,null,0,0,1,7]
[6,1,3,0,{"$f":"E1263+1","v":2},"Sibirsk lerk",null,null,6130002,null,0,0,1,{"$f":"A1264+1","v":7}]
[6,1,3,0,{"$f":"E1264+1","v":3},"Hemlock",null,null,6130003,null,0,0,1,7]
[6,1,3,0,{"$f":"E1265+1","v":4},"Douglas",null,null,6130004,null,0,0,1,{"$f":"A1266+1","v":7}]
[6,1,3,0,{"$f":"E1266+1","v":5},"Eukalyptus",null,null,6130005,null,0,0,1,7]
[6,1,3,0,999,"Andre bartrearter",null,null,6130999,null,0,0,1,{"$f":"A1268+1","v":7}]
[6,1,4,0,0,"Lauvtre",null,null,6140000,null,0,1,1,7]
[6,1,4,0,1,"Alm",null,null,6140001,null,0,0,1,7]
[6,1,4,0,{"$f":"E1270+1","v":2},"Ask",null,null,6140002,null,0,0,1,7]
[6,1,4,0,{"$f":"E1271+1","v":3},"Bjørk",null,null,6140003,null,0,0,1,7]
[6,1,4,0,4,"Bøk",null,null,6140004,null,0,0,1,7]
[6,1,4,0,5,"Eik",null,null,6140005,null,0,0,1,7]
[6,1,4,0,6,"Lind",null,null,6140006,null,0,0,1,7]
[6,1,4,0,7,"Lønn",null,null,6140007,null,0,0,1,7]
[6,1,4,0,8,"Or",null,null,6140008,null,0,0,1,7]
[6,1,4,0,9,"Osp",null,null,6140009,null,0,0,1,7]
[6,1,4,0,10,"Selje",null,null,6140010,null,0,0,1,7]
[6,1,4,0,11,"Svartor",null,null,6140011,null,0,0,1,7]
[6,1,4,0,999,"Andre lauvtrearter",null,null,6140999,null,0,0,1,{"$f":"A1281+1","v":7}]
[6,1,6,0,0,{"$f":"Produkt!G336","v":"Rotsalg og blandingsvirke"},null,null,6160000,null,0,1,1,7]
[6,1,6,1,0,{"$f":"Produkt!H337","v":"Rotsalg"},null,null,6161000,null,0,0,1,7]
[6,1,6,1,1,"Rotsalg granbestand",null,null,6161001,null,0,0,1,7]
[6,1,6,1,{"$f":"E1284+1","v":2},"Rotsalg furubestand",null,null,6161002,null,0,0,1,7]
[6,1,6,1,{"$f":"E1285+1","v":3},"Rotsalg blandingsskog",null,null,6161003,null,0,0,1,7]
[6,1,7,0,0,{"$f":"Produkt!G338","v":"Flis, ved og biovirke (bearbeidet produkt)"},null,null,6170000,null,0,1,1,7]
[6,1,7,0,1,"GROT",null,"Greiner og topp",6170001,null,0,0,1,{"$f":"A1288+1","v":7}]
[6,1,7,0,{"$f":"E1288+1","v":2},"Heltreflis",null,"Bearbeidet",6170002,null,0,0,1,7]
[6,1,7,0,{"$f":"E1289+1","v":3},"Stammevedflis",null,"Bearbeidet",6170003,null,0,0,1,7]
[6,1,7,0,4,"Ved til brensel",null,"Bearbeidet",6170004,null,0,0,1,7]
[6,1,7,0,5,"Bakhon",null,"Bearbeidet",6170005,null,0,0,1,{"$f":"A1292+1","v":7}]
[6,1,7,0,6,"Stubber",null,"Bearbeidet",6170006,null,0,0,1,{"$f":"A1293+1","v":7}]
[6,1,7,0,7,"Sagflis/Kutterspon",null,"Bearbeidet",6170007,null,0,0,1,{"$f":"A1294+1","v":7}]
[6,1,7,0,8,"Bark",null,"Bearbeidet",6170008,null,0,0,1,{"$f":"A1295+1","v":7}]
[6,1,7,0,999,"Annet flis og ved",null,null,6170999,null,0,0,1,7]
[6,1,9,0,0,{"$f":"Produkt!G344","v":"Andre skogprodukter"},null,null,6190000,null,0,1,1,7]
[6,1,9,1,0,{"$f":"Produkt!H345","v":"Pyntegrønt, juletresalg mv"},null,null,6191000,null,{"$f":"IF(B1298=0,1,0)","v":0},{"$f":"IF(AND(D1298=0,E1298=0),1,0)","v":0},1,{"$f":"A1298+1","v":7}]
[6,1,9,1,1,"Juletre",null,null,6191001,null,0,0,1,7]
[6,1,9,1,{"$f":"E1299+1","v":2},"Pyntegrønt",null,"Endret til 6191",6191002,null,0,0,1,7]
[6,1,9,1,999,"Annet",null,null,6191999,null,0,0,1,7]
[6,5,0,0,0,{"$f":"Produkt!F346","v":"Andre næringer (ikke definert)"},null,null,{"$f":"VALUE(A1302&B1302&C1302&D1302&IF(LEN(E1302)=1,\"00\"&E1302,IF(LEN(E1302)=2,\"0\"&E1302,E1302)))","v":6500000},null,0,1,1,7]
[7,0,0,0,0,{"$f":"Produkt!E347","v":"Tilskudd fra/forvaltet av landbruksdirektoratet, annen offentlig etat og finansiering, renter etc."},null,null,7000000,null,1,1,1,8]
[7,1,0,0,0,{"$f":"Produkt!F348","v":"Produksjonstilskudd mv. i jordbruket"},null,null,7100000,null,0,1,1,8]
[7,1,1,0,0,{"$f":"Produkt!G349","v":"Tilskudd til arealer"},null,null,7110000,null,0,1,1,8]
[7,1,1,1,0,{"$f":"Produkt!H350","v":"Arealtilskudd grovfôr"},null,null,7111000,null,0,0,1,8]
[7,1,1,1,210,"Fulldyrka eng",null,null,{"$f":"VALUE(A1307&B1307&C1307&D1307&IF(LEN(E1307)=1,\"00\"&E1307,IF(LEN(E1307)=2,\"0\"&E1307,E1307)))","v":7111210},null,0,0,1,{"$f":"A1307+1","v":8}]
[7,1,1,1,211,"Overflatedyrka eng",null,null,7111211,null,0,0,1,8]
[7,1,1,1,212,"Innmarksbeite",null,null,7111212,null,0,0,1,8]
[7,1,1,1,213,"Andre grovforvekster til fôr",null,null,7111213,null,0,0,1,8]
[7,1,1,1,540,"Fulldyrket og overflatedyrket areal",null,"Innmeldes av kommunen",{"$f":"VALUE(A1311&B1311&C1311&D1311&IF(LEN(E1311)=1,\"00\"&E1311,IF(LEN(E1311)=2,\"0\"&E1311,E1311)))","v":7111540},null,{"$f":"IF(B1311=0,1,0)","v":0},{"$f":"IF(AND(D1311=0,E1311=0),1,0)","v":0},1,{"$f":"A1311+1","v":8}]
[7,1,1,1,541,"Innmarksbeite",null,"Innmeldes av kommunen",{"$f":"VALUE(A1312&B1312&C1312&D1312&IF(LEN(E1312)=1,\"00\"&E1312,IF(LEN(E1312)=2,\"0\"&E1312,E1312)))","v":7111541},null,{"$f":"IF(B1312=0,1,0)","v":0},{"$f":"IF(AND(D1312=0,E1312=0),1,0)","v":0},1,{"$f":"A1312+1","v":8}]
[7,1,1,2,0,{"$f":"Produkt!H351","v":"Arealtilskudd korn og annet frø til modning"},null,null,7112000,null,0,0,1,8]
[7,1,1,2,231,"Annet korn og frø som er berettiget tilskudd",null,null,7112231,null,0,0,1,8]
[7,1,1,2,235,"Engfrø og annen såfrøproduksjon",null,null,{"$f":"VALUE(A1315&B1315&C1315&D1315&IF(LEN(E1315)=1,\"00\"&E1315,IF(LEN(E1315)=2,\"0\"&E1315,E1315)))","v":7112235},null,{"$f":"IF(B1315=0,1,0)","v":0},{"$f":"IF(AND(D1315=0,E1315=0),1,0)","v":0},1,{"$f":"A1315+1","v":8}]
[7,1,1,2,236,"Erter, bønner og andre belgvekster til modning",null,null,7112236,null,0,0,1,8]
[7,1,1,2,237,"Oljevekster",null,null,7112237,null,0,0,1,8]
[7,1,1,2,238,"Rug og rughvete høstet inneverende sesong",null,null,7112238,null,0,0,1,8]
[7,1,1,2,239,"Korn til krossing",null,null,7112239,null,0,0,1,8]
[7,1,1,2,240,"Vårhvete",null,null,7112240,null,0,0,1,8]
[7,1,1,2,242,"Bygg",null,null,7112242,null,0,0,1,8]
[7,1,1,2,243,"Havre",null,null,7112243,null,0,0,1,8]
[7,1,1,2,245,"Erter og bønner til konservesindustri (høstet før modning)",null,null,7112245,null,0,0,1,8]
[7,1,1,2,247,"Høsthvete høstet inneværende sesong",null,null,7112247,null,0,0,1,8]
[7,1,1,3,0,{"$f":"Produkt!H352","v":"Arealtilskudd frukt"},null,null,7113000,null,0,0,1,8]
[7,1,1,3,271,"Moreller og kirsebær",null,null,7113271,null,0,0,1,8]
[7,1,1,3,272,"Epler",null,null,7113272,null,0,0,1,8]
[7,1,1,3,273,"Pærer",null,null,7113273,null,0,0,1,8]
[7,1,1,3,274,"Plommer",null,null,7113274,null,0,0,1,8]
[7,1,1,3,283,"Andre fruktarter",null,null,7113283,null,0,0,1,8]
[7,1,1,4,0,{"$f":"Produkt!H353","v":"Arealtilskudd bær"},null,null,7114000,null,0,0,1,8]
[7,1,1,4,280,"Jordbær",null,null,7114280,null,0,0,1,8]
[7,1,1,4,282,"Andre bærarter",null,null,7114282,null,0,0,1,8]
[7,1,1,5,0,{"$f":"Produkt!H354","v":"Arealtilskudd planteskoleareal og blomster"},null,null,7115000,null,0,0,1,8]
[7,1,1,5,285,"Planteskoleareal/blomsterdyrking på friland",null,null,7115285,null,0,0,1,8]
[7,1,1,6,0,{"$f":"Produkt!H355","v":"Arealtilskudd grønnsaker"},null,null,7116000,null,0,0,1,8]
[7,1,1,6,264,"Grønnsaker på friland inkl. matkålrot og urter",null,null,7116264,null,0,0,1,8]
[7,1,1,7,0,{"$f":"Produkt!H356","v":"Arealtilskudd potet"},null,null,7117000,null,0,0,1,8]
[7,1,1,7,230,"Potet",null,null,7117230,null,0,0,1,8]
[7,1,1,8,0,{"$f":"Produkt!H357","v":"Arealtilskudd veksthus og drivbenk"},null,null,7118000,null,0,0,1,8]
[7,1,1,8,250,"Andre veksthus og drivbenker",null,null,7118250,null,0,0,1,8]
[7,1,1,8,251,"Veksthus og drivbenker oppvarma",null,null,7118251,null,0,0,1,8]
[7,1,1,9,0,{"$f":"Produkt!H358","v":"Annet areal i drift"},null,null,7119000,null,0,0,1,8]
[7,1,1,9,223,"Grønngjødsling",null,null,{"$f":"VALUE(A1344&B1344&C1344&D1344&IF(LEN(E1344)=1,\"00\"&E1344,IF(LEN(E1344)=2,\"0\"&E1344,E1344)))","v":7119223},null,{"$f":"IF(B1344=0,1,0)","v":0},{"$f":"IF(AND(D1344=0,E1344=0),1,0)","v":0},1,{"$f":"A1344+1","v":8}]
[7,1,1,9,290,"Brakka areal",null,null,7119290,null,0,0,1,8]
[7,1,1,9,294,"Areal i drift, men ikke berettiget ptoduksjonstilskud",null,null,7119294,null,0,0,1,8]
[7,1,2,1,0,{"$f":"Produkt!H359","v":"Jordbruksareal ute av drift"},null,null,7121000,null,0,0,1,8]
[7,1,2,1,292,"Fulldyrket og/eller overflatedyrket, ute av drift",null,null,7121292,null,0,0,1,8]
[7,1,2,1,293,"Innmarksbeite, ute av drift",null,null,7121293,null,0,0,1,8]
[7,1,2,5,0,{"$f":"Produkt!H360","v":"Kulturlandskapstilskudd"},null,null,7125000,null,0,0,1,8]
[7,1,2,5,210,"Fulldyrka eng",null,null,7125210,null,0,0,1,8]
[7,1,2,5,211,"Overflatedyrka eng",null,null,7125211,null,0,0,1,8]
[7,1,2,5,212,"Innmarksbeite",null,null,7125212,null,0,0,1,8]
[7,1,2,5,213,"Andre grovforvekster til fôr",null,null,7125213,null,0,0,1,8]
[7,1,2,5,223,"Grønngjødsling",null,null,7125223,null,0,0,1,8]
[7,1,2,5,230,"Poteter",null,null,7125230,null,0,0,1,8]
[7,1,2,5,231,"Annet korn og frø som er berettiget tilskudd",null,null,7125231,null,0,0,1,8]
[7,1,2,5,235,"Engfrø og annen såfrøproduksjon",null,null,7125235,null,0,0,1,8]
[7,1,2,5,236,"Erter, bønner og andre belgvekster til modn.",null,null,7125236,null,0,0,1,8]
[7,1,2,5,237,"Oljevekster",null,null,7125237,null,0,0,1,8]
[7,1,2,5,238,"Rug og rughvete høstet inneværende år",null,null,7125238,null,0,0,1,8]
[7,1,2,5,239,"Korn til krossing",null,null,7125239,null,0,0,1,8]
[7,1,2,5,240,"Vårhvete",null,null,7125240,null,0,0,1,8]
[7,1,2,5,242,"Bygg",null,null,7125242,null,0,0,1,8]
[7,1,2,5,243,"Havre",null,null,7125243,null,0,0,1,8]
[7,1,2,5,245,"Erter og bønner til konservesindustri (høstet før modning)",null,null,7125245,null,{"$f":"IF(B1366=0,1,0)","v":0},{"$f":"IF(AND(D1366=0,E1366=0),1,0)","v":0},1,8]
[7,1,2,5,247,"Høsthvete høstet inneværende sesong",null,null,7125247,null,{"$f":"IF(B1367=0,1,0)","v":0},{"$f":"IF(AND(D1367=0,E1367=0),1,0)","v":0},1,8]
[7,1,2,5,250,"Andre veksthus og drivbenker",null,null,7125250,null,0,0,1,8]
[7,1,2,5,251,"Veksthus og drivbenker oppvarma",null,null,7125251,null,0,0,1,8]
[7,1,2,5,264,"Grønnsaker på friland inkl. matkålrot og urter",null,null,7125264,null,0,0,1,8]
[7,1,2,5,271,"Moreller og kirsebær",null,null,7125271,null,0,0,1,8]
[7,1,2,5,272,"Epler",null,null,7125272,null,0,0,1,8]
[7,1,2,5,273,"Pærer",null,null,7125273,null,0,0,1,8]
[7,1,2,5,274,"Plommer",null,null,7125274,null,0,0,1,8]
[7,1,2,5,280,"Jordbær",null,null,7125280,null,0,0,1,8]
[7,1,2,5,282,"Andre bærarter",null,null,7125282,null,0,0,1,8]
[7,1,2,5,283,"Andre fruktarter",null,null,7125283,null,0,0,1,8]
[7,1,2,5,285,"Planteskoleareal/blomsterdyrking på friland",null,null,{"$f":"VALUE(A1378&B1378&C1378&D1378&IF(LEN(E1378)=1,\"00\"&E1378,IF(LEN(E1378)=2,\"0\"&E1378,E1378)))","v":7125285},null,0,0,1,8]
[7,1,2,6,0,{"$f":"Produkt!H361","v":"Arealtilskudd til økologisk landbruk"},null,null,7126000,null,0,0,1,8]
[7,1,2,6,852,"Grønngjødsling, 2. års karens",null,null,7126852,null,0,0,1,8]
[7,1,2,6,853,"Karensareal 3. år, frukt og bær",null,"Ikke i bruk",7126853,null,0,0,1,8]
[7,1,2,6,855,"Korn til modnig og krossing, økologisk samt 2. års karens",null,null,7126855,null,0,0,1,8]
[7,1,2,6,861,"Poteter, økologisk areal samt 2.års karens",null,null,7126861,null,0,0,1,8]
[7,1,2,6,862,"Arealtilskudd, grønnsaker og bær",null,"Ikke i bruk",7126862,null,0,0,1,8]
[7,1,2,6,863,"Frukt og bær, økologisk areal samt 2. og 3. års karens",null,null,7126863,null,0,0,1,8]
[7,1,2,6,864,"Grønnsaker, økologisk areal samt 2. års karens",null,null,7126864,null,0,0,1,8]
[7,1,2,6,870,"Grovfôrareal (unntatt innmarksbeite), økologisk areal samt 2. års karens",null,null,7126870,null,0,0,1,8]
[7,1,2,6,871,"Innmarksbeite, kun økologisk areal",null,null,7126871,null,0,0,1,8]
[7,1,2,6,875,"Grønngjødsling, økologisk areal",null,null,7126875,null,0,0,1,8]
[7,1,2,6,876,"Brakket, økologisk areal",null,null,{"$f":"VALUE(A1390&B1390&C1390&D1390&IF(LEN(E1390)=1,\"00\"&E1390,IF(LEN(E1390)=2,\"0\"&E1390,E1390)))","v":7126876},null,{"$f":"IF(B1390=0,1,0)","v":0},{"$f":"IF(AND(D1390=0,E1390=0),1,0)","v":0},1,{"$f":"A1390+1","v":8}]
[7,1,2,6,880,"Innmarksbeite i 1. års karens, økologisk areal",null,"Innmarksbeite i 1. års karens, av areal ført i kode 212",{"$f":"VALUE(A1391&B1391&C1391&D1391&IF(LEN(E1391)=1,\"00\"&E1391,IF(LEN(E1391)=2,\"0\"&E1391,E1391)))","v":7126880},null,{"$f":"IF(B1391=0,1,0)","v":0},{"$f":"IF(AND(D1391=0,E1391=0),1,0)","v":0},1,{"$f":"A1391+1","v":8}]
[7,1,2,6,881,"Grovfôrareal (unntatt innmarksbeite) i 1. års karens, økologisk areal",null,"Grovfôrareal i 1. års karens, av areal ført i kode 210, 211, 213",{"$f":"VALUE(A1392&B1392&C1392&D1392&IF(LEN(E1392)=1,\"00\"&E1392,IF(LEN(E1392)=2,\"0\"&E1392,E1392)))","v":7126881},null,{"$f":"IF(B1392=0,1,0)","v":0},{"$f":"IF(AND(D1392=0,E1392=0),1,0)","v":0},1,{"$f":"A1392+1","v":8}]
[7,1,2,6,882,"Annet areal i 1. års karens, økologisk areal",null,"Alt areal i 1. års karens, unntatt grovfôrareal (som skal føres opp i kode 880 og 881)",{"$f":"VALUE(A1393&B1393&C1393&D1393&IF(LEN(E1393)=1,\"00\"&E1393,IF(LEN(E1393)=2,\"0\"&E1393,E1393)))","v":7126882},null,{"$f":"IF(B1393=0,1,0)","v":0},{"$f":"IF(AND(D1393=0,E1393=0),1,0)","v":0},1,{"$f":"A1393+1","v":8}]
[7,1,2,7,0,{"$f":"Produkt!H362","v":"Omleggingstilskudd (økologisk)"},null,null,7127000,null,0,0,1,8]
[7,1,2,7,850,"Omleggingstilskudd 1. år",null,"Ikke i bruk",7127850,null,0,0,1,8]
[7,1,2,7,851,"Omleggingstilskudd 2. og 3 år",null,"Ikke i bruk",7127851,null,0,0,1,8]
[7,1,2,7,852,"Omleggingstilskudd 2 år, grønngjødsling",null,"Ikke i bruk",7127852,null,0,0,1,8]
[7,1,3,0,0,{"$f":"Produkt!G363","v":"Tilskudd til husdyrproduksjon"},null,null,7130000,null,0,1,1,8]
[7,1,3,1,0,{"$f":"Produkt!H364","v":"Tilskudd til husdyr"},null,null,7131000,null,0,0,1,8]
[7,1,3,1,{"$f":"E1399+1","v":1},"Tilskudd til ammeku",null,null,7131001,null,{"$f":"IF(B1400=0,1,0)","v":0},{"$f":"IF(AND(D1400=0,E1400=0),1,0)","v":0},1,{"$f":"A1400+1","v":8}]
[7,1,3,1,{"$f":"E1400+1","v":2},"Tilskudd til Avlsgris",null,null,7131002,null,0,0,1,8]
[7,1,3,1,3,"Bikube",null,null,7131003,null,0,0,1,8]
[7,1,3,1,4,"Hjort (alle)",null,null,7131004,null,0,0,1,8]
[7,1,3,1,5,"Tilskudd til melkegeit/melkesau",null,null,7131005,null,0,0,1,8]
[7,1,3,1,6,"Tilskudd til melkeku",null,null,7131006,null,0,0,1,8]
[7,1,3,1,7,"Tilskudd til sau/ammegeit",null,null,7131007,null,0,0,1,8]
[7,1,3,1,8,"Slaktegris med slaktevekt på minst 34 kg, slaktet i løpet av året",null,null,7131008,null,0,0,1,8]
[7,1,3,1,9,"Verpehøner og avlsdyr av ender, kalkuner og gjess",null,null,7131009,null,0,0,1,8]
[7,1,3,1,10,"Øvrig storfe",null,null,7131010,null,0,0,1,8]
[7,1,3,1,11,"Hest (alle)",null,null,7131011,null,{"$f":"IF(B1410=0,1,0)","v":0},{"$f":"IF(AND(D1410=0,E1410=0),1,0)","v":0},1,{"$f":"A1410+1","v":8}]
[7,1,3,1,12,"Bukker og ungdyr geit",null,null,7131012,null,0,0,1,8]
[7,1,3,1,13,"Smågris",null,null,7131013,null,0,0,1,8]
[7,1,3,1,14,"Slaktegris",null,null,7131014,null,0,0,1,8]
[7,1,3,1,15,"Minktisper",null,null,7131015,null,0,0,1,8]
[7,1,3,1,16,"Revetisper",null,null,7131016,null,0,0,1,8]
[7,1,3,1,17,"Livkylling",null,null,7131017,null,0,0,1,8]
[7,1,3,1,18,"Kaniner",null,null,7131018,null,0,0,1,8]
[7,1,3,1,19,"Slaktekylling",null,null,7131019,null,0,0,1,8]
[7,1,3,1,20,"Gås, kalkun og and",null,null,7131020,null,{"$f":"IF(B1419=0,1,0)","v":0},{"$f":"IF(AND(D1419=0,E1419=0),1,0)","v":0},1,{"$f":"A1419+1","v":8}]
[7,1,3,1,21,"Andre dyreslag",null,null,7131021,null,0,0,1,8]
[7,1,3,1,115,"Hester under 3 år",null,null,7131115,null,0,0,1,8]
[7,1,3,1,116,"Hester 3 år og eldre",null,null,7131116,null,0,0,1,8]
[7,1,3,1,117,"- herav avkom av kyr av minst 50% kjøttferase",null,"Ikke i bruk",7131117,null,0,0,1,8]
[7,1,3,1,118,"Ammekyr av minst 50% kjøttferase",null,null,7131118,null,0,0,1,8]
[7,1,3,1,119,"Øvrige storfe",null,null,7131119,null,0,0,1,8]
[7,1,3,1,120,"Mjølkekyr",null,null,7131120,null,0,0,1,8]
[7,1,3,1,121,"Ammekyr for spesialisert kjøttprod.",null,null,7131121,null,0,0,1,8]
[7,1,3,1,133,"Utegående sau",null,"Ikke i bruk",7131133,null,0,0,1,8]
[7,1,3,1,136,"Lam under 1 år",null,"Ikke i bruk",7131136,null,0,0,1,8]
[7,1,3,1,137,"Voksne sauer over ett år",null,"Ikke i bruk",7131137,null,0,0,1,8]
[7,1,3,1,138,"Lam født i år",null,"Ikke i bruk",7131138,null,0,0,1,8]
[7,1,3,1,139,"Melkesau",null,null,7131139,null,0,0,1,8]
[7,1,3,1,140,"Mjølkegeiter",null,null,7131140,null,0,0,1,8]
[7,1,3,1,142,"Ammegeiter for spesialisert kjøttpr.",null,null,7131142,null,0,0,1,8]
[7,1,3,1,144,"Bukker og ungdyr, medregnet kje",null,null,7131144,null,0,0,1,8]
[7,1,3,1,145,"Søyer født i fjor eller tidligere",null,null,7131145,null,0,0,1,8]
[7,1,3,1,146,"Værer født i fjor eller tidligere",null,null,7131146,null,0,0,1,8]
[7,1,3,1,154,"Smågriser, levendevekt under 20 kg eller alder inntil 8 uker",null,null,7131154,null,0,0,1,8]
[7,1,3,1,155,"Avlspurker (purker m/minst 1 kull)",null,null,7131155,null,0,0,1,8]
[7,1,3,1,156,"Avlsråner (råner som er satt inn i avlen)",null,null,7131156,null,0,0,1,8]
[7,1,3,1,157,"Slaktegriser, levendevekt minst 20 kg. Griser påsatt til avlsdyr, levendevekt 20-50 kg",null,null,7131157,null,{"$f":"IF(B1441=0,1,0)","v":0},{"$f":"IF(AND(D1441=0,E1441=0),1,0)","v":0},1,{"$f":"A1441+1","v":8}]
[7,1,3,1,158,"Ungpurker for avl",null,null,7131158,null,0,0,1,8]
[7,1,3,1,159,"Ungråner for avl",null,null,7131159,null,0,0,1,8]
[7,1,3,1,160,"Verpehøner over 20 uker",null,null,7131160,null,0,0,1,8]
[7,1,3,1,161,"Verpehøner og avlsdyr av ender, kalkuner og gjess",null,null,{"$f":"VALUE(A1445&B1445&C1445&D1445&IF(LEN(E1445)=1,\"00\"&E1445,IF(LEN(E1445)=2,\"0\"&E1445,E1445)))","v":7131161},null,{"$f":"IF(B1445=0,1,0)","v":0},{"$f":"IF(AND(D1445=0,E1445=0),1,0)","v":0},1,{"$f":"A1445+1","v":8}]
[7,1,3,1,162,"Rugegg levert til rugeri (Tilskudd for husdyr)",null,null,{"$f":"VALUE(A1446&B1446&C1446&D1446&IF(LEN(E1446)=1,\"00\"&E1446,IF(LEN(E1446)=2,\"0\"&E1446,E1446)))","v":7131162},null,{"$f":"IF(B1446=0,1,0)","v":0},{"$f":"IF(AND(D1446=0,E1446=0),1,0)","v":0},1,{"$f":"A1446+1","v":8}]
[7,1,3,1,168,"Avlsdyr av ender, kalkuner og gjess",null,null,7131168,null,0,0,1,8]
[7,1,3,1,170,"Minktisper",null,null,7131170,null,0,0,1,8]
[7,1,3,1,171,"Revetisper",null,null,7131171,null,0,0,1,8]
[7,1,3,1,174,"Ender, kalkuner og gjess for slakt",null,null,7131174,null,0,0,1,8]
[7,1,3,1,175,"Livkyllinger, påsett til verpehøns",null,null,7131175,null,0,0,1,8]
[7,1,3,1,176,"Slaktekyllinger",null,null,7131176,null,0,0,1,8]
[7,1,3,1,178,"Hjort, ett år og eldre",null,null,7131178,null,0,0,1,8]
[7,1,3,1,179,"Hjort under 1 år",null,null,7131179,null,0,0,1,8]
[7,1,3,1,180,"Kaniner, hunndyr som har hatt minst ett kull",null,null,7131180,null,0,0,1,8]
[7,1,3,1,181,"Griser solgt som livdyr, vekt minst 50 kg",null,null,7131181,null,0,0,1,8]
[7,1,3,1,183,"Struts",null,null,7131183,null,0,0,1,8]
[7,1,3,1,184,"Slaktegris, levendevekt minst 50 kg",null,null,7131184,null,0,0,1,8]
[7,1,3,1,185,"Livkyllinger",null,null,7131185,null,0,0,1,8]
[7,1,3,1,186,"Kyllinger slakta inneværende år",null,null,7131186,null,0,0,1,8]
[7,1,3,1,187,"Ender slakta inneværende år",null,null,7131187,null,0,0,1,8]
[7,1,3,1,188,"Kalkuner slakta inneværende år",null,null,7131188,null,{"$f":"IF(B1462=0,1,0)","v":0},{"$f":"IF(AND(D1462=0,E1462=0),1,0)","v":0},1,8]
[7,1,3,1,189,"Gjess slakta inneværende år",null,null,7131189,null,0,0,1,8]
[7,1,3,1,192,"Esel",null,null,7131192,null,0,0,1,8]
[7,1,3,1,193,"Hester i pens. i beitesesongen",null,null,7131193,null,0,0,1,8]
[7,1,3,1,194,"Bikuber i produksjon",null,null,7131194,null,0,0,1,8]
[7,1,3,1,196,"Lama",null,null,7131196,null,0,0,1,8]
[7,1,3,1,197,"Alpakka",null,null,7131197,null,0,0,1,8]
[7,1,3,2,0,{"$f":"Produkt!H365","v":"Tilskudd til dyr på beite"},null,null,{"$f":"VALUE(A1469&B1469&C1469&D1469&IF(LEN(E1469)=1,\"00\"&E1469,IF(LEN(E1469)=2,\"0\"&E1469,E1469)))","v":7132000},null,0,0,1,8]
[7,1,3,2,{"$f":"E1469+1","v":1},"Beite, Storfe, hjort, hest og lama",null,null,7132001,null,{"$f":"IF(B1470=0,1,0)","v":0},{"$f":"IF(AND(D1470=0,E1470=0),1,0)","v":0},1,{"$f":"A1470+1","v":8}]
[7,1,3,2,{"$f":"E1470+1","v":2},"Beite, Sau, lam, geit, kje og alpakka",null,null,7132002,null,0,0,1,8]
[7,1,3,2,411,"Mjølkekyr og ammekyr på beite i minst 12/16 uker",null,null,7132411,null,0,0,1,8]
[7,1,3,2,422,"Øvrige storfe på beite i minst 12/16 uker",null,null,7132422,null,0,0,1,8]
[7,1,3,2,445,"Geiter, voksne og kje på beite i minst 12/16 uker",null,null,7132445,null,0,0,1,8]
[7,1,3,2,455,"Hester på beite i minst 12/16 uker",null,null,7132455,null,0,0,1,8]
[7,1,3,2,480,"Lama på beite i minst 12/16 uker",null,null,7132480,null,0,0,1,8]
[7,1,3,2,481,"Alpakka på beite i minst 12/16 uker",null,null,7132481,null,0,0,1,8]
[7,1,3,2,486,"Hjort på beite i minst 12/16 uker",null,null,7132486,null,0,0,1,8]
[7,1,3,2,487,"Sauer, født i fjor eller tidligere på beite i minst 12/16 uker",null,null,7132487,null,0,0,1,8]
[7,1,3,2,488,"Lam, født i år på beite i minst 12/16 uker",null,null,7132488,null,0,0,1,8]
[7,1,3,3,0,{"$f":"Produkt!H366","v":"Tilskudd til dyr på utmarksbeite"},null,null,7133000,null,0,0,1,8]
[7,1,3,3,{"$f":"E1481+1","v":1},"Utmarkbeite Storfe og hest",null,null,{"$f":"VALUE(A1482&B1482&C1482&D1482&IF(LEN(E1482)=1,\"00\"&E1482,IF(LEN(E1482)=2,\"0\"&E1482,E1482)))","v":7133001},null,{"$f":"IF(B1482=0,1,0)","v":0},{"$f":"IF(AND(D1482=0,E1482=0),1,0)","v":0},1,{"$f":"A1482+1","v":8}]
[7,1,3,3,{"$f":"E1482+1","v":2},"Utmarkbeite Sau og lam",null,null,7133002,null,0,0,1,8]
[7,1,3,3,3,"Utmarkbeite Geit og kje",null,null,7133003,null,0,0,1,8]
[7,1,3,3,410,"Mjølkekyr og ammekyr på utmarksbeite",null,null,7133410,null,0,0,1,8]
[7,1,3,3,420,"Øvrige storfe på utmarksbeite",null,null,7133420,null,0,0,1,8]
[7,1,3,3,431,"Sauer, født i fjor eller tidligere, sanket på utmarksbeite",null,null,7133431,null,0,0,1,8]
[7,1,3,3,432,"Lam født i år, sanket på utmarksbeite",null,null,7133432,null,0,0,1,8]
[7,1,3,3,440,"Geiter, voksne og kje på utmarksbeite",null,null,7133440,null,0,0,1,8]
[7,1,3,3,450,"Hester på utmarksbeite",null,null,7133450,null,{"$f":"IF(B1490=0,1,0)","v":0},{"$f":"IF(AND(D1490=0,E1490=0),1,0)","v":0},1,{"$f":"A1490+1","v":8}]
[7,1,3,4,0,{"$f":"Produkt!H367","v":"Tilskudd til økologisk husdyrproduksjon"},null,null,7134000,null,0,0,1,8]
[7,1,3,4,{"$f":"E1491+1","v":1},"Økologiske melkekyr",null,null,{"$f":"VALUE(A1492&B1492&C1492&D1492&IF(LEN(E1492)=1,\"00\"&E1492,IF(LEN(E1492)=2,\"0\"&E1492,E1492)))","v":7134001},null,{"$f":"IF(B1492=0,1,0)","v":0},{"$f":"IF(AND(D1492=0,E1492=0),1,0)","v":0},1,{"$f":"A1492+1","v":8}]
[7,1,3,4,{"$f":"E1492+1","v":2},"Økologiske ammeku",null,null,7134002,null,0,0,1,8]
[7,1,3,4,3,"Økologiske øvrige storfe",null,null,7134003,null,0,0,1,8]
[7,1,3,4,4,"Økologiske melkegeiter",null,null,7134004,null,0,0,1,8]
[7,1,3,4,5,"Økologiske ammegeit",null,null,7134005,null,0,0,1,8]
[7,1,3,4,6,"Økologisk sau",null,null,7134006,null,0,0,1,8]
[7,1,3,4,7,"Økologisk avlsgris",null,null,7134007,null,0,0,1,8]
[7,1,3,4,8,"Økologiske verpehøner",null,null,7134008,null,{"$f":"IF(B1499=0,1,0)","v":0},{"$f":"IF(AND(D1499=0,E1499=0),1,0)","v":0},1,{"$f":"A1499+1","v":8}]
[7,1,3,4,9,"Økologisk slaktegris",null,null,7134009,null,0,0,1,8]
[7,1,3,4,801,"Økologiske melkekyr og melkekyr i karens, ført opp i kode 120",null,null,7134801,null,0,0,1,8]
[7,1,3,4,802,"Økologiske ammekyr og ammekyr i karens, ført opp i kode 121",null,null,7134802,null,0,0,1,8]
[7,1,3,4,803,"Økologiske øvrige storfe",null,null,7134803,null,0,0,1,8]
[7,1,3,4,810,"Økologiske melkegeiter",null,null,7134810,null,0,0,1,8]
[7,1,3,4,811,"Økologiske ammegeiter",null,null,7134811,null,{"$f":"IF(B1505=0,1,0)","v":0},{"$f":"IF(AND(D1505=0,E1505=0),1,0)","v":0},1,{"$f":"A1505+1","v":8}]
[7,1,3,4,821,"Økologiske sauer født i fjor eller tidligere",null,null,7134821,null,0,0,1,8]
[7,1,3,4,822,"Lam slakta 2013, kvalitet 0 eller bedre",null,"Ikke i bruk",7134822,null,0,0,1,8]
[7,1,3,4,823,"Lam slakta 2013, ikke klassifisør",null,"Ikke i bruk",7134823,null,0,0,1,8]
[7,1,3,4,830,"Økoligiske avlsgriser",null,null,7134830,null,0,0,1,8]
[7,1,3,4,831,"Økologisk slaktegris, levendevekt minst 50 kg",null,"Tatt inn på nytt",7134831,null,0,0,1,8]
[7,1,3,4,832,"Slaktegriser, griser påsatt til avlsdyr",null,"Ikke i bruk",7134832,null,0,0,1,8]
[7,1,3,4,833,"Griser solgt som livdyr, vekt minst 50 kg (økologisk)",null,"Ikke i bruk",7134833,null,0,0,1,8]
[7,1,3,4,840,"Kyllinger slakta i året (økologisk)",null,"Ikke i bruk",7134840,null,0,0,1,8]
[7,1,3,4,841,"Økologiske verpehøner",null,null,7134841,null,0,0,1,8]
[7,1,3,5,0,{"$f":"Produkt!H368","v":"Tilskudd til bevaringsverdige husdyrraser"},null,null,7135000,null,0,0,1,8]
[7,1,3,5,{"$f":"E1515+1","v":1},"Bevaringsverdige storferasar",null,null,{"$f":"VALUE(A1516&B1516&C1516&D1516&IF(LEN(E1516)=1,\"00\"&E1516,IF(LEN(E1516)=2,\"0\"&E1516,E1516)))","v":7135001},null,{"$f":"IF(B1516=0,1,0)","v":0},{"$f":"IF(AND(D1516=0,E1516=0),1,0)","v":0},1,{"$f":"A1516+1","v":8}]
[7,1,3,5,{"$f":"E1516+1","v":2},"Bevaringsverdige småferasar - sau",null,null,7135002,null,0,0,1,8]
[7,1,3,5,3,"Bevaringsverdige småferasar - ammegeit",null,null,7135003,null,0,0,1,8]
[7,1,3,5,4,"Bevaringsverdige hesterasar - unghest under 3 år",null,null,7135004,null,0,0,1,8]
[7,1,3,5,720,"Kyr av bevaringsverdig rase",null,null,7135720,null,0,0,1,8]
[7,1,3,5,721,"Okser av bevaringsverdig rase",null,null,7135721,null,0,0,1,8]
[7,1,3,5,722,"Søyer av bevaringsverdig rase, født i fjor eller tidligere",null,null,7135722,null,0,0,1,8]
[7,1,3,5,723,"Værer av bevaringsverdig rase, født i fjor eller tidligere.",null,null,7135723,null,0,0,1,8]
[7,1,3,5,724,"Ammegeit av bevaringsverdig rase",null,null,7135724,null,0,0,1,8]
[7,1,3,5,725,"Unghest under 3 år av bevaringsverdig rase",null,null,7135725,null,0,0,1,8]
[7,1,3,6,0,{"$f":"Produkt!H369","v":"Tilskudd til små og mellomstore melkebruk"},null,null,{"$f":"VALUE(A1526&B1526&C1526&D1526&IF(LEN(E1526)=1,\"00\"&E1526,IF(LEN(E1526)=2,\"0\"&E1526,E1526)))","v":7136000},null,{"$f":"IF(B1526=0,1,0)","v":0},{"$f":"IF(AND(D1526=0,E1526=0),1,0)","v":0},1,{"$f":"A1526+1","v":8}]
[7,1,3,6,{"$f":"E1526+1","v":1},"Tilskot til små og mellomstore mjølkebruk, ku",null,null,{"$f":"VALUE(A1527&B1527&C1527&D1527&IF(LEN(E1527)=1,\"00\"&E1527,IF(LEN(E1527)=2,\"0\"&E1527,E1527)))","v":7136001},null,{"$f":"IF(B1527=0,1,0)","v":0},{"$f":"IF(AND(D1527=0,E1527=0),1,0)","v":0},1,{"$f":"A1527+1","v":8}]
[7,1,3,6,{"$f":"E1527+1","v":2},"Tilskot til små og mellomstore mjølkebruk, geit",null,null,7136002,null,{"$f":"IF(B1528=0,1,0)","v":0},{"$f":"IF(AND(D1528=0,E1528=0),1,0)","v":0},1,{"$f":"A1528+1","v":8}]
[7,1,3,6,120,"Melkekyr",null,null,{"$f":"VALUE(A1529&B1529&C1529&D1529&IF(LEN(E1529)=1,\"00\"&E1529,IF(LEN(E1529)=2,\"0\"&E1529,E1529)))","v":7136120},null,{"$f":"IF(B1529=0,1,0)","v":0},{"$f":"IF(AND(D1529=0,E1529=0),1,0)","v":0},1,{"$f":"A1529+1","v":8}]
[7,1,3,6,140,"Melkegeiter",null,"Finnes dette tilskuddet for geit?",{"$f":"VALUE(A1530&B1530&C1530&D1530&IF(LEN(E1530)=1,\"00\"&E1530,IF(LEN(E1530)=2,\"0\"&E1530,E1530)))","v":7136140},null,{"$f":"IF(B1530=0,1,0)","v":0},{"$f":"IF(AND(D1530=0,E1530=0),1,0)","v":0},1,{"$f":"A1530+1","v":8}]
[7,1,4,1,0,{"$f":"Produkt!H370","v":"Driftstilskudd til melkeproduksjon"},null,null,7141000,null,0,0,1,8]
[7,1,4,1,{"$f":"E1531+1","v":1},"Driftstilskudd til melkeproduksjon ku",null,null,7141001,null,{"$f":"IF(B1532=0,1,0)","v":0},{"$f":"IF(AND(D1532=0,E1532=0),1,0)","v":0},1,{"$f":"A1532+1","v":8}]
[7,1,4,1,{"$f":"E1532+1","v":2},"Driftstilskudd til melkeproduksjon geit",null,null,7141002,null,0,0,1,8]
[7,1,4,1,120,"Driftstilskudd til melkekyr",null,null,7141120,null,0,0,1,8]
[7,1,4,1,140,"Driftstilskudd til melkegeiter",null,null,7141140,null,0,0,1,8]
[7,1,4,2,0,{"$f":"Produkt!H371","v":"Driftstilskudd til spesialisert kjøttfeproduksjon"},null,null,7142000,null,0,0,1,8]
[7,1,4,2,121,"Ammekyr for spesialisert kjøttprod.",null,null,7142121,null,0,0,1,8]
[7,1,4,2,118,"- herav kyr av minst 50% kjøttferase",null,null,7142118,null,0,0,1,8]
[7,1,5,0,0,{"$f":"Produkt!G372","v":"Tilskudd til ull og skinn"},null,null,7150000,null,0,1,1,8]
[7,1,6,0,0,{"$f":"Produkt!G375","v":"Solgt grovfôr"},null,null,7160000,null,0,1,1,8]
[7,1,6,1,0,{"$f":"Produkt!H376","v":"Salg av grovfôr"},null,null,7161000,null,0,0,1,8]
[7,1,6,1,521,"Salg av grovfôr, høy",null,null,7161521,null,{"$f":"IF(B1542=0,1,0)","v":0},{"$f":"IF(AND(D1542=0,E1542=0),1,0)","v":0},1,{"$f":"A1542+1","v":8}]
[7,1,6,1,522,"Salg av grovfôr, surfor",null,null,7161522,null,0,0,1,8]
[7,1,6,1,523,"Salg av grovfôr, høyensilasje",null,null,7161523,null,0,0,1,8]
[7,1,7,0,0,{"$f":"Produkt!G377","v":"Frukt, bær, grønt og potet"},null,null,7170000,null,0,1,1,8]
[7,1,7,1,0,{"$f":"Produkt!H378","v":"Distriktstilskudd til frukt, bær og veksthusgrønnsaker"},null,null,7171000,null,0,0,1,8]
[7,1,7,1,1,"Epler",null,null,7171001,null,0,0,1,8]
[7,1,7,1,2,"Pærer",null,null,7171002,null,0,0,1,8]
[7,1,7,1,3,"Plommer",null,null,7171003,null,0,0,1,8]
[7,1,7,1,4,"Moreller",null,null,7171004,null,0,0,1,8]
[7,1,7,1,5,"Kirsebær",null,null,7171005,null,0,0,1,8]
[7,1,7,1,6,"Epler og pærer til press",null,null,7171006,null,0,0,1,8]
[7,1,7,1,11,"Jordbær",null,null,7171011,null,0,0,1,8]
[7,1,7,1,12,"Bringebær",null,null,7171012,null,0,0,1,8]
[7,1,7,1,13,"Solbær",null,null,7171013,null,0,0,1,8]
[7,1,7,1,14,"Rips",null,null,7171014,null,0,0,1,8]
[7,1,7,1,16,"Hageblåbær",null,null,7171016,null,0,0,1,8]
[7,1,7,1,21,"Stikkelsbær",null,null,7171021,null,0,0,1,8]
[7,1,7,1,{"$f":"E1558+1","v":22},"Industribær",null,null,{"$f":"VALUE(A1559&B1559&C1559&D1559&IF(LEN(E1559)=1,\"00\"&E1559,IF(LEN(E1559)=2,\"0\"&E1559,E1559)))","v":7171022},null,{"$f":"IF(B1559=0,1,0)","v":0},{"$f":"IF(AND(D1559=0,E1559=0),1,0)","v":0},1,{"$f":"A1559+1","v":8}]
[7,1,7,1,31,"Tomat",null,null,7171031,null,0,0,1,8]
[7,1,7,1,32,"Slangeagurk",null,null,7171032,null,0,0,1,8]
[7,1,7,1,33,"Salat (også friland)",null,null,7171033,null,0,0,1,8]
[7,1,7,1,101,"Bær",null,null,{"$f":"VALUE(A1563&B1563&C1563&D1563&IF(LEN(E1563)=1,\"00\"&E1563,IF(LEN(E1563)=2,\"0\"&E1563,E1563)))","v":7171101},null,{"$f":"IF(B1563=0,1,0)","v":0},{"$f":"IF(AND(D1563=0,E1563=0),1,0)","v":0},1,{"$f":"A1563+1","v":8}]
[7,1,7,1,{"$f":"E1563+1","v":102},"Epler, pærer, plommer, kirsebær",null,null,7171102,null,0,0,1,8]
[7,1,7,1,{"$f":"E1564+1","v":103},"Moreller",null,null,7171103,null,0,0,1,8]
[7,1,7,1,104,"Pressfrukt",null,null,7171104,null,0,0,1,8]
[7,1,7,1,105,"Salat",null,null,7171105,null,0,0,1,8]
[7,1,7,1,106,"Slangeagurk",null,null,7171106,null,0,0,1,8]
[7,1,7,1,107,"Tomat",null,null,7171107,null,0,0,1,8]
[7,1,7,2,0,{"$f":"Produkt!H379","v":"Matpotet og grønnsaker, Nord-Norge"},null,null,7172000,null,0,0,1,8]
[7,1,7,2,60,"Poteter",null,null,7172060,null,0,0,1,8]
[7,1,7,2,61,"Grønnsaker (ekskl.salat)",null,null,{"$f":"VALUE(A1572&B1572&C1572&D1572&IF(LEN(E1572)=1,\"00\"&E1572,IF(LEN(E1572)=2,\"0\"&E1572,E1572)))","v":7172061},null,{"$f":"IF(B1572=0,1,0)","v":0},{"$f":"IF(AND(D1572=0,E1572=0),1,0)","v":0},1,{"$f":"A1572+1","v":8}]
[7,1,9,0,0,{"$f":"Produkt!G380","v":"Andre tilskudd/trekk i jordbruket"},null,null,7190000,null,0,1,1,8]
[7,1,9,5,0,{"$f":"Produkt!H381","v":"Bunnfradrag"},null,null,7195000,null,{"$f":"IF(B1574=0,1,0)","v":0},{"$f":"IF(AND(D1574=0,E1574=0),1,0)","v":0},1,{"$f":"A1574+1","v":8}]
[7,1,9,6,0,{"$f":"Produkt!H382","v":"Avkorting"},null,null,7196000,null,0,0,1,8]
[7,1,9,7,0,{"$f":"Produkt!H383","v":"Uspesifiserte trekk"},null,null,7197000,null,0,0,1,8]
[7,2,0,0,0,{"$f":"Produkt!F384","v":"Tilskudd velferdsordninger"},null,null,7200000,null,0,1,1,8]
[7,2,1,0,0,{"$f":"Produkt!G385","v":"Avløsning"},null,null,7210000,null,0,1,1,8]
[7,2,1,1,0,{"$f":"Produkt!H386","v":"Tilskudd til avløsning ved ferie og fritid"},null,null,7211000,null,0,0,1,8]
[7,2,1,1,{"$f":"E1579+1","v":1},"Ammeku",null,null,7211001,null,{"$f":"IF(B1580=0,1,0)","v":0},{"$f":"IF(AND(D1580=0,E1580=0),1,0)","v":0},1,{"$f":"A1580+1","v":8}]
[7,2,1,1,{"$f":"E1580+1","v":2},"Avlsgris",null,null,7211002,null,0,0,1,8]
[7,2,1,1,3,"Avlskanin",null,null,7211003,null,0,0,1,8]
[7,2,1,1,4,"Gås, kalkun og and",null,null,7211004,null,0,0,1,8]
[7,2,1,1,5,"Hest (alle)",null,null,7211005,null,0,0,1,8]
[7,2,1,1,6,"Hjort (alle)",null,null,7211006,null,0,0,1,8]
[7,2,1,1,7,"Kylling og kalkun solgt som livdyr",null,null,7211007,null,0,0,1,8]
[7,2,1,1,8,"Melkegeit og melkesau",null,null,7211008,null,0,0,1,8]
[7,2,1,1,9,"Melkeku",null,null,7211009,null,0,0,1,8]
[7,2,1,1,10,"Minktispe",null,null,7211010,null,0,0,1,8]
[7,2,1,1,11,"Revetispe",null,null,7211011,null,0,0,1,8]
[7,2,1,1,12,"Sau født i fjor eller tidligere og ammegeit",null,null,7211012,null,0,0,1,8]
[7,2,1,1,13,"Slaktegris med slaktevekt på minst 34 kg, slaktet i løpet av året",null,null,7211013,null,0,0,1,8]
[7,2,1,1,14,"Slaktekylling",null,null,7211014,null,0,0,1,8]
[7,2,1,1,15,"Verpehøner og avlsdyr av ender, kalkuner og gjess",null,null,7211015,null,0,0,1,8]
[7,2,1,1,16,"Økologiske slaktekylling",null,null,7211016,null,0,0,1,8]
[7,2,1,1,17,"Øvrige storfe",null,null,7211017,null,0,0,1,8]
[7,2,1,1,18,"Bukker og ungdyr geit",null,null,7211018,null,0,0,1,8]
[7,2,1,1,19,"Sum melkeku og ammeku",null,null,7211019,null,0,0,1,8]
[7,2,1,1,115,"Hester under 3 år",null,null,7211115,null,0,0,1,8]
[7,2,1,1,116,"Hester 3 år og eldre",null,null,7211116,null,0,0,1,8]
[7,2,1,1,118,"Ammekyr av minst 50% kjøttferase",null,null,7211118,null,0,0,1,8]
[7,2,1,1,119,"Øvrige storfe",null,null,7211119,null,0,0,1,8]
[7,2,1,1,120,"Mjølkekyr",null,null,7211120,null,0,0,1,8]
[7,2,1,1,121,"Ammekyr for spesialisert kjøttprod.",null,null,7211121,null,0,0,1,8]
[7,2,1,1,139,"Melkesau",null,null,7211139,null,0,0,1,8]
[7,2,1,1,140,"Mjølkegeiter",null,null,7211140,null,0,0,1,8]
[7,2,1,1,142,"Ammegeiter for spesialisert kjøttpr.",null,null,7211142,null,0,0,1,8]
[7,2,1,1,144,"Bukker og ungdyr, medregnet kje",null,null,7211144,null,0,0,1,8]
[7,2,1,1,145,"Søyer født i fjor eller tidligere",null,null,7211145,null,0,0,1,8]
[7,2,1,1,146,"Værer født i fjor eller tidligere",null,null,7211146,null,0,0,1,8]
[7,2,1,1,155,"Avlspurker (purker m/minst 1 kull)",null,null,7211155,null,0,0,1,8]
[7,2,1,1,156,"Avlsråner (råner som er satt inn i avlen)",null,null,7211156,null,0,0,1,8]
[7,2,1,1,160,"Verpehøner over 20 uker",null,null,7211160,null,0,0,1,8]
[7,2,1,1,161,"Verpehøner og avlsdyr av ender, kalkuner og gjess",null,null,{"$f":"VALUE(A1614&B1614&C1614&D1614&IF(LEN(E1614)=1,\"00\"&E1614,IF(LEN(E1614)=2,\"0\"&E1614,E1614)))","v":7211161},null,{"$f":"IF(B1614=0,1,0)","v":0},{"$f":"IF(AND(D1614=0,E1614=0),1,0)","v":0},1,{"$f":"A1614+1","v":8}]
[7,2,1,1,162,"Rugegg levert til rugeri (Tilskudd for husdyr)",null,null,{"$f":"VALUE(A1615&B1615&C1615&D1615&IF(LEN(E1615)=1,\"00\"&E1615,IF(LEN(E1615)=2,\"0\"&E1615,E1615)))","v":7211162},null,{"$f":"IF(B1615=0,1,0)","v":0},{"$f":"IF(AND(D1615=0,E1615=0),1,0)","v":0},1,{"$f":"A1615+1","v":8}]
[7,2,1,1,168,"Avlsdyr av ender, kalkuner og gjess",null,null,7211168,null,0,0,1,8]
[7,2,1,1,170,"Minktisper",null,null,7211170,null,0,0,1,8]
[7,2,1,1,171,"Revetisper",null,null,7211171,null,0,0,1,8]
[7,2,1,1,174,"Ender, kalkuner og gjess for slakt",null,null,7211174,null,0,0,1,8]
[7,2,1,1,175,"Livkyllinger, påsett til verpehøns",null,null,7211175,null,0,0,1,8]
[7,2,1,1,176,"Slaktekyllinger",null,null,7211176,null,0,0,1,8]
[7,2,1,1,178,"Hjort, ett år og eldre",null,null,7211178,null,0,0,1,8]
[7,2,1,1,179,"Hjort under 1 år",null,null,7211179,null,0,0,1,8]
[7,2,1,1,180,"Kaniner, hunndyr som har hatt minst ett kull",null,null,7211180,null,0,0,1,8]
[7,2,1,1,181,"Griser solgt som livdyr, vekt minst 50 kg",null,null,7211181,null,0,0,1,8]
[7,2,1,1,184,"Slaktegris, levendevekt minst 50 kg",null,null,7211184,null,0,0,1,8]
[7,2,1,1,185,"Livkyllinger",null,null,7211185,null,0,0,1,8]
[7,2,1,1,186,"Kyllinger slakta inneværende år",null,null,7211186,null,0,0,1,8]
[7,2,1,1,187,"Ender slakta inneværende år",null,null,7211187,null,{"$f":"IF(B1629=0,1,0)","v":0},{"$f":"IF(AND(D1629=0,E1629=0),1,0)","v":0},1,8]
[7,2,1,1,188,"Kalkuner slakta inneværende år",null,null,7211188,null,0,0,1,8]
[7,2,1,1,189,"Gjess slakta inneværende år",null,null,7211189,null,0,0,1,8]
[7,2,1,1,840,"Økologiske slaktekylling",null,null,7211840,null,0,0,1,8]
[7,2,1,2,0,{"$f":"Produkt!H387","v":"Avløsning ved sykdom"},null,null,7212000,null,0,0,1,8]
[7,3,0,0,0,{"$f":"Produkt!F388","v":"Miljøtilskudd"},null,null,7300000,null,{"$f":"IF(B1634=0,1,0)","v":0},{"$f":"IF(AND(D1634=0,E1634=0),1,0)","v":1},1,{"$f":"A1634+1","v":8}]
[7,3,1,0,0,{"$f":"Produkt!G389","v":"RMP-tilskudd"},null,null,7310000,null,0,1,1,8]
[7,3,2,0,0,{"$f":"Produkt!G390","v":"Spesielle miljøtiltak"},null,null,7320000,null,0,1,1,8]
[7,3,3,0,0,{"$f":"Produkt!G391","v":"Organisert beitebruk"},null,null,7330000,null,0,1,1,8]
[7,4,0,0,0,{"$f":"Produkt!F392","v":"Tilskudd i skogbruk"},null,null,7400000,null,0,1,1,8]
[7,9,0,0,0,{"$f":"Produkt!F403","v":"Finans"},null,null,7900000,null,0,1,1,8]
[8,0,0,0,0,{"$f":"Produkt!E405","v":"Varer og tjenester knyttet til produksjonene"},null,null,{"$f":"VALUE(A1640&B1640&C1640&D1640&IF(LEN(E1640)=1,\"00\"&E1640,IF(LEN(E1640)=2,\"0\"&E1640,E1640)))","v":8000000},null,1,1,1,9]
[8,1,0,0,0,{"$f":"Produkt!F406","v":"Innsatsvarer i planteproduksjon"},null,null,8100000,null,0,1,1,9]
[8,1,1,0,0,{"$f":"Produkt!G407","v":"Handelsgjødsel og kalk"},null,null,8110000,null,0,1,1,9]
[8,1,1,1,0,{"$f":"Produkt!H408","v":"NPK-gjødsel"},null,null,8111000,null,0,0,1,9]
[8,1,1,1,1,"Fullgjødsel 16-3-18",null,null,{"$f":"VALUE(A1644&B1644&C1644&D1644&IF(LEN(E1644)=1,\"00\"&E1644,IF(LEN(E1644)=2,\"0\"&E1644,E1644)))","v":8111001},null,0,0,1,9]
[8,1,1,1,{"$f":"E1644+1","v":2},"Fullgjødsel 21-4-10",null,null,8111002,null,0,0,1,9]
[8,1,1,1,{"$f":"E1645+1","v":3},"FullgjødselL 22-3-10",null,null,8111003,null,0,0,1,9]
[8,1,1,1,4,"Fullgjødsel 21-3-8",null,null,8111004,null,0,0,1,9]
[8,1,1,1,5,"Fullgjødsel 25-2-6",null,null,8111005,null,0,0,1,{"$f":"A1648+1","v":9}]
[8,1,1,1,6,"NPK 27-3-5",null,null,8111006,null,0,0,1,9]
[8,1,1,1,7,"Fullgjødsel 22-2-12",null,null,8111007,null,0,0,1,9]
[8,1,1,1,8,"Fullgjødsel 18-3-15",null,null,8111008,null,0,0,1,9]
[8,1,1,1,9,"Fullgjødsel 17-5-13",null,null,8111009,null,0,0,1,9]
[8,1,1,1,10,"Fullgjødsel 19-4-12",null,null,8111010,null,0,0,1,9]
[8,1,1,1,11,"Fullgjødsel 6-5-20",null,null,8111011,null,0,0,1,9]
[8,1,1,1,12,"Fullgjødsel 11-5-18",null,null,8111012,null,0,0,1,9]
[8,1,1,1,13,"Fullgjødsel 12-4-18",null,null,8111013,null,0,0,1,9]
[8,1,1,1,14,"Fullgjødsel 15-4-12",null,null,8111014,null,0,0,1,9]
[8,1,1,1,15,"Fullggjødsel 8-5-19",null,null,8111015,null,0,0,1,9]
[8,1,1,1,16,"Helgjødsel 18-1-10",null,null,8111016,null,0,0,1,9]
[8,1,1,1,17,"Helgjødsel 18-1-10 M/Kobolt",null,null,8111017,null,0,0,1,9]
[8,1,1,1,18,"Helgjødsel 18-1-10 M/ Kobolt og kobber",null,null,8111018,null,0,0,1,9]
[8,1,1,1,19,"Helgjødsel 18-1-2",null,null,8111019,null,0,0,1,9]
[8,1,1,1,20,"Helgjødsel 18-1-2 M/4 Kg Kobolt",null,null,8111020,null,0,0,1,9]
[8,1,1,1,21,"Helgjødsel 30-1-1",null,null,8111021,null,0,0,1,9]
[8,1,1,1,22,"Arena start 23-3-10",null,null,8111022,null,0,0,1,{"$f":"A1665+1","v":9}]
[8,1,1,1,23,"Arena høst ekstra 3-3-15",null,null,{"$f":"VALUE(A1666&B1666&C1666&D1666&IF(LEN(E1666)=1,\"00\"&E1666,IF(LEN(E1666)=2,\"0\"&E1666,E1666)))","v":8111023},null,0,0,1,{"$f":"A1666+1","v":9}]
[8,1,1,1,24,"Arena green pluss 12-1-14",null,null,8111024,null,0,0,1,9]
[8,1,1,1,25,"Fullgjødsel 20-4-11",null,null,{"$f":"VALUE(A1668&B1668&C1668&D1668&IF(LEN(E1668)=1,\"00\"&E1668,IF(LEN(E1668)=2,\"0\"&E1668,E1668)))","v":8111025},null,{"$f":"IF(B1668=0,1,0)","v":0},{"$f":"IF(AND(D1668=0,E1668=0),1,0)","v":0},1,{"$f":"A1668+1","v":9}]
[8,1,1,1,26,"Fullgjødsel 21-6-6",null,null,{"$f":"VALUE(A1669&B1669&C1669&D1669&IF(LEN(E1669)=1,\"00\"&E1669,IF(LEN(E1669)=2,\"0\"&E1669,E1669)))","v":8111026},null,{"$f":"IF(B1669=0,1,0)","v":0},{"$f":"IF(AND(D1669=0,E1669=0),1,0)","v":0},1,{"$f":"A1669+1","v":9}]
[8,1,1,1,27,"Helgjødsel med 2 kg kobolt per tonn",null,null,{"$f":"VALUE(A1670&B1670&C1670&D1670&IF(LEN(E1670)=1,\"00\"&E1670,IF(LEN(E1670)=2,\"0\"&E1670,E1670)))","v":8111027},null,{"$f":"IF(B1670=0,1,0)","v":0},{"$f":"IF(AND(D1670=0,E1670=0),1,0)","v":0},1,{"$f":"A1670+1","v":9}]
[8,1,1,1,28,"Helgjødsel 30-1-1 med kobolt",null,null,{"$f":"VALUE(A1671&B1671&C1671&D1671&IF(LEN(E1671)=1,\"00\"&E1671,IF(LEN(E1671)=2,\"0\"&E1671,E1671)))","v":8111028},null,{"$f":"IF(B1671=0,1,0)","v":0},{"$f":"IF(AND(D1671=0,E1671=0),1,0)","v":0},1,{"$f":"A1671+1","v":9}]
[8,1,1,1,29,"Helgjødsel 12-2-10",null,null,{"$f":"VALUE(A1672&B1672&C1672&D1672&IF(LEN(E1672)=1,\"00\"&E1672,IF(LEN(E1672)=2,\"0\"&E1672,E1672)))","v":8111029},null,{"$f":"IF(B1672=0,1,0)","v":0},{"$f":"IF(AND(D1672=0,E1672=0),1,0)","v":0},1,{"$f":"A1672+1","v":9}]
[8,1,1,1,30,"Helgjødsel 12-2-10 med kobber",null,null,{"$f":"VALUE(A1673&B1673&C1673&D1673&IF(LEN(E1673)=1,\"00\"&E1673,IF(LEN(E1673)=2,\"0\"&E1673,E1673)))","v":8111030},null,{"$f":"IF(B1673=0,1,0)","v":0},{"$f":"IF(AND(D1673=0,E1673=0),1,0)","v":0},1,{"$f":"A1673+1","v":9}]
[8,1,1,1,31,"Fullgjødsel 17-5-10",null,"YARA MILA RAPS 17-5-10",{"$f":"VALUE(A1674&B1674&C1674&D1674&IF(LEN(E1674)=1,\"00\"&E1674,IF(LEN(E1674)=2,\"0\"&E1674,E1674)))","v":8111031},null,{"$f":"IF(B1674=0,1,0)","v":0},{"$f":"IF(AND(D1674=0,E1674=0),1,0)","v":0},1,{"$f":"A1674+1","v":9}]
[8,1,1,1,32,"Fullgjødsel 8-10,5-20",null,"Yara Mila Høst 8-10,5-20",{"$f":"VALUE(A1675&B1675&C1675&D1675&IF(LEN(E1675)=1,\"00\"&E1675,IF(LEN(E1675)=2,\"0\"&E1675,E1675)))","v":8111032},null,{"$f":"IF(B1675=0,1,0)","v":0},{"$f":"IF(AND(D1675=0,E1675=0),1,0)","v":0},1,{"$f":"A1675+1","v":9}]
[8,1,1,1,33,"Fullgjødsel  12-2-16",null,null,{"$f":"VALUE(A1676&B1676&C1676&D1676&IF(LEN(E1676)=1,\"00\"&E1676,IF(LEN(E1676)=2,\"0\"&E1676,E1676)))","v":8111033},null,{"$f":"IF(B1676=0,1,0)","v":0},{"$f":"IF(AND(D1676=0,E1676=0),1,0)","v":0},1,{"$f":"A1676+1","v":9}]
[8,1,1,1,34,"Fullgjødsel 18-1-10 m/selen",null,null,{"$f":"VALUE(A1677&B1677&C1677&D1677&IF(LEN(E1677)=1,\"00\"&E1677,IF(LEN(E1677)=2,\"0\"&E1677,E1677)))","v":8111034},null,{"$f":"IF(B1677=0,1,0)","v":0},{"$f":"IF(AND(D1677=0,E1677=0),1,0)","v":0},1,{"$f":"A1677+1","v":9}]
[8,1,1,1,35,"Fullgjødsel 18-1-10 m/magn",null,"Juletre",{"$f":"VALUE(A1678&B1678&C1678&D1678&IF(LEN(E1678)=1,\"00\"&E1678,IF(LEN(E1678)=2,\"0\"&E1678,E1678)))","v":8111035},null,{"$f":"IF(B1678=0,1,0)","v":0},{"$f":"IF(AND(D1678=0,E1678=0),1,0)","v":0},1,{"$f":"A1678+1","v":9}]
[8,1,1,1,36,"Fullgjødsel 18-1-10 m/kobber",null,null,{"$f":"VALUE(A1679&B1679&C1679&D1679&IF(LEN(E1679)=1,\"00\"&E1679,IF(LEN(E1679)=2,\"0\"&E1679,E1679)))","v":8111036},null,{"$f":"IF(B1679=0,1,0)","v":0},{"$f":"IF(AND(D1679=0,E1679=0),1,0)","v":0},1,{"$f":"A1679+1","v":9}]
[8,1,1,1,37,"Fullgjødsel 18-1-10 m/kobolt og selen",null,null,{"$f":"VALUE(A1680&B1680&C1680&D1680&IF(LEN(E1680)=1,\"00\"&E1680,IF(LEN(E1680)=2,\"0\"&E1680,E1680)))","v":8111037},null,{"$f":"IF(B1680=0,1,0)","v":0},{"$f":"IF(AND(D1680=0,E1680=0),1,0)","v":0},1,{"$f":"A1680+1","v":9}]
[8,1,1,1,38,"Fullgjødsel 18-1-2 m/selen",null,null,{"$f":"VALUE(A1681&B1681&C1681&D1681&IF(LEN(E1681)=1,\"00\"&E1681,IF(LEN(E1681)=2,\"0\"&E1681,E1681)))","v":8111038},null,{"$f":"IF(B1681=0,1,0)","v":0},{"$f":"IF(AND(D1681=0,E1681=0),1,0)","v":0},1,{"$f":"A1681+1","v":9}]
[8,1,1,1,39,"Fullgjødsel NPK 15-7-12 (10S)",null,null,{"$f":"VALUE(A1682&B1682&C1682&D1682&IF(LEN(E1682)=1,\"00\"&E1682,IF(LEN(E1682)=2,\"0\"&E1682,E1682)))","v":8111039},null,{"$f":"IF(B1682=0,1,0)","v":0},{"$f":"IF(AND(D1682=0,E1682=0),1,0)","v":0},1,{"$f":"A1682+1","v":9}]
[8,1,1,1,40,"Fullgjødsel Superba Plus NPK 8-3-27",null,null,{"$f":"VALUE(A1683&B1683&C1683&D1683&IF(LEN(E1683)=1,\"00\"&E1683,IF(LEN(E1683)=2,\"0\"&E1683,E1683)))","v":8111040},null,{"$f":"IF(B1683=0,1,0)","v":0},{"$f":"IF(AND(D1683=0,E1683=0),1,0)","v":0},1,{"$f":"A1683+1","v":9}]
[8,1,1,1,41,"Helgjødsel 25-1-6",null,null,{"$f":"VALUE(A1684&B1684&C1684&D1684&IF(LEN(E1684)=1,\"00\"&E1684,IF(LEN(E1684)=2,\"0\"&E1684,E1684)))","v":8111041},null,{"$f":"IF(B1684=0,1,0)","v":0},{"$f":"IF(AND(D1684=0,E1684=0),1,0)","v":0},1,{"$f":"A1684+1","v":9}]
[8,1,1,1,42,"Helgjødsel 10-1-7",null,null,{"$f":"VALUE(A1685&B1685&C1685&D1685&IF(LEN(E1685)=1,\"00\"&E1685,IF(LEN(E1685)=2,\"0\"&E1685,E1685)))","v":8111042},null,{"$f":"IF(B1685=0,1,0)","v":0},{"$f":"IF(AND(D1685=0,E1685=0),1,0)","v":0},1,{"$f":"A1685+1","v":9}]
[8,1,1,1,43,"NPK 27-2-4 (3S)",null,null,{"$f":"VALUE(A1686&B1686&C1686&D1686&IF(LEN(E1686)=1,\"00\"&E1686,IF(LEN(E1686)=2,\"0\"&E1686,E1686)))","v":8111043},null,{"$f":"IF(B1686=0,1,0)","v":0},{"$f":"IF(AND(D1686=0,E1686=0),1,0)","v":0},1,{"$f":"A1686+1","v":9}]
[8,1,1,1,999,"Annen NPK-gjødsel",null,null,8111999,null,0,0,1,9]
[8,1,1,2,0,{"$f":"Produkt!H409","v":"P og PK gjødsel"},null,null,8112000,null,0,0,1,9]
[8,1,1,2,1,"Råfosfat",null,null,8112001,null,0,0,1,9]
[8,1,1,2,{"$f":"E1689+1","v":2},"Superfosfat P9",null,null,8112002,null,0,0,1,9]
[8,1,1,2,3,"Opti-P-8",null,null,8112003,null,0,0,1,9]
[8,1,1,2,4,"Opti-PK 5-17",null,null,8112004,null,0,0,1,9]
[8,1,1,2,5,"Opti-PK 0-8-16 Skog",null,null,8112005,null,0,0,1,9]
[8,1,1,2,6,"P-gjødsel 0-8-0",null,null,8112006,null,0,0,1,9]
[8,1,1,2,7,"P-gjødsel 0-20-0",null,null,8112007,null,0,0,1,9]
[8,1,1,2,8,"OPTI-P 0-20-0",null,null,8112008,null,0,0,1,9]
[8,1,1,2,9,"OPTI PK 0-11-21",null,null,{"$f":"VALUE(A1697&B1697&C1697&D1697&IF(LEN(E1697)=1,\"00\"&E1697,IF(LEN(E1697)=2,\"0\"&E1697,E1697)))","v":8112009},null,{"$f":"IF(B1697=0,1,0)","v":0},{"$f":"IF(AND(D1697=0,E1697=0),1,0)","v":0},1,{"$f":"A1697+1","v":9}]
[8,1,1,2,999,"Annen P og PK gjødsel",null,null,8112999,null,0,0,1,{"$f":"A1698+1","v":9}]
[8,1,1,3,0,{"$f":"Produkt!H410","v":"K-gjødsel"},null,null,8113000,null,0,0,1,9]
[8,1,1,3,1,"Kaliumgjødsel",null,null,8113001,null,0,0,1,9]
[8,1,1,3,{"$f":"E1700+1","v":2},"Kalimagnesia",null,null,8113002,null,0,0,1,9]
[8,1,1,3,{"$f":"E1701+1","v":3},"Kaliumklorid",null,null,8113003,null,0,0,1,9]
[8,1,1,3,{"$f":"E1702+1","v":4},"Kaliumsulfat",null,null,8113004,null,0,0,1,9]
[8,1,1,3,{"$f":"E1703+1","v":5},"Kaliumnitrat",null,null,{"$f":"VALUE(A1704&B1704&C1704&D1704&IF(LEN(E1704)=1,\"00\"&E1704,IF(LEN(E1704)=2,\"0\"&E1704,E1704)))","v":8113005},null,{"$f":"IF(B1704=0,1,0)","v":0},{"$f":"IF(AND(D1704=0,E1704=0),1,0)","v":0},1,{"$f":"A1704+1","v":9}]
[8,1,1,3,{"$f":"E1704+1","v":6},"Polysulfat",null,null,{"$f":"VALUE(A1705&B1705&C1705&D1705&IF(LEN(E1705)=1,\"00\"&E1705,IF(LEN(E1705)=2,\"0\"&E1705,E1705)))","v":8113006},null,{"$f":"IF(B1705=0,1,0)","v":0},{"$f":"IF(AND(D1705=0,E1705=0),1,0)","v":0},1,{"$f":"A1705+1","v":9}]
[8,1,1,3,999,"Annen K-gjødsel",null,null,8113999,null,0,0,1,{"$f":"A1706+1","v":9}]
[8,1,1,4,0,{"$f":"Produkt!H411","v":"N-gjødsel"},null,null,8114000,null,0,0,1,9]
[8,1,1,4,1,"Kalksalpeter",null,null,8114001,null,0,0,1,9]
[8,1,1,4,{"$f":"E1708+1","v":2},"Svovel-Kalksalpeter",null,null,8114002,null,0,0,1,9]
[8,1,1,4,3,"Bor-Kalksalpeter",null,null,8114003,null,0,0,1,9]
[8,1,1,4,4,"OPTI-KAS 27 N",null,"Skogbruket",8114004,null,0,0,1,9]
[8,1,1,4,5,"OPTI-KAS 27 N 4 S",null,"Skogbruket",8114005,null,0,0,1,9]
[8,1,1,4,6,"Kalkamonsalpeter",null,null,8114006,null,0,0,1,9]
[8,1,1,4,7,"Kalkamonsalpeter S",null,null,8114007,null,0,0,1,9]
[8,1,1,4,8,"Urea 46-0-0",null,null,8114008,null,0,0,1,9]
[8,1,1,4,9,"Ammoniumnitrat",null,null,8114009,null,{"$f":"IF(B1716=0,1,0)","v":0},{"$f":"IF(AND(D1716=0,E1716=0),1,0)","v":0},1,9]
[8,1,1,4,10,"Ammoniumnitrat S",null,null,8114010,null,0,0,1,9]
[8,1,1,4,11,"Kalsiumnitrat",null,null,8114011,null,0,0,1,9]
[8,1,1,4,12,"Kalsiumnitrat m/Bor",null,null,8114012,null,0,0,1,9]
[8,1,1,4,13,"Kalsiumnitrat m/S",null,null,8114013,null,0,0,1,9]
[8,1,1,4,14,"Nitrogen m/S",null,"YaraBela Sulfan 24-0-0 (6S)",{"$f":"VALUE(A1721&B1721&C1721&D1721&IF(LEN(E1721)=1,\"00\"&E1721,IF(LEN(E1721)=2,\"0\"&E1721,E1721)))","v":8114014},null,{"$f":"IF(B1721=0,1,0)","v":0},{"$f":"IF(AND(D1721=0,E1721=0),1,0)","v":0},1,{"$f":"A1721+1","v":9}]
[8,1,1,4,999,"Annen N-gjødsel",null,null,8114999,null,0,0,1,{"$f":"A1722+1","v":9}]
[8,1,1,5,0,{"$f":"Produkt!H412","v":"NK-gjødsel"},null,null,8115000,null,0,0,1,9]
[8,1,1,5,1,"N-K 22-11",null,null,8115001,null,0,0,1,9]
[8,1,1,5,{"$f":"E1724+1","v":2},"N-K 23-10",null,null,8115002,null,0,0,1,9]
[8,1,1,5,{"$f":"E1725+1","v":3},"OPTI-NK 22-0-12 (3S)+SE",null,null,8115003,null,0,0,1,{"$f":"A1726+1","v":9}]
[8,1,1,5,{"$f":"E1726+1","v":4},"ARENA GOLF 13-0-15",null,null,8115004,null,0,0,1,{"$f":"A1727+1","v":9}]
[8,1,1,5,999,"Annen NK-gjødsel",null,null,8115999,null,0,0,1,9]
[8,1,1,6,0,{"$f":"Produkt!H413","v":"NP-gjødsel"},null,null,8116000,null,0,0,1,9]
[8,1,1,6,1,"NP-gjødsel 12-23",null,null,8116001,null,0,0,1,9]
[8,1,1,6,{"$f":"E1730+1","v":2},"OPTI-START NP 12-23-0",null,null,8116002,null,0,0,1,9]
[8,1,1,6,{"$f":"E1731+1","v":3},"NP-gjødsel 19-8-0",null,null,{"$f":"VALUE(A1732&B1732&C1732&D1732&IF(LEN(E1732)=1,\"00\"&E1732,IF(LEN(E1732)=2,\"0\"&E1732,E1732)))","v":8116003},null,{"$f":"IF(B1732=0,1,0)","v":0},{"$f":"IF(AND(D1732=0,E1732=0),1,0)","v":0},1,{"$f":"A1732+1","v":9}]
[8,1,1,6,{"$f":"E1732+1","v":4},"OPTI-START 14-18-0 (4S)",null,null,{"$f":"VALUE(A1733&B1733&C1733&D1733&IF(LEN(E1733)=1,\"00\"&E1733,IF(LEN(E1733)=2,\"0\"&E1733,E1733)))","v":8116004},null,{"$f":"IF(B1733=0,1,0)","v":0},{"$f":"IF(AND(D1733=0,E1733=0),1,0)","v":0},1,{"$f":"A1733+1","v":9}]
[8,1,1,6,999,"Annen NP-gjødsel",null,null,8116999,null,0,0,1,9]
[8,1,1,7,0,{"$f":"Produkt!H414","v":"Kalk"},null,null,8117000,null,0,0,1,9]
[8,1,1,7,1,"Kalksteinmjøl",null,null,8117001,null,0,0,1,9]
[8,1,1,7,{"$f":"E1736+1","v":2},"Grov dolomitt",null,null,{"$f":"VALUE(A1737&B1737&C1737&D1737&IF(LEN(E1737)=1,\"00\"&E1737,IF(LEN(E1737)=2,\"0\"&E1737,E1737)))","v":8117002},null,0,0,1,9]
[8,1,1,7,3,"Granulert dolomitt",null,null,8117003,null,0,0,1,9]
[8,1,1,7,4,"Brent kalk",null,null,8117004,null,0,0,1,9]
[8,1,1,7,5,"Hydratkalk",null,null,8117005,null,0,0,1,9]
[8,1,1,7,6,"Microkalk",null,null,8117006,null,0,0,1,9]
[8,1,1,7,7,"Annen kalk",null,null,8117007,null,0,0,1,9]
[8,1,1,7,8,"Vegsalt",null,"Skulle denne vært plassert et annet sted?",8117008,null,0,0,1,9]
[8,1,1,7,999,"Annen kalk",null,null,8117999,null,0,0,1,{"$f":"A1744+1","v":9}]
[8,1,1,8,0,{"$f":"Produkt!H415","v":"Bladgjødsel og diverse handelsgjødsel"},null,null,8118000,null,0,0,1,9]
[8,1,1,8,1,"Bladgjødsel m.flere næringsstoffer",null,null,8118001,null,0,0,1,9]
[8,1,1,8,{"$f":"E1746+1","v":2},"Mangan",null,null,8118002,null,0,0,1,9]
[8,1,1,8,3,"Sink",null,null,8118003,null,0,0,1,9]
[8,1,1,8,4,"Kalsium",null,null,8118004,null,0,0,1,{"$f":"A1749+1","v":9}]
[8,1,1,8,5,"Kobber",null,null,8118005,null,0,0,1,{"$f":"A1750+1","v":9}]
[8,1,1,8,6,"Magnesium",null,null,8118006,null,0,0,1,{"$f":"A1751+1","v":9}]
[8,1,1,8,7,"Natrium",null,null,{"$f":"VALUE(A1752&B1752&C1752&D1752&IF(LEN(E1752)=1,\"00\"&E1752,IF(LEN(E1752)=2,\"0\"&E1752,E1752)))","v":8118007},null,0,0,1,{"$f":"A1752+1","v":9}]
[8,1,1,8,8,"Jern",null,null,8118008,null,0,0,1,9]
[8,1,1,8,9,"Bor",null,null,{"$f":"VALUE(A1754&B1754&C1754&D1754&IF(LEN(E1754)=1,\"00\"&E1754,IF(LEN(E1754)=2,\"0\"&E1754,E1754)))","v":8118009},null,{"$f":"IF(B1754=0,1,0)","v":0},{"$f":"IF(AND(D1754=0,E1754=0),1,0)","v":0},1,{"$f":"A1754+1","v":9}]
[8,1,1,8,10,"Svovel",null,null,{"$f":"VALUE(A1755&B1755&C1755&D1755&IF(LEN(E1755)=1,\"00\"&E1755,IF(LEN(E1755)=2,\"0\"&E1755,E1755)))","v":8118010},null,{"$f":"IF(B1755=0,1,0)","v":0},{"$f":"IF(AND(D1755=0,E1755=0),1,0)","v":0},1,{"$f":"A1755+1","v":9}]
[8,1,1,8,11,"Kobolt",null,null,{"$f":"VALUE(A1756&B1756&C1756&D1756&IF(LEN(E1756)=1,\"00\"&E1756,IF(LEN(E1756)=2,\"0\"&E1756,E1756)))","v":8118011},null,{"$f":"IF(B1756=0,1,0)","v":0},{"$f":"IF(AND(D1756=0,E1756=0),1,0)","v":0},1,{"$f":"A1756+1","v":9}]
[8,1,1,8,12,"Molybden",null,null,{"$f":"VALUE(A1757&B1757&C1757&D1757&IF(LEN(E1757)=1,\"00\"&E1757,IF(LEN(E1757)=2,\"0\"&E1757,E1757)))","v":8118012},null,{"$f":"IF(B1757=0,1,0)","v":0},{"$f":"IF(AND(D1757=0,E1757=0),1,0)","v":0},1,{"$f":"A1757+1","v":9}]
[8,1,1,8,999,"Diverse handelsgjødsel, annet",null,null,8118999,null,0,0,1,{"$f":"A1758+1","v":9}]
[8,1,1,9,0,{"$f":"Produkt!H416","v":"Husdyrgjødsel/Organisk gjødsel"},null,null,8119000,null,0,0,1,9]
[8,1,1,9,1,"Husdyrgjødsel storfe",null,null,8119001,null,0,0,1,9]
[8,1,1,9,{"$f":"E1760+1","v":2},"Husdyrgjødsel gris",null,null,8119002,null,0,0,1,9]
[8,1,1,9,{"$f":"E1761+1","v":3},"Husdyrgjødsel Sau/Geit",null,null,8119003,null,0,0,1,9]
[8,1,1,9,{"$f":"E1762+1","v":4},"Husdyrgjødsel fjørfe",null,null,8119004,null,0,0,1,9]
[8,1,1,9,{"$f":"E1763+1","v":5},"Anriket husdyrgjødsel",null,"Fjørfegjødsel",8119005,null,0,0,1,{"$f":"A1764+1","v":9}]
[8,1,1,9,999,"Husdyrgjødsel, annet",null,null,8119999,null,0,0,1,{"$f":"A1765+1","v":9}]
[8,1,2,0,0,{"$f":"Produkt!G417","v":"Plantevern, vekstregulering mv."},null,null,8120000,null,0,1,1,9]
[8,1,2,1,0,{"$f":"Produkt!H418","v":"Skadedyr"},null,null,8121000,null,0,0,1,9]
[8,1,2,1,1,"Nikotinider",null,null,8121001,null,0,0,1,9]
[8,1,2,1,{"$f":"E1768+1","v":2},"Fosformidler",null,null,8121002,null,0,0,1,9]
[8,1,2,1,{"$f":"E1769+1","v":3},"Abt",null,null,8121003,null,0,0,1,9]
[8,1,2,1,4,"Pyretroider",null,null,8121004,null,0,0,1,{"$f":"A1771+1","v":9}]
[8,1,2,1,5,"Karbamater",null,null,8121005,null,0,0,1,9]
[8,1,2,1,6,"Midd",null,null,8121006,null,0,0,1,9]
[8,1,2,1,7,"Sneglemidler (Proff)",null,null,8121007,null,0,0,1,9]
[8,1,2,1,8,"Diverse skadedyrmidler",null,null,8121008,null,0,0,1,9]
[8,1,2,2,0,{"$f":"Produkt!H419","v":"Ugrasmidler"},null,null,8122000,null,0,0,1,9]
[8,1,2,2,1,"Fenoxysyrer (Inkl.2Komp)",null,null,8122001,null,0,0,1,9]
[8,1,2,2,{"$f":"E1777+1","v":2},"Frøugrasmidler Korn",null,null,8122002,null,0,0,1,9]
[8,1,2,2,3,"Glyfosatprodukter",null,null,8122003,null,0,0,1,9]
[8,1,2,2,4,"Fops & Dims etc",null,null,8122004,null,0,0,1,9]
[8,1,2,2,5,"Nedsviingsmidler",null,null,8122005,null,0,0,1,9]
[8,1,2,2,6,"Frøugrasmidler Potet",null,null,8122006,null,0,0,1,9]
[8,1,2,2,7,"Øvrige Ugrasmidler Grønnsak",null,null,8122007,null,0,0,1,9]
[8,1,2,2,8,"Øvrige Ugrasmidler Bær",null,null,8122008,null,0,0,1,9]
[8,1,2,2,9,"Øvrige Ugrasm Frøprod",null,null,8122009,null,0,0,1,9]
[8,1,2,2,10,"Øvrige Ugrasmiddel Grasmark",null,null,8122010,null,0,0,1,9]
[8,1,2,2,11,"Ugrasmidler Non-Food",null,null,8122011,null,{"$f":"IF(B1787=0,1,0)","v":0},{"$f":"IF(AND(D1787=0,E1787=0),1,0)","v":0},1,9]
[8,1,2,2,12,"Floghavremidler",null,null,8122012,null,0,0,1,9]
[8,1,2,2,13,"Andre ugrasmidler",null,null,8122013,null,0,0,1,9]
[8,1,2,3,0,{"$f":"Produkt!H420","v":"Mose"},null,"Ingen detaljer per i dag",8123000,null,0,0,1,9]
[8,1,2,4,0,{"$f":"Produkt!H421","v":"Sopp"},null,null,8124000,null,0,0,1,9]
[8,1,2,4,1,"Soppmidler Veksthus (Pr)",null,null,8124001,null,0,0,1,9]
[8,1,2,4,{"$f":"E1792+1","v":2},"Kornfungicider",null,null,8124002,null,0,0,1,9]
[8,1,2,4,3,"Soppmidler Grønnsaker",null,null,8124003,null,0,0,1,9]
[8,1,2,4,4,"Soppmidler Bær (Primært)",null,null,8124004,null,0,0,1,9]
[8,1,2,4,5,"Soppmidler Frukt Primært",null,null,8124005,null,0,0,1,9]
[8,1,2,4,6,"Tørråtemidler",null,null,8124006,null,0,0,1,9]
[8,1,2,4,7,"Beisemidler Potet",null,null,8124007,null,0,0,1,9]
[8,1,2,4,8,"Beisemidler Løk/Grønnsaker",null,null,8124008,null,0,0,1,9]
[8,1,2,4,9,"Soppmidler Non-Food",null,null,8124009,null,0,0,1,9]
[8,1,2,4,10,"Beisemidler Korn/Frø",null,null,8124010,null,0,0,1,9]
[8,1,2,5,0,{"$f":"Produkt!H422","v":"Insektmidler"},null,null,8125000,null,0,0,1,9]
[8,1,2,5,1,"Flue/larvemidler konsentrat",null,null,8125001,null,0,0,1,9]
[8,1,2,5,{"$f":"E1803+1","v":2},"Fluemidler aerosol",null,null,8125002,null,0,0,1,9]
[8,1,2,5,3,"Diverse fluemidler",null,null,8125003,null,0,0,1,9]
[8,1,2,6,0,{"$f":"Produkt!H423","v":"Vekstregulering"},null,null,8126000,null,0,0,1,9]
[8,1,2,6,1,"Vekstregulering korn etc",null,null,{"$f":"VALUE(A1807&B1807&C1807&D1807&IF(LEN(E1807)=1,\"00\"&E1807,IF(LEN(E1807)=2,\"0\"&E1807,E1807)))","v":8126001},null,0,0,1,9]
[8,1,2,6,2,"Vekstregulering veksthus",null,null,8126002,null,0,0,1,9]
[8,1,2,6,3,"Vekstregulering diverse",null,null,8126003,null,0,0,1,9]
[8,1,2,9,0,{"$f":"Produkt!H424","v":"Plantevern annet"},null,null,8129000,null,0,0,1,9]
[8,1,2,9,1,"Mus og rotte",null,null,8129001,null,0,0,1,9]
[8,1,2,9,{"$f":"E1811+1","v":2},"Desinfeksjon",null,null,8129002,null,0,0,1,9]
[8,1,3,0,0,{"$f":"Produkt!G425","v":"Konserveringsmidler"},null,null,8130000,null,0,1,1,9]
[8,1,3,1,0,{"$f":"Produkt!H426","v":"Ensileringsmiddel"},null,null,8131000,null,0,0,1,9]
[8,1,3,1,1,"Syrebasert gras",null,"Direkte høsta gras - Ensileringsmiddel (alle silotyper)",8131001,null,0,0,1,{"$f":"A1815+1","v":9}]
[8,1,3,1,{"$f":"E1815+1","v":2},"Saltbasert gras",null,"Fortørka gras - Ensileringsmiddel (alle silotyper)",8131002,null,0,0,1,9]
[8,1,3,1,{"$f":"E1816+1","v":3},"Bakteriebasert gras",null,"Fortørka gras - Ensileringsmiddel (rundball)",8131003,null,0,0,1,9]
[8,1,3,1,{"$f":"E1817+1","v":4},"Syrebasert korn",null,"Korn/Fullkorn - Ensileringsmiddel",8131004,null,0,0,1,9]
[8,1,3,2,0,{"$f":"Produkt!H427","v":"Ammoniakk"},null,"Ingen detaljer per i dag",8132000,null,0,0,1,9]
[8,1,3,9,0,{"$f":"Produkt!H428","v":"Konserveringsmidler annet"},null,"Ingen detaljer per i dag",8139000,null,0,0,1,9]
[8,1,4,0,0,{"$f":"Produkt!G429","v":"Planter og såfrø"},null,null,8140000,null,0,1,1,9]
[8,1,4,2,0,{"$f":"Produkt!H431","v":"Såfrø og bakteriekulturer"},null,null,8142000,null,0,0,1,{"$f":"A1822+1","v":9}]
[8,1,4,2,1,"Bakteriekulturer",null,null,8142001,null,0,0,1,9]
[8,1,4,3,0,{"$f":"Produkt!H432","v":"Frøblandinger og importfrø"},null,null,8143000,null,0,0,1,9]
[8,1,4,3,1,"Surfôr",null,null,8143001,null,0,0,1,9]
[8,1,4,3,{"$f":"E1825+1","v":2},"Beite",null,null,8143002,null,0,0,1,9]
[8,1,4,3,{"$f":"E1826+1","v":3},"Høy",null,null,8143003,null,0,0,1,9]
[8,1,4,3,4,"Surfôr-beite",null,null,8143004,null,0,0,1,9]
[8,1,4,3,5,"Surfôr-høy",null,null,8143005,null,0,0,1,9]
[8,1,4,3,6,"Surfôr-høy-beite",null,null,8143006,null,0,0,1,9]
[8,1,4,3,7,"Frøblandinger - Grønnfôr",null,null,8143007,null,0,0,1,{"$f":"A1831+1","v":9}]
[8,1,4,3,8,"Frøblandinger - Grønngjødsling",null,null,8143008,null,0,0,1,9]
[8,1,4,3,9,"Blanding for hest",null,null,8143009,null,0,0,1,9]
[8,1,4,3,10,"Blanding for vilt",null,null,8143010,null,0,0,1,9]
[8,1,4,3,18,"Ledig",null,"Flyttet",8143018,null,0,0,1,{"$f":"A1835+1","v":9}]
[8,1,4,3,{"$f":"E1835+1","v":19},"Ledig",null,"Flyttet",8143019,null,0,0,1,{"$f":"A1836+1","v":9}]
[8,1,4,3,999,"Andre frøblandinger",null,null,8143999,null,0,0,1,{"$f":"A1837+1","v":9}]
[8,1,4,9,0,{"$f":"Produkt!H438","v":"Andre planter og frø"},null,null,8149000,null,0,0,1,9]
[8,1,4,9,1,"Blomstereng",null,null,{"$f":"VALUE(A1839&B1839&C1839&D1839&IF(LEN(E1839)=1,\"00\"&E1839,IF(LEN(E1839)=2,\"0\"&E1839,E1839)))","v":8149001},null,{"$f":"IF(B1839=0,1,0)","v":0},{"$f":"IF(AND(D1839=0,E1839=0),1,0)","v":0},1,{"$f":"A1839+1","v":9}]
[8,1,4,9,{"$f":"E1839+1","v":2},"Plenfrø",null,null,{"$f":"VALUE(A1840&B1840&C1840&D1840&IF(LEN(E1840)=1,\"00\"&E1840,IF(LEN(E1840)=2,\"0\"&E1840,E1840)))","v":8149002},null,{"$f":"IF(B1840=0,1,0)","v":0},{"$f":"IF(AND(D1840=0,E1840=0),1,0)","v":0},1,{"$f":"A1840+1","v":9}]
[8,1,4,9,{"$f":"E1840+1","v":3},"Torvtak",null,null,{"$f":"VALUE(A1841&B1841&C1841&D1841&IF(LEN(E1841)=1,\"00\"&E1841,IF(LEN(E1841)=2,\"0\"&E1841,E1841)))","v":8149003},null,{"$f":"IF(B1841=0,1,0)","v":0},{"$f":"IF(AND(D1841=0,E1841=0),1,0)","v":0},1,{"$f":"A1841+1","v":9}]
[8,1,9,0,0,{"$f":"Produkt!G439","v":"Andre innsatsvarer i planteproduksjonen"},null,null,8190000,null,0,1,1,9]
[8,1,9,1,0,{"$f":"Produkt!H440","v":"Fôrproduksjon"},null,null,8191000,null,0,0,1,9]
[8,1,9,1,{"$f":"E1843+1","v":1},"Rundballeplast, nett, plansiloplast",null,null,{"$f":"VALUE(A1844&B1844&C1844&D1844&IF(LEN(E1844)=1,\"00\"&E1844,IF(LEN(E1844)=2,\"0\"&E1844,E1844)))","v":8191001},null,{"$f":"IF(B1844=0,1,0)","v":0},{"$f":"IF(AND(D1844=0,E1844=0),1,0)","v":0},1,{"$f":"A1844+1","v":9}]
[8,1,9,1,999,"Andre forbruksartikler fôrproduksjon",null,null,8191999,null,0,0,1,9]
[8,2,0,0,0,{"$f":"Produkt!F443","v":"Innsatsvarer i husdyrproduksjon"},null,null,8200000,null,0,1,1,9]
[8,2,1,0,0,{"$f":"Produkt!G444","v":"Kraftfôr"},null,null,8210000,null,0,1,1,9]
[8,2,1,1,0,{"$f":"Produkt!H445","v":"Kraftfôr til storfe"},null,null,8211000,null,0,0,1,9]
[8,2,1,1,1,"Kraftfôr til melkeku, sinku og kvige",null,null,8211001,null,0,0,1,9]
[8,2,1,1,{"$f":"E1849+1","v":2},"Kraftfôr til ammeku",null,null,8211002,null,0,0,1,9]
[8,2,1,1,{"$f":"E1850+1","v":3},"Kraftfôr til okse",null,null,8211003,null,0,0,1,9]
[8,2,1,1,{"$f":"E1851+1","v":4},"Kraftfôr til kalv",null,null,8211004,null,0,0,1,9]
[8,2,1,1,999,"Kraftfôr til storfe, annet",null,null,{"$f":"VALUE(A1853&B1853&C1853&D1853&IF(LEN(E1853)=1,\"00\"&E1853,IF(LEN(E1853)=2,\"0\"&E1853,E1853)))","v":8211999},null,0,0,1,{"$f":"A1853+1","v":9}]
[8,2,1,2,0,{"$f":"Produkt!H446","v":"Kraftfôr til sau og lam"},null,null,8212000,null,0,0,1,9]
[8,2,1,2,1,"Kraftfôr til lam",null,null,8212001,null,{"$f":"IF(B1855=0,1,0)","v":0},{"$f":"IF(AND(D1855=0,E1855=0),1,0)","v":0},1,9]
[8,2,1,2,{"$f":"E1855+1","v":2},"Kraftfôr til sau",null,null,8212002,null,0,0,1,9]
[8,2,1,2,999,"Kraftfôr til sau og lam, annet",null,null,{"$f":"VALUE(A1857&B1857&C1857&D1857&IF(LEN(E1857)=1,\"00\"&E1857,IF(LEN(E1857)=2,\"0\"&E1857,E1857)))","v":8212999},null,0,0,1,{"$f":"A1857+1","v":9}]
[8,2,1,3,0,{"$f":"Produkt!H447","v":"Kraftfôr til geit"},null,null,8213000,null,0,0,1,9]
[8,2,1,3,{"$f":"E1858+1","v":1},"Kraftfôr til geit",null,null,8213001,null,0,0,1,9]
[8,2,1,3,999,"Kraftfôr til geit, annet",null,null,{"$f":"VALUE(A1860&B1860&C1860&D1860&IF(LEN(E1860)=1,\"00\"&E1860,IF(LEN(E1860)=2,\"0\"&E1860,E1860)))","v":8213999},null,0,0,1,{"$f":"A1860+1","v":9}]
[8,2,1,4,0,{"$f":"Produkt!H448","v":"Kraftfôr til gris"},null,null,8214000,null,0,0,1,9]
[8,2,1,4,1,"Kraftfôr til purke",null,null,8214001,null,0,0,1,9]
[8,2,1,4,{"$f":"E1862+1","v":2},"Kraftfôr til smågris",null,null,8214002,null,0,0,1,{"$f":"A1863+1","v":9}]
[8,2,1,4,{"$f":"E1863+1","v":3},"Kraftfôr til slaktegris",null,null,8214003,null,0,0,1,9]
[8,2,1,4,999,"Kraftfôr til gris, annet",null,null,{"$f":"VALUE(A1865&B1865&C1865&D1865&IF(LEN(E1865)=1,\"00\"&E1865,IF(LEN(E1865)=2,\"0\"&E1865,E1865)))","v":8214999},null,0,0,1,{"$f":"A1865+1","v":9}]
[8,2,1,5,0,{"$f":"Produkt!H449","v":"Kraftfôr til fjørfe"},null,null,8215000,null,0,0,1,9]
[8,2,1,5,1,"Kraftfôr til verpehøns/eggproduksjon",null,null,8215001,null,0,0,1,9]
[8,2,1,5,{"$f":"E1867+1","v":2},"Kraftfôr til slaktekylling",null,null,8215002,null,0,0,1,9]
[8,2,1,5,{"$f":"E1868+1","v":3},"Kraftfôr til kalkunproduksjon",null,null,8215003,null,0,0,1,9]
[8,2,1,5,{"$f":"E1869+1","v":4},"Kraftfôr til oppdrett av verpehøner (livkylling)",null,null,8215004,null,0,0,1,9]
[8,2,1,5,{"$f":"E1870+1","v":5},"Kraftfôr til høner i rugeeggproduksjon",null,null,8215005,null,0,0,1,9]
[8,2,1,5,{"$f":"E1871+1","v":6},"Kraftfôr til slaktekyllingforeldre",null,null,8215006,null,0,0,1,9]
[8,2,1,5,999,"Kraftfôr til andre fjørfeslag",null,null,8215999,null,0,0,1,{"$f":"A1873+1","v":9}]
[8,2,1,6,0,{"$f":"Produkt!H450","v":"Kraftfôr til hester"},null,null,8216000,null,0,0,1,9]
[8,2,1,6,1,"Kraftfôr til hester, føll",null,null,8216001,null,0,0,1,9]
[8,2,1,6,{"$f":"E1875+1","v":2},"Kraftfôr til hester, diettfôr",null,null,{"$f":"VALUE(A1876&B1876&C1876&D1876&IF(LEN(E1876)=1,\"00\"&E1876,IF(LEN(E1876)=2,\"0\"&E1876,E1876)))","v":8216002},null,0,0,1,{"$f":"A1876+1","v":9}]
[8,2,1,6,{"$f":"E1876+1","v":3},"Kraftfôr til hester, komplett fôr",null,null,8216003,null,0,0,1,9]
[8,2,1,6,4,"Kraftfôr til hester, energifôr",null,null,8216004,null,0,0,1,9]
[8,2,1,6,5,"Melasse og olje",null,null,{"$f":"VALUE(A1879&B1879&C1879&D1879&IF(LEN(E1879)=1,\"00\"&E1879,IF(LEN(E1879)=2,\"0\"&E1879,E1879)))","v":8216005},null,0,0,1,{"$f":"A1879+1","v":9}]
[8,2,1,6,999,"Kraftfôr til hester, annet fôr",null,null,{"$f":"VALUE(A1880&B1880&C1880&D1880&IF(LEN(E1880)=1,\"00\"&E1880,IF(LEN(E1880)=2,\"0\"&E1880,E1880)))","v":8216999},null,0,0,1,{"$f":"A1880+1","v":9}]
[8,2,1,8,0,{"$f":"Produkt!H451","v":"Kraftfôr til pelsdyr"},null,"Byggrøpp? Roepellets? Ingen detaljer per i dag",8218000,null,0,0,1,{"$f":"A1881+1","v":9}]
[8,2,1,8,1,"Pelsdyr, Mink",null,null,8218001,null,0,0,1,{"$f":"A1882+1","v":9}]
[8,2,1,8,{"$f":"E1882+1","v":2},"Pelsdyr, Rev",null,null,8218002,null,0,0,1,9]
[8,2,1,8,999,"Pelsdyr, andre",null,null,8218999,null,0,0,1,9]
[8,2,1,9,0,{"$f":"Produkt!H452","v":"Kraftfôr til andre dyreslag"},null,null,8219000,null,0,0,1,9]
[8,2,1,9,1,"Kanin",null,null,8219001,null,0,0,1,9]
[8,2,1,9,{"$f":"E1886+1","v":2},"Duer",null,null,8219002,null,0,0,1,9]
[8,2,1,9,{"$f":"E1887+1","v":3},"Hjort",null,null,{"$f":"VALUE(A1888&B1888&C1888&D1888&IF(LEN(E1888)=1,\"00\"&E1888,IF(LEN(E1888)=2,\"0\"&E1888,E1888)))","v":8219003},null,{"$f":"IF(B1888=0,1,0)","v":0},{"$f":"IF(AND(D1888=0,E1888=0),1,0)","v":0},1,{"$f":"A1888+1","v":9}]
[8,2,2,0,0,{"$f":"Produkt!G453","v":"Tilskuddsfôr"},null,"Alle dyreslag",8220000,null,0,1,1,9]
[8,2,2,0,1,"Tilskuddsfôr vitamintilskudd",null,null,8220001,null,0,0,1,{"$f":"A1890+1","v":9}]
[8,2,2,0,{"$f":"E1890+1","v":2},"Tilskuddsfôr mineraltilskudd",null,null,8220002,null,0,0,1,9]
[8,2,2,0,3,"Tilskuddsfôr energitilskudd",null,null,8220003,null,0,0,1,9]
[8,2,2,0,4,"Tilskuddsfôr medisinfôr",null,"Dyrehelse",8220004,null,0,0,1,9]
[8,2,2,0,5,"Tilskuddsfôr melkeerstatning",null,null,8220005,null,0,0,1,9]
[8,2,2,0,6,"Tilskuddsfôr returmelk og myse",null,null,8220006,null,0,0,1,9]
[8,2,2,0,7,"Tilskuddsfôr, protein",null,null,{"$f":"VALUE(A1896&B1896&C1896&D1896&IF(LEN(E1896)=1,\"00\"&E1896,IF(LEN(E1896)=2,\"0\"&E1896,E1896)))","v":8220007},null,0,0,1,{"$f":"A1896+1","v":9}]
[8,2,2,0,999,"Annet tilskuddsfôr",null,null,8220999,null,0,0,1,9]
[8,2,4,0,0,{"$f":"Produkt!G462","v":"Medisin"},null,null,8240000,null,{"$f":"IF(B1898=0,1,0)","v":0},{"$f":"IF(AND(D1898=0,E1898=0),1,0)","v":1},1,{"$f":"A1898+1","v":9}]
[8,2,4,1,0,"Medisin - QA FORDØYELSESORGANER OG STOFFSKIFTE",null,null,8241000,null,0,0,1,9]
[8,2,4,1,{"$f":"E1899+1","v":1},"Medisin - QA02 Midler mot syrerelaterte lidelser",null,null,8241001,null,0,0,1,9]
[8,2,4,1,{"$f":"E1900+1","v":2},"Medisin - QA04 Antiemetikum og kvalmestillende",null,null,8241002,null,0,0,1,9]
[8,2,4,1,3,"Medisin - QA06 Laksantia",null,null,8241003,null,0,0,1,9]
[8,2,4,1,4,"Medisin - QA07 Antidiarroika, tarmantiseptika og antiinflammatoriske midler",null,null,8241004,null,0,0,1,9]
[8,2,4,1,5,"Medisin - QA10 Midler til diabetesbehandling",null,null,8241005,null,0,0,1,9]
[8,2,4,1,6,"Medisin - QA11 Vitaminer",null,null,8241006,null,0,0,1,9]
[8,2,4,1,7,"Medisin - QA12 Mineralpreparater",null,null,8241007,null,0,0,1,9]
[8,2,4,1,50,"Medisin - QB BLOD OG BLODDANNENDE ORGANER",null,null,8241050,null,0,0,1,9]
[8,2,4,1,{"$f":"E1907+1","v":51},"Medisin - QB03 Midler mot anemi",null,null,8241051,null,0,0,1,9]
[8,2,4,1,100,"Medisin - QC HJERTE OG KRETSLØP",null,null,8241100,null,0,0,1,9]
[8,2,4,1,{"$f":"E1909+1","v":101},"Medisin - QC01 Hjerteterapi",null,null,8241101,null,0,0,1,9]
[8,2,4,1,{"$f":"E1910+1","v":102},"Medisin - QC04 Perifere kardilaterende midler",null,null,8241102,null,0,0,1,9]
[8,2,4,1,{"$f":"E1911+1","v":103},"Medisin - QC09 Midler med virkning på renin-angiotensinsystemet",null,null,8241103,null,0,0,1,9]
[8,2,4,1,150,"Medisin - QD DERMATOLOGISKE MIDLER",null,null,8241150,null,{"$f":"IF(B1913=0,1,0)","v":0},{"$f":"IF(AND(D1913=0,E1913=0),1,0)","v":0},1,{"$f":"A1913+1","v":9}]
[8,2,4,1,{"$f":"E1913+1","v":151},"Medisin - QD01 Fungicider til dermatologisk bruk",null,null,8241151,null,0,0,1,9]
[8,2,4,1,{"$f":"E1914+1","v":152},"Medisin - QD06 Antibiotika og kjemoterapeutika, dermatologiske",null,null,8241152,null,0,0,1,9]
[8,2,4,1,{"$f":"E1915+1","v":153},"Medisin - QD07 Kortikosteroider til dermatologisk bruk",null,null,8241153,null,0,0,1,9]
[8,2,4,1,{"$f":"E1916+1","v":154},"Medisin - QD08 Antiseptika og desinfiserende midler",null,null,8241154,null,0,0,1,9]
[8,2,4,1,200,"Medisin - QG UROGENITALSYSTEM OG KJØNNSHORMONER",null,null,8241200,null,0,0,1,9]
[8,2,4,1,{"$f":"E1918+1","v":201},"Medisin - QG01 Antiinfektiva og antiseptika til gynekologisk bruk",null,null,8241201,null,0,0,1,9]
[8,2,4,1,{"$f":"E1919+1","v":202},"Medisin - QG02 Andre gynekologiske midler",null,null,8241202,null,0,0,1,9]
[8,2,4,1,{"$f":"E1920+1","v":203},"Medisin - QG03 Kjønnshormoner og midler med effekt på genitalia",null,null,8241203,null,0,0,1,9]
[8,2,4,1,{"$f":"E1921+1","v":204},"Medisin - QG04 Urologiske midler",null,null,8241204,null,0,0,1,9]
[8,2,4,1,{"$f":"E1922+1","v":205},"Medisin - QG51 Antiinfektiva og antiseptika til intrauterin bruk",null,null,8241205,null,0,0,1,9]
[8,2,4,1,250,"Medisin - QH HORMONER TIL SYSTEMISK BRUK, EKSKL. KJØNNSHORMONER OG INSULIN",null,null,8241250,null,0,0,1,9]
[8,2,4,1,{"$f":"E1924+1","v":251},"Medisin - QH01 Hypofyse-, hypothalamushormoner og analoger",null,null,8241251,null,0,0,1,9]
[8,2,4,1,{"$f":"E1925+1","v":252},"Medisin - QH02 Kortikosteroider til systemisk bruk",null,null,8241252,null,0,0,1,9]
[8,2,4,1,{"$f":"E1926+1","v":253},"Medisin - QH03 Thyreoideaterapi",null,null,8241253,null,0,0,1,9]
[8,2,4,1,300,"Medisin - QI IMMUNOLOGISKE MIDLER",null,null,8241300,null,0,0,1,9]
[8,2,4,1,{"$f":"E1928+1","v":301},"Medisin - QI01 Immunologiske midler til fugl",null,null,8241301,null,0,0,1,9]
[8,2,4,1,{"$f":"E1929+1","v":302},"Medisin - QI02 Immunologiske midler til storfe",null,null,8241302,null,0,0,1,9]
[8,2,4,1,303,"Medisin - QI04 Immunologiske midler til sau",null,null,8241303,null,0,0,1,9]
[8,2,4,1,304,"Medisin - QI05 Immunologiske midler til hest",null,null,8241304,null,0,0,1,9]
[8,2,4,1,305,"Medisin - QI06 Immunologiske midler til katt",null,null,8241305,null,0,0,1,9]
[8,2,4,1,306,"Medisin - QI07 Immunologiske midler til hund",null,null,8241306,null,0,0,1,9]
[8,2,4,1,307,"Medisin - QI09 Immunologiske midler til svin",null,null,8241307,null,0,0,1,9]
[8,2,4,1,308,"Medisin - QI10 Immunologiske midler til fisk",null,null,8241308,null,0,0,1,9]
[8,2,4,1,350,"Medisin - QJ ANTIINFEKTIVA TIL SYSTEMISK BRUK",null,null,8241350,null,0,0,1,9]
[8,2,4,1,{"$f":"E1937+1","v":351},"Medisin - QJ01 Antibakterielle midler til systemisk bruk",null,null,8241351,null,0,0,1,9]
[8,2,4,1,{"$f":"E1938+1","v":352},"Medisin - QJ02 Antimykotika til systemisk bruk",null,null,8241352,null,0,0,1,9]
[8,2,4,1,{"$f":"E1939+1","v":353},"Medisin - QJ51 Antibakterielle midler til intramammær bruk",null,null,8241353,null,0,0,1,9]
[8,2,4,1,400,"Medisin - QL ANTINEOPLASTISKE OG IMMUNMODULERENDE MIDLER",null,null,8241400,null,0,0,1,9]
[8,2,4,1,{"$f":"E1941+1","v":401},"Medisin - QL01 Antineoplastiske midler",null,null,8241401,null,0,0,1,9]
[8,2,4,1,{"$f":"E1942+1","v":402},"Medisin - QL03 Immunstimulanter",null,null,8241402,null,0,0,1,9]
[8,2,4,1,{"$f":"E1943+1","v":403},"Medisin - QL04 Immunsuppressiver",null,null,8241403,null,0,0,1,9]
[8,2,4,1,450,"Medisin - QM MUSKLER OG SKJELETT",null,null,8241450,null,0,0,1,9]
[8,2,4,1,{"$f":"E1945+1","v":451},"Medisin - QM01 Antiinflammatoriske og antirevmatiske midler",null,null,8241451,null,0,0,1,9]
[8,2,4,1,{"$f":"E1946+1","v":452},"Medisin - QM05 Midler til behandling av bensykdommer",null,null,8241452,null,0,0,1,9]
[8,2,4,1,{"$f":"E1947+1","v":453},"Medisin - QM09 Andre midler mot muskel- og skjelettsykdommer",null,null,8241453,null,0,0,1,9]
[8,2,4,1,500,"Medisin - QN NERVESYSTEMET",null,null,8241500,null,0,0,1,9]
[8,2,4,1,{"$f":"E1949+1","v":501},"Medisin - QN01 Anestetika",null,null,8241501,null,0,0,1,9]
[8,2,4,1,{"$f":"E1950+1","v":502},"Medisin - QN02 Analgetika",null,null,8241502,null,0,0,1,9]
[8,2,4,1,503,"Medisin - QN03 Antiepileptika",null,null,8241503,null,0,0,1,9]
[8,2,4,1,504,"Medisin - QN04 Antiparkinsonmidler",null,null,8241504,null,0,0,1,9]
[8,2,4,1,505,"Medisin - QN05 Psykoleptika",null,null,8241505,null,0,0,1,9]
[8,2,4,1,506,"Medisin - QN06 Psykoanaleptika",null,null,8241506,null,0,0,1,9]
[8,2,4,1,507,"Medisin - QN51 Eutanasipreparater",null,null,8241507,null,0,0,1,9]
[8,2,4,1,550,"Medisin - QP ANTIPARASITTÆRE MIDLER, INSEKTICIDER OG INSEKTMIDLER",null,null,8241550,null,0,0,1,9]
[8,2,4,1,{"$f":"E1957+1","v":551},"Medisin - QP51 Antiprotozomidler",null,null,8241551,null,0,0,1,9]
[8,2,4,1,{"$f":"E1958+1","v":552},"Medisin - QP52 Anthelmintika",null,null,8241552,null,0,0,1,9]
[8,2,4,1,{"$f":"E1959+1","v":553},"Medisin - QP53 Ektoparasittmidler, insekticider og insektmidler",null,null,8241553,null,0,0,1,9]
[8,2,4,1,{"$f":"E1960+1","v":554},"Medisin - QP54 Endektocider",null,null,8241554,null,0,0,1,9]
[8,2,4,1,600,"Medisin - QR RESPIRASJONSORGANER",null,null,8241600,null,0,0,1,9]
[8,2,4,1,{"$f":"E1962+1","v":601},"Medisin - QR03 Midler ved obstruktiv lungesykdom",null,null,8241601,null,0,0,1,9]
[8,2,4,1,{"$f":"E1963+1","v":602},"Medisin - QR05 Hoste- og forkjølelsesmidler",null,null,8241602,null,0,0,1,9]
[8,2,4,1,{"$f":"E1964+1","v":603},"Medisin - QR06 Antihistaminer til systemisk bruk",null,null,8241603,null,0,0,1,9]
[8,2,4,1,{"$f":"E1965+1","v":604},"Medisin - QR07 Andre preparater med virkning på respirasjonssystemet",null,null,8241604,null,0,0,1,9]
[8,2,4,1,650,"Medisin - QS SANSEORGANER",null,null,8241650,null,0,0,1,9]
[8,2,4,1,{"$f":"E1967+1","v":651},"Medisin - QS01 Øyemidler",null,null,8241651,null,0,0,1,9]
[8,2,4,1,{"$f":"E1968+1","v":652},"Medisin - QS02 Øremidler",null,null,8241652,null,0,0,1,9]
[8,2,4,1,700,"Medisin - QV VARIA",null,null,8241700,null,0,0,1,9]
[8,2,4,1,{"$f":"E1970+1","v":701},"Medisin - QV03 Alle andre terapeutiske preparater",null,null,8241701,null,0,0,1,9]
[8,2,9,0,0,{"$f":"Produkt!G464","v":"Andre innsatsvarer i husdyrproduksjonen (forbruk)"},null,null,8290000,null,0,1,1,{"$f":"A1972+1","v":9}]
[8,2,9,1,0,{"$f":"Produkt!H465","v":"Forbruksmateriell"},null,null,{"$f":"VALUE(A1973&B1973&C1973&D1973&IF(LEN(E1973)=1,\"00\"&E1973,IF(LEN(E1973)=2,\"0\"&E1973,E1973)))","v":8291000},null,0,0,1,{"$f":"A1973+1","v":9}]
[8,2,9,1,1,"Strø og annet forbruksmatriell",null,null,8291001,null,0,0,1,{"$f":"A1974+1","v":9}]
[8,2,9,1,{"$f":"E1974+1","v":2},"Vaskemidler",null,null,8291002,null,{"$f":"IF(B1975=0,1,0)","v":0},{"$f":"IF(AND(D1975=0,E1975=0),1,0)","v":0},1,{"$f":"A1975+1","v":9}]
[8,2,9,1,{"$f":"E1975+1","v":3},"Annet forbruksmateriell",null,null,8291003,null,0,0,1,9]
[8,2,9,1,999,"Annet forbruksmatriell",null,null,8291999,null,0,0,1,{"$f":"A1977+1","v":9}]
[8,3,0,0,0,{"$f":"Produkt!F468","v":"Tjenester i plante-, fôr- og skogproduksjon"},null,null,8300000,null,0,1,1,{"$f":"A1978+1","v":9}]
[8,3,1,0,0,{"$f":"Produkt!G469","v":"Jordbruk, rådgivingstjenester"},null,null,8310000,null,0,1,1,9]
[8,3,1,1,0,{"$f":"Produkt!H470","v":"Produksjonsplanlegging/-oppfølging"},null,null,8311000,null,0,0,1,{"$f":"A1980+1","v":9}]
[8,3,1,1,1,"Gødselplan",null,null,8311001,null,0,0,1,9]
[8,3,1,1,{"$f":"E1981+1","v":2},"Hydroteknisk plan",null,null,8311002,null,0,0,1,9]
[8,3,1,1,{"$f":"E1982+1","v":3},"Produksjonsplan",null,null,8311003,null,0,0,1,9]
[8,3,1,1,4,"Produksjonsoppfølging",null,null,8311004,null,0,0,1,9]
[8,3,1,1,999,"Annen prod.planlegging/-oppfølging",null,null,8311999,null,0,0,1,9]
[8,3,1,2,0,{"$f":"Produkt!H471","v":"Prøver/analyser"},null,null,8312000,null,0,0,1,9]
[8,3,1,2,1,"Jordprøver",null,null,8312001,null,0,0,1,9]
[8,3,1,2,{"$f":"E1987+1","v":2},"Fôrprøver",null,null,8312002,null,0,0,1,9]
[8,3,1,2,999,"Andre prøver/analyser",null,null,8312999,null,0,0,1,9]
[8,3,1,3,0,{"$f":"Produkt!H472","v":"Adm bistand  i produksjon"},null,null,8313000,null,0,0,1,9]
[8,3,1,3,1,"KSL",null,null,8313001,null,0,0,1,9]
[8,3,1,3,{"$f":"E1991+1","v":2},"HMS",null,null,8313002,null,0,0,1,9]
[8,3,1,3,999,"Annen adm bistand i produksjon",null,null,8313999,null,0,0,1,9]
[8,3,1,4,0,{"$f":"Produkt!H473","v":"Kurs/møter/fagturer"},null,null,8314000,null,0,0,1,9]
[8,3,1,4,1,"Kurs",null,null,8314001,null,0,0,1,9]
[8,3,1,4,{"$f":"E1995+1","v":2},"Undervisning",null,null,8314002,null,{"$f":"IF(B1996=0,1,0)","v":0},{"$f":"IF(AND(D1996=0,E1996=0),1,0)","v":0},1,9]
[8,3,1,4,{"$f":"E1996+1","v":3},"Informasjonsmøter",null,null,8314003,null,0,0,1,9]
[8,3,1,4,4,"Møter",null,null,8314004,null,0,0,1,9]
[8,3,1,4,5,"Fagturer",null,null,8314005,null,0,0,1,9]
[8,3,2,0,0,{"$f":"Produkt!G474","v":"Jordbruk, andre tjenester planteproduksjon"},null,null,8320000,null,0,1,1,9]
[8,3,2,9,0,{"$f":"Produkt!H478","v":"Tjenester diverse"},null,null,8329000,null,{"$f":"IF(B2001=0,1,0)","v":0},{"$f":"IF(AND(D2001=0,E2001=0),1,0)","v":0},1,{"$f":"A2001+1","v":9}]
[8,3,2,9,1,"Funksjonstesting åkersprøyte",null,null,8329001,null,0,0,1,9]
[8,3,2,9,{"$f":"E2002+1","v":2},"Sortering og pakking",null,null,8329002,null,0,0,1,9]
[8,3,2,9,{"$f":"E2003+1","v":3},"Lagerarbeid",null,null,8329003,null,0,0,1,9]
[8,3,2,9,4,"Tørking og lagring",null,null,8329004,null,0,0,1,9]
[8,3,2,9,5,"Privat salg",null,null,8329005,null,0,0,1,9]
[8,3,2,9,6,"Torgsalg",null,null,8329006,null,0,0,1,9]
[8,3,2,9,7,"Transport",null,null,8329007,null,0,0,1,9]
[8,3,2,9,8,"Bardunering",null,null,8329008,null,0,0,1,9]
[8,3,2,9,9,"Skjæring og forming",null,null,8329009,null,0,0,1,9]
[8,3,2,9,10,"Rydding av gamle felt",null,null,8329010,null,0,0,1,9]
[8,3,2,9,11,"Oppbinding",null,null,8329011,null,0,0,1,9]
[8,3,2,9,12,"Desinfisering av veksthus",null,null,8329012,null,0,0,1,9]
[8,3,3,0,0,{"$f":"Produkt!G479","v":"Jordbruk, maskintjenester"},null,null,8330000,null,0,1,1,9]
[8,3,3,1,0,{"$f":"Produkt!H480","v":"Maskinleie, plante- og fôrproduksjon"},null,null,8331000,null,0,0,1,9]
[8,3,3,1,1,"Våronnarbeid (jordbearbeideing, såing og kunstgjødsling)",null,null,8331001,null,0,0,1,9]
[8,3,3,1,{"$f":"E2016+1","v":2},"Gjødselhåndtering husdyrgjødsel",null,null,8331002,null,0,0,1,9]
[8,3,3,1,{"$f":"E2017+1","v":3},"Gjødsling",null,null,8331003,null,0,0,1,9]
[8,3,3,1,4,"Arbeid i vekstperioden (ugrasbekjempelse, sprøyting)",null,null,8331004,null,0,0,1,9]
[8,3,3,1,5,"Anna plantevern",null,null,8331005,null,0,0,1,9]
[8,3,3,1,6,"Ugrasbekjempelse",null,null,8331006,null,0,0,1,9]
[8,3,3,1,7,"Soppsprøyting",null,null,8331007,null,0,0,1,9]
[8,3,3,1,8,"Innsektsprøyting",null,null,8331008,null,0,0,1,9]
[8,3,3,1,9,"Vanningsarbeid",null,null,8331009,null,0,0,1,9]
[8,3,3,1,10,"Såing og prikling",null,null,8331010,null,0,0,1,9]
[8,3,3,1,11,"Potting av planter",null,null,8331011,null,0,0,1,9]
[8,3,3,1,12,"Planting",null,null,8331012,null,0,0,1,9]
[8,3,3,1,13,"Plantestell (Nedsenking/ tvinning/pinsering/fjerne blad)",null,null,8331013,null,0,0,1,9]
[8,3,3,1,14,"Tynning",null,null,8331014,null,0,0,1,9]
[8,3,3,1,15,"Høsting",null,null,8331015,null,0,0,1,9]
[8,3,3,1,16,"Grasslått",null,null,8331016,null,0,0,1,9]
[8,3,3,1,17,"Grasrivearbeid",null,null,8331017,null,0,0,1,9]
[8,3,3,1,18,"Pressing",null,null,8331018,null,0,0,1,9]
[8,3,3,1,19,"Skurtresking",null,null,8331019,null,0,0,1,9]
[8,3,3,1,20,"Maskinleie grønt",null,null,8331020,null,0,0,1,9]
[8,3,3,1,21,"Vatningsanlegg",null,null,8331021,null,0,0,1,9]
[8,3,3,1,999,"Andre tjenester i planteproduksjon i  jordbruket",null,null,8331999,null,0,0,1,9]
[8,3,4,0,0,{"$f":"Produkt!G482","v":"Ledig"},null,null,8340000,null,0,1,1,9]
[8,3,5,0,0,{"$f":"Produkt!G483","v":"Skogbruk"},null,null,8350000,null,0,1,1,9]
[8,3,5,1,0,{"$f":"Produkt!H484","v":"Avvirkning"},null,"Skal tynning tas inn her eller på tillegg?",8351000,null,0,0,1,9]
[8,3,5,1,1,"Avvirkning (hogst og kjøring) - Skogbruk",null,null,8351001,null,0,0,1,9]
[8,3,5,1,{"$f":"E2041+1","v":2},"Hogst - Skogbruk",null,null,8351002,null,0,0,1,9]
[8,3,5,1,{"$f":"E2042+1","v":3},"Kjøring - Skogbruk",null,null,8351003,null,0,0,1,9]
[8,3,5,1,{"$f":"E2043+1","v":4},"Ledig",null,null,8351004,null,0,0,1,9]
[8,3,5,1,5,"Ledig",null,null,8351005,null,0,0,1,9]
[8,3,5,1,999,"Avvirkning annet",null,null,8351999,null,0,0,1,9]
[8,3,5,2,0,{"$f":"Produkt!H485","v":"Skogkultur"},null,null,8352000,null,0,0,1,9]
[8,3,5,2,1,"Skogkultur (samlet)",null,null,8352001,null,0,0,1,9]
[8,3,5,2,{"$f":"E2048+1","v":2},"Planting - Skogkultur",null,null,8352002,null,0,0,1,9]
[8,3,5,2,{"$f":"E2049+1","v":3},"Markberedning - Skogkultur",null,null,8352003,null,0,0,1,9]
[8,3,5,2,{"$f":"E2050+1","v":4},"Ungskogpleie - Skogkultur",null,null,8352004,null,0,0,1,9]
[8,3,5,2,999,"Annet - Skogkultur",null,null,8352999,null,0,0,1,9]
[8,4,0,0,0,{"$f":"Produkt!F487","v":"Tjenester i husdyrproduksjon"},null,null,8400000,null,0,1,1,9]
[8,4,1,0,0,{"$f":"Produkt!G488","v":"Veterinærtjenester"},null,null,8410000,null,0,1,1,9]
[8,4,1,1,0,{"$f":"Produkt!H489 &\" - Rapporteringspliktig sykdom\"","v":"Behandling/Diagnose - Rapporteringspliktig sykdom"},null,null,{"$f":"VALUE(A2055&B2055&C2055&D2055&IF(LEN(E2055)=1,\"00\"&E2055,IF(LEN(E2055)=2,\"0\"&E2055,E2055)))","v":8411000},null,0,0,1,9]
[8,4,1,1,{"$f":"E2055+1","v":1},"Infeksjonssykdommer type A",null,null,8411001,null,0,0,1,9]
[8,4,1,1,{"$f":"E2056+1","v":2},"Infeksjonssykdommer type B",null,null,8411002,null,0,0,1,9]
[8,4,1,1,{"$f":"E2057+1","v":3},"Infeksjonssykdommer type C",null,null,8411003,null,0,0,1,9]
[8,4,1,1,50,{"$f":"Produkt!H489 &\" - Ikke rapporteringspliktig sykdom\"","v":"Behandling/Diagnose - Ikke rapporteringspliktig sykdom"},null,null,8411050,null,0,0,1,9]
[8,4,1,1,{"$f":"E2059+1","v":51},"Brysthuleorganer- og bloddannende organer",null,null,8411051,null,0,0,1,9]
[8,4,1,1,{"$f":"E2060+1","v":52},"Fordøyelsesorganer med lever, bukspyttkjertel og endokrine kjertler",null,null,8411052,null,0,0,1,9]
[8,4,1,1,{"$f":"E2061+1","v":53},"Hud og hudorganer, inkludert klauv",null,null,8411053,null,0,0,1,9]
[8,4,1,1,54,"Jur og spener",null,null,8411054,null,0,0,1,9]
[8,4,1,1,55,"Kjønnsorganer - Obstetrikk",null,null,8411055,null,0,0,1,9]
[8,4,1,1,56,"Kjønnsorganer - Reproduksjon - Urinveier",null,null,8411056,null,0,0,1,9]
[8,4,1,1,57,"Nervesystem og sanseorganer",null,null,8411057,null,0,0,1,9]
[8,4,1,1,58,"Skjelett, ledd, bånd, sener og muskulatur",null,null,8411058,null,0,0,1,9]
[8,4,1,1,59,"Ikke organrelaterte tilstander",null,null,8411059,null,0,0,1,{"$f":"A2068+1","v":9}]
[8,4,1,1,60,"Fjørfespesifikke sjukdommer",null,null,8411060,null,0,0,1,9]
[8,4,1,1,61,"Forebyggende helsearbeid (Sykdomsdiagnosekode + 500)",null,null,8411061,null,0,0,1,9]
[8,4,1,1,999,"Annet sykdom",null,null,8411999,null,0,0,1,9]
[8,4,1,3,0,{"$f":"Produkt!H491","v":"Laboratorieprøver"},null,null,{"$f":"VALUE(A2072&B2072&C2072&D2072&IF(LEN(E2072)=1,\"00\"&E2072,IF(LEN(E2072)=2,\"0\"&E2072,E2072)))","v":8413000},null,{"$f":"IF(B2072=0,1,0)","v":0},{"$f":"IF(AND(D2072=0,E2072=0),1,0)","v":0},1,{"$f":"A2072+1","v":9}]
[8,4,1,3,1,"Blodprøver",null,null,8413001,null,0,0,1,9]
[8,4,1,3,{"$f":"E2073+1","v":2},"Speneprøver",null,null,8413002,null,0,0,1,9]
[8,4,1,3,{"$f":"E2074+1","v":3},"Husdyranalyser",null,null,8413003,null,{"$f":"IF(B2075=0,1,0)","v":0},{"$f":"IF(AND(D2075=0,E2075=0),1,0)","v":0},1,9]
[8,4,1,3,{"$f":"E2075+1","v":4},"Tankmelkanalyser",null,"Produkttester: Brukes på melk, ost, rømme mm",8413004,null,0,0,1,9]
[8,4,1,3,999,"Andre laboratorieprøver",null,null,8413999,null,0,0,1,9]
[8,4,2,0,0,{"$f":"Produkt!G492","v":"Rådgivingstjenester i husdyrproduksjon"},null,null,8420000,null,0,1,1,9]
[8,4,2,1,0,{"$f":"Produkt!H493","v":"Fôrplanlegging/-oppfølging"},null,null,8421000,null,0,0,1,9]
[8,4,2,1,{"$f":"E2079+1","v":1},"Fôrplanlegging",null,null,8421001,null,0,0,1,9]
[8,4,2,1,{"$f":"E2080+1","v":2},"Fôroppfølging",null,null,8421002,null,0,0,1,9]
[8,4,2,2,0,{"$f":"Produkt!H494","v":"Produksjonsplanlegging/-oppfølging"},null,null,8422000,null,0,0,1,9]
[8,4,2,2,{"$f":"E2082+1","v":1},"Avl og fruktbarhet",null,null,8422001,null,0,0,1,9]
[8,4,2,2,{"$f":"E2083+1","v":2},"Husdyrkontroll",null,null,8422002,null,0,0,1,9]
[8,4,2,2,{"$f":"E2084+1","v":3},"Melkekvalitet",null,null,8422003,null,0,0,1,9]
[8,4,2,2,{"$f":"E2085+1","v":4},"Melkingsutstyr",null,null,8422004,null,0,0,1,9]
[8,4,2,2,{"$f":"E2086+1","v":5},"Produksjonsøkonomi",null,null,8422005,null,0,0,1,9]
[8,4,2,2,{"$f":"E2087+1","v":6},"Klimarådgiving",null,null,{"$f":"VALUE(A2088&B2088&C2088&D2088&IF(LEN(E2088)=1,\"00\"&E2088,IF(LEN(E2088)=2,\"0\"&E2088,E2088)))","v":8422006},null,{"$f":"IF(B2088=0,1,0)","v":0},{"$f":"IF(AND(D2088=0,E2088=0),1,0)","v":0},1,{"$f":"A2088+1","v":9}]
[8,4,2,3,0,{"$f":"Produkt!H495","v":"Prøver/analyser"},null,null,8423000,null,0,0,1,9]
[8,4,2,3,1,"Fôrprøver",null,null,8423001,null,0,0,1,9]
[8,4,2,3,{"$f":"E2090+1","v":2},"Vannprøver",null,null,8423002,null,0,0,1,9]
[8,4,2,3,{"$f":"E2091+1","v":3},"Analyser",null,null,8423003,null,0,0,1,9]
[8,4,2,4,0,{"$f":"Produkt!H496","v":"Dyrehelse"},null,null,8424000,null,0,0,1,9]
[8,4,2,4,1,"Dyrehelse",null,null,8424001,null,{"$f":"IF(B2094=0,1,0)","v":0},{"$f":"IF(AND(D2094=0,E2094=0),1,0)","v":0},1,{"$f":"A2094+1","v":9}]
[8,4,2,5,0,{"$f":"Produkt!H497","v":"Adm bistand  i produksjon"},null,null,8425000,null,0,0,1,9]
[8,4,2,5,1,"KSL",null,null,8425001,null,0,0,1,9]
[8,4,2,5,2,"Brukerstøtte data (robot mm)",null,null,8425002,null,0,0,1,9]
[8,4,2,5,3,"Prosjektarbeid mot bonde",null,null,8425003,null,0,0,1,9]
[8,4,2,5,999,"Annen adm. bistand i produksjonen",null,null,8425999,null,0,0,1,9]
[8,4,2,6,0,{"$f":"Produkt!H498","v":"Kurs/møter/fagturer"},null,null,8426000,null,0,0,1,9]
[8,4,2,6,1,"Kurs",null,null,8426001,null,0,0,1,9]
[8,4,2,6,2,"Undervisning",null,null,8426002,null,0,0,1,9]
[8,4,2,6,3,"Informasjonsmøter",null,null,8426003,null,0,0,1,9]
[8,4,2,6,4,"Møter",null,null,8426004,null,0,0,1,9]
[8,4,2,6,5,"Fagturer",null,null,8426005,null,0,0,1,9]
[8,4,5,0,0,{"$f":"Produkt!G499","v":"Avløser, landbruksvikar"},null,null,8450000,null,0,1,1,9]
[8,4,5,2,0,{"$f":"Produkt!H501","v":"Landbruksvikar"},null,null,8452000,null,0,0,1,9]
[8,4,5,2,{"$f":"E2107+1","v":1},"Fjøsstell",null,null,8452001,null,0,0,1,9]
[8,4,5,2,2,"Nye innsett  (fjørfe)",null,null,8452002,null,0,0,1,9]
[8,4,5,2,3,"Plukking av fjørfe",null,null,8452003,null,0,0,1,9]
[8,4,5,2,4,"Vask av fjøs",null,null,8452004,null,0,0,1,9]
[8,4,5,2,5,"Planteproduksjon",null,null,8452005,null,0,0,1,9]
[8,4,5,2,6,"Vedlikehold utenom driftsbygning",null,null,8452006,null,0,0,1,9]
[8,4,5,2,7,"Vedlikehold driftsbygning??",null,null,8452007,null,0,0,1,9]
[8,4,5,2,999,"Diverse",null,null,8452999,null,0,0,1,9]
[8,5,0,0,0,{"$f":"Produkt!F502","v":"Produkter knyttet til lønn, admin. oppgaver, forsikring"},null,null,8500000,null,0,1,1,9]
[8,5,1,0,0,{"$f":"Produkt!G503","v":"Lønnskostnader"},null,"Endret jauar 2023 (ikke vært i bruk tidligere)",8510000,null,0,1,1,9]
[8,5,1,1,0,{"$f":"Produkt!H504","v":"Ledig"},null,"Satt ledig januar 2023 (har ikke vært i bruk)",8511000,null,0,0,1,9]
[8,5,1,1,1,"Ledig",null,"Satt ledig januar 2023 (har ikke vært i bruk)",8511001,null,0,0,1,9]
[8,5,1,1,{"$f":"E2119+1","v":2},"Ledig",null,"Satt ledig januar 2023 (har ikke vært i bruk)",8511002,null,0,0,1,9]
[8,5,1,1,{"$f":"E2120+1","v":3},"Ledig",null,"Satt ledig januar 2023 (har ikke vært i bruk)",8511003,null,0,0,1,9]
[8,5,1,1,4,"Ledig",null,"Satt ledig januar 2023 (har ikke vært i bruk)",8511004,null,0,0,1,9]
[8,5,1,1,5,"Ledig",null,"Satt ledig januar 2023 (har ikke vært i bruk)",8511005,null,0,0,1,9]
[8,5,1,1,6,"Ledig",null,"Satt ledig januar 2023 (har ikke vært i bruk)",8511006,null,0,0,1,9]
[8,5,1,1,7,"Ledig",null,"Satt ledig januar 2023 (har ikke vært i bruk)",8511007,null,0,0,1,9]
[8,5,1,1,8,"Ledig",null,"Satt ledig januar 2023 (har ikke vært i bruk)",8511008,null,0,0,1,9]
[8,5,1,1,999,"Ledig",null,"Satt ledig januar 2023 (har ikke vært i bruk)",8511999,null,0,0,1,9]
[8,5,1,2,0,{"$f":"Produkt!H505","v":"Ledig"},null,"Satt ledig januar 2023 (har ikke vært i bruk)",8512000,null,0,0,1,9]
[8,5,1,2,1,"Ledig",null,"Satt ledig januar 2023 (har ikke vært i bruk)",8512001,null,0,0,1,9]
[8,5,1,2,{"$f":"E2129+1","v":2},"Ledig",null,"Satt ledig januar 2023 (har ikke vært i bruk)",8512002,null,0,0,1,9]
[8,5,1,2,{"$f":"E2130+1","v":3},"Ledig",null,"Satt ledig januar 2023 (har ikke vært i bruk)",8512003,null,0,0,1,9]
[8,5,1,2,{"$f":"E2131+1","v":4},"Ledig",null,"Satt ledig januar 2023 (har ikke vært i bruk)",{"$f":"VALUE(A2132&B2132&C2132&D2132&IF(LEN(E2132)=1,\"00\"&E2132,IF(LEN(E2132)=2,\"0\"&E2132,E2132)))","v":8512004},null,0,0,1,9]
[8,5,1,2,{"$f":"E2132+1","v":5},"Ledig",null,"Satt ledig januar 2023 (har ikke vært i bruk)",8512005,null,0,0,1,9]
[8,5,1,2,{"$f":"E2133+1","v":6},"Ledig",null,"Satt ledig januar 2023 (har ikke vært i bruk)",8512006,null,0,0,1,9]
[8,5,1,2,999,"Ledig",null,"Satt ledig januar 2023 (har ikke vært i bruk)",8512999,null,0,0,1,9]
[8,5,1,3,0,{"$f":"Produkt!H506","v":"Ledig"},null,"Satt ledig januar 2023 (har ikke vært i bruk)",8513000,null,0,0,1,9]
[8,5,1,3,1,"Ledig",null,"Satt ledig januar 2023 (har ikke vært i bruk)",8513001,null,0,0,1,9]
[8,5,1,3,{"$f":"E2137+1","v":2},"Ledig",null,"Satt ledig januar 2023 (har ikke vært i bruk)",8513002,null,0,0,1,9]
[8,5,1,3,999,"Ledig",null,"Satt ledig januar 2023 (har ikke vært i bruk)",8513999,null,0,0,1,9]
[8,5,1,4,0,{"$f":"Produkt!H507","v":"Ledig"},null,"Satt ledig januar 2023 (har ikke vært i bruk)",8514000,null,0,0,1,9]
[8,5,1,4,1,"Ledig",null,"Satt ledig januar 2023 (har ikke vært i bruk)",8514001,null,0,0,1,9]
[8,5,1,4,{"$f":"E2141+1","v":2},"Ledig",null,"Satt ledig januar 2023 (har ikke vært i bruk)",8514002,null,0,0,1,9]
[8,5,1,4,3,"Ledig",null,"Satt ledig januar 2023 (har ikke vært i bruk)",8514003,null,0,0,1,9]
[8,5,1,4,4,"Ledig",null,"Satt ledig januar 2023 (har ikke vært i bruk)",8514004,null,0,0,1,9]
[8,5,1,4,5,"Ledig",null,"Satt ledig januar 2023 (har ikke vært i bruk)",8514005,null,0,0,1,9]
[8,5,1,4,6,"Ledig",null,"Satt ledig januar 2023 (har ikke vært i bruk)",8514006,null,0,0,1,{"$f":"A2146+1","v":9}]
[8,5,1,4,7,"Ledig",null,"Satt ledig januar 2023 (har ikke vært i bruk)",8514007,null,0,0,1,9]
[8,5,1,4,999,"Ledig",null,"Satt ledig januar 2023 (har ikke vært i bruk)",8514999,null,0,0,1,9]
[8,5,1,5,0,{"$f":"Produkt!H508","v":"Ledig"},null,"Satt ledig januar 2023 (har ikke vært i bruk)",8515000,null,0,0,1,9]
[8,5,1,5,1,"Ledig",null,"Satt ledig januar 2023 (har ikke vært i bruk)",8515001,null,0,0,1,9]
[8,5,1,5,{"$f":"E2150+1","v":2},"Ledig",null,"Satt ledig januar 2023 (har ikke vært i bruk)",8515002,null,0,0,1,9]
[8,5,1,5,999,"Ledig",null,"Satt ledig januar 2023 (har ikke vært i bruk)",8515999,null,0,0,1,9]
[8,5,1,6,0,{"$f":"Produkt!H509","v":"Ledig"},null,"Satt ledig januar 2023 (har ikke vært i bruk)",8516000,null,0,0,1,9]
[8,5,1,6,1,"Ledig",null,"Satt ledig januar 2023 (har ikke vært i bruk)",8516001,null,0,0,1,9]
[8,5,1,6,{"$f":"E2154+1","v":2},"Ledig",null,"Satt ledig januar 2023 (har ikke vært i bruk)",8516002,null,0,0,1,9]
[8,5,1,6,{"$f":"E2155+1","v":3},"Ledig",null,"Satt ledig januar 2023 (har ikke vært i bruk)",8516003,null,0,0,1,9]
[8,5,1,6,999,"Ledig",null,"Satt ledig januar 2023 (har ikke vært i bruk)",8516999,null,0,0,1,9]
[8,5,1,7,0,{"$f":"Produkt!H510","v":"Ledig"},null,"Satt ledig januar 2023 (har ikke vært i bruk)",8517000,null,0,0,1,9]
[8,5,1,7,1,"Ledig",null,"Satt ledig januar 2023 (har ikke vært i bruk)",8517001,null,0,0,1,9]
[8,5,1,7,{"$f":"E2159+1","v":2},"Ledig",null,"Satt ledig januar 2023 (har ikke vært i bruk)",8517002,null,0,0,1,9]
[8,5,1,7,999,"Ledig",null,"Satt ledig januar 2023 (har ikke vært i bruk)",8517999,null,0,0,1,9]
[8,5,2,0,0,{"$f":"Produkt!G511","v":"Fremmede tjenester og kontingent"},null,null,8520000,null,{"$f":"IF(B2162=0,1,0)","v":0},{"$f":"IF(AND(D2162=0,E2162=0),1,0)","v":1},1,9]
[8,5,2,1,0,{"$f":"Produkt!H512","v":"Administrasjon generelt"},null,null,8521000,null,0,0,1,9]
[8,5,2,2,0,{"$f":"Produkt!H513","v":"Kontingenter"},null,null,8522000,null,0,0,1,9]
[8,5,2,2,{"$f":"E2164+1","v":1},"Personlig kontingent til Norges Bondelag (fri for mva.)",null,null,8522001,null,0,0,1,9]
[8,5,2,2,{"$f":"E2165+1","v":2},"Servicekontingent - fast",null,null,8522002,null,0,0,1,9]
[8,5,2,2,3,"Areal til drift innmark",null,null,8522003,null,0,0,1,9]
[8,5,2,2,4,"Utmark og skog",null,null,8522004,null,0,0,1,9]
[8,5,2,2,5,"Produksjonskontingent",null,null,8522005,null,0,0,1,9]
[8,5,2,2,999,"Anndre kontingenter",null,null,8522999,null,0,0,1,9]
[8,5,3,0,0,{"$f":"Produkt!G521","v":"Kontorkostnader, trykksaker"},null,null,{"$f":"VALUE(A2171&B2171&C2171&D2171&IF(LEN(E2171)=1,\"00\"&E2171,IF(LEN(E2171)=2,\"0\"&E2171,E2171)))","v":8530000},null,{"$f":"IF(B2171=0,1,0)","v":0},{"$f":"IF(AND(D2171=0,E2171=0),1,0)","v":1},1,{"$f":"A2171+1","v":9}]
[8,5,3,1,0,{"$f":"Produkt!H522","v":"Kontorrekvisita"},null,null,{"$f":"VALUE(A2172&B2172&C2172&D2172&IF(LEN(E2172)=1,\"00\"&E2172,IF(LEN(E2172)=2,\"0\"&E2172,E2172)))","v":8531000},null,{"$f":"IF(B2172=0,1,0)","v":0},{"$f":"IF(AND(D2172=0,E2172=0),1,0)","v":0},1,{"$f":"A2172+1","v":9}]
[8,5,3,2,0,{"$f":"Produkt!H523","v":"Programvare"},null,null,{"$f":"VALUE(A2173&B2173&C2173&D2173&IF(LEN(E2173)=1,\"00\"&E2173,IF(LEN(E2173)=2,\"0\"&E2173,E2173)))","v":8532000},null,{"$f":"IF(B2173=0,1,0)","v":0},{"$f":"IF(AND(D2173=0,E2173=0),1,0)","v":0},1,{"$f":"A2173+1","v":9}]
[8,5,3,3,0,{"$f":"Produkt!H524","v":"Kurs generelt"},null,null,{"$f":"VALUE(A2174&B2174&C2174&D2174&IF(LEN(E2174)=1,\"00\"&E2174,IF(LEN(E2174)=2,\"0\"&E2174,E2174)))","v":8533000},null,{"$f":"IF(B2174=0,1,0)","v":0},{"$f":"IF(AND(D2174=0,E2174=0),1,0)","v":0},1,{"$f":"A2174+1","v":9}]
[8,5,4,1,0,{"$f":"Produkt!H525","v":"Elektronisk kommunikasjon"},null,null,{"$f":"VALUE(A2175&B2175&C2175&D2175&IF(LEN(E2175)=1,\"00\"&E2175,IF(LEN(E2175)=2,\"0\"&E2175,E2175)))","v":8541000},null,{"$f":"IF(B2175=0,1,0)","v":0},{"$f":"IF(AND(D2175=0,E2175=0),1,0)","v":0},1,{"$f":"A2175+1","v":9}]
[8,5,4,1,1,"Engangspriser",null,null,{"$f":"VALUE(A2176&B2176&C2176&D2176&IF(LEN(E2176)=1,\"00\"&E2176,IF(LEN(E2176)=2,\"0\"&E2176,E2176)))","v":8541001},null,{"$f":"IF(B2176=0,1,0)","v":0},{"$f":"IF(AND(D2176=0,E2176=0),1,0)","v":0},1,{"$f":"A2176+1","v":9}]
[8,5,4,1,{"$f":"E2176+1","v":2},"Fastepriser",null,null,{"$f":"VALUE(A2177&B2177&C2177&D2177&IF(LEN(E2177)=1,\"00\"&E2177,IF(LEN(E2177)=2,\"0\"&E2177,E2177)))","v":8541002},null,{"$f":"IF(B2177=0,1,0)","v":0},{"$f":"IF(AND(D2177=0,E2177=0),1,0)","v":0},1,{"$f":"A2177+1","v":9}]
[8,5,4,1,3,"Finansiering (SWAP/SVITSJ)",null,null,{"$f":"VALUE(A2178&B2178&C2178&D2178&IF(LEN(E2178)=1,\"00\"&E2178,IF(LEN(E2178)=2,\"0\"&E2178,E2178)))","v":8541003},null,{"$f":"IF(B2178=0,1,0)","v":0},{"$f":"IF(AND(D2178=0,E2178=0),1,0)","v":0},1,{"$f":"A2178+1","v":9}]
[8,5,4,1,4,"Bruk",null,null,{"$f":"VALUE(A2179&B2179&C2179&D2179&IF(LEN(E2179)=1,\"00\"&E2179,IF(LEN(E2179)=2,\"0\"&E2179,E2179)))","v":8541004},null,{"$f":"IF(B2179=0,1,0)","v":0},{"$f":"IF(AND(D2179=0,E2179=0),1,0)","v":0},1,{"$f":"A2179+1","v":9}]
[8,5,4,1,5,"Inkluderte ringeminutter",null,null,{"$f":"VALUE(A2180&B2180&C2180&D2180&IF(LEN(E2180)=1,\"00\"&E2180,IF(LEN(E2180)=2,\"0\"&E2180,E2180)))","v":8541005},null,{"$f":"IF(B2180=0,1,0)","v":0},{"$f":"IF(AND(D2180=0,E2180=0),1,0)","v":0},1,{"$f":"A2180+1","v":9}]
[8,5,4,1,6,"Innholdstjenester",null,null,{"$f":"VALUE(A2181&B2181&C2181&D2181&IF(LEN(E2181)=1,\"00\"&E2181,IF(LEN(E2181)=2,\"0\"&E2181,E2181)))","v":8541006},null,{"$f":"IF(B2181=0,1,0)","v":0},{"$f":"IF(AND(D2181=0,E2181=0),1,0)","v":0},1,{"$f":"A2181+1","v":9}]
[8,5,4,1,7,"Rabatter",null,null,{"$f":"VALUE(A2182&B2182&C2182&D2182&IF(LEN(E2182)=1,\"00\"&E2182,IF(LEN(E2182)=2,\"0\"&E2182,E2182)))","v":8541007},null,{"$f":"IF(B2182=0,1,0)","v":0},{"$f":"IF(AND(D2182=0,E2182=0),1,0)","v":0},1,{"$f":"A2182+1","v":9}]
[8,5,4,1,8,"Andre avgifter",null,"Avgiftsfritt",{"$f":"VALUE(A2183&B2183&C2183&D2183&IF(LEN(E2183)=1,\"00\"&E2183,IF(LEN(E2183)=2,\"0\"&E2183,E2183)))","v":8541008},null,{"$f":"IF(B2183=0,1,0)","v":0},{"$f":"IF(AND(D2183=0,E2183=0),1,0)","v":0},1,{"$f":"A2183+1","v":9}]
[8,5,6,0,0,{"$f":"Produkt!G526","v":"Forsikring"},null,null,8560000,null,{"$f":"IF(B2184=0,1,0)","v":0},{"$f":"IF(AND(D2184=0,E2184=0),1,0)","v":1},1,{"$f":"A2184+1","v":9}]
[8,5,6,1,0,{"$f":"Produkt!H527","v":"Bygninger og anlegg i næring"},null,null,8561000,null,0,0,1,9]
[8,5,6,1,{"$f":"E2185+1","v":1},"Driftsbygning",null,null,8561001,null,0,0,1,9]
[8,5,6,1,{"$f":"E2186+1","v":2},"Driftsbygning(Del av bygning)",null,null,8561002,null,0,0,1,9]
[8,5,6,1,3,"Lager-/redskap-/garasjebygg",null,null,8561003,null,0,0,1,9]
[8,5,6,1,4,"Seterhus",null,null,8561004,null,0,0,1,9]
[8,5,6,1,5,"Veksthus",null,null,8561005,null,0,0,1,9]
[8,5,6,1,100,"Bygningsteknisk anlegg",null,null,8561100,null,0,0,1,9]
[8,5,6,1,999,"Andre næringsbygg",null,null,8561999,null,0,0,1,9]
[8,5,6,2,0,{"$f":"Produkt!H528","v":"Husdyrproduksjon"},null,null,8562000,null,{"$f":"IF(B2193=0,1,0)","v":0},{"$f":"IF(AND(D2193=0,E2193=0),1,0)","v":0},1,{"$f":"A2193+1","v":9}]
[8,5,6,2,{"$f":"E2193+1","v":1},"Storfe",null,"Melk/Kjøtt",8562001,null,0,0,1,9]
[8,5,6,2,{"$f":"E2194+1","v":2},"Sau",null,null,8562002,null,0,0,1,9]
[8,5,6,2,3,"Geit",null,null,8562003,null,0,0,1,9]
[8,5,6,2,4,"Gris",null,"Driftsinntekt",8562004,null,0,0,1,9]
[8,5,6,2,5,"Fjørfe",null,null,8562005,null,0,0,1,9]
[8,5,6,2,6,"Hest",null,null,8562006,null,0,0,1,9]
[8,5,6,2,7,"Hund",null,null,8562007,null,0,0,1,9]
[8,5,6,2,999,"Andre dyr",null,null,8562999,null,0,0,1,9]
[8,5,6,3,0,{"$f":"Produkt!H529","v":"Maskiner og driftsløsøre"},null,null,8563000,null,{"$f":"IF(B2202=0,1,0)","v":0},{"$f":"IF(AND(D2202=0,E2202=0),1,0)","v":0},1,{"$f":"A2202+1","v":9}]
[8,5,6,3,1,"Traktorer",null,null,8563001,null,0,0,1,9]
[8,5,6,3,{"$f":"E2203+1","v":2},"Skurtresker",null,null,8563002,null,0,0,1,9]
[8,5,6,3,{"$f":"E2204+1","v":3},"Rundballepresse",null,null,8563003,null,0,0,1,9]
[8,5,6,3,{"$f":"E2205+1","v":4},"Melkerobot",null,"Flyttet fra driftsbygning",8563004,null,0,0,1,9]
[8,5,6,3,{"$f":"E2206+1","v":5},"Driftsløsøre",null,null,8563005,null,0,0,1,9]
[8,5,6,3,999,"Annet maskinløsøre",null,null,8563999,null,0,0,1,9]
[8,5,6,4,0,{"$f":"Produkt!H530","v":"Avlinger"},null,null,8564000,null,{"$f":"IF(B2209=0,1,0)","v":0},{"$f":"IF(AND(D2209=0,E2209=0),1,0)","v":0},1,{"$f":"A2209+1","v":9}]
[8,5,6,4,1,"Lager",null,null,8564001,null,0,0,1,9]
[8,5,6,4,{"$f":"E2210+1","v":2},"Kulturer",null,"Frukt og bær, veksthus?",8564002,null,0,0,1,9]
[8,5,6,4,999,"Annet",null,null,{"$f":"VALUE(A2212&B2212&C2212&D2212&IF(LEN(E2212)=1,\"00\"&E2212,IF(LEN(E2212)=2,\"0\"&E2212,E2212)))","v":8564999},null,{"$f":"IF(B2212=0,1,0)","v":0},{"$f":"IF(AND(D2212=0,E2212=0),1,0)","v":0},1,{"$f":"A2212+1","v":9}]
[8,5,6,5,0,{"$f":"Produkt!H531","v":"Forsikring annet drift"},null,null,8565000,null,{"$f":"IF(B2213=0,1,0)","v":0},{"$f":"IF(AND(D2213=0,E2213=0),1,0)","v":0},1,{"$f":"A2213+1","v":9}]
[8,5,6,5,1,"Transportforsikringer",null,null,8565001,null,0,0,1,9]
[8,5,6,5,{"$f":"E2214+1","v":2},"Avbruddsforsikring",null,null,8565002,null,0,0,1,9]
[8,5,6,5,999,"Andre forsikringer drift",null,null,8565999,null,0,0,1,9]
[8,5,6,6,0,{"$f":"Produkt!H532","v":"Kårbolig"},null,null,8566000,null,0,0,1,9]
[8,5,6,7,0,{"$f":"Produkt!H533","v":"Utleiebolig"},null,null,8567000,null,{"$f":"IF(B2218=0,1,0)","v":0},{"$f":"IF(AND(D2218=0,E2218=0),1,0)","v":0},1,{"$f":"A2218+1","v":9}]
[8,5,6,8,0,{"$f":"Produkt!H534","v":"Bil i Næring"},null,null,8568000,null,0,0,1,9]
[8,5,6,9,0,{"$f":"Produkt!H535","v":"Skogforsikringer"},null,null,8569000,null,0,0,1,9]
[8,5,7,1,0,{"$f":"Produkt!H536","v":"Personal og personforsikringer i næring"},null,null,8571000,null,0,0,1,9]
[8,5,7,1,1,"Yrkesskadeforsikring",null,null,{"$f":"VALUE(A2222&B2222&C2222&D2222&IF(LEN(E2222)=1,\"00\"&E2222,IF(LEN(E2222)=2,\"0\"&E2222,E2222)))","v":8571001},null,{"$f":"IF(B2222=0,1,0)","v":0},{"$f":"IF(AND(D2222=0,E2222=0),1,0)","v":0},1,{"$f":"A2222+1","v":9}]
[8,5,7,1,{"$f":"E2222+1","v":2},"Pensjonsforsikring ansatte",null,null,{"$f":"VALUE(A2223&B2223&C2223&D2223&IF(LEN(E2223)=1,\"00\"&E2223,IF(LEN(E2223)=2,\"0\"&E2223,E2223)))","v":8571002},null,{"$f":"IF(B2223=0,1,0)","v":0},{"$f":"IF(AND(D2223=0,E2223=0),1,0)","v":0},1,{"$f":"A2223+1","v":9}]
[8,5,7,1,{"$f":"E2223+1","v":3},"Pensjonsforsikring, eier/driver ",null,null,{"$f":"VALUE(A2224&B2224&C2224&D2224&IF(LEN(E2224)=1,\"00\"&E2224,IF(LEN(E2224)=2,\"0\"&E2224,E2224)))","v":8571003},null,{"$f":"IF(B2224=0,1,0)","v":0},{"$f":"IF(AND(D2224=0,E2224=0),1,0)","v":0},1,{"$f":"A2224+1","v":9}]
[8,5,7,1,9,"Andre personalforsiknringer",null,null,{"$f":"VALUE(A2225&B2225&C2225&D2225&IF(LEN(E2225)=1,\"00\"&E2225,IF(LEN(E2225)=2,\"0\"&E2225,E2225)))","v":8571009},null,{"$f":"IF(B2225=0,1,0)","v":0},{"$f":"IF(AND(D2225=0,E2225=0),1,0)","v":0},1,{"$f":"A2225+1","v":9}]
[8,5,7,9,0,{"$f":"Produkt!H537","v":"Private forsikringer"},null,null,8579000,null,0,0,1,9]
[8,5,7,9,{"$f":"E2226+1","v":1},"Våningshus",null,null,{"$f":"VALUE(A2227&B2227&C2227&D2227&IF(LEN(E2227)=1,\"00\"&E2227,IF(LEN(E2227)=2,\"0\"&E2227,E2227)))","v":8579001},null,{"$f":"IF(B2227=0,1,0)","v":0},{"$f":"IF(AND(D2227=0,E2227=0),1,0)","v":0},1,{"$f":"A2227+1","v":9}]
[8,5,7,9,{"$f":"E2227+1","v":2},"Private biler",null,null,{"$f":"VALUE(A2228&B2228&C2228&D2228&IF(LEN(E2228)=1,\"00\"&E2228,IF(LEN(E2228)=2,\"0\"&E2228,E2228)))","v":8579002},null,{"$f":"IF(B2228=0,1,0)","v":0},{"$f":"IF(AND(D2228=0,E2228=0),1,0)","v":0},1,{"$f":"A2228+1","v":9}]
[8,5,7,9,999,"Andre private forsikringer",null,null,{"$f":"VALUE(A2229&B2229&C2229&D2229&IF(LEN(E2229)=1,\"00\"&E2229,IF(LEN(E2229)=2,\"0\"&E2229,E2229)))","v":8579999},null,{"$f":"IF(B2229=0,1,0)","v":0},{"$f":"IF(AND(D2229=0,E2229=0),1,0)","v":0},1,{"$f":"A2229+1","v":9}]
[8,6,0,0,0,{"$f":"Produkt!F538","v":"Produkter knyttet til varige driftsmidler"},null,null,{"$f":"VALUE(A2230&B2230&C2230&D2230&IF(LEN(E2230)=1,\"00\"&E2230,IF(LEN(E2230)=2,\"0\"&E2230,E2230)))","v":8600000},null,{"$f":"IF(B2230=0,1,0)","v":0},{"$f":"IF(AND(D2230=0,E2230=0),1,0)","v":1},1,{"$f":"A2230+1","v":9}]
[8,6,1,0,0,{"$f":"Produkt!G539","v":"Motoriserte driftsmiddel"},null,null,{"$f":"VALUE(A2231&B2231&C2231&D2231&IF(LEN(E2231)=1,\"00\"&E2231,IF(LEN(E2231)=2,\"0\"&E2231,E2231)))","v":8610000},null,{"$f":"IF(B2231=0,1,0)","v":0},{"$f":"IF(AND(D2231=0,E2231=0),1,0)","v":1},1,9]
[8,6,1,1,0,{"$f":"Produkt!H540","v":"Traktor"},null,null,8611000,null,0,0,1,9]
[8,6,1,1,{"$f":"E2232+1","v":1},"Traktor < 50 hk (< 38kW)",null,null,8611001,null,0,0,1,9]
[8,6,1,1,{"$f":"E2233+1","v":2},"Traktor  50 - 100 hk (38 - 75 kW)",null,null,8611002,null,0,0,1,9]
[8,6,1,1,3,"Traktor  100 - 200 hk (75 - 150 kW)",null,null,8611003,null,0,0,1,9]
[8,6,1,1,4,"Traktor  200 - 300 hk (150 - 225 kW)",null,null,8611004,null,0,0,1,9]
[8,6,1,1,5,"Traktor  300 - 400 hk (225 - 300 kW)",null,null,8611005,null,0,0,1,9]
[8,6,1,1,6,"Traktor  400 - 500 hk (300 - 375 kW)",null,null,8611006,null,0,0,1,9]
[8,6,1,1,7,"Traktor  > 500 hk (> 375 kW)",null,null,8611007,null,0,0,1,9]
[8,6,1,2,0,{"$f":"Produkt!H541","v":"Skurtresker"},null,null,{"$f":"VALUE(A2240&B2240&C2240&D2240&IF(LEN(E2240)=1,\"00\"&E2240,IF(LEN(E2240)=2,\"0\"&E2240,E2240)))","v":8612000},null,{"$f":"IF(B2240=0,1,0)","v":0},{"$f":"IF(AND(D2240=0,E2240=0),1,0)","v":0},1,{"$f":"A2240+1","v":9}]
[8,6,1,2,{"$f":"E2240+1","v":1},"Skurtresker skjærebredde < 4 m",null,null,8612001,null,0,0,1,9]
[8,6,1,2,{"$f":"E2241+1","v":2},"Skurtresker skjærebredde  4 - 6 m",null,null,8612002,null,0,0,1,9]
[8,6,1,2,3,"Skurtresker skjærebredde  6 - 8 m",null,null,8612003,null,0,0,1,9]
[8,6,1,2,4,"Skurtresker skjærebredde  8 - 10 m",null,null,8612004,null,0,0,1,9]
[8,6,1,2,5,"Skurtresker skjærebredde  10 - 12 m",null,null,8612005,null,0,0,1,9]
[8,6,1,2,6,"Skurtresker skjærebredde  12 - 14 m",null,null,8612006,null,0,0,1,9]
[8,6,1,2,7,"Skurtresker skjærebredde  > 14 m",null,null,8612007,null,0,0,1,9]
[8,6,1,3,0,{"$f":"Produkt!H542","v":"Gravemaskin"},null,null,8613000,null,{"$f":"IF(B2248=0,1,0)","v":0},{"$f":"IF(AND(D2248=0,E2248=0),1,0)","v":0},1,{"$f":"A2248+1","v":9}]
[8,6,1,3,{"$f":"E2248+1","v":1},"Traktorgraver",null,null,{"$f":"VALUE(A2249&B2249&C2249&D2249&IF(LEN(E2249)=1,\"00\"&E2249,IF(LEN(E2249)=2,\"0\"&E2249,E2249)))","v":8613001},null,0,0,1,9]
[8,6,1,3,{"$f":"E2249+1","v":2},"Gravelaster",null,null,8613002,null,0,0,1,9]
[8,6,1,3,3,"Hjulgraver",null,null,8613003,null,0,0,1,9]
[8,6,1,3,4,"Beltegraver",null,null,8613004,null,0,0,1,9]
[8,6,1,4,0,{"$f":"Produkt!H543","v":"Annet motorisert driftsmiddel"},null,null,{"$f":"VALUE(A2253&B2253&C2253&D2253&IF(LEN(E2253)=1,\"00\"&E2253,IF(LEN(E2253)=2,\"0\"&E2253,E2253)))","v":8614000},null,{"$f":"IF(B2253=0,1,0)","v":0},{"$f":"IF(AND(D2253=0,E2253=0),1,0)","v":0},1,{"$f":"A2253+1","v":9}]
[8,6,1,4,{"$f":"E2253+1","v":1},"Kompaktlaster/minilastere",null,null,8614001,null,0,0,1,9]
[8,6,1,4,{"$f":"E2254+1","v":2},"ATV",null,null,8614002,null,0,0,1,9]
[8,6,1,4,3,"UTV",null,null,8614003,null,0,0,1,9]
[8,6,1,4,4,"XTV",null,null,8614004,null,0,0,1,9]
[8,6,1,4,5,"Hjullaster",null,null,8614005,null,0,0,1,9]
[8,6,1,5,0,{"$f":"Produkt!H544","v":"Bil i Næring"},null,null,{"$f":"VALUE(A2259&B2259&C2259&D2259&IF(LEN(E2259)=1,\"00\"&E2259,IF(LEN(E2259)=2,\"0\"&E2259,E2259)))","v":8615000},null,{"$f":"IF(B2259=0,1,0)","v":0},{"$f":"IF(AND(D2259=0,E2259=0),1,0)","v":0},1,{"$f":"A2259+1","v":9}]
[8,6,1,5,{"$f":"E2259+1","v":1},"Personbil",null,null,8615001,null,0,0,1,9]
[8,6,1,5,{"$f":"E2260+1","v":2},"Varebil klasse 1",null,null,8615002,null,0,0,1,9]
[8,6,1,5,3,"Varebil klasse 2",null,null,8615003,null,0,0,1,9]
[8,6,1,5,4,"Lett lastebil",null,null,8615004,null,0,0,1,9]
[8,6,1,5,5,"Tung lastebil",null,null,8615005,null,0,0,1,9]
[8,6,2,0,0,{"$f":"Produkt!G545","v":"Maskiner og redskaper"},null,null,{"$f":"VALUE(A2265&B2265&C2265&D2265&IF(LEN(E2265)=1,\"00\"&E2265,IF(LEN(E2265)=2,\"0\"&E2265,E2265)))","v":8620000},null,{"$f":"IF(B2265=0,1,0)","v":0},{"$f":"IF(AND(D2265=0,E2265=0),1,0)","v":1},1,{"$f":"A2265+1","v":9}]
[8,6,2,1,0,{"$f":"Produkt!H546","v":"Jordbearbeidingsredskaper"},null,"H.GR. 01 - Jordbearbeidingsredsk.",8621000,null,0,0,1,9]
[8,6,2,1,10,"Teigploger",null,null,8621010,null,0,0,1,9]
[8,6,2,1,20,"Vendeploger",null,null,8621020,null,0,0,1,9]
[8,6,2,1,50,"Djupgruppere",null,null,8621050,null,0,0,1,9]
[8,6,2,1,60,"Kultivatorer, tinder og skåler",null,null,8621060,null,0,0,1,9]
[8,6,2,1,70,"Såbedsharver",null,null,8621070,null,0,0,1,9]
[8,6,2,1,71,"Såbedsharver - slep",null,null,8621071,null,0,0,1,9]
[8,6,2,1,72,"Såbedsharver - 3-punkt",null,null,8621072,null,0,0,1,9]
[8,6,2,1,80,"Skålharver",null,null,8621080,null,0,0,1,9]
[8,6,2,1,90,"Spaknivharver (rotorharver)",null,null,8621090,null,0,0,1,9]
[8,6,2,1,100,"Ugrasharver",null,null,8621100,null,0,0,1,9]
[8,6,2,1,110,"Jordfresere / stivtindfres",null,null,8621110,null,0,0,1,9]
[8,6,2,1,130,"Horisontalrotorharver",null,null,8621130,null,0,0,1,9]
[8,6,2,1,140,"Slodder",null,null,8621140,null,0,0,1,9]
[8,6,2,1,150,"Tromler",null,null,8621150,null,0,0,1,9]
[8,6,2,1,160,"Steinsvanser",null,null,8621160,null,0,0,1,9]
[8,6,2,1,170,"Steinriver",null,null,8621170,null,0,0,1,9]
[8,6,2,1,180,"Stenstrengleggere",null,null,8621180,null,0,0,1,9]
[8,6,2,1,190,"Steinsamlere",null,null,8621190,null,0,0,1,9]
[8,6,2,2,0,{"$f":"Produkt!H547","v":"Gjødselutstyr"},null,"H.GR. 02 - Gjødselutstyr",{"$f":"VALUE(A2285&B2285&C2285&D2285&IF(LEN(E2285)=1,\"00\"&E2285,IF(LEN(E2285)=2,\"0\"&E2285,E2285)))","v":8622000},null,{"$f":"IF(B2285=0,1,0)","v":0},{"$f":"IF(AND(D2285=0,E2285=0),1,0)","v":0},1,{"$f":"A2285+1","v":9}]
[8,6,2,2,10,"Kunstgjødselspredere",null,null,8622010,null,0,0,1,9]
[8,6,2,2,11,"Kunstgjødselspredere En-skivet",null,null,8622011,null,0,0,1,9]
[8,6,2,2,12,"Kunstgjødselspredere To-skivet",null,null,8622012,null,0,0,1,9]
[8,6,2,2,13,"Kunstgjødselspredere Pendel",null,null,8622013,null,0,0,1,9]
[8,6,2,2,30,"Naturgjødselspr. (buksert)",null,null,8622030,null,0,0,1,9]
[8,6,2,2,40,"Gjødseltankvogner",null,null,8622040,null,0,0,1,9]
[8,6,2,2,41,"Gjødseltankvogner under 10 m3",null,null,8622041,null,0,0,1,9]
[8,6,2,2,42,"Gjødseltankvogner over 10 m3",null,null,8622042,null,0,0,1,9]
[8,6,2,2,50,"Vakuum- og kombitankvogner",null,null,8622050,null,0,0,1,9]
[8,6,2,2,51,"Vakuum/kombitankvogner under 10 m3",null,null,8622051,null,0,0,1,9]
[8,6,2,2,52,"Vakuum/kombitankvogner over 10 m3",null,null,8622052,null,0,0,1,9]
[8,6,2,2,60,"Gjødselpumper - dykkpumper min 5 kW",null,null,8622060,null,0,0,1,9]
[8,6,2,2,61,"Gjødselpumper Hydrauliske pumper",null,null,8622061,null,0,0,1,9]
[8,6,2,2,62,"Gjødselpumper Elektriske pumper",null,null,8622062,null,0,0,1,9]
[8,6,2,2,70,"Gjødselpumper - langstammede (lodd og skrå)",null,null,8622070,null,0,0,1,9]
[8,6,2,2,80,"Gjødselpumper - portmontert",null,null,8622080,null,0,0,1,9]
[8,6,2,2,90,"Gjødselporter",null,null,8622090,null,0,0,1,9]
[8,6,2,2,100,"Gjødselmixere",null,null,8622100,null,0,0,1,9]
[8,6,2,2,110,"Gyllepumper, høytrykk",null,null,8622110,null,0,0,1,9]
[8,6,2,2,120,"Gjødselspredere",null,null,8622120,null,0,0,1,9]
[8,6,2,2,121,"Gjødselspredere Slangespredere - traktormonterte",null,null,8622121,null,0,0,1,9]
[8,6,2,2,122,"Gjødselspredere Slepeslangespredere (stripespreder)",null,null,8622122,null,0,0,1,9]
[8,6,2,2,130,"Gjødselnedfellere",null,null,8622130,null,0,0,1,9]
[8,6,2,3,0,{"$f":"Produkt!H548","v":"Så- og plantemaskiner"},null,"H.GR. 03 - Så- og plantemaskiner",{"$f":"VALUE(A2309&B2309&C2309&D2309&IF(LEN(E2309)=1,\"00\"&E2309,IF(LEN(E2309)=2,\"0\"&E2309,E2309)))","v":8623000},null,0,0,1,9]
[8,6,2,3,10,"Kombisåmaskiner",null,null,{"$f":"VALUE(A2310&B2310&C2310&D2310&IF(LEN(E2310)=1,\"00\"&E2310,IF(LEN(E2310)=2,\"0\"&E2310,E2310)))","v":8623010},null,{"$f":"IF(B2310=0,1,0)","v":0},{"$f":"IF(AND(D2310=0,E2310=0),1,0)","v":0},1,{"$f":"A2310+1","v":9}]
[8,6,2,3,11,"Kombisåmaskiner Luftassistert",null,null,8623011,null,0,0,1,9]
[8,6,2,3,12,"Kombisåmaskin",null,null,8623012,null,0,0,1,9]
[8,6,2,3,20,"Såmaskiner - korn",null,null,8623020,null,0,0,1,9]
[8,6,2,3,21,"Såmaskiner - korn Luftassistert",null,null,8623021,null,0,0,1,9]
[8,6,2,3,22,"Såmaskiner - korn Kombisåmaskin",null,null,8623022,null,0,0,1,9]
[8,6,2,3,30,"Såmaskiner - frø",null,null,8623030,null,0,0,1,9]
[8,6,2,3,31,"Såmaskiner - frø Luftassistert",null,null,8623031,null,0,0,1,9]
[8,6,2,3,32,"Såmaskiner - frø Kombimaskin",null,null,8623032,null,0,0,1,9]
[8,6,2,3,40,"Enfrøsåmaskiner",null,null,8623040,null,0,0,1,9]
[8,6,2,3,50,"Potetsettere",null,null,8623050,null,0,0,1,9]
[8,6,2,3,60,"Radrenser-/hyppeutstyr",null,null,8623060,null,0,0,1,9]
[8,6,2,3,70,"Plantemaskiner",null,null,8623070,null,0,0,1,9]
[8,6,2,4,0,{"$f":"Produkt!H549","v":"Gras- og høybergingsutstyr"},null,"H.GR. 04 - Gras- og høybergingsutstyr",8624000,null,{"$f":"IF(B2323=0,1,0)","v":0},{"$f":"IF(AND(D2323=0,E2323=0),1,0)","v":0},1,{"$f":"A2323+1","v":9}]
[8,6,2,4,10,"Motorslåmaskiner hjulgående",null,null,{"$f":"VALUE(A2324&B2324&C2324&D2324&IF(LEN(E2324)=1,\"00\"&E2324,IF(LEN(E2324)=2,\"0\"&E2324,E2324)))","v":8624010},null,{"$f":"IF(B2324=0,1,0)","v":0},{"$f":"IF(AND(D2324=0,E2324=0),1,0)","v":0},1,{"$f":"A2324+1","v":9}]
[8,6,2,4,20,"Slåmaskiner u/stengelbehandler",null,null,8624020,null,0,0,1,9]
[8,6,2,4,21,"Slåmaskiner u/stengelbehandler 3-punktmontert",null,null,8624021,null,0,0,1,9]
[8,6,2,4,22,"Slåmaskiner u/stengelbehandler Slepemontert",null,null,8624022,null,0,0,1,9]
[8,6,2,4,23,"Slåmaskiner u/stengelbehandler Frontmontert",null,null,8624023,null,0,0,1,9]
[8,6,2,4,24,"Slåmaskiner u/stengelbehandler Butterfly (uten frontmaskin)",null,null,8624024,null,0,0,1,9]
[8,6,2,4,30,"Slåmaskiner m/stengelbehandler",null,null,8624030,null,0,0,1,9]
[8,6,2,4,31,"Slåmaskiner m/stengelbehandler 3-punktmontert",null,null,8624031,null,0,0,1,9]
[8,6,2,4,32,"Slåmaskiner m/stengelbehandler Slepemontert",null,null,8624032,null,0,0,1,9]
[8,6,2,4,33,"Slåmaskiner m/stengelbehandler Frontmontert",null,null,8624033,null,0,0,1,9]
[8,6,2,4,34,"Slåmaskiner m/stengelbehandler Butterfly (uten frontmaskin) ",null,null,8624034,null,0,0,1,9]
[8,6,2,4,40,"Sidevenderiver (kjeder/belter)",null,null,8624040,null,0,0,1,9]
[8,6,2,4,50,"Kombiriver (universal)",null,null,8624050,null,0,0,1,9]
[8,6,2,4,60,"Samleriver",null,null,8624060,null,0,0,1,9]
[8,6,2,4,61,"Samleriver Slepemontert",null,null,8624061,null,0,0,1,9]
[8,6,2,4,62,"Samleriver 3-punktmontert",null,null,8624062,null,0,0,1,9]
[8,6,2,4,70,"Venderiver",null,null,8624070,null,0,0,1,9]
[8,6,2,4,71,"Venderiver Slepemontert",null,null,8624071,null,0,0,1,9]
[8,6,2,4,72,"Venderiver 3-punktmontert",null,null,8624072,null,0,0,1,9]
[8,6,2,4,80,"Slaghøstere",null,null,8624080,null,0,0,1,9]
[8,6,2,4,81,"Slaghøstere Fôrhøstere",null,null,8624081,null,0,0,1,9]
[8,6,2,4,82,"Slaghøstere Dobbeltkuttere",null,null,8624082,null,0,0,1,9]
[8,6,2,4,90,"Eksaktkuttere",null,null,8624090,null,0,0,1,9]
[8,6,2,4,91,"Eksaktkuttere Traktormontert ",null,null,8624091,null,0,0,1,9]
[8,6,2,4,92,"Eksaktkuttere Selvgående",null,null,8624092,null,0,0,1,9]
[8,6,2,4,100,"Halmsnittere ",null,null,8624100,null,0,0,1,9]
[8,6,2,4,110,"Beitepussere ",null,null,8624110,null,0,0,1,9]
[8,6,2,4,120,"Kantklippere",null,null,8624120,null,0,0,1,9]
[8,6,2,4,130,"Avlesservogner (universalvogner)",null,null,8624130,null,0,0,1,9]
[8,6,2,4,140,"Lessevogner",null,null,8624140,null,0,0,1,9]
[8,6,2,4,150,"Små firkantpresser",null,null,8624150,null,0,0,1,9]
[8,6,2,4,160,"Store firkantpresser",null,null,8624160,null,0,0,1,9]
[8,6,2,4,170,"Rundballepresser",null,null,8624170,null,0,0,1,9]
[8,6,2,4,171,"Rundballepresser Fastkammer (singelpresse)",null,null,8624171,null,0,0,1,9]
[8,6,2,4,172,"Rundballepresser Variabelt (singelpresse)",null,null,8624172,null,0,0,1,9]
[8,6,2,4,173,"Rundballepresser Fastkammer kombipresse",null,null,8624173,null,0,0,1,9]
[8,6,2,4,174,"Rundballepresser Variabelt kombipresse (belter) ",null,null,8624174,null,0,0,1,9]
[8,6,2,4,175,"Rundballepresser Minipresser",null,null,8624175,null,0,0,1,9]
[8,6,2,4,180,"Ballepakkere",null,null,8624180,null,0,0,1,9]
[8,6,2,4,181,"Ballepakkere 3-punktmontert",null,null,8624181,null,0,0,1,9]
[8,6,2,4,182,"Ballepakkere Slepemontert",null,null,8624182,null,0,0,1,9]
[8,6,2,4,183,"Pakkere for firkantballer",null,null,8624183,null,0,0,1,9]
[8,6,2,4,190,"Løfteutstyr for rund- og storballer",null,null,8624190,null,0,0,1,9]
[8,6,2,4,191,"Ballespyd",null,null,8624191,null,0,0,1,9]
[8,6,2,4,192,"Balleløfter/gaffel",null,null,8624192,null,0,0,1,9]
[8,6,2,4,193,"Ballegriper/klype",null,null,8624193,null,0,0,1,9]
[8,6,2,4,194,"Rundballedelere",null,null,8624194,null,0,0,1,9]
[8,6,2,4,195,"Rundballedeler med avplaster",null,null,8624195,null,0,0,1,9]
[8,6,2,4,200,"Rundballekuttere",null,null,8624200,null,0,0,1,9]
[8,6,2,4,210,"River/fôrutleggere",null,null,8624210,null,0,0,1,9]
[8,6,2,4,211,"Rundballe river/halmblåser 3 pkt",null,null,8624211,null,0,0,1,9]
[8,6,2,4,212,"Rundballe river/halmblåser slept",null,null,8624212,null,0,0,1,9]
[8,6,2,4,213,"River stasjonær",null,null,8624213,null,0,0,1,9]
[8,6,2,4,214,"Fôrutlegger (skinnegående/hjul, operatørstyrt)",null,null,8624214,null,0,0,1,9]
[8,6,2,4,215,"Automatisk fôrutlegger",null,null,8624215,null,0,0,1,9]
[8,6,2,4,216,"Utfôringsbelte",null,null,8624216,null,0,0,1,9]
[8,6,2,4,220,"Fullfôrblandere",null,null,8624220,null,0,0,1,9]
[8,6,2,4,221,"Stasjonære fullfôrblandere",null,null,8624221,null,0,0,1,9]
[8,6,2,4,222,"Slepte traktordrevete fullfôrblandere",null,null,8624222,null,0,0,1,9]
[8,6,2,4,223,"Selvkjørende fullfôrblandere",null,null,8624223,null,0,0,1,9]
[8,6,2,4,270,"Radialvifter (sentrifugalvifter)",null,null,8624270,null,0,0,1,9]
[8,6,2,4,280,"Aksialvifter (propellvifter)",null,null,8624280,null,0,0,1,9]
[8,6,2,4,290,"Elektrotaljer",null,null,8624290,null,0,0,1,9]
[8,6,2,4,300,"Silofyll-/tømmere/innleggere",null,null,8624300,null,0,0,1,9]
[8,6,2,5,0,{"$f":"Produkt!H550","v":"Høstemaskiner"},null,"H.GR. 05 - Høstemaskiner",8625000,null,{"$f":"IF(B2388=0,1,0)","v":0},{"$f":"IF(AND(D2388=0,E2388=0),1,0)","v":0},1,{"$f":"A2388+1","v":9}]
[8,6,2,5,10,"Høstemaskiner 3-punktmontert",null,null,8625010,null,0,0,1,9]
[8,6,2,5,20,"Høstemaskiner Slepemontert",null,null,8625020,null,0,0,1,9]
[8,6,2,5,30,"Høstemaskiner Selvgående",null,null,8625030,null,0,0,1,9]
[8,6,2,5,40,"Toppløftere",null,null,8625040,null,0,0,1,9]
[8,6,2,6,0,{"$f":"Produkt!H551","v":"Sprøyteutstyr"},null,"H.GR. 06 - Sprøyteutstyr",{"$f":"VALUE(A2393&B2393&C2393&D2393&IF(LEN(E2393)=1,\"00\"&E2393,IF(LEN(E2393)=2,\"0\"&E2393,E2393)))","v":8626000},null,{"$f":"IF(B2393=0,1,0)","v":0},{"$f":"IF(AND(D2393=0,E2393=0),1,0)","v":0},1,{"$f":"A2393+1","v":9}]
[8,6,2,6,10,"Motorryggsprøyter (findråpe, ikke tåke)",null,null,8626010,null,0,0,1,9]
[8,6,2,6,20,"Ryggtåkesprøyter",null,null,8626020,null,0,0,1,9]
[8,6,2,6,30,"Åkersprøyter",null,null,8626030,null,0,0,1,9]
[8,6,2,6,31,"Åkersprøyter 3-pkt.montert",null,null,8626031,null,0,0,1,9]
[8,6,2,6,32,"Åkersprøyter Slept",null,null,8626032,null,0,0,1,9]
[8,6,2,6,33,"Åkersprøyter Selvgående",null,null,8626033,null,0,0,1,9]
[8,6,2,6,40,"Tåkesprøyter",null,null,8626040,null,0,0,1,9]
[8,6,2,6,41,"Tåkesprøyter Traktormontert",null,null,8626041,null,0,0,1,9]
[8,6,2,6,42,"Tåkesprøyter Slept",null,null,8626042,null,0,0,1,9]
[8,6,2,7,0,{"$f":"Produkt!H552","v":"Transportutstyr/vegvedlikeholdsutstyr"},null,"H.GR. 07 - Transportutstyr/vegvedlikehold",{"$f":"VALUE(A2403&B2403&C2403&D2403&IF(LEN(E2403)=1,\"00\"&E2403,IF(LEN(E2403)=2,\"0\"&E2403,E2403)))","v":8627000},null,{"$f":"IF(B2403=0,1,0)","v":0},{"$f":"IF(AND(D2403=0,E2403=0),1,0)","v":0},1,{"$f":"A2403+1","v":9}]
[8,6,2,7,10,"Frontlastere",null,null,8627010,null,0,0,1,9]
[8,6,2,7,20,"Baklastere (palleløftere)",null,null,8627020,null,0,0,1,9]
[8,6,2,7,30,"Lasteskuffer",null,null,8627030,null,0,0,1,9]
[8,6,2,7,40,"Pallegafler",null,null,8627040,null,0,0,1,9]
[8,6,2,7,70,"Traktorskjær/høvler",null,null,8627070,null,0,0,1,9]
[8,6,2,7,80,"Hurtigkobling - traktordel",null,null,8627080,null,0,0,1,9]
[8,6,2,7,90,"Hurtigkobling redskapsdel",null,null,8627090,null,0,0,1,9]
[8,6,2,7,100,"Snøfresere",null,null,8627100,null,0,0,1,9]
[8,6,2,7,101,"Snøfresere V-fresere",null,null,8627101,null,0,0,1,9]
[8,6,2,7,102,"Snøfresere 2-trinns fresere",null,null,8627102,null,0,0,1,9]
[8,6,2,7,120,"Snøskjær/ploger",null,null,8627120,null,0,0,1,9]
[8,6,2,7,121,"V-ploger",null,null,8627121,null,0,0,1,9]
[8,6,2,7,122,"U-ploger",null,null,8627122,null,0,0,1,9]
[8,6,2,7,123,"Diagonalploger",null,null,8627123,null,0,0,1,9]
[8,6,2,7,130,"Sandstrøere",null,null,8627130,null,0,0,1,9]
[8,6,2,7,140,"Feiemaskiner",null,null,8627140,null,0,0,1,9]
[8,6,2,7,141,"Feiemaskiner Oppsamlende",null,null,8627141,null,0,0,1,9]
[8,6,2,7,142,"Feiemaskiner Svingbare u/oppsamler",null,null,8627142,null,0,0,1,9]
[8,6,2,7,150,"Andre ploger",null,null,8627150,null,0,0,1,9]
[8,6,2,7,160,"Kantklippere m/lang sidearm",null,null,8627160,null,0,0,1,9]
[8,6,2,7,180,"Traktortilhengere",null,null,8627180,null,0,0,1,9]
[8,6,2,7,181,"Tilhengere/lettdumper",null,null,8627181,null,0,0,1,9]
[8,6,2,7,182,"Ballevogner",null,null,8627182,null,0,0,1,9]
[8,6,2,7,183,"Krokhenger",null,null,8627183,null,0,0,1,9]
[8,6,2,7,184,"Dumperhenger",null,null,8627184,null,0,0,1,9]
[8,6,2,7,185,"Maskinhengere",null,null,8627185,null,0,0,1,9]
[8,6,2,8,0,{"$f":"Produkt!H553","v":"Kornbehandlingsutstyr"},null,"H.GR. 08 - Kornbehandlingsutstyr",{"$f":"VALUE(A2430&B2430&C2430&D2430&IF(LEN(E2430)=1,\"00\"&E2430,IF(LEN(E2430)=2,\"0\"&E2430,E2430)))","v":8628000},null,{"$f":"IF(B2430=0,1,0)","v":0},{"$f":"IF(AND(D2430=0,E2430=0),1,0)","v":0},1,{"$f":"A2430+1","v":9}]
[8,6,2,8,10,"Varmlufts satskorntørker",null,null,8628010,null,0,0,1,9]
[8,6,2,8,20,"Varmlufts kontinuerlige tørker",null,null,8628020,null,0,0,1,9]
[8,6,2,8,30,"Varmeovner/aggregater",null,null,8628030,null,0,0,1,9]
[8,6,2,8,40,"Kaldluftsvifter (propellvifter)",null,null,8628040,null,0,0,1,9]
[8,6,2,8,50,"Sentrifugalvifter",null,null,8628050,null,0,0,1,9]
[8,6,2,8,60,"Lufte- og lagersiloer",null,null,8628060,null,0,0,1,9]
[8,6,2,8,61,"Lager/luftesilo m/selvtømmende bunn",null,null,8628061,null,0,0,1,9]
[8,6,2,8,62,"Rund utendørs tørke/luftesilo med røreverk",null,null,8628062,null,0,0,1,9]
[8,6,2,8,63,"Rund utendørs lager/luftesilo uten røreverk",null,null,8628063,null,0,0,1,9]
[8,6,2,8,70,"Kaldluftsplantørker (ant.anlegg)",null,null,8628070,null,0,0,1,9]
[8,6,2,8,80,"Kornblåsere/sugere",null,null,8628080,null,0,0,1,9]
[8,6,2,8,90,"Kornskruer m/motor",null,null,8628090,null,0,0,1,9]
[8,6,2,8,100,"Koppelevatorer",null,null,8628100,null,0,0,1,9]
[8,6,2,8,110,"Kjedeelevatorer",null,null,8628110,null,0,0,1,9]
[8,6,2,8,120,"Vannrett transportør (skrue)",null,null,8628120,null,0,0,1,9]
[8,6,2,8,130,"Vannrett transportør (redler/bånd)",null,null,8628130,null,0,0,1,9]
[8,6,2,8,140,"Mobil tørke",null,null,8628140,null,0,0,1,9]
[8,6,2,8,150,"Frittstående korntørkehus",null,null,8628150,null,0,0,1,9]
[8,6,2,9,0,{"$f":"Produkt!H554","v":"Vanningsutstyr"},null,null,{"$f":"VALUE(A2449&B2449&C2449&D2449&IF(LEN(E2449)=1,\"00\"&E2449,IF(LEN(E2449)=2,\"0\"&E2449,E2449)))","v":8629000},null,{"$f":"IF(B2449=0,1,0)","v":0},{"$f":"IF(AND(D2449=0,E2449=0),1,0)","v":0},1,{"$f":"A2449+1","v":9}]
[8,6,2,9,10,"Vanningsvogner",null,null,8629010,null,0,0,1,9]
[8,6,2,9,20,"Lensepumper",null,null,8629020,null,0,0,1,9]
[8,6,2,9,30,"Tørroppstilte vannforsyningspumper",null,null,8629030,null,0,0,1,9]
[8,6,4,0,0,{"$f":"Produkt!G555","v":"Skogsutstyr"},null,"H.GR. 09 - Skogsutstyr, vei og snø",{"$f":"VALUE(A2453&B2453&C2453&D2453&IF(LEN(E2453)=1,\"00\"&E2453,IF(LEN(E2453)=2,\"0\"&E2453,E2453)))","v":8640000},null,{"$f":"IF(B2453=0,1,0)","v":0},{"$f":"IF(AND(D2453=0,E2453=0),1,0)","v":1},1,{"$f":"A2453+1","v":9}]
[8,6,4,1,0,{"$f":"Produkt!H556","v":"Traktor (skog)"},null,null,8641000,null,0,0,1,9]
[8,6,4,1,1,"Spesialutstyrt jordbrukstraktor",null,null,8641001,null,0,0,1,9]
[8,6,4,1,{"$f":"E2455+1","v":2},"Skogstraktor",null,null,8641002,null,0,0,1,9]
[8,6,4,2,0,{"$f":"Produkt!H557","v":"Utstyr for tømmerdrift (inkl. traktormontert)"},null,null,{"$f":"VALUE(A2457&B2457&C2457&D2457&IF(LEN(E2457)=1,\"00\"&E2457,IF(LEN(E2457)=2,\"0\"&E2457,E2457)))","v":8642000},null,{"$f":"IF(B2457=0,1,0)","v":0},{"$f":"IF(AND(D2457=0,E2457=0),1,0)","v":0},1,{"$f":"A2457+1","v":9}]
[8,6,4,2,10,"Griplastere",null,null,8642010,null,0,0,1,9]
[8,6,4,2,20,"Skogshengere",null,null,8642020,null,0,0,1,9]
[8,6,4,2,30,"Vinsjer - 1-tromlet traktormont.",null,null,8642030,null,0,0,1,9]
[8,6,4,2,40,"Vinsjer - 2-tromlet traktormont.",null,null,8642040,null,0,0,1,9]
[8,6,4,2,50,"Kvistemaskin/prosessor",null,"(Utenfor standardkodene)",8642050,null,0,0,1,9]
[8,6,4,3,0,{"$f":"Produkt!H558","v":"Vedutstyr"},null,null,{"$f":"VALUE(A2463&B2463&C2463&D2463&IF(LEN(E2463)=1,\"00\"&E2463,IF(LEN(E2463)=2,\"0\"&E2463,E2463)))","v":8643000},null,{"$f":"IF(B2463=0,1,0)","v":0},{"$f":"IF(AND(D2463=0,E2463=0),1,0)","v":0},1,{"$f":"A2463+1","v":9}]
[8,6,4,3,60,"Vedmaskiner (kapp/kløyv)",null,null,8643060,null,0,0,1,9]
[8,6,4,3,61,"Vedmaskiner (kapp/kløyv) Blad",null,null,8643061,null,0,0,1,9]
[8,6,4,3,62,"Vedmaskiner (kapp/kløyv) Kjede",null,null,8643062,null,0,0,1,9]
[8,6,4,3,70,"Vedkappsager",null,null,8643070,null,0,0,1,9]
[8,6,4,3,80,"Vedkløyvere",null,null,8643080,null,0,0,1,9]
[8,6,4,3,90,"Flishoggere",null,null,8643090,null,0,0,1,9]
[8,6,4,4,0,{"$f":"Produkt!H559","v":"Annet traktormontert utstyr"},null,null,8644000,null,{"$f":"IF(B2470=0,1,0)","v":0},{"$f":"IF(AND(D2470=0,E2470=0),1,0)","v":0},1,{"$f":"A2470+1","v":9}]
[8,6,4,4,130,"Vei-,snø- og tømmerskjær og ploger",null,null,8644130,null,0,0,1,9]
[8,6,4,5,0,{"$f":"Produkt!H560","v":"Diverse håndredskaper inkl. sagutstyr"},null,null,{"$f":"VALUE(A2472&B2472&C2472&D2472&IF(LEN(E2472)=1,\"00\"&E2472,IF(LEN(E2472)=2,\"0\"&E2472,E2472)))","v":8645000},null,{"$f":"IF(B2472=0,1,0)","v":0},{"$f":"IF(AND(D2472=0,E2472=0),1,0)","v":0},1,{"$f":"A2472+1","v":9}]
[8,6,4,5,100,"Småsager",null,null,8645100,null,0,0,1,9]
[8,6,4,5,110,"Motorsager",null,null,8645110,null,0,0,1,9]
[8,6,4,5,120,"Ryddesager",null,null,8645120,null,0,0,1,9]
[8,7,0,0,0,{"$f":"Produkt!F563","v":"Andre kostnader"},null,null,{"$f":"VALUE(A2476&B2476&C2476&D2476&IF(LEN(E2476)=1,\"00\"&E2476,IF(LEN(E2476)=2,\"0\"&E2476,E2476)))","v":8700000},null,{"$f":"IF(B2476=0,1,0)","v":0},{"$f":"IF(AND(D2476=0,E2476=0),1,0)","v":1},1,{"$f":"A2476+1","v":9}]
[8,7,2,0,0,{"$f":"Produkt!G564","v":"Energi"},null,null,{"$f":"VALUE(A2477&B2477&C2477&D2477&IF(LEN(E2477)=1,\"00\"&E2477,IF(LEN(E2477)=2,\"0\"&E2477,E2477)))","v":8720000},null,{"$f":"IF(B2477=0,1,0)","v":0},{"$f":"IF(AND(D2477=0,E2477=0),1,0)","v":1},1,{"$f":"A2477+1","v":9}]
[8,7,2,1,0,{"$f":"Produkt!H565","v":"Elektrisitet"},null,null,{"$f":"VALUE(A2478&B2478&C2478&D2478&IF(LEN(E2478)=1,\"00\"&E2478,IF(LEN(E2478)=2,\"0\"&E2478,E2478)))","v":8721000},null,{"$f":"IF(B2478=0,1,0)","v":0},{"$f":"IF(AND(D2478=0,E2478=0),1,0)","v":0},1,{"$f":"A2478+1","v":9}]
[8,7,2,1,1,"Strøpris, kraft",null,null,{"$f":"VALUE(A2479&B2479&C2479&D2479&IF(LEN(E2479)=1,\"00\"&E2479,IF(LEN(E2479)=2,\"0\"&E2479,E2479)))","v":8721001},null,{"$f":"IF(B2479=0,1,0)","v":0},{"$f":"IF(AND(D2479=0,E2479=0),1,0)","v":0},1,{"$f":"A2479+1","v":9}]
[8,7,2,1,{"$f":"E2479+1","v":2},"Påslag",null,null,{"$f":"VALUE(A2480&B2480&C2480&D2480&IF(LEN(E2480)=1,\"00\"&E2480,IF(LEN(E2480)=2,\"0\"&E2480,E2480)))","v":8721002},null,{"$f":"IF(B2480=0,1,0)","v":0},{"$f":"IF(AND(D2480=0,E2480=0),1,0)","v":0},1,{"$f":"A2480+1","v":9}]
[8,7,2,1,{"$f":"E2480+1","v":3},"Elsertifikat",null,null,{"$f":"VALUE(A2481&B2481&C2481&D2481&IF(LEN(E2481)=1,\"00\"&E2481,IF(LEN(E2481)=2,\"0\"&E2481,E2481)))","v":8721003},null,{"$f":"IF(B2481=0,1,0)","v":0},{"$f":"IF(AND(D2481=0,E2481=0),1,0)","v":0},1,{"$f":"A2481+1","v":9}]
[8,7,2,1,4,"Opprinnelsesgaranti",null,null,{"$f":"VALUE(A2482&B2482&C2482&D2482&IF(LEN(E2482)=1,\"00\"&E2482,IF(LEN(E2482)=2,\"0\"&E2482,E2482)))","v":8721004},null,{"$f":"IF(B2482=0,1,0)","v":0},{"$f":"IF(AND(D2482=0,E2482=0),1,0)","v":0},1,{"$f":"A2482+1","v":9}]
[8,7,2,1,5,"Månedsbeløp/fastbeløp",null,null,{"$f":"VALUE(A2483&B2483&C2483&D2483&IF(LEN(E2483)=1,\"00\"&E2483,IF(LEN(E2483)=2,\"0\"&E2483,E2483)))","v":8721005},null,{"$f":"IF(B2483=0,1,0)","v":0},{"$f":"IF(AND(D2483=0,E2483=0),1,0)","v":0},1,{"$f":"A2483+1","v":9}]
[8,7,2,1,6,"Klimadeklarering",null,null,{"$f":"VALUE(A2484&B2484&C2484&D2484&IF(LEN(E2484)=1,\"00\"&E2484,IF(LEN(E2484)=2,\"0\"&E2484,E2484)))","v":8721006},null,{"$f":"IF(B2484=0,1,0)","v":0},{"$f":"IF(AND(D2484=0,E2484=0),1,0)","v":0},1,{"$f":"A2484+1","v":9}]
[8,7,2,1,7,"Energitjeneste",null,null,{"$f":"VALUE(A2485&B2485&C2485&D2485&IF(LEN(E2485)=1,\"00\"&E2485,IF(LEN(E2485)=2,\"0\"&E2485,E2485)))","v":8721007},null,{"$f":"IF(B2485=0,1,0)","v":0},{"$f":"IF(AND(D2485=0,E2485=0),1,0)","v":0},1,{"$f":"A2485+1","v":9}]
[8,7,2,1,20,"Nettleie",null,null,{"$f":"VALUE(A2486&B2486&C2486&D2486&IF(LEN(E2486)=1,\"00\"&E2486,IF(LEN(E2486)=2,\"0\"&E2486,E2486)))","v":8721020},null,{"$f":"IF(B2486=0,1,0)","v":0},{"$f":"IF(AND(D2486=0,E2486=0),1,0)","v":0},1,{"$f":"A2486+1","v":9}]
[8,7,2,1,{"$f":"E2486+1","v":21},"Nettleie energiledd",null,null,{"$f":"VALUE(A2487&B2487&C2487&D2487&IF(LEN(E2487)=1,\"00\"&E2487,IF(LEN(E2487)=2,\"0\"&E2487,E2487)))","v":8721021},null,{"$f":"IF(B2487=0,1,0)","v":0},{"$f":"IF(AND(D2487=0,E2487=0),1,0)","v":0},1,{"$f":"A2487+1","v":9}]
[8,7,2,1,{"$f":"E2487+1","v":22},"Nettleie kapasitetsledd",null,null,{"$f":"VALUE(A2488&B2488&C2488&D2488&IF(LEN(E2488)=1,\"00\"&E2488,IF(LEN(E2488)=2,\"0\"&E2488,E2488)))","v":8721022},null,{"$f":"IF(B2488=0,1,0)","v":0},{"$f":"IF(AND(D2488=0,E2488=0),1,0)","v":0},1,{"$f":"A2488+1","v":9}]
[8,7,2,1,23,"Offentlige avgifter/forbrukeravgifter",null,null,{"$f":"VALUE(A2489&B2489&C2489&D2489&IF(LEN(E2489)=1,\"00\"&E2489,IF(LEN(E2489)=2,\"0\"&E2489,E2489)))","v":8721023},null,{"$f":"IF(B2489=0,1,0)","v":0},{"$f":"IF(AND(D2489=0,E2489=0),1,0)","v":0},1,{"$f":"A2489+1","v":9}]
[8,7,2,1,24,"Finanskostnader",null,null,{"$f":"VALUE(A2490&B2490&C2490&D2490&IF(LEN(E2490)=1,\"00\"&E2490,IF(LEN(E2490)=2,\"0\"&E2490,E2490)))","v":8721024},null,{"$f":"IF(B2490=0,1,0)","v":0},{"$f":"IF(AND(D2490=0,E2490=0),1,0)","v":0},1,{"$f":"A2490+1","v":9}]
[8,7,2,1,101,"Kraftkjøp (Salg av strøm bonde)",null,null,{"$f":"VALUE(A2491&B2491&C2491&D2491&IF(LEN(E2491)=1,\"00\"&E2491,IF(LEN(E2491)=2,\"0\"&E2491,E2491)))","v":8721101},null,{"$f":"IF(B2491=0,1,0)","v":0},{"$f":"IF(AND(D2491=0,E2491=0),1,0)","v":0},1,{"$f":"A2491+1","v":9}]
[8,7,2,2,0,{"$f":"Produkt!H566","v":"Gass vedrørende produksjon"},null,null,{"$f":"VALUE(A2492&B2492&C2492&D2492&IF(LEN(E2492)=1,\"00\"&E2492,IF(LEN(E2492)=2,\"0\"&E2492,E2492)))","v":8722000},null,{"$f":"IF(B2492=0,1,0)","v":0},{"$f":"IF(AND(D2492=0,E2492=0),1,0)","v":0},1,{"$f":"A2492+1","v":9}]
[8,7,2,2,1,"Naturgass",null,null,{"$f":"VALUE(A2493&B2493&C2493&D2493&IF(LEN(E2493)=1,\"00\"&E2493,IF(LEN(E2493)=2,\"0\"&E2493,E2493)))","v":8722001},null,{"$f":"IF(B2493=0,1,0)","v":0},{"$f":"IF(AND(D2493=0,E2493=0),1,0)","v":0},1,{"$f":"A2493+1","v":9}]
[8,7,2,2,10,"Biogass",null,null,{"$f":"VALUE(A2494&B2494&C2494&D2494&IF(LEN(E2494)=1,\"00\"&E2494,IF(LEN(E2494)=2,\"0\"&E2494,E2494)))","v":8722010},null,{"$f":"IF(B2494=0,1,0)","v":0},{"$f":"IF(AND(D2494=0,E2494=0),1,0)","v":0},1,{"$f":"A2494+1","v":9}]
[8,7,2,3,0,{"$f":"Produkt!H567","v":"Fyringsolje vedrørende produksjon"},null,null,{"$f":"VALUE(A2495&B2495&C2495&D2495&IF(LEN(E2495)=1,\"00\"&E2495,IF(LEN(E2495)=2,\"0\"&E2495,E2495)))","v":8723000},null,{"$f":"IF(B2495=0,1,0)","v":0},{"$f":"IF(AND(D2495=0,E2495=0),1,0)","v":0},1,{"$f":"A2495+1","v":9}]
[8,7,2,3,{"$f":"E2495+1","v":1},"Kull",null,null,{"$f":"VALUE(A2496&B2496&C2496&D2496&IF(LEN(E2496)=1,\"00\"&E2496,IF(LEN(E2496)=2,\"0\"&E2496,E2496)))","v":8723001},null,{"$f":"IF(B2496=0,1,0)","v":0},{"$f":"IF(AND(D2496=0,E2496=0),1,0)","v":0},1,{"$f":"A2496+1","v":9}]
[8,7,2,3,{"$f":"E2496+1","v":2},"Fyringsolje",null,null,{"$f":"VALUE(A2497&B2497&C2497&D2497&IF(LEN(E2497)=1,\"00\"&E2497,IF(LEN(E2497)=2,\"0\"&E2497,E2497)))","v":8723002},null,{"$f":"IF(B2497=0,1,0)","v":0},{"$f":"IF(AND(D2497=0,E2497=0),1,0)","v":0},1,{"$f":"A2497+1","v":9}]
[8,7,2,5,0,{"$f":"Produkt!H569","v":"Drivstoff vedr. produksjon"},null,null,{"$f":"VALUE(A2498&B2498&C2498&D2498&IF(LEN(E2498)=1,\"00\"&E2498,IF(LEN(E2498)=2,\"0\"&E2498,E2498)))","v":8725000},null,{"$f":"IF(B2498=0,1,0)","v":0},{"$f":"IF(AND(D2498=0,E2498=0),1,0)","v":0},1,{"$f":"A2498+1","v":9}]
[8,7,2,5,{"$f":"E2498+1","v":1},"Diesel, avgiftsfri",null,null,{"$f":"VALUE(A2499&B2499&C2499&D2499&IF(LEN(E2499)=1,\"00\"&E2499,IF(LEN(E2499)=2,\"0\"&E2499,E2499)))","v":8725001},null,{"$f":"IF(B2499=0,1,0)","v":0},{"$f":"IF(AND(D2499=0,E2499=0),1,0)","v":0},1,{"$f":"A2499+1","v":9}]
[8,7,2,5,{"$f":"E2499+1","v":2},"Diesel",null,null,{"$f":"VALUE(A2500&B2500&C2500&D2500&IF(LEN(E2500)=1,\"00\"&E2500,IF(LEN(E2500)=2,\"0\"&E2500,E2500)))","v":8725002},null,{"$f":"IF(B2500=0,1,0)","v":0},{"$f":"IF(AND(D2500=0,E2500=0),1,0)","v":0},1,{"$f":"A2500+1","v":9}]
[8,7,2,5,{"$f":"E2500+1","v":3},"Bensin",null,null,{"$f":"VALUE(A2501&B2501&C2501&D2501&IF(LEN(E2501)=1,\"00\"&E2501,IF(LEN(E2501)=2,\"0\"&E2501,E2501)))","v":8725003},null,{"$f":"IF(B2501=0,1,0)","v":0},{"$f":"IF(AND(D2501=0,E2501=0),1,0)","v":0},1,{"$f":"A2501+1","v":9}]
[8,7,2,5,{"$f":"E2501+1","v":4},"Hydrogen",null,null,{"$f":"VALUE(A2502&B2502&C2502&D2502&IF(LEN(E2502)=1,\"00\"&E2502,IF(LEN(E2502)=2,\"0\"&E2502,E2502)))","v":8725004},null,{"$f":"IF(B2502=0,1,0)","v":0},{"$f":"IF(AND(D2502=0,E2502=0),1,0)","v":0},1,{"$f":"A2502+1","v":9}]
[8,7,2,5,{"$f":"E2502+1","v":5},"Biogass",null,null,{"$f":"VALUE(A2503&B2503&C2503&D2503&IF(LEN(E2503)=1,\"00\"&E2503,IF(LEN(E2503)=2,\"0\"&E2503,E2503)))","v":8725005},null,{"$f":"IF(B2503=0,1,0)","v":0},{"$f":"IF(AND(D2503=0,E2503=0),1,0)","v":0},1,{"$f":"A2503+1","v":9}]
[8,7,3,0,0,{"$f":"Produkt!G572","v":"Drivstoff til bil"},null,null,{"$f":"VALUE(A2504&B2504&C2504&D2504&IF(LEN(E2504)=1,\"00\"&E2504,IF(LEN(E2504)=2,\"0\"&E2504,E2504)))","v":8730000},null,{"$f":"IF(B2504=0,1,0)","v":0},{"$f":"IF(AND(D2504=0,E2504=0),1,0)","v":1},1,{"$f":"A2504+1","v":9}]
[8,7,3,1,0,{"$f":"Produkt!H573","v":"Drivstoff, personbil"},null,null,{"$f":"VALUE(A2505&B2505&C2505&D2505&IF(LEN(E2505)=1,\"00\"&E2505,IF(LEN(E2505)=2,\"0\"&E2505,E2505)))","v":8731000},null,{"$f":"IF(B2505=0,1,0)","v":0},{"$f":"IF(AND(D2505=0,E2505=0),1,0)","v":0},1,{"$f":"A2505+1","v":9}]
[8,7,3,1,{"$f":"E2505+1","v":1},"Drivstoff, personbil - bensin",null,null,{"$f":"VALUE(A2506&B2506&C2506&D2506&IF(LEN(E2506)=1,\"00\"&E2506,IF(LEN(E2506)=2,\"0\"&E2506,E2506)))","v":8731001},null,{"$f":"IF(B2506=0,1,0)","v":0},{"$f":"IF(AND(D2506=0,E2506=0),1,0)","v":0},1,{"$f":"A2506+1","v":9}]
[8,7,3,1,{"$f":"E2506+1","v":2},"Drivstoff, personbil - diesel",null,null,{"$f":"VALUE(A2507&B2507&C2507&D2507&IF(LEN(E2507)=1,\"00\"&E2507,IF(LEN(E2507)=2,\"0\"&E2507,E2507)))","v":8731002},null,{"$f":"IF(B2507=0,1,0)","v":0},{"$f":"IF(AND(D2507=0,E2507=0),1,0)","v":0},1,{"$f":"A2507+1","v":9}]
[8,7,3,1,{"$f":"E2507+1","v":3},"Drivstoff, personbil - hydrogen",null,null,{"$f":"VALUE(A2508&B2508&C2508&D2508&IF(LEN(E2508)=1,\"00\"&E2508,IF(LEN(E2508)=2,\"0\"&E2508,E2508)))","v":8731003},null,{"$f":"IF(B2508=0,1,0)","v":0},{"$f":"IF(AND(D2508=0,E2508=0),1,0)","v":0},1,{"$f":"A2508+1","v":9}]
[8,7,3,1,4,"Drivstoff, personbil - biogass",null,null,{"$f":"VALUE(A2509&B2509&C2509&D2509&IF(LEN(E2509)=1,\"00\"&E2509,IF(LEN(E2509)=2,\"0\"&E2509,E2509)))","v":8731004},null,{"$f":"IF(B2509=0,1,0)","v":0},{"$f":"IF(AND(D2509=0,E2509=0),1,0)","v":0},1,{"$f":"A2509+1","v":9}]
[8,7,3,2,0,{"$f":"Produkt!H574","v":"Drivstoff, varebil"},null,null,{"$f":"VALUE(A2510&B2510&C2510&D2510&IF(LEN(E2510)=1,\"00\"&E2510,IF(LEN(E2510)=2,\"0\"&E2510,E2510)))","v":8732000},null,{"$f":"IF(B2510=0,1,0)","v":0},{"$f":"IF(AND(D2510=0,E2510=0),1,0)","v":0},1,{"$f":"A2510+1","v":9}]
[8,7,3,2,{"$f":"E2510+1","v":1},"Drivstoff, varebil - bensin",null,null,{"$f":"VALUE(A2511&B2511&C2511&D2511&IF(LEN(E2511)=1,\"00\"&E2511,IF(LEN(E2511)=2,\"0\"&E2511,E2511)))","v":8732001},null,{"$f":"IF(B2511=0,1,0)","v":0},{"$f":"IF(AND(D2511=0,E2511=0),1,0)","v":0},1,{"$f":"A2511+1","v":9}]
[8,7,3,2,{"$f":"E2511+1","v":2},"Drivstoff, varebil - diesel",null,null,{"$f":"VALUE(A2512&B2512&C2512&D2512&IF(LEN(E2512)=1,\"00\"&E2512,IF(LEN(E2512)=2,\"0\"&E2512,E2512)))","v":8732002},null,{"$f":"IF(B2512=0,1,0)","v":0},{"$f":"IF(AND(D2512=0,E2512=0),1,0)","v":0},1,{"$f":"A2512+1","v":9}]
[8,7,3,2,3,"Drivstoff, varebil - hydrogen",null,null,{"$f":"VALUE(A2513&B2513&C2513&D2513&IF(LEN(E2513)=1,\"00\"&E2513,IF(LEN(E2513)=2,\"0\"&E2513,E2513)))","v":8732003},null,{"$f":"IF(B2513=0,1,0)","v":0},{"$f":"IF(AND(D2513=0,E2513=0),1,0)","v":0},1,{"$f":"A2513+1","v":9}]
[8,7,3,2,4,"Drivstoff, varebil - biogass",null,null,{"$f":"VALUE(A2514&B2514&C2514&D2514&IF(LEN(E2514)=1,\"00\"&E2514,IF(LEN(E2514)=2,\"0\"&E2514,E2514)))","v":8732004},null,{"$f":"IF(B2514=0,1,0)","v":0},{"$f":"IF(AND(D2514=0,E2514=0),1,0)","v":0},1,{"$f":"A2514+1","v":9}]
[8,7,3,3,0,{"$f":"Produkt!H575","v":"Drivstoff, lastebil"},null,null,{"$f":"VALUE(A2515&B2515&C2515&D2515&IF(LEN(E2515)=1,\"00\"&E2515,IF(LEN(E2515)=2,\"0\"&E2515,E2515)))","v":8733000},null,{"$f":"IF(B2515=0,1,0)","v":0},{"$f":"IF(AND(D2515=0,E2515=0),1,0)","v":0},1,{"$f":"A2515+1","v":9}]
[8,7,3,3,{"$f":"E2515+1","v":1},"Drivstoff, lastebil - bensin",null,null,{"$f":"VALUE(A2516&B2516&C2516&D2516&IF(LEN(E2516)=1,\"00\"&E2516,IF(LEN(E2516)=2,\"0\"&E2516,E2516)))","v":8733001},null,{"$f":"IF(B2516=0,1,0)","v":0},{"$f":"IF(AND(D2516=0,E2516=0),1,0)","v":0},1,{"$f":"A2516+1","v":9}]
[8,7,3,3,{"$f":"E2516+1","v":2},"Drivstoff, lastebil - diesel",null,null,{"$f":"VALUE(A2517&B2517&C2517&D2517&IF(LEN(E2517)=1,\"00\"&E2517,IF(LEN(E2517)=2,\"0\"&E2517,E2517)))","v":8733002},null,{"$f":"IF(B2517=0,1,0)","v":0},{"$f":"IF(AND(D2517=0,E2517=0),1,0)","v":0},1,{"$f":"A2517+1","v":9}]
[8,7,3,3,3,"Drivstoff, lastebil - hydrogen",null,null,{"$f":"VALUE(A2518&B2518&C2518&D2518&IF(LEN(E2518)=1,\"00\"&E2518,IF(LEN(E2518)=2,\"0\"&E2518,E2518)))","v":8733003},null,{"$f":"IF(B2518=0,1,0)","v":0},{"$f":"IF(AND(D2518=0,E2518=0),1,0)","v":0},1,{"$f":"A2518+1","v":9}]
[8,7,3,3,4,"Drivstoff, lastebil - biogass",null,null,{"$f":"VALUE(A2519&B2519&C2519&D2519&IF(LEN(E2519)=1,\"00\"&E2519,IF(LEN(E2519)=2,\"0\"&E2519,E2519)))","v":8733004},null,{"$f":"IF(B2519=0,1,0)","v":0},{"$f":"IF(AND(D2519=0,E2519=0),1,0)","v":0},1,{"$f":"A2519+1","v":9}]
[8,8,0,0,0,{"$f":"Produkt!F578","v":"Ledig"},null,"Satt ledig januar 2023 (har ikke vært i bruk)",8800000,null,0,1,1,9]
[8,8,1,0,0,{"$f":"Produkt!G579","v":"Ledig"},null,"Satt ledig januar 2023 (har ikke vært i bruk)",8810000,null,0,1,1,9]
[8,8,1,1,0,{"$f":"Produkt!H580","v":"Ledig"},null,"Satt ledig januar 2023 (har ikke vært i bruk)",8811000,null,0,0,1,9]
[8,8,1,1,1,"Ledig",null,"Satt ledig januar 2023 (har ikke vært i bruk)",8811001,null,0,0,1,9]
[8,8,1,2,0,{"$f":"Produkt!H581","v":"Ledig"},null,"Satt ledig januar 2023 (har ikke vært i bruk)",8812000,null,0,0,1,9]
[8,8,1,2,1,"Ledig",null,"Satt ledig januar 2023 (har ikke vært i bruk)",8812001,null,0,0,1,9]
[8,8,1,3,0,{"$f":"Produkt!H582","v":"Ledig"},null,"Satt ledig januar 2023 (har ikke vært i bruk)",8813000,null,0,0,1,9]
[8,8,1,3,1,"Ledig",null,"Satt ledig januar 2023 (har ikke vært i bruk)",8813001,null,0,0,1,9]
[8,8,1,3,{"$f":"E2527+1","v":2},"Ledig",null,"Satt ledig januar 2023 (har ikke vært i bruk)",8813002,null,0,0,1,9]
[8,8,1,4,0,{"$f":"Produkt!H583","v":"Ledig"},null,"Satt ledig januar 2023 (har ikke vært i bruk)",8814000,null,0,0,1,9]
[8,8,1,4,1,"Ledig",null,"Satt ledig januar 2023 (har ikke vært i bruk)",8814001,null,0,0,1,9]
[8,8,1,4,{"$f":"E2530+1","v":2},"Ledig",null,"Satt ledig januar 2023 (har ikke vært i bruk)",8814002,null,0,0,1,9]
[8,8,1,4,{"$f":"E2531+1","v":3},"Ledig",null,"Satt ledig januar 2023 (har ikke vært i bruk)",8814003,null,0,0,1,9]
[8,8,1,4,{"$f":"E2532+1","v":4},"Ledig",null,"Satt ledig januar 2023 (har ikke vært i bruk)",8814004,null,0,0,1,9]
[8,8,1,4,{"$f":"E2533+1","v":5},"Ledig",null,"Satt ledig januar 2023 (har ikke vært i bruk)",8814005,null,0,0,1,9]
[8,8,1,4,999,"Ledig",null,"Satt ledig januar 2023 (har ikke vært i bruk)",8814999,null,0,0,1,9]
[8,8,2,0,0,{"$f":"Produkt!G584","v":"Ledig"},null,"Satt ledig januar 2023 (har ikke vært i bruk)",8820000,null,0,1,1,9]
[8,8,2,1,0,{"$f":"Produkt!H585","v":"Ledig"},null,"Satt ledig januar 2023 (har ikke vært i bruk)",8821000,null,0,0,1,9]
[8,8,2,1,1,"Ledig",null,"Satt ledig januar 2023 (har ikke vært i bruk)",8821001,null,0,0,1,9]
[8,8,2,1,2,"Ledig",null,"Satt ledig januar 2023 (har ikke vært i bruk)",8821002,null,0,0,1,9]
[8,8,2,1,3,"Ledig",null,"Satt ledig januar 2023 (har ikke vært i bruk)",8821003,null,0,0,1,9]
[8,8,2,1,4,"Ledig",null,"Satt ledig januar 2023 (har ikke vært i bruk)",8821004,null,0,0,1,9]
[8,8,2,1,5,"Ledig",null,"Satt ledig januar 2023 (har ikke vært i bruk)",8821005,null,0,0,1,9]
[8,8,2,2,0,{"$f":"Produkt!H586","v":"Ledig"},null,"Satt ledig januar 2023 (har ikke vært i bruk)",8822000,null,0,0,1,9]
[8,8,2,2,1,"Ledig",null,"Satt ledig januar 2023 (har ikke vært i bruk)",8822001,null,0,0,1,9]
[8,8,2,2,{"$f":"E2544+1","v":2},"Ledig",null,"Satt ledig januar 2023 (har ikke vært i bruk)",8822002,null,0,0,1,9]
[8,8,2,2,{"$f":"E2545+1","v":3},"Ledig",null,"Satt ledig januar 2023 (har ikke vært i bruk)",{"$f":"VALUE(A2546&B2546&C2546&D2546&IF(LEN(E2546)=1,\"00\"&E2546,IF(LEN(E2546)=2,\"0\"&E2546,E2546)))","v":8822003},null,0,0,1,{"$f":"A2546+1","v":9}]
[8,8,2,2,{"$f":"E2546+1","v":4},"Ledig",null,"Satt ledig januar 2023 (har ikke vært i bruk)",8822004,null,0,0,1,9]
[8,8,2,3,0,{"$f":"Produkt!H587","v":"Ledig"},null,"Satt ledig januar 2023 (har ikke vært i bruk)",8823000,null,0,0,1,9]
[8,8,2,3,1,"Ledig",null,"Satt ledig januar 2023 (har ikke vært i bruk)",8823001,null,0,0,1,9]
[8,8,2,4,0,{"$f":"Produkt!H588","v":"Ledig"},null,"Satt ledig januar 2023 (har ikke vært i bruk)",8824000,null,0,0,1,9]
[8,8,2,4,1,"Ledig",null,"Satt ledig januar 2023 (har ikke vært i bruk)",8824001,null,0,0,1,9]
[8,8,2,4,{"$f":"E2551+1","v":2},"Ledig",null,"Satt ledig januar 2023 (har ikke vært i bruk)",8824002,null,0,0,1,9]
[8,8,2,4,{"$f":"E2552+1","v":3},"Ledig",null,"Satt ledig januar 2023 (har ikke vært i bruk)",8824003,null,0,0,1,9]
[8,8,2,4,{"$f":"E2553+1","v":4},"Ledig",null,"Satt ledig januar 2023 (har ikke vært i bruk)",8824004,null,0,0,1,9]
[8,8,2,4,{"$f":"E2554+1","v":5},"Ledig",null,"Satt ledig januar 2023 (har ikke vært i bruk)",8824005,null,0,0,1,9]
[8,8,2,4,{"$f":"E2555+1","v":6},"Ledig",null,"Satt ledig januar 2023 (har ikke vært i bruk)",8824006,null,0,0,1,9]
[8,8,2,4,999,"Ledig",null,"Satt ledig januar 2023 (har ikke vært i bruk)",8824999,null,0,0,1,9]
[8,8,2,5,0,{"$f":"Produkt!H589","v":"Ledig"},null,"Satt ledig januar 2023 (har ikke vært i bruk)",8825000,null,0,0,1,9]
[8,8,2,5,1,"Ledig",null,"Satt ledig januar 2023 (har ikke vært i bruk)",8825001,null,0,0,1,9]
[8,8,2,5,{"$f":"E2559+1","v":2},"Ledig",null,"Satt ledig januar 2023 (har ikke vært i bruk)",8825002,null,0,0,1,9]
[8,8,2,5,{"$f":"E2560+1","v":3},"Ledig",null,"Satt ledig januar 2023 (har ikke vært i bruk)",8825003,null,0,0,1,9]
[8,8,2,5,{"$f":"E2561+1","v":4},"Ledig",null,"Satt ledig januar 2023 (har ikke vært i bruk)",8825004,null,{"$f":"IF(B2562=0,1,0)","v":0},{"$f":"IF(AND(D2562=0,E2562=0),1,0)","v":0},1,9]
[8,8,2,5,{"$f":"E2562+1","v":5},"Ledig",null,"Satt ledig januar 2023 (har ikke vært i bruk)",8825005,null,0,0,1,9]
[8,8,2,5,999,"Ledig",null,"Satt ledig januar 2023 (har ikke vært i bruk)",8825999,null,0,0,1,9]
[8,8,2,6,0,{"$f":"Produkt!H590","v":"Ledig"},null,"Satt ledig januar 2023 (har ikke vært i bruk)",8826000,null,0,0,1,9]
[8,8,2,6,1,"Ledig",null,"Satt ledig januar 2023 (har ikke vært i bruk)",8826001,null,0,0,1,9]
[8,8,2,6,{"$f":"E2566+1","v":2},"Ledig",null,"Satt ledig januar 2023 (har ikke vært i bruk)",8826002,null,0,0,1,9]
[8,8,2,6,{"$f":"E2567+1","v":3},"Ledig",null,"Satt ledig januar 2023 (har ikke vært i bruk)",8826003,null,0,0,1,9]
[8,8,2,6,999,"Ledig",null,"Satt ledig januar 2023 (har ikke vært i bruk)",8826999,null,0,0,1,9]
[8,8,2,9,0,{"$f":"Produkt!H591","v":"Ledig"},null,"Satt ledig januar 2023 (har ikke vært i bruk)",8829000,null,0,0,1,9]
[8,8,2,9,1,"Ledig",null,"Satt ledig januar 2023 (har ikke vært i bruk)",8829001,null,0,0,1,9]
[8,8,2,9,{"$f":"E2571+1","v":2},"Ledig",null,"Satt ledig januar 2023 (har ikke vært i bruk)",8829002,null,0,0,1,9]
[8,8,3,0,0,{"$f":"Produkt!G592","v":"Ledig"},null,"Satt ledig januar 2023 (har ikke vært i bruk)",8830000,null,0,1,1,9]
[8,8,3,1,0,{"$f":"Produkt!H593","v":"Ledig"},null,"Satt ledig januar 2023 (har ikke vært i bruk)",8831000,null,0,0,1,9]
[8,8,3,2,0,{"$f":"Produkt!H594","v":"Ledig"},null,"Satt ledig januar 2023 (har ikke vært i bruk)",8832000,null,0,0,1,9]
[8,8,3,3,0,{"$f":"Produkt!H595","v":"Ledig"},null,"Satt ledig januar 2023 (har ikke vært i bruk)",8833000,null,0,0,1,9]
[8,8,3,4,0,{"$f":"Produkt!H596","v":"Ledig"},null,"Satt ledig januar 2023 (har ikke vært i bruk)",8834000,null,0,0,1,9]
[8,8,4,0,0,{"$f":"Produkt!G597","v":"Ledig"},null,"Satt ledig januar 2023 (har ikke vært i bruk)",8840000,null,0,1,1,9]
[8,8,4,1,0,{"$f":"Produkt!H598","v":"Ledig"},null,"Satt ledig januar 2023 (har ikke vært i bruk)",8841000,null,0,0,1,9]
[8,8,4,1,1,"Ledig",null,"Satt ledig januar 2023 (har ikke vært i bruk)",8841001,null,0,0,1,9]
[8,8,4,2,0,{"$f":"Produkt!H599","v":"Ledig"},null,"Satt ledig januar 2023 (har ikke vært i bruk)",8842000,null,0,0,1,9]
[8,8,4,2,1,"Ledig",null,"Satt ledig januar 2023 (har ikke vært i bruk)",8842001,null,0,0,1,9]
[8,8,4,2,{"$f":"E2582+1","v":2},"Ledig",null,"Satt ledig januar 2023 (har ikke vært i bruk)",8842002,null,0,0,1,9]
[8,8,4,2,{"$f":"E2583+1","v":3},"Ledig",null,"Satt ledig januar 2023 (har ikke vært i bruk)",8842003,null,0,0,1,9]
[8,8,4,3,0,{"$f":"Produkt!H600","v":"Ledig"},null,"Satt ledig januar 2023 (har ikke vært i bruk)",8843000,null,0,0,1,9]
[8,8,4,3,1,"Ledig",null,"Satt ledig januar 2023 (har ikke vært i bruk)",8843001,null,0,0,1,9]
[8,8,4,3,{"$f":"E2586+1","v":2},"Ledig",null,"Satt ledig januar 2023 (har ikke vært i bruk)",8843002,null,0,0,1,9]
[8,8,4,3,{"$f":"E2587+1","v":3},"Ledig",null,"Satt ledig januar 2023 (har ikke vært i bruk)",8843003,null,0,0,1,9]
[8,8,4,3,999,"Ledig",null,"Satt ledig januar 2023 (har ikke vært i bruk)",8843999,null,0,0,1,9]
[9,0,0,0,0,{"$f":"Produkt!E602","v":"Ledig"},null,null,9000000,null,1,1,1,10]
[9,1,0,0,0,{"$f":"Produkt!F603","v":"Produkt 1 nivå 2"},null,null,9100000,null,0,1,1,10]
[9,1,1,0,0,{"$f":"Produkt!G604","v":"Produkt 1 nivå 3"},null,null,9110000,null,0,1,1,10]
[9,1,1,1,0,{"$f":"Produkt!H605","v":"Produkt 1 nivå 4"},null,null,9111000,null,0,0,1,10]
[9,1,1,1,{"$f":"E2593+1","v":1},"Ledig produkt",null,null,9111001,null,0,0,1,10]
[9,2,0,0,0,{"$f":"Produkt!F606","v":"Produkt 2 nivå 2"},null,null,9200000,null,0,1,1,10]
[9,2,1,0,0,{"$f":"Produkt!G607","v":"Produkt 2 nivå 3"},null,null,9210000,null,0,1,1,10]
[9,2,1,1,0,{"$f":"Produkt!H608","v":"Produkt 2 nivå 4"},null,null,9211000,null,0,0,1,10]
[9,2,1,1,{"$f":"E2597+1","v":1},"Ledig produkt",null,null,9211001,null,0,0,1,10]
["Linjer må settes inn over denne linja"]
[]
[null,null,null,null,null,null,null,"Grupper"]
[null,null,null,null,null,null,1,"Alle grupper"]
[null,null,null,null,null,null,2,{"$f":"\"1000 \"&F4","v":"1000 Korn, frø og grovfôr"}]
[null,null,null,null,null,null,3,{"$f":"\"2000 \"&F488","v":"2000 Poteter, grønnsaker, frukt, bær, blomster og hagebruksvekster"}]
[null,null,null,null,null,null,4,{"$f":"\"3000 \"&F1218","v":"3000 Husdyrprodukter"}]
[null,null,null,null,null,null,5,{"$f":"\"4000 \"&F1225","v":"4000 Husdyr, slakt og skrotter"}]
[null,null,null,null,null,null,6,{"$f":"\"5000 \"&F1226","v":"5000 Husdyr, livdyr, fôringsdyr, produksjonsdyr og balanse"}]
[null,null,null,null,null,null,7,{"$f":"\"6000 \"&F1250","v":"6000 Skogbruk og andre næringer"}]
[null,null,null,null,null,null,8,{"$f":"\"7000 \"&F1303","v":"7000 Tilskudd fra/forvaltet av landbruksdirektoratet, annen offentlig etat og finansiering, renter etc."}]
[null,null,null,null,null,null,9,{"$f":"\"8000 \"&F1640","v":"8000 Varer og tjenester knyttet til produksjonene"}]
[null,null,null,null,null,null,10,{"$f":"\"9000 \"&F2590","v":"9000 Ledig"}]

{"sheet":"ProduktKvalitet","index":3,"n_rows":191,"n_cols":18,"rows_kept":191,"cut":false,"hidden":false,"merged":[[34,3,34,4],[35,3,35,4],[38,3,38,4],[39,3,39,4],[1,0,1,2],[2,0,2,1],[2,3,2,4],[30,3,30,4],[31,3,31,4]]}
["Produkt kvalitet",null,null,null,null,null,{"$f":"Admin!D1","v":"1.3.6"},3,null,null,1,null,null,null,"Startlinje",{"$f":"ROW(G4)","v":4},"Sluttlinje",{"$f":"ROW(G180)-1","v":179}]
["Kode kvalitet",null,null,{"$f":"\"Gruppenivå (\"&H1&\")\"","v":"Gruppenivå (3)"}]
["Gruppe-nr",null,"Løpe-nr","Tekst",null,"Merknader","Sammen-slått kode"]
[1,0,0,{"$f":"Produkt!E4","v":"Korn, frø og grovfôr"},null,null,{"$f":"VALUE(A4&B4&IF(LEN(C4)=1,\"00\"&C4,IF(LEN(C4)=2,\"0\"&C4,C4)))","v":10000},{"$f":"IF(B4=0,1,0)","v":1},{"$f":"IF(C4=0,1,0)","v":1},1,{"$f":"A4+1","v":2}]
[1,1,0,"Korn og frø",null,"Brukes for produktkoder 1000-1499",11000,{"$f":"IF(B5=0,1,0)","v":0},{"$f":"IF(C5=0,1,0)","v":1},1,{"$f":"A5+1","v":2}]
[1,1,1,"Ledig",null,"Tidligere basisvare flyttet til tillegg og trekk",{"$f":"VALUE(A6&B6&IF(LEN(C6)=1,\"00\"&C6,IF(LEN(C6)=2,\"0\"&C6,C6)))","v":11001},0,0,1,2]
[1,1,{"$f":"C6+1","v":2},"Såkorn/såfrø",null,null,{"$f":"VALUE(A7&B7&IF(LEN(C7)=1,\"00\"&C7,IF(LEN(C7)=2,\"0\"&C7,C7)))","v":11002},0,0,1,2]
[1,1,{"$f":"C7+1","v":3},"Fôrkorn",null,null,11003,0,0,1,2]
[1,1,4,"Matkorn",null,null,11004,0,0,1,2]
[1,1,5,"Matkorn kvalitet 1",null,null,11005,0,0,1,2]
[1,1,6,"Matkorn kvalitet 2",null,null,11006,0,0,1,2]
[1,1,7,"Matkorn kvalitet 3",null,null,11007,0,0,1,2]
[1,1,8,"Matkorn kvalitet 4",null,null,11008,0,0,1,2]
[1,1,9,"Matkorn kvalitet 5",null,null,11009,0,0,1,2]
[1,1,10,"Energikorn",null,null,11010,0,0,1,2]
[1,1,999,"Annet, kvalitet korn og frø",null,null,11999,0,0,1,{"$f":"A16+1","v":2}]
[1,5,0,{"$f":"Produkt!F52","v":"Grovfôr og annet fôr til salg og eget bruk"},null,"Brukes for produktkoder 1500-1599",15000,0,1,1,2]
[1,5,1,"God",null,null,15001,0,0,1,2]
[1,5,{"$f":"C18+1","v":2},"Middels",null,null,15002,0,0,1,2]
[1,5,{"$f":"C19+1","v":3},"Dårlig",null,null,15003,0,0,1,2]
[1,5,999,"Annet, kvalitet grovfôr",null,null,15999,0,0,1,{"$f":"A21+1","v":2}]
[2,0,0,{"$f":"Produkt!E73","v":"Poteter, grønnsaker, frukt, bær, blomster og hagebruksvekster"},null,null,20000,1,1,1,3]
[2,1,0,{"$f":"Produkt!F74","v":"Poteter"},null,null,21000,0,1,1,3]
[2,1,1,"Konsum",null,"Vasket og sortert",{"$f":"VALUE(A24&B24&IF(LEN(C24)=1,\"00\"&C24,IF(LEN(C24)=2,\"0\"&C24,C24)))","v":21001},0,0,1,3]
[2,1,{"$f":"C24+1","v":2},"Klasse Industri råstoff",null,null,{"$f":"VALUE(A25&B25&IF(LEN(C25)=1,\"00\"&C25,IF(LEN(C25)=2,\"0\"&C25,C25)))","v":21002},0,0,1,3]
[2,1,{"$f":"C25+1","v":3},"Klasse Industri avrens",null,null,{"$f":"VALUE(A26&B26&IF(LEN(C26)=1,\"00\"&C26,IF(LEN(C26)=2,\"0\"&C26,C26)))","v":21003},0,0,1,3]
[2,1,{"$f":"C26+1","v":4},"Såpotet/Settepotet",null,null,{"$f":"VALUE(A27&B27&IF(LEN(C27)=1,\"00\"&C27,IF(LEN(C27)=2,\"0\"&C27,C27)))","v":21004},0,0,1,3]
[2,1,{"$f":"C27+1","v":5},"Potet til fôr",null,null,{"$f":"VALUE(A28&B28&IF(LEN(C28)=1,\"00\"&C28,IF(LEN(C28)=2,\"0\"&C28,C28)))","v":21005},0,0,1,{"$f":"A28+1","v":3}]
[2,1,999,"Andre kvaliteter potet",null,null,{"$f":"VALUE(A29&B29&IF(LEN(C29)=1,\"00\"&C29,IF(LEN(C29)=2,\"0\"&C29,C29)))","v":21999},0,0,1,{"$f":"A29+1","v":3}]
[2,2,0,"Grønnsaker",null,null,22000,0,1,1,{"$f":"A30+1","v":3}]
[2,2,1,"Klasse 1  konsum",null,"Vasket, sortert og eventuelt klippet",22001,0,0,1,{"$f":"A31+1","v":3}]
[2,2,{"$f":"C31+1","v":2},"Industri",null,null,22002,0,0,1,{"$f":"A32+1","v":3}]
[2,2,999,"Annen kvalitet",null,null,22999,0,0,1,{"$f":"A33+1","v":3}]
[2,5,0,{"$f":"Produkt!F89","v":"Frukt"},null,null,25000,0,1,1,{"$f":"A34+1","v":3}]
[2,5,1,"Klasse 1  konsum",null,null,25001,0,0,1,3]
[2,5,{"$f":"C35+1","v":2},"Industri",null,null,25002,0,0,1,{"$f":"A36+1","v":3}]
[2,5,999,"Annen kvalitet",null,null,25999,0,0,1,3]
[2,6,0,{"$f":"Produkt!F96","v":"Bær"},null,null,26000,0,1,1,3]
[2,6,1,"Klasse 1 konsum",null,null,26001,0,0,1,3]
[2,6,{"$f":"C39+1","v":2},"Industri",null,null,26002,0,0,1,3]
[2,6,999,"Annen kvalitet",null,null,26999,0,0,1,3]
[2,8,0,{"$f":"Produkt!F113","v":"Blomster og hagebruksvekster"},null,null,28000,0,1,1,3]
[2,8,1,"Kvalitet 1",null,null,28001,0,0,1,3]
[2,8,{"$f":"C43+1","v":2},"Kvalitet 2",null,null,28002,0,0,1,3]
[2,8,999,"Annen kvalitet",null,null,28999,0,0,1,3]
[3,0,0,{"$f":"Produkt!E120","v":"Husdyrprodukter"},null,null,30000,1,1,1,4]
[3,1,0,{"$f":"Produkt!F121","v":"Melk"},null,null,31000,0,1,1,4]
[3,1,1,"Råvare (basispris kumelk)",null,null,{"$f":"VALUE(A48&B48&IF(LEN(C48)=1,\"00\"&C48,IF(LEN(C48)=2,\"0\"&C48,C48)))","v":31001},0,0,1,4]
[3,1,{"$f":"C48+1","v":2},"Kvalitet, tillegg/trekk",null,"Tidligere: Elitemelk-tillegg",31002,0,0,1,4]
[3,1,{"$f":"C49+1","v":3},"Fett tillegg/trekk Kumelk",null,null,31003,0,0,1,4]
[3,1,4,"Protein tillegg/trekk Kumelk",null,null,31004,0,0,1,4]
[3,1,5,"Tillegg for lav FFS",null,null,31005,0,0,1,4]
[3,1,6,"Betaling for høyt tørrstoffinnhold",null,null,31006,0,0,1,4]
[3,1,7,"Kvalitetstillegg",null,"Generell",31007,0,0,1,4]
[3,1,8,"Kvalitetstrekk",null,"Generell",31008,0,0,1,4]
[3,1,9,"Høyt frysepunkt (melk)",null,null,31009,0,0,1,4]
[3,1,10,"Kassert/Dyrefor",null,"Melk med for eksempel antiobiotika, for høyt celletall osv",31010,0,0,1,4]
[3,1,11,"Råmelk",null,null,31011,0,0,1,{"$f":"A58+1","v":4}]
[3,1,998,"Andre kvalitetstrekk",null,null,31998,0,0,1,4]
[3,1,999,"Andre kvalitetstillegg",null,null,31999,0,0,1,4]
[3,2,0,{"$f":"Produkt!F126","v":"Egg"},null,null,32000,0,1,1,4]
[3,2,1,"Egg XL",null,null,{"$f":"VALUE(A62&B62&IF(LEN(C62)=1,\"00\"&C62,IF(LEN(C62)=2,\"0\"&C62,C62)))","v":32001},0,0,1,4]
[3,2,{"$f":"C62+1","v":2},"Egg L",null,null,32002,0,0,1,4]
[3,2,{"$f":"C63+1","v":3},"Egg M",null,null,32003,0,0,1,4]
[3,2,4,"Egg S",null,null,32004,0,0,1,4]
[3,2,5,"Egg SI",null,null,32005,0,0,1,4]
[3,2,6,"Egg skitne",null,"Er dette kvalitet?",32006,0,0,1,4]
[3,2,7,"Egg klink",null,null,32007,0,0,1,4]
[3,2,8,"Egg knekk og blod",null,null,32008,{"$f":"IF(B69=0,1,0)","v":0},{"$f":"IF(C69=0,1,0)","v":0},1,4]
[3,2,999,"Andre kvaliteter egg",null,null,32999,0,0,1,{"$f":"A70+1","v":4}]
[3,3,0,{"$f":"Produkt!F131","v":"Bier/Insekter"},null,"F.eks. honningkvalitet",33000,0,1,1,4]
[3,4,0,{"$f":"Produkt!F135","v":"Ull, huder og skinn (jordbruk)"},null,null,34000,0,1,1,4]
[3,4,1,"Crossbred type A1 Helårsull",null,null,{"$f":"VALUE(A73&B73&IF(LEN(C73)=1,\"00\"&C73,IF(LEN(C73)=2,\"0\"&C73,C73)))","v":34001},0,0,1,4]
[3,4,{"$f":"C73+1","v":2},"Crossbred type B1 Vårull",null,null,34002,0,0,1,4]
[3,4,3,"Crossbred type B2 Vårull",null,null,34003,0,0,1,4]
[3,4,4,"Crossbred type C1 Høstull",null,null,34004,0,0,1,4]
[3,4,5,"Crossbred type C2 Høstull",null,null,34005,0,0,1,4]
[3,4,6,"Crossbred type C1S Høstull",null,null,34006,0,0,1,4]
[3,4,7,"Crossbred type C2S Høstull",null,null,34007,0,0,1,4]
[3,4,21,"Spelsau F1 Høstull",null,null,34021,0,0,1,4]
[3,4,{"$f":"C80+1","v":22},"Spelsau F2 Høstull",null,null,34022,0,0,1,4]
[3,4,{"$f":"C81+1","v":23},"Spelsau F1S Høstull",null,null,34023,0,0,1,4]
[3,4,{"$f":"C82+1","v":24},"Spelsau F1P Høstull",null,null,34024,0,0,1,4]
[3,4,41,"Filtrert, grov ull, ull med vegetabiler G",null,null,34041,0,0,1,4]
[3,4,{"$f":"C84+1","v":42},"Filtrert, grov ull, ull med vegetabiler V",null,null,34042,0,0,1,4]
[3,4,{"$f":"C85+1","v":43},"Frasortert H1",null,null,34043,0,0,1,4]
[3,4,{"$f":"C86+1","v":44},"Frasortert H2",null,null,34044,0,0,1,{"$f":"A87+1","v":4}]
[3,4,{"$f":"C87+1","v":45},"Frasortert H3",null,null,34045,0,0,1,4]
[3,4,999,"Andre kvalitetstillegg ull",null,null,34999,0,0,1,4]
[4,0,0,{"$f":"Produkt!E154","v":"Husdyr, slakt og skrotter"},null,null,40000,1,1,1,5]
[4,1,0,"Slakt storfe/småfe/gris/hest/rein (EUROP)",null,null,41000,0,1,1,5]
[4,1,1,"Grunnpris",null,null,{"$f":"VALUE(A92&B92&IF(LEN(C92)=1,\"00\"&C92,IF(LEN(C92)=2,\"0\"&C92,C92)))","v":41001},0,0,1,5]
[4,1,{"$f":"C92+1","v":2},"S+",null,"Gjelder bare gris",41002,0,0,1,5]
[4,1,{"$f":"C93+1","v":3},"S",null,"Gjelder bare gris",41003,0,0,1,5]
[4,1,4,"S-",null,"Gjelder bare gris",41004,0,0,1,5]
[4,1,5,"E+",null,null,41005,0,0,1,5]
[4,1,6,"E",null,null,41006,0,0,1,5]
[4,1,7,"E-",null,null,41007,0,0,1,5]
[4,1,8,"U+",null,null,41008,0,0,1,5]
[4,1,9,"U",null,null,41009,0,0,1,5]
[4,1,10,"U-",null,null,41010,0,0,1,5]
[4,1,11,"R+",null,null,41011,0,0,1,5]
[4,1,12,"R",null,null,41012,0,0,1,5]
[4,1,13,"R-",null,null,41013,0,0,1,5]
[4,1,14,"O+",null,null,41014,0,0,1,5]
[4,1,15,"O",null,null,41015,0,0,1,5]
[4,1,16,"O-",null,null,41016,0,0,1,5]
[4,1,17,"P+",null,null,41017,0,0,1,5]
[4,1,18,"P",null,null,41018,0,0,1,5]
[4,1,19,"P-",null,null,41019,0,0,1,5]
[4,1,20,"Fett",null,"Kvalitetstrekk?",41020,0,0,1,5]
[4,1,21,"Kassert",null,"Koden brukes for alle dyreslag, også fjørfe",41021,0,0,1,5]
[4,1,22,"Gris liten",null,null,{"$f":"VALUE(A113&B113&IF(LEN(C113)=1,\"00\"&C113,IF(LEN(C113)=2,\"0\"&C113,C113)))","v":41022},0,0,1,{"$f":"A113+1","v":5}]
[4,1,998,"Andre kvalitetstrekk",null,null,41998,0,0,1,5]
[4,1,999,"Andre kvalitetstillegg",null,null,41999,0,0,1,5]
[4,5,0,{"$f":"Produkt!F182","v":"Fjørfe, slakt"},null,null,45000,0,1,1,5]
[4,5,1,"Kylling STD",null,null,{"$f":"VALUE(A117&B117&IF(LEN(C117)=1,\"00\"&C117,IF(LEN(C117)=2,\"0\"&C117,C117)))","v":45001},0,0,1,5]
[4,5,{"$f":"C117+1","v":2},"Kylling SP, vektgruppe < 950 gram",null,null,45002,0,0,1,5]
[4,5,{"$f":"C118+1","v":3},"Kylling SP, vektgruppe 950-1400 gram",null,null,45003,0,0,1,5]
[4,5,{"$f":"C119+1","v":4},"Kylling SP, vektgruppe > 1400 gram",null,null,45004,0,0,1,5]
[4,5,{"$f":"C120+1","v":5},"Spesialkylling",null,"Skal vi la alle disse kvalitetene få eget nr?",45005,0,0,1,5]
[4,5,21,"Høner og haner",null,null,45021,0,0,1,5]
[4,5,{"$f":"C122+1","v":22},"Gourmethøns",null,null,45022,0,0,1,5]
[4,5,41,"Kalkun STD",null,null,45041,0,0,1,5]
[4,5,{"$f":"C124+1","v":42},"Kalkun spesial",null,null,45042,0,0,1,5]
[4,5,{"$f":"C125+1","v":43},"Foredlingskalkun",null,null,45043,0,0,1,{"$f":"A126+1","v":5}]
[4,5,61,"Gjess STD",null,null,{"$f":"VALUE(A127&B127&IF(LEN(C127)=1,\"00\"&C127,IF(LEN(C127)=2,\"0\"&C127,C127)))","v":45061},0,0,1,5]
[4,5,81,"And STD",null,null,45081,0,0,1,5]
[4,5,{"$f":"C128+1","v":82},"And SP",null,null,45082,0,0,1,5]
[4,5,999,"Andre fjørfe (inkl. struts)",null,null,45999,0,0,1,5]
[5,0,0,{"$f":"Produkt!E198","v":"Husdyr, livdyr, fôringsdyr, produksjonsdyr og balanse"},null,null,50000,1,1,1,6]
[5,1,0,"Livdyr (for salg og kjøp), storfe/småfe/gris",null,null,51000,0,1,1,{"$f":"A132+1","v":6}]
[5,1,1,"Med stamtavle",null,null,51001,{"$f":"IF(B133=0,1,0)","v":0},{"$f":"IF(C133=0,1,0)","v":0},1,6]
[5,1,{"$f":"C133+1","v":2},"Uten stamtavle",null,null,51002,0,0,1,6]
[6,0,0,{"$f":"Produkt!E304","v":"Skogbruk og andre næringer"},null,null,60000,1,1,1,{"$f":"A135+1","v":7}]
[6,1,0,"Sortimenter tømmer (kvaliteter)",null,null,61000,0,1,1,{"$f":"A136+1","v":7}]
[6,1,1,"Prima",null,"Prima sagtømmer eller massevirke (kl 1)",{"$f":"VALUE(A137&B137&IF(LEN(C137)=1,\"00\"&C137,IF(LEN(C137)=2,\"0\"&C137,C137)))","v":61001},0,0,1,7]
[6,1,{"$f":"C137+1","v":2},"Sekunda",null,"Sekunda sagtømmer eller massevirke (kl 2)",61002,0,0,1,7]
[6,1,{"$f":"C138+1","v":3},"Sams virke",null,"Blandet kvalitet",61003,0,0,1,7]
[6,1,{"$f":"C139+1","v":4},"Stolpevirke",null,"Spesialtømmer",61004,0,0,1,7]
[6,1,{"$f":"C140+1","v":5},"Bangla stolper",null,"Spesialtømmer",61005,0,0,1,{"$f":"A141+1","v":7}]
[6,1,{"$f":"C141+1","v":6},"Finér",null,"Spesialtømmer",61006,0,0,1,7]
[6,1,{"$f":"C142+1","v":7},"Laft",null,"Spesialtømmer",61007,0,0,1,7]
[6,1,8,"Annet spesialvirke",null,"Spesialtømmer",61008,0,0,1,{"$f":"A144+1","v":7}]
[6,1,9,"Takås",null,"Spesialtømmer",61009,0,0,1,7]
[6,1,10,"Kubb",null,null,61010,0,0,1,7]
[6,1,11,"Kledning",null,null,61011,0,0,1,7]
[6,1,12,"Pallevirke",null,"Annet rundvirke",61012,0,0,1,7]
[6,1,13,"Virke til emballasje",null,null,61013,0,0,1,7]
[6,1,14,"Stamblokk",null,null,61014,0,0,1,7]
[6,1,15,"Påler",null,null,61015,0,0,1,7]
[6,1,16,"Eksport",null,"Spesialtømmer",61016,0,0,1,{"$f":"A152+1","v":7}]
[6,1,17,"Grovt tømmer",null,null,61017,0,0,1,7]
[6,1,18,"Tørr",null,null,61018,0,0,1,7]
[6,1,19,"Utlegg",null,null,61019,0,0,1,7]
[6,1,20,"Vrak",null,null,61020,0,0,1,7]
[6,1,21,"Ulike typer kroktømmer/emner",null,null,61021,0,0,1,{"$f":"A157+1","v":7}]
[6,1,22,"Vedtømmer/Biovirke",null,"Tømmer til ved og biovirke",61022,0,0,1,7]
[6,1,23,"Brannskadet virke",null,null,61023,0,0,1,7]
[6,1,24,"Annen nedklassing",null,null,61024,0,0,1,7]
[6,1,25,"Tynningsvirke/smått virke",null,null,61025,0,0,1,7]
[6,1,26,"Ledig",null,null,61026,0,0,1,{"$f":"A162+1","v":7}]
[6,1,27,"Cellgran",null,null,61027,0,0,1,{"$f":"A163+1","v":7}]
[6,1,28,"Kleinvirke",null,null,61028,0,0,1,{"$f":"A164+1","v":7}]
[6,1,29,"Panel",null,null,61029,0,0,1,{"$f":"A165+1","v":7}]
[6,1,999,"Andre kvaliteter/tømmersortiment",null,null,61999,0,0,1,{"$f":"A166+1","v":7}]
[6,2,0,"Plantekjøp (kvalitet)",null,null,62000,0,1,1,7]
[6,2,1,"M95 1 år",null,null,62001,0,0,1,7]
[6,2,{"$f":"C168+1","v":2},"M95 2 år",null,null,62002,0,0,1,7]
[6,2,{"$f":"C169+1","v":3},"M60 1 år",null,null,62003,0,0,1,7]
[6,2,{"$f":"C170+1","v":4},"M60 2 år",null,null,62004,0,0,1,7]
[6,2,{"$f":"C171+1","v":5},"Jiffypot 1 år",null,null,62005,0,0,1,{"$f":"A172+1","v":7}]
[6,2,999,"Annen kvalitet plantekjøp skogbruk",null,null,62999,0,0,1,7]
[7,0,0,{"$f":"Produkt!E347","v":"Tilskudd fra/forvaltet av landbruksdirektoratet, annen offentlig etat og finansiering, renter etc."},null,null,70000,1,1,1,8]
[7,1,0,"Beløp tilskudd",null,"Ikke aktuelt med kvalitet",71000,0,1,1,8]
[8,0,0,{"$f":"Produkt!E405&\" 1-5\"","v":"Varer og tjenester knyttet til produksjonene 1-5"},null,null,80000,1,1,1,9]
[8,1,0,"Beløp innsatsfaktorer",null,"Ikke aktuelt med kvalitet",81000,0,1,1,9]
[9,0,0,{"$f":"Produkt!E602","v":"Ledig"},null,null,{"$f":"VALUE(A178&B178&IF(LEN(C178)=1,\"00\"&C178,IF(LEN(C178)=2,\"0\"&C178,C178)))","v":90000},{"$f":"IF(B178=0,1,0)","v":1},{"$f":"IF(C178=0,1,0)","v":1},1,{"$f":"A178+1","v":10}]
[9,1,0,"Beløp innsatsfaktorer",null,"Ikke aktuelt med kvalitet",91000,0,1,1,10]
["Nye linjer må settes inn over denne linja"]
[null,null,null,null,null,"Grupper"]
[null,null,null,null,1,"Alle grupper"]
[null,null,null,null,2,{"$f":"A4&B4&\"   \"&D4","v":"10   Korn, frø og grovfôr"}]
[null,null,null,null,3,{"$f":"A22&B22&\"   \"&D22","v":"20   Poteter, grønnsaker, frukt, bær, blomster og hagebruksvekster"}]
[null,null,null,null,4,{"$f":"A46&B46&\"   \"&D46","v":"30   Husdyrprodukter"}]
[null,null,null,null,5,{"$f":"A90&B90&\"   \"&D90","v":"40   Husdyr, slakt og skrotter"}]
[null,null,null,null,6,{"$f":"A131&B131&\"   \"&D131","v":"50   Husdyr, livdyr, fôringsdyr, produksjonsdyr og balanse"}]
[null,null,null,null,7,{"$f":"A135&B135&\"   \"&D135","v":"60   Skogbruk og andre næringer"}]
[null,null,null,null,8,{"$f":"A174&B174&\"   \"&D174","v":"70   Tilskudd fra/forvaltet av landbruksdirektoratet, annen offentlig etat og finansiering, renter etc."}]
[null,null,null,null,9,{"$f":"A176&B176&\"   \"&D176","v":"80   Varer og tjenester knyttet til produksjonene 1-5"}]
[null,null,null,null,10,{"$f":"A178&B178&\"   \"&D178","v":"90   Ledig"}]

{"sheet":"ProduktTilleggTrekk","index":4,"n_rows":638,"n_cols":207,"rows_kept":638,"cut":false,"hidden":false,"merged":[[1,141,1,145],[1,146,2,146],[1,125,1,128],[1,129,1,133],[1,134,2,134],[1,135,2,135],[1,137,1,140],[1,111,2,111],[1,113,1,116],[1,117,1,121],[1,122,2,122],[1,123,2,123],[1,27,2,27],[1,29,1,32],[1,38,2,38],[2,0,2,1],[1,0,1,2],[2,3,2,4],[1,9,1,12],[1,7,2,7],[1,18,2,18],[1,6,2,6],[1,19,1,20],[1,33,1,37],[1,13,1,17],[1,51,2,51],[1,53,1,56],[1,62,2,62],[1,39,2,39],[1,41,1,44],[1,50,2,50],[1,45,1,49],[1,57,1,61],[1,75,2,75],[1,77,1,80],[1,86,2,86],[1,63,2,63],[1,65,1,68],[1,74,2,74],[1,69,1,73],[1,81,1,85],[1,101,1,104],[1,105,1,109],[1,110,2,110],[1,87,2,87],[1,89,1,92],[1,93,1,97],[1,98,2,98],[1,99,2,99],[1,147,2,147],[1,149,1,152],[1,153,1,157],[1,158,2,158],[1,159,2,159],[1,161,1,164],[1,165,1,169],[1,170,2,170],[1,171,2,171],[1,173,1,176],[1,177,1,181],[1,182,2,182],[1,183,2,183],[1,185,1,188],[1,189,1,193],[1,194,2,194],[1,195,2,195],[1,197,1,200],[1,201,1,205],[1,206,2,206]]}
["Produkt tillegg og trekk",null,null,null,null,null,{"$f":"Admin!D1","v":"1.3.6"},"Startlinje",null,{"$f":"ROW(H4)","v":4},"Sluttlinje",{"$f":"ROW(H607)-1","v":606},null,null,null,null,null,"Grunnlag",15,null,null,null,2,null,null,1,null,"Konteringstabell - grlag (1)",null,{"$f":"VLOOKUP(GruppeProduktTilleggTrekk,$E$610:$U$623,G609,FALSE)","v":"10 Korn og frø—20 Poteter—30 Melk—40 Slakt husdyr—50 Livdyr husdyr—60 Skogbruk—70 Finanser—80/1 Handelsgjødsel (4451)—80/2 Tekst—80/3 Tekst—80/4 Tekst—80/5 Tekst"},null,null,null,null,null,null,null,null,null,"Konteringstabell - grlag (2)",null,{"$f":"VLOOKUP(GruppeProduktTilleggTrekk,$E$610:$U$623,H609,FALSE)","v":"10 Grovfôr—20 Grønnsaker—30 Egg og bier—40 Slakt andre husdyr—50 Livdyr andre husdyr—60 Tekst—70 Tilskudd—80/1 Plantevern (4410)—80/2 Tekst—80/3 Tekst—80/4 Tekst—80/5 Tekst"},null,null,null,null,null,null,null,null,null,"Konteringstabell - grlag (3)",null,{"$f":"VLOOKUP(GruppeProduktTilleggTrekk,$E$610:$U$623,I609,FALSE)","v":"10 Tekst—20 Frukt—30 Ull og skinn—40 Slakt pelsdyr—50 Livdyr pelsdyr—60 Tekst—70 Tekst—80/1 Konserv.middel (4480)—80/2 Tekst—80/3 Tekst—80/4 Tekst—80/5 Tekst"},null,null,null,null,null,null,null,null,null,"Konteringstabell - grlag (4)",null,{"$f":"VLOOKUP(GruppeProduktTilleggTrekk,$E$610:$U$623,J609,FALSE)","v":"10 Tekst—20 Bær—30 Andre husdyrprod.—40 Tekst—50 Tekst—60 Tekst—70 Tekst—80/1 Kraftfôr (4020)—80/2 Tekst—80/3 Tekst—80/4 Tekst—80/5 Tekst"},null,null,null,null,null,null,null,null,null,"Konteringstabell - grlag (5)",null,{"$f":"VLOOKUP(GruppeProduktTilleggTrekk,$E$610:$U$623,K609,FALSE)","v":"10 Tekst—20 2000-serien—30 Pelsdyr—40 Tekst—50 Tekst—60 Tekst—70 Tekst—80/1 Tilskuddsfôr (4040)—80/2 Tekst—80/3 Tekst—80/4 Tekst—80/5 Tekst"},null,null,null,null,null,null,null,null,null,"Konteringstabell - grlag (6)",null,{"$f":"VLOOKUP(GruppeProduktTilleggTrekk,$E$610:$U$623,L609,FALSE)","v":"10 Tekst—20 Tekst—30 Tekst—40 Tekst—50 Tekst—60 Tekst—70 Tekst—80/1 Såvarer i pl.prod (4001)—80/2 Tekst—80/3 Tekst—80/4 Tekst—80/5 Tekst"},null,null,null,null,null,null,null,null,null,"Konteringstabell - grlag (7)",null,{"$f":"VLOOKUP(GruppeProduktTilleggTrekk,$E$610:$U$623,M609,FALSE)","v":"10 Tekst—20 Tekst—30 Tekst—40 Tekst—50 Tekst—60 Tekst—70 Tekst—80/1 Kalk (4457)—80/2 Tekst—80/3 Tekst—80/4 Tekst—80/5 Tekst"},null,null,null,null,null,null,null,null,null,"Konteringstabell - grlag (8)",null,{"$f":"VLOOKUP(GruppeProduktTilleggTrekk,$E$610:$U$623,N609,FALSE)","v":"10 Tekst—20 Tekst—30 Tekst—40 Tekst—50 Tekst—60 Tekst—70 Tekst—80/1 Såvare i grøntproduksjon—80/2 Tekst—80/3 Tekst—80/4 Tekst—80/5 Tekst"},null,null,null,null,null,null,null,null,null,"Konteringstabell - grlag (9)",null,{"$f":"VLOOKUP(GruppeProduktTilleggTrekk,$E$610:$U$623,O609,FALSE)","v":"10 Tekst—20 Tekst—30 Tekst—40 Tekst—50 Tekst—60 Tekst—70 Tekst—80/1 Bladgjødsel/Husdyrgjødsel—80/2 Tekst—80/3 Tekst—80/4 Tekst—80/5 Tekst"},null,null,null,null,null,null,null,null,null,"Konteringstabell - grlag (10)",null,{"$f":"VLOOKUP(GruppeProduktTilleggTrekk,$E$610:$U$623,P609,FALSE)","v":"10 Tekst—20 Tekst—30 Tekst—40 Tekst—50 Tekst—60 Tekst—70 Tekst—80/1 Andelskap., renter mm—80/2 Tekst—80/3 Tekst—80/4 Tekst—80/5 Tekst"},null,null,null,null,null,null,null,null,null,"Konteringstabell - grlag (11)",null,{"$f":"VLOOKUP(GruppeProduktTilleggTrekk,$E$610:$U$623,Q609,FALSE)","v":"10 Tekst—20 Tekst—30 Tekst—40 Tekst—50 Tekst—60 Tekst—70 Tekst—80/1 Forbruksmateriell (4432)—80/2 Tekst—80/3 Tekst—80/4 Tekst—80/5 Tekst"},null,null,null,null,null,null,null,null,null,"Konteringstabell - grlag (12)",null,{"$f":"VLOOKUP(GruppeProduktTilleggTrekk,$E$610:$U$623,R609,FALSE)","v":"10 Tekst—20 Tekst—30 Tekst—40 Tekst—50 Tekst—60 Tekst—70 Tekst—80/1 Fôrproduksjon (4444)—80/2 Tekst—80/3 Tekst—80/4 Tekst—80/5 Tekst"},null,null,null,null,null,null,null,null,null,"Konteringstabell - grlag (13)",null,{"$f":"VLOOKUP(GruppeProduktTilleggTrekk,$E$610:$U$623,S609,FALSE)","v":"10 Tekst—20 Tekst—30 Tekst—40 Tekst—50 Tekst—60 Tekst—70 Tekst—80/1 Tekst—80/2 Tekst—80/3 Tekst—80/4 Tekst—80/5 Tekst"},null,null,null,null,null,null,null,null,null,"Konteringstabell - grlag (14)",null,{"$f":"VLOOKUP(GruppeProduktTilleggTrekk,$E$610:$U$623,T609,FALSE)","v":"10 Tekst—20 Tekst—30 Tekst—40 Tekst—50 Tekst—60 Tekst—70 Tekst—80/1 Tekst—80/2 Tekst—80/3 Tekst—80/4 Tekst—80/5 Tekst"},null,null,null,null,null,null,null,null,null,"Konteringstabell - grlag (15)",null,{"$f":"VLOOKUP(GruppeProduktTilleggTrekk,$E$610:$U$623,U609,FALSE)","v":"10 Tekst—20 Tekst—30 Tekst—40 Tekst—50 Tekst—60 Tekst—70 Tekst—80/1 Tekst—80/2 Tekst—80/3 Tekst—80/4 Tekst—80/5 Tekst"}]
["Kode tillegg/trekk",null,null,{"$f":"\"Gruppenivå (\"&W1&\")\"","v":"Gruppenivå (2)"},null,"Konteringsmatriser:","Sammen-slått kode","Avdel-\ning","Ikke omsetn.","Konto inngående mva",null,null,null,"Konto utgående mva",null,null,null,null,"Drifts-\ngrein","Kodeområde",null,null,null,null,null,null,null,"Avdel-\ning","Ikke omsetn.","Konto inngående mva",null,null,null,"Konto utgående mva",null,null,null,null,"Drifts-\ngrein","Avdel-\ning","Ikke omsetn.","Konto inngående mva",null,null,null,"Konto utgående mva",null,null,null,null,"Drifts-\ngrein","Avdel-\ning","Ikke omsetn.","Konto inngående mva",null,null,null,"Konto utgående mva",null,null,null,null,"Drifts-\ngrein","Avdel-\ning","Ikke omsetn.","Konto inngående mva",null,null,null,"Konto utgående mva",null,null,null,null,"Drifts-\ngrein","Avdel-\ning","Ikke omsetn.","Konto inngående mva",null,null,null,"Konto utgående mva",null,null,null,null,"Drifts-\ngrein","Avdel-\ning","Ikke omsetn.","Konto inngående mva",null,null,null,"Konto utgående mva",null,null,null,null,"Drifts-\ngrein","Avdel-\ning","Ikke omsetn.","Konto inngående mva",null,null,null,"Konto utgående mva",null,null,null,null,"Drifts-\ngrein","Avdel-\ning","Ikke omsetn.","Konto inngående mva",null,null,null,"Konto utgående mva",null,null,null,null,"Drifts-\ngrein","Avdel-\ning","Ikke omsetn.","Konto inngående mva",null,null,null,"Konto utgående mva",null,null,null,null,"Drifts-\ngrein","Avdel-\ning","Ikke omsetn.","Konto inngående mva",null,null,null,"Konto utgående mva",null,null,null,null,"Drifts-\ngrein","Avdel-\ning","Ikke omsetn.","Konto inngående mva",null,null,null,"Konto utgående mva",null,null,null,null,"Drifts-\ngrein","Avdel-\ning","Ikke omsetn.","Konto inngående mva",null,null,null,"Konto utgående mva",null,null,null,null,"Drifts-\ngrein","Avdel-\ning","Ikke omsetn.","Konto inngående mva",null,null,null,"Konto utgående mva",null,null,null,null,"Drifts-\ngrein","Avdel-\ning","Ikke omsetn.","Konto inngående mva",null,null,null,"Konto utgående mva",null,null,null,null,"Drifts-\ngrein","Avdel-\ning","Ikke omsetn.","Konto inngående mva",null,null,null,"Konto utgående mva",null,null,null,null,"Drifts-\ngrein"]
["Gruppe-nr",null,"Løpenr","Tekst",null,"Merknader",null,null,{"$f":"Produkt!$R$3","v":"O_O"},{"$f":"Produkt!$S$3","v":"I_O"},{"$f":"Produkt!$T$3","v":"I_AA"},{"$f":"Produkt!$U$3","v":"I_H"},{"$f":"Produkt!$V$3","v":"I_S"},{"$f":"Produkt!$W$3","v":"O_E"},{"$f":"Produkt!$X$3","v":"O_Z"},{"$f":"Produkt!$Y$3","v":"O_AA"},{"$f":"Produkt!$Z$3","v":"O_H"},{"$f":"Produkt!$AA$3","v":"O_S"},null,"Fra","Til",null,null,null,null,"Gruppe",null,null,{"$f":"Produkt!$R$3","v":"O_O"},{"$f":"Produkt!$S$3","v":"I_O"},{"$f":"Produkt!$T$3","v":"I_AA"},{"$f":"Produkt!$U$3","v":"I_H"},{"$f":"Produkt!$V$3","v":"I_S"},{"$f":"Produkt!$W$3","v":"O_E"},{"$f":"Produkt!$X$3","v":"O_Z"},{"$f":"Produkt!$Y$3","v":"O_AA"},{"$f":"Produkt!$Z$3","v":"O_H"},{"$f":"Produkt!$AA$3","v":"O_S"},null,null,{"$f":"Produkt!$R$3","v":"O_O"},{"$f":"Produkt!$S$3","v":"I_O"},{"$f":"Produkt!$T$3","v":"I_AA"},{"$f":"Produkt!$U$3","v":"I_H"},{"$f":"Produkt!$V$3","v":"I_S"},{"$f":"Produkt!$W$3","v":"O_E"},{"$f":"Produkt!$X$3","v":"O_Z"},{"$f":"Produkt!$Y$3","v":"O_AA"},{"$f":"Produkt!$Z$3","v":"O_H"},{"$f":"Produkt!$AA$3","v":"O_S"},null,null,{"$f":"Produkt!$R$3","v":"O_O"},{"$f":"Produkt!$S$3","v":"I_O"},{"$f":"Produkt!$T$3","v":"I_AA"},{"$f":"Produkt!$U$3","v":"I_H"},{"$f":"Produkt!$V$3","v":"I_S"},{"$f":"Produkt!$W$3","v":"O_E"},{"$f":"Produkt!$X$3","v":"O_Z"},{"$f":"Produkt!$Y$3","v":"O_AA"},{"$f":"Produkt!$Z$3","v":"O_H"},{"$f":"Produkt!$AA$3","v":"O_S"},null,null,{"$f":"Produkt!$R$3","v":"O_O"},{"$f":"Produkt!$S$3","v":"I_O"},{"$f":"Produkt!$T$3","v":"I_AA"},{"$f":"Produkt!$U$3","v":"I_H"},{"$f":"Produkt!$V$3","v":"I_S"},{"$f":"Produkt!$W$3","v":"O_E"},{"$f":"Produkt!$X$3","v":"O_Z"},{"$f":"Produkt!$Y$3","v":"O_AA"},{"$f":"Produkt!$Z$3","v":"O_H"},{"$f":"Produkt!$AA$3","v":"O_S"},null,null,{"$f":"Produkt!$R$3","v":"O_O"},{"$f":"Produkt!$S$3","v":"I_O"},{"$f":"Produkt!$T$3","v":"I_AA"},{"$f":"Produkt!$U$3","v":"I_H"},{"$f":"Produkt!$V$3","v":"I_S"},{"$f":"Produkt!$W$3","v":"O_E"},{"$f":"Produkt!$X$3","v":"O_Z"},{"$f":"Produkt!$Y$3","v":"O_AA"},{"$f":"Produkt!$Z$3","v":"O_H"},{"$f":"Produkt!$AA$3","v":"O_S"},null,null,{"$f":"Produkt!$R$3","v":"O_O"},{"$f":"Produkt!$S$3","v":"I_O"},{"$f":"Produkt!$T$3","v":"I_AA"},{"$f":"Produkt!$U$3","v":"I_H"},{"$f":"Produkt!$V$3","v":"I_S"},{"$f":"Produkt!$W$3","v":"O_E"},{"$f":"Produkt!$X$3","v":"O_Z"},{"$f":"Produkt!$Y$3","v":"O_AA"},{"$f":"Produkt!$Z$3","v":"O_H"},{"$f":"Produkt!$AA$3","v":"O_S"},null,null,{"$f":"Produkt!$R$3","v":"O_O"},{"$f":"Produkt!$S$3","v":"I_O"},{"$f":"Produkt!$T$3","v":"I_AA"},{"$f":"Produkt!$U$3","v":"I_H"},{"$f":"Produkt!$V$3","v":"I_S"},{"$f":"Produkt!$W$3","v":"O_E"},{"$f":"Produkt!$X$3","v":"O_Z"},{"$f":"Produkt!$Y$3","v":"O_AA"},{"$f":"Produkt!$Z$3","v":"O_H"},{"$f":"Produkt!$AA$3","v":"O_S"},null,null,{"$f":"Produkt!$R$3","v":"O_O"},{"$f":"Produkt!$S$3","v":"I_O"},{"$f":"Produkt!$T$3","v":"I_AA"},{"$f":"Produkt!$U$3","v":"I_H"},{"$f":"Produkt!$V$3","v":"I_S"},{"$f":"Produkt!$W$3","v":"O_E"},{"$f":"Produkt!$X$3","v":"O_Z"},{"$f":"Produkt!$Y$3","v":"O_AA"},{"$f":"Produkt!$Z$3","v":"O_H"},{"$f":"Produkt!$AA$3","v":"O_S"},null,null,{"$f":"Produkt!$R$3","v":"O_O"},{"$f":"Produkt!$S$3","v":"I_O"},{"$f":"Produkt!$T$3","v":"I_AA"},{"$f":"Produkt!$U$3","v":"I_H"},{"$f":"Produkt!$V$3","v":"I_S"},{"$f":"Produkt!$W$3","v":"O_E"},{"$f":"Produkt!$X$3","v":"O_Z"},{"$f":"Produkt!$Y$3","v":"O_AA"},{"$f":"Produkt!$Z$3","v":"O_H"},{"$f":"Produkt!$AA$3","v":"O_S"},null,null,{"$f":"Produkt!$R$3","v":"O_O"},{"$f":"Produkt!$S$3","v":"I_O"},{"$f":"Produkt!$T$3","v":"I_AA"},{"$f":"Produkt!$U$3","v":"I_H"},{"$f":"Produkt!$V$3","v":"I_S"},{"$f":"Produkt!$W$3","v":"O_E"},{"$f":"Produkt!$X$3","v":"O_Z"},{"$f":"Produkt!$Y$3","v":"O_AA"},{"$f":"Produkt!$Z$3","v":"O_H"},{"$f":"Produkt!$AA$3","v":"O_S"},null,null,{"$f":"Produkt!$R$3","v":"O_O"},{"$f":"Produkt!$S$3","v":"I_O"},{"$f":"Produkt!$T$3","v":"I_AA"},{"$f":"Produkt!$U$3","v":"I_H"},{"$f":"Produkt!$V$3","v":"I_S"},{"$f":"Produkt!$W$3","v":"O_E"},{"$f":"Produkt!$X$3","v":"O_Z"},{"$f":"Produkt!$Y$3","v":"O_AA"},{"$f":"Produkt!$Z$3","v":"O_H"},{"$f":"Produkt!$AA$3","v":"O_S"},null,null,{"$f":"Produkt!$R$3","v":"O_O"},{"$f":"Produkt!$S$3","v":"I_O"},{"$f":"Produkt!$T$3","v":"I_AA"},{"$f":"Produkt!$U$3","v":"I_H"},{"$f":"Produkt!$V$3","v":"I_S"},{"$f":"Produkt!$W$3","v":"O_E"},{"$f":"Produkt!$X$3","v":"O_Z"},{"$f":"Produkt!$Y$3","v":"O_AA"},{"$f":"Produkt!$Z$3","v":"O_H"},{"$f":"Produkt!$AA$3","v":"O_S"},null,null,{"$f":"Produkt!$R$3","v":"O_O"},{"$f":"Produkt!$S$3","v":"I_O"},{"$f":"Produkt!$T$3","v":"I_AA"},{"$f":"Produkt!$U$3","v":"I_H"},{"$f":"Produkt!$V$3","v":"I_S"},{"$f":"Produkt!$W$3","v":"O_E"},{"$f":"Produkt!$X$3","v":"O_Z"},{"$f":"Produkt!$Y$3","v":"O_AA"},{"$f":"Produkt!$Z$3","v":"O_H"},{"$f":"Produkt!$AA$3","v":"O_S"},null,null,{"$f":"Produkt!$R$3","v":"O_O"},{"$f":"Produkt!$S$3","v":"I_O"},{"$f":"Produkt!$T$3","v":"I_AA"},{"$f":"Produkt!$U$3","v":"I_H"},{"$f":"Produkt!$V$3","v":"I_S"},{"$f":"Produkt!$W$3","v":"O_E"},{"$f":"Produkt!$X$3","v":"O_Z"},{"$f":"Produkt!$Y$3","v":"O_AA"},{"$f":"Produkt!$Z$3","v":"O_H"},{"$f":"Produkt!$AA$3","v":"O_S"},null,null,{"$f":"Produkt!$R$3","v":"O_O"},{"$f":"Produkt!$S$3","v":"I_O"},{"$f":"Produkt!$T$3","v":"I_AA"},{"$f":"Produkt!$U$3","v":"I_H"},{"$f":"Produkt!$V$3","v":"I_S"},{"$f":"Produkt!$W$3","v":"O_E"},{"$f":"Produkt!$X$3","v":"O_Z"},{"$f":"Produkt!$Y$3","v":"O_AA"},{"$f":"Produkt!$Z$3","v":"O_H"},{"$f":"Produkt!$AA$3","v":"O_S"}]
[1,0,0,{"$f":"Produkt!E4","v":"Korn, frø og grovfôr"},null,null,{"$f":"VALUE(A4&B4&IF(LEN(C4)=1,\"00\"&C4,IF(LEN(C4)=2,\"0\"&C4,C4)))","v":10000},null,null,null,null,null,null,null,null,null,null,null,null,{"$f":"IF(GRLTilleggTrekk=1,AE4,IF(GRLTilleggTrekk=2,AQ4,IF(GRLTilleggTrekk=3,BC4,IF(GRLTilleggTrekk=4,BO4,IF(GRLTilleggTrekk=5,CA4,IF(GRLTilleggTrekk=6,CM4,IF(GRLTilleggTrekk=7,CY4,IF(GRLTilleggTrekk=8,DK4,IF(GRLTilleggTrekk=9,DW4,IF(GRLTilleggTrekk=10,EI4,IF(GRLTilleggTrekk=11,EU4,IF(GRLTilleggTrekk=12,FG4,IF(GRLTilleggTrekk=13,FS4,IF(GRLTilleggTrekk=14,GE4,IF(GRLTilleggTrekk=15,GQ4,0)))))))))))))))","v":0},{"$f":"IF(GRLTilleggTrekk=1,AF4,IF(GRLTilleggTrekk=2,AR4,IF(GRLTilleggTrekk=3,BD4,IF(GRLTilleggTrekk=4,BP4,IF(GRLTilleggTrekk=5,CB4,IF(GRLTilleggTrekk=6,CN4,IF(GRLTilleggTrekk=7,CZ4,IF(GRLTilleggTrekk=8,DL4,IF(GRLTilleggTrekk=9,DX4,IF(GRLTilleggTrekk=10,EJ4,IF(GRLTilleggTrekk=11,EV4,IF(GRLTilleggTrekk=12,FH4,IF(GRLTilleggTrekk=13,FT4,IF(GRLTilleggTrekk=14,GF4,IF(GRLTilleggTrekk=15,GR4,0)))))))))))))))","v":0},null,{"$f":"IF(B4=0,1,0)","v":1},{"$f":"IF(OR(C4=0,MID(C4,2,2)=\"00\"),1,0)","v":1},1,{"$f":"A4+1","v":2},null,"Korn og frø",null,"Kode fra/til",1100,1499,null,null,null,null,null,null,null,"Grovfôr",null,"Kode fra/til",1500,1599,null,null,null,null,null,null,null,"Tekst",null,"Kode fra/til",null,null,null,null,null,null,null,null,null,"Tekst",null,"Kode fra/til",null,null,null,null,null,null,null,null,null,"Tekst",null,"Kode fra/til",null,null,null,null,null,null,null,null,null,"Tekst",null,"Kode fra/til",null,null,null,null,null,null,null,null,null,"Tekst",null,"Kode fra/til",null,null,null,null,null,null,null,null,null,"Tekst",null,"Kode fra/til",null,null,null,null,null,null,null,null,null,"Tekst",null,"Kode fra/til",null,null,null,null,null,null,null,null,null,"Tekst",null,"Kode fra/til",null,null,null,null,null,null,null,null,null,"Tekst",null,"Kode fra/til",null,null,null,null,null,null,null,null,null,"Tekst",null,"Kode fra/til",null,null,null,null,null,null,null,null,null,"Tekst",null,"Kode fra/til",null,null,null,null,null,null,null,null,null,"Tekst",null,"Kode fra/til",null,null,null,null,null,null,null,null,null,"Tekst",null,"Kode fra/til"]
[1,1,0,"Tillegg",null,null,11000,null,null,null,null,null,null,null,null,null,null,null,null,null,null,null,{"$f":"IF(B5=0,1,0)","v":0},{"$f":"IF(OR(C5=0,MID(C5,2,2)=\"00\"),1,0)","v":1},1,2]
[1,1,1,"Basispris",null,"Ikke i bruk etter februar 2021",11001,{"$f":"IF(GRLTilleggTrekk=1,AB6,IF(GRLTilleggTrekk=2,AN6,IF(GRLTilleggTrekk=3,AZ6,IF(GRLTilleggTrekk=4,BL6,IF(GRLTilleggTrekk=5,BX6,IF(GRLTilleggTrekk=6,CJ6,IF(GRLTilleggTrekk=7,CV6,IF(GRLTilleggTrekk=8,DH6,IF(GRLTilleggTrekk=9,DT6,IF(GRLTilleggTrekk=10,EF6,IF(GRLTilleggTrekk=11,ER6,IF(GRLTilleggTrekk=12,FD6,IF(GRLTilleggTrekk=13,FP6,IF(GRLTilleggTrekk=14,GB6,IF(GRLTilleggTrekk=15,GN6,0)))))))))))))))","v":0},{"$f":"IF(GRLTilleggTrekk=1,AC6,IF(GRLTilleggTrekk=2,AO6,IF(GRLTilleggTrekk=3,BA6,IF(GRLTilleggTrekk=4,BM6,IF(GRLTilleggTrekk=5,BY6,IF(GRLTilleggTrekk=6,CK6,IF(GRLTilleggTrekk=7,CW6,IF(GRLTilleggTrekk=8,DI6,IF(GRLTilleggTrekk=9,DU6,IF(GRLTilleggTrekk=10,EG6,IF(GRLTilleggTrekk=11,ES6,IF(GRLTilleggTrekk=12,FE6,IF(GRLTilleggTrekk=13,FQ6,IF(GRLTilleggTrekk=14,GC6,IF(GRLTilleggTrekk=15,GO6,0)))))))))))))))","v":0},{"$f":"IF(GRLTilleggTrekk=1,AD6,IF(GRLTilleggTrekk=2,AP6,IF(GRLTilleggTrekk=3,BB6,IF(GRLTilleggTrekk=4,BN6,IF(GRLTilleggTrekk=5,BZ6,IF(GRLTilleggTrekk=6,CL6,IF(GRLTilleggTrekk=7,CX6,IF(GRLTilleggTrekk=8,DJ6,IF(GRLTilleggTrekk=9,DV6,IF(GRLTilleggTrekk=10,EH6,IF(GRLTilleggTrekk=11,ET6,IF(GRLTilleggTrekk=12,FF6,IF(GRLTilleggTrekk=13,FR6,IF(GRLTilleggTrekk=14,GD6,IF(GRLTilleggTrekk=15,GP6,0)))))))))))))))","v":0},{"$f":"IF(GRLTilleggTrekk=1,AE6,IF(GRLTilleggTrekk=2,AQ6,IF(GRLTilleggTrekk=3,BC6,IF(GRLTilleggTrekk=4,BO6,IF(GRLTilleggTrekk=5,CA6,IF(GRLTilleggTrekk=6,CM6,IF(GRLTilleggTrekk=7,CY6,IF(GRLTilleggTrekk=8,DK6,IF(GRLTilleggTrekk=9,DW6,IF(GRLTilleggTrekk=10,EI6,IF(GRLTilleggTrekk=11,EU6,IF(GRLTilleggTrekk=12,FG6,IF(GRLTilleggTrekk=13,FS6,IF(GRLTilleggTrekk=14,GE6,IF(GRLTilleggTrekk=15,GQ6,0)))))))))))))))","v":0},{"$f":"IF(GRLTilleggTrekk=1,AF6,IF(GRLTilleggTrekk=2,AR6,IF(GRLTilleggTrekk=3,BD6,IF(GRLTilleggTrekk=4,BP6,IF(GRLTilleggTrekk=5,CB6,IF(GRLTilleggTrekk=6,CN6,IF(GRLTilleggTrekk=7,CZ6,IF(GRLTilleggTrekk=8,DL6,IF(GRLTilleggTrekk=9,DX6,IF(GRLTilleggTrekk=10,EJ6,IF(GRLTilleggTrekk=11,EV6,IF(GRLTilleggTrekk=12,FH6,IF(GRLTilleggTrekk=13,FT6,IF(GRLTilleggTrekk=14,GF6,IF(GRLTilleggTrekk=15,GR6,0)))))))))))))))","v":0},{"$f":"IF(GRLTilleggTrekk=1,AG6,IF(GRLTilleggTrekk=2,AS6,IF(GRLTilleggTrekk=3,BE6,IF(GRLTilleggTrekk=4,BQ6,IF(GRLTilleggTrekk=5,CC6,IF(GRLTilleggTrekk=6,CO6,IF(GRLTilleggTrekk=7,DA6,IF(GRLTilleggTrekk=8,DM6,IF(GRLTilleggTrekk=9,DY6,IF(GRLTilleggTrekk=10,EK6,IF(GRLTilleggTrekk=11,EW6,IF(GRLTilleggTrekk=12,FI6,IF(GRLTilleggTrekk=13,FU6,IF(GRLTilleggTrekk=14,GG6,IF(GRLTilleggTrekk=15,GS6,0)))))))))))))))","v":0},{"$f":"IF(GRLTilleggTrekk=1,AH6,IF(GRLTilleggTrekk=2,AT6,IF(GRLTilleggTrekk=3,BF6,IF(GRLTilleggTrekk=4,BR6,IF(GRLTilleggTrekk=5,CD6,IF(GRLTilleggTrekk=6,CP6,IF(GRLTilleggTrekk=7,DB6,IF(GRLTilleggTrekk=8,DN6,IF(GRLTilleggTrekk=9,DZ6,IF(GRLTilleggTrekk=10,EL6,IF(GRLTilleggTrekk=11,EX6,IF(GRLTilleggTrekk=12,FJ6,IF(GRLTilleggTrekk=13,FV6,IF(GRLTilleggTrekk=14,GH6,IF(GRLTilleggTrekk=15,GT6,0)))))))))))))))","v":0},{"$f":"IF(GRLTilleggTrekk=1,AI6,IF(GRLTilleggTrekk=2,AU6,IF(GRLTilleggTrekk=3,BG6,IF(GRLTilleggTrekk=4,BS6,IF(GRLTilleggTrekk=5,CE6,IF(GRLTilleggTrekk=6,CQ6,IF(GRLTilleggTrekk=7,DC6,IF(GRLTilleggTrekk=8,DO6,IF(GRLTilleggTrekk=9,EA6,IF(GRLTilleggTrekk=10,EM6,IF(GRLTilleggTrekk=11,EY6,IF(GRLTilleggTrekk=12,FK6,IF(GRLTilleggTrekk=13,FW6,IF(GRLTilleggTrekk=14,GI6,IF(GRLTilleggTrekk=15,GU6,0)))))))))))))))","v":0},{"$f":"IF(GRLTilleggTrekk=1,AJ6,IF(GRLTilleggTrekk=2,AV6,IF(GRLTilleggTrekk=3,BH6,IF(GRLTilleggTrekk=4,BT6,IF(GRLTilleggTrekk=5,CF6,IF(GRLTilleggTrekk=6,CR6,IF(GRLTilleggTrekk=7,DD6,IF(GRLTilleggTrekk=8,DP6,IF(GRLTilleggTrekk=9,EB6,IF(GRLTilleggTrekk=10,EN6,IF(GRLTilleggTrekk=11,EZ6,IF(GRLTilleggTrekk=12,FL6,IF(GRLTilleggTrekk=13,FX6,IF(GRLTilleggTrekk=14,GJ6,IF(GRLTilleggTrekk=15,GV6,0)))))))))))))))","v":0},{"$f":"IF(GRLTilleggTrekk=1,AK6,IF(GRLTilleggTrekk=2,AW6,IF(GRLTilleggTrekk=3,BI6,IF(GRLTilleggTrekk=4,BU6,IF(GRLTilleggTrekk=5,CG6,IF(GRLTilleggTrekk=6,CS6,IF(GRLTilleggTrekk=7,DE6,IF(GRLTilleggTrekk=8,DQ6,IF(GRLTilleggTrekk=9,EC6,IF(GRLTilleggTrekk=10,EO6,IF(GRLTilleggTrekk=11,FA6,IF(GRLTilleggTrekk=12,FM6,IF(GRLTilleggTrekk=13,FY6,IF(GRLTilleggTrekk=14,GK6,IF(GRLTilleggTrekk=15,GW6,0)))))))))))))))","v":0},{"$f":"IF(GRLTilleggTrekk=1,AL6,IF(GRLTilleggTrekk=2,AX6,IF(GRLTilleggTrekk=3,BJ6,IF(GRLTilleggTrekk=4,BV6,IF(GRLTilleggTrekk=5,CH6,IF(GRLTilleggTrekk=6,CT6,IF(GRLTilleggTrekk=7,DF6,IF(GRLTilleggTrekk=8,DR6,IF(GRLTilleggTrekk=9,ED6,IF(GRLTilleggTrekk=10,EP6,IF(GRLTilleggTrekk=11,FB6,IF(GRLTilleggTrekk=12,FN6,IF(GRLTilleggTrekk=13,FZ6,IF(GRLTilleggTrekk=14,GL6,IF(GRLTilleggTrekk=15,GX6,0)))))))))))))))","v":0},{"$f":"IF(GRLTilleggTrekk=1,AM6,IF(GRLTilleggTrekk=2,AY6,IF(GRLTilleggTrekk=3,BK6,IF(GRLTilleggTrekk=4,BW6,IF(GRLTilleggTrekk=5,CI6,IF(GRLTilleggTrekk=6,CU6,IF(GRLTilleggTrekk=7,DG6,IF(GRLTilleggTrekk=8,DS6,IF(GRLTilleggTrekk=9,EE6,IF(GRLTilleggTrekk=10,EQ6,IF(GRLTilleggTrekk=11,FC6,IF(GRLTilleggTrekk=12,FO6,IF(GRLTilleggTrekk=13,GA6,IF(GRLTilleggTrekk=14,GM6,IF(GRLTilleggTrekk=15,GY6,0)))))))))))))))","v":0},{"$f":"$T$4","v":0},{"$f":"$U$4","v":0},null,0,0,1,2,null,20,null,null,null,null,null,null,null,null,null,3001]
[1,1,{"$f":"C6+1","v":2},"Frakttilskudd",null,null,11002,0,0,0,0,0,0,0,0,0,0,0,0,{"$f":"$T$4","v":0},{"$f":"$U$4","v":0},null,0,0,1,2,null,20,null,null,null,null,null,null,null,null,null,3001]
[1,1,3,"Høstetillegg",null,null,11003,0,0,0,0,0,0,0,0,0,0,0,0,0,0,null,0,0,1,2]
[1,1,4,"Inntransport/egentransport",null,null,11004,0,0,0,0,0,0,0,0,0,0,0,0,0,0,null,0,0,1,2,null,20,null,null,null,null,null,null,null,null,null,3091]
[1,1,5,"Lagringsgodtgjørelse",null,null,11005,0,0,0,0,0,0,0,0,0,0,0,0,0,0,null,0,0,1,2,null,20,null,null,null,null,null,null,null,null,null,3001]
[1,1,6,"Såkorntillegg",null,null,11006,0,0,0,0,0,0,0,0,0,0,0,0,0,0,null,0,0,1,2,null,20,null,null,null,null,null,null,null,null,null,3001]
[1,1,7,"Utjevningstillegg (frakt)",null,null,11007,0,0,0,0,0,0,0,0,0,0,0,0,0,0,null,0,0,1,2,null,20,null,null,null,null,null,null,null,null,null,3001]
[1,1,8,"Utsortering",null,null,11008,0,0,0,0,0,0,0,0,0,0,0,0,0,0,null,0,0,1,2]
[1,1,9,"Avtaletillegg/særtillegg",null,null,11009,0,0,0,0,0,0,0,0,0,0,0,0,0,0,null,0,0,1,{"$f":"A14+1","v":2},null,20,null,null,null,null,null,null,null,null,null,3001]
[1,1,10,"Tørr vare",null,"Tillegg og trekk",11010,0,0,0,0,0,0,0,0,0,0,0,0,0,0,null,0,0,1,{"$f":"A15+1","v":2},null,20,null,null,null,null,null,null,null,null,null,3001]
[1,1,11,"Sortstillegg",null,null,11011,0,0,0,0,0,0,0,0,0,0,0,0,0,0,null,0,0,1,{"$f":"A16+1","v":2},null,20,null,null,null,null,null,null,null,null,null,3001]
[1,1,12,"Hektolitervekt",null,"Tillegg og trekk",11012,0,0,0,0,0,0,0,0,0,0,0,0,0,0,null,0,0,1,{"$f":"A17+1","v":2},null,20,null,null,null,null,null,null,null,null,null,3001]
[1,1,13,"Proteininnhold",null,"Tillegg og trekk",11013,0,0,0,0,0,0,0,0,0,0,0,0,0,0,null,0,0,1,{"$f":"A18+1","v":2},null,20,null,null,null,null,null,null,null,null,null,3001]
[1,1,14,"Fôrverdi",null,null,11014,0,0,0,0,0,0,0,0,0,0,0,0,0,0,null,0,0,1,{"$f":"A19+1","v":2},null,20,null,null,null,null,null,null,null,null,null,3001]
[1,1,15,"Markedstillegg",null,null,11015,0,0,0,0,0,0,0,0,0,0,0,0,0,0,null,0,0,1,{"$f":"A20+1","v":2},null,20,null,null,null,null,null,null,null,null,null,3001]
[1,1,16,"Renhet",null,null,11016,0,0,0,0,0,0,0,0,0,0,0,0,0,0,null,0,0,1,{"$f":"A21+1","v":2},null,20,null,null,null,null,null,null,null,null,null,3001]
[1,1,17,"Spireevne",null,null,11017,0,0,0,0,0,0,0,0,0,0,0,0,0,0,null,0,0,1,{"$f":"A22+1","v":2},null,20,null,null,null,null,null,null,null,null,null,3001]
[1,1,18,"Tillegg for økologisk vare",null,null,11018,0,0,0,0,0,0,0,0,0,0,0,0,0,0,null,0,0,1,{"$f":"A23+1","v":2},null,20,null,null,null,null,null,null,null,null,null,3001]
[1,1,19,"Falltall",null,"Tillegg og trekk",11019,0,0,0,0,0,0,0,0,0,0,0,0,0,0,null,{"$f":"IF(B24=0,1,0)","v":0},{"$f":"IF(OR(C24=0,MID(C24,2,2)=\"00\"),1,0)","v":0},1,{"$f":"A24+1","v":2},null,20,null,null,null,null,null,null,null,null,null,3001]
[1,1,999,"Andre tillegg",null,null,11999,0,0,0,0,0,0,0,0,0,0,0,0,0,0,null,0,0,1,2,null,20,null,null,null,null,null,null,null,null,null,3001]
[1,2,0,"Trekk",null,null,12000,null,null,null,null,null,null,null,null,null,null,null,null,null,null,null,0,1,1,2]
[1,2,1,"Analyser/avregningskostnader",null,null,12001,{"$f":"IF(GRLTilleggTrekk=1,AB27,IF(GRLTilleggTrekk=2,AN27,IF(GRLTilleggTrekk=3,AZ27,IF(GRLTilleggTrekk=4,BL27,IF(GRLTilleggTrekk=5,BX27,IF(GRLTilleggTrekk=6,CJ27,IF(GRLTilleggTrekk=7,CV27,IF(GRLTilleggTrekk=8,DH27,IF(GRLTilleggTrekk=9,DT27,IF(GRLTilleggTrekk=10,EF27,IF(GRLTilleggTrekk=11,ER27,IF(GRLTilleggTrekk=12,FD27,IF(GRLTilleggTrekk=13,FP27,IF(GRLTilleggTrekk=14,GB27,IF(GRLTilleggTrekk=15,GN27,0)))))))))))))))","v":0},{"$f":"IF(GRLTilleggTrekk=1,AC27,IF(GRLTilleggTrekk=2,AO27,IF(GRLTilleggTrekk=3,BA27,IF(GRLTilleggTrekk=4,BM27,IF(GRLTilleggTrekk=5,BY27,IF(GRLTilleggTrekk=6,CK27,IF(GRLTilleggTrekk=7,CW27,IF(GRLTilleggTrekk=8,DI27,IF(GRLTilleggTrekk=9,DU27,IF(GRLTilleggTrekk=10,EG27,IF(GRLTilleggTrekk=11,ES27,IF(GRLTilleggTrekk=12,FE27,IF(GRLTilleggTrekk=13,FQ27,IF(GRLTilleggTrekk=14,GC27,IF(GRLTilleggTrekk=15,GO27,0)))))))))))))))","v":0},{"$f":"IF(GRLTilleggTrekk=1,AD27,IF(GRLTilleggTrekk=2,AP27,IF(GRLTilleggTrekk=3,BB27,IF(GRLTilleggTrekk=4,BN27,IF(GRLTilleggTrekk=5,BZ27,IF(GRLTilleggTrekk=6,CL27,IF(GRLTilleggTrekk=7,CX27,IF(GRLTilleggTrekk=8,DJ27,IF(GRLTilleggTrekk=9,DV27,IF(GRLTilleggTrekk=10,EH27,IF(GRLTilleggTrekk=11,ET27,IF(GRLTilleggTrekk=12,FF27,IF(GRLTilleggTrekk=13,FR27,IF(GRLTilleggTrekk=14,GD27,IF(GRLTilleggTrekk=15,GP27,0)))))))))))))))","v":0},{"$f":"IF(GRLTilleggTrekk=1,AE27,IF(GRLTilleggTrekk=2,AQ27,IF(GRLTilleggTrekk=3,BC27,IF(GRLTilleggTrekk=4,BO27,IF(GRLTilleggTrekk=5,CA27,IF(GRLTilleggTrekk=6,CM27,IF(GRLTilleggTrekk=7,CY27,IF(GRLTilleggTrekk=8,DK27,IF(GRLTilleggTrekk=9,DW27,IF(GRLTilleggTrekk=10,EI27,IF(GRLTilleggTrekk=11,EU27,IF(GRLTilleggTrekk=12,FG27,IF(GRLTilleggTrekk=13,FS27,IF(GRLTilleggTrekk=14,GE27,IF(GRLTilleggTrekk=15,GQ27,0)))))))))))))))","v":0},{"$f":"IF(GRLTilleggTrekk=1,AF27,IF(GRLTilleggTrekk=2,AR27,IF(GRLTilleggTrekk=3,BD27,IF(GRLTilleggTrekk=4,BP27,IF(GRLTilleggTrekk=5,CB27,IF(GRLTilleggTrekk=6,CN27,IF(GRLTilleggTrekk=7,CZ27,IF(GRLTilleggTrekk=8,DL27,IF(GRLTilleggTrekk=9,DX27,IF(GRLTilleggTrekk=10,EJ27,IF(GRLTilleggTrekk=11,EV27,IF(GRLTilleggTrekk=12,FH27,IF(GRLTilleggTrekk=13,FT27,IF(GRLTilleggTrekk=14,GF27,IF(GRLTilleggTrekk=15,GR27,0)))))))))))))))","v":0},{"$f":"IF(GRLTilleggTrekk=1,AG27,IF(GRLTilleggTrekk=2,AS27,IF(GRLTilleggTrekk=3,BE27,IF(GRLTilleggTrekk=4,BQ27,IF(GRLTilleggTrekk=5,CC27,IF(GRLTilleggTrekk=6,CO27,IF(GRLTilleggTrekk=7,DA27,IF(GRLTilleggTrekk=8,DM27,IF(GRLTilleggTrekk=9,DY27,IF(GRLTilleggTrekk=10,EK27,IF(GRLTilleggTrekk=11,EW27,IF(GRLTilleggTrekk=12,FI27,IF(GRLTilleggTrekk=13,FU27,IF(GRLTilleggTrekk=14,GG27,IF(GRLTilleggTrekk=15,GS27,0)))))))))))))))","v":0},{"$f":"IF(GRLTilleggTrekk=1,AH27,IF(GRLTilleggTrekk=2,AT27,IF(GRLTilleggTrekk=3,BF27,IF(GRLTilleggTrekk=4,BR27,IF(GRLTilleggTrekk=5,CD27,IF(GRLTilleggTrekk=6,CP27,IF(GRLTilleggTrekk=7,DB27,IF(GRLTilleggTrekk=8,DN27,IF(GRLTilleggTrekk=9,DZ27,IF(GRLTilleggTrekk=10,EL27,IF(GRLTilleggTrekk=11,EX27,IF(GRLTilleggTrekk=12,FJ27,IF(GRLTilleggTrekk=13,FV27,IF(GRLTilleggTrekk=14,GH27,IF(GRLTilleggTrekk=15,GT27,0)))))))))))))))","v":0},{"$f":"IF(GRLTilleggTrekk=1,AI27,IF(GRLTilleggTrekk=2,AU27,IF(GRLTilleggTrekk=3,BG27,IF(GRLTilleggTrekk=4,BS27,IF(GRLTilleggTrekk=5,CE27,IF(GRLTilleggTrekk=6,CQ27,IF(GRLTilleggTrekk=7,DC27,IF(GRLTilleggTrekk=8,DO27,IF(GRLTilleggTrekk=9,EA27,IF(GRLTilleggTrekk=10,EM27,IF(GRLTilleggTrekk=11,EY27,IF(GRLTilleggTrekk=12,FK27,IF(GRLTilleggTrekk=13,FW27,IF(GRLTilleggTrekk=14,GI27,IF(GRLTilleggTrekk=15,GU27,0)))))))))))))))","v":0},{"$f":"IF(GRLTilleggTrekk=1,AJ27,IF(GRLTilleggTrekk=2,AV27,IF(GRLTilleggTrekk=3,BH27,IF(GRLTilleggTrekk=4,BT27,IF(GRLTilleggTrekk=5,CF27,IF(GRLTilleggTrekk=6,CR27,IF(GRLTilleggTrekk=7,DD27,IF(GRLTilleggTrekk=8,DP27,IF(GRLTilleggTrekk=9,EB27,IF(GRLTilleggTrekk=10,EN27,IF(GRLTilleggTrekk=11,EZ27,IF(GRLTilleggTrekk=12,FL27,IF(GRLTilleggTrekk=13,FX27,IF(GRLTilleggTrekk=14,GJ27,IF(GRLTilleggTrekk=15,GV27,0)))))))))))))))","v":0},{"$f":"IF(GRLTilleggTrekk=1,AK27,IF(GRLTilleggTrekk=2,AW27,IF(GRLTilleggTrekk=3,BI27,IF(GRLTilleggTrekk=4,BU27,IF(GRLTilleggTrekk=5,CG27,IF(GRLTilleggTrekk=6,CS27,IF(GRLTilleggTrekk=7,DE27,IF(GRLTilleggTrekk=8,DQ27,IF(GRLTilleggTrekk=9,EC27,IF(GRLTilleggTrekk=10,EO27,IF(GRLTilleggTrekk=11,FA27,IF(GRLTilleggTrekk=12,FM27,IF(GRLTilleggTrekk=13,FY27,IF(GRLTilleggTrekk=14,GK27,IF(GRLTilleggTrekk=15,GW27,0)))))))))))))))","v":0},{"$f":"IF(GRLTilleggTrekk=1,AL27,IF(GRLTilleggTrekk=2,AX27,IF(GRLTilleggTrekk=3,BJ27,IF(GRLTilleggTrekk=4,BV27,IF(GRLTilleggTrekk=5,CH27,IF(GRLTilleggTrekk=6,CT27,IF(GRLTilleggTrekk=7,DF27,IF(GRLTilleggTrekk=8,DR27,IF(GRLTilleggTrekk=9,ED27,IF(GRLTilleggTrekk=10,EP27,IF(GRLTilleggTrekk=11,FB27,IF(GRLTilleggTrekk=12,FN27,IF(GRLTilleggTrekk=13,FZ27,IF(GRLTilleggTrekk=14,GL27,IF(GRLTilleggTrekk=15,GX27,0)))))))))))))))","v":0},{"$f":"IF(GRLTilleggTrekk=1,AM27,IF(GRLTilleggTrekk=2,AY27,IF(GRLTilleggTrekk=3,BK27,IF(GRLTilleggTrekk=4,BW27,IF(GRLTilleggTrekk=5,CI27,IF(GRLTilleggTrekk=6,CU27,IF(GRLTilleggTrekk=7,DG27,IF(GRLTilleggTrekk=8,DS27,IF(GRLTilleggTrekk=9,EE27,IF(GRLTilleggTrekk=10,EQ27,IF(GRLTilleggTrekk=11,FC27,IF(GRLTilleggTrekk=12,FO27,IF(GRLTilleggTrekk=13,GA27,IF(GRLTilleggTrekk=14,GM27,IF(GRLTilleggTrekk=15,GY27,0)))))))))))))))","v":0},{"$f":"$T$4","v":0},{"$f":"$U$4","v":0},null,0,0,1,2,null,20,null,null,null,null,4549,null,null,null,null,3001]
[1,2,{"$f":"C27+1","v":2},"Andre trekk (leveringssted)",null,null,12002,0,0,0,0,0,0,0,0,0,0,0,0,0,0,null,0,0,1,2,null,20,null,null,null,null,null,null,null,null,null,3001]
[1,2,3,"Fondstrekk",null,null,12003,0,0,0,0,0,0,0,0,0,0,0,0,0,0,null,0,0,1,2]
[1,2,4,"Inntransport/Innfrakt",null,"Uttransport/Utfrakt i stedet?",12004,0,0,0,0,0,0,0,0,0,0,0,0,0,0,null,0,0,1,2,null,20,null,null,null,null,6100]
[1,2,5,"Kontraktdyrkerlag",null,null,12005,0,0,0,0,0,0,0,0,0,0,0,0,0,0,null,0,0,1,2]
[1,2,6,"KSLtrekk",null,null,12006,0,0,0,0,0,0,0,0,0,0,0,0,0,0,null,0,0,1,2,null,20,null,null,null,null,null,null,null,null,null,3001]
[1,2,7,"Kvalitetsfeil/Kvalitetstillegg",null,"Skade/avrens/omrens/forurensing/innblanding",12007,0,0,0,0,0,0,0,0,0,0,0,0,0,0,null,0,0,1,2,null,20,null,null,null,null,null,null,null,null,null,3001]
[1,2,8,"Lagringskostnader",null,null,12008,0,0,0,0,0,0,0,0,0,0,0,0,0,0,null,0,0,1,2]
[1,2,9,"Terminal- og palletrekk",null,"Terminaltrekk? Tjeneste (innfrakt)",12009,0,0,0,0,0,0,0,0,0,0,0,0,0,0,null,0,0,1,2]
[1,2,10,"Utjevningstrekk (frakt)",null,null,12010,0,0,0,0,0,0,0,0,0,0,0,0,0,0,null,0,0,1,2]
[1,2,11,"Utsortering",null,null,12011,0,0,0,0,0,0,0,0,0,0,0,0,0,0,null,0,0,1,2]
[1,2,12,"Mykotoksiner (DON)",null,null,12012,0,0,0,0,0,0,0,0,0,0,0,0,0,0,null,0,0,1,{"$f":"A38+1","v":2},null,20,null,null,null,null,null,null,null,null,null,3001]
[1,2,13,"Prisjustering",null,null,12013,0,0,0,0,0,0,0,0,0,0,0,0,0,0,null,0,0,1,{"$f":"A39+1","v":2},null,20,null,null,null,null,null,null,null,null,null,3001]
[1,2,999,"Andre trekk",null,null,12999,0,0,0,0,0,0,0,0,0,0,0,0,0,0,null,0,0,1,2,null,20,null,null,null,null,null,null,null,null,null,3001]
[1,3,0,"Avgifter",null,null,13000,null,null,null,null,null,null,null,null,null,null,null,null,null,null,null,0,1,1,2]
[1,3,1,"Forskningsavgift",null,null,13001,{"$f":"IF(GRLTilleggTrekk=1,AB42,IF(GRLTilleggTrekk=2,AN42,IF(GRLTilleggTrekk=3,AZ42,IF(GRLTilleggTrekk=4,BL42,IF(GRLTilleggTrekk=5,BX42,IF(GRLTilleggTrekk=6,CJ42,IF(GRLTilleggTrekk=7,CV42,IF(GRLTilleggTrekk=8,DH42,IF(GRLTilleggTrekk=9,DT42,IF(GRLTilleggTrekk=10,EF42,IF(GRLTilleggTrekk=11,ER42,IF(GRLTilleggTrekk=12,FD42,IF(GRLTilleggTrekk=13,FP42,IF(GRLTilleggTrekk=14,GB42,IF(GRLTilleggTrekk=15,GN42,0)))))))))))))))","v":0},0,0,0,0,0,0,0,0,0,0,0,{"$f":"$T$4","v":0},{"$f":"$U$4","v":0},null,0,0,1,2,null,20,null,4548,null,null,4549]
[1,3,{"$f":"C42+1","v":2},"Matproduksjonsavgift",null,null,13002,0,0,0,0,0,0,0,0,0,0,0,0,{"$f":"$T$4","v":0},{"$f":"$U$4","v":0},null,0,0,1,2]
[1,3,{"$f":"C43+1","v":3},"Omsetningsavgift",null,"Markedsreguleringstrekk",13003,0,0,0,0,0,0,0,0,0,0,0,0,{"$f":"$T$4","v":0},{"$f":"$U$4","v":0},null,0,0,1,2,null,20,null,null,null,null,null,null,null,null,null,3001]
[1,3,{"$f":"C44+1","v":4},"Kontingenter",null,null,13004,0,0,0,0,0,0,0,0,0,0,0,0,{"$f":"$T$4","v":0},{"$f":"$U$4","v":0},null,0,0,1,2]
[1,3,999,"Andre avgifter",null,null,13999,0,0,0,0,0,0,0,0,0,0,0,0,{"$f":"$T$4","v":0},{"$f":"$U$4","v":0},null,0,0,1,2]
[1,4,0,"Etterbetalinger, erstatninger og bonuser",null,null,14000,null,null,null,null,null,null,null,null,null,null,null,null,null,null,null,0,1,1,2]
[1,4,1,"Etterbetalinger",null,null,14001,{"$f":"IF(GRLTilleggTrekk=1,AB48,IF(GRLTilleggTrekk=2,AN48,IF(GRLTilleggTrekk=3,AZ48,IF(GRLTilleggTrekk=4,BL48,IF(GRLTilleggTrekk=5,BX48,IF(GRLTilleggTrekk=6,CJ48,IF(GRLTilleggTrekk=7,CV48,IF(GRLTilleggTrekk=8,DH48,IF(GRLTilleggTrekk=9,DT48,IF(GRLTilleggTrekk=10,EF48,IF(GRLTilleggTrekk=11,ER48,IF(GRLTilleggTrekk=12,FD48,IF(GRLTilleggTrekk=13,FP48,IF(GRLTilleggTrekk=14,GB48,IF(GRLTilleggTrekk=15,GN48,0)))))))))))))))","v":0},0,0,0,0,0,0,0,0,0,0,0,{"$f":"$T$4","v":0},{"$f":"$U$4","v":0},null,0,0,1,2]
[1,4,{"$f":"C48+1","v":2},"Erstatninger",null,null,14002,0,0,0,0,0,0,0,0,0,0,0,0,{"$f":"$T$4","v":0},{"$f":"$U$4","v":0},null,0,0,1,2]
[1,4,{"$f":"C49+1","v":3},"Bonus",null,null,14003,0,0,0,0,0,0,0,0,0,0,0,0,{"$f":"$T$4","v":0},{"$f":"$U$4","v":0},null,0,0,1,{"$f":"A50+1","v":2},null,20,null,null,null,null,null,null,null,null,null,3081]
[1,4,{"$f":"C50+1","v":4},"Rentegodtgjørelse",null,"Kundefordringer, finnes også under kode 76062",14004,0,0,0,0,0,0,0,0,0,0,0,0,{"$f":"$T$4","v":0},{"$f":"$U$4","v":0},null,0,0,1,{"$f":"A51+1","v":2},null,20,3905]
[1,4,999,"Andre etterbetalinger og erstatninger",null,null,14999,0,0,0,0,0,0,0,0,0,0,0,0,{"$f":"$T$4","v":0},{"$f":"$U$4","v":0},null,0,0,1,2]
[1,5,0,"Tilskudd",null,null,15000,null,null,null,null,null,null,null,null,null,null,null,null,null,null,null,0,1,1,2]
[1,5,1,"Pristilskudd og garantitilskudd",null,"Landbruksdirektoratet",15001,{"$f":"IF(GRLTilleggTrekk=1,AB54,IF(GRLTilleggTrekk=2,AN54,IF(GRLTilleggTrekk=3,AZ54,IF(GRLTilleggTrekk=4,BL54,IF(GRLTilleggTrekk=5,BX54,IF(GRLTilleggTrekk=6,CJ54,IF(GRLTilleggTrekk=7,CV54,IF(GRLTilleggTrekk=8,DH54,IF(GRLTilleggTrekk=9,DT54,IF(GRLTilleggTrekk=10,EF54,IF(GRLTilleggTrekk=11,ER54,IF(GRLTilleggTrekk=12,FD54,IF(GRLTilleggTrekk=13,FP54,IF(GRLTilleggTrekk=14,GB54,IF(GRLTilleggTrekk=15,GN54,0)))))))))))))))","v":0},0,0,0,0,0,0,0,0,0,0,0,{"$f":"$T$4","v":0},{"$f":"$U$4","v":0},null,0,0,1,{"$f":"A54+1","v":2},null,20,null,null,null,null,null,3490]
[1,5,{"$f":"C54+1","v":2},"Arealtilskudd",null,"Landbruksdirektoratet",15002,0,0,0,0,0,0,0,0,0,0,0,0,{"$f":"$T$4","v":0},{"$f":"$U$4","v":0},null,{"$f":"IF(B55=0,1,0)","v":0},{"$f":"IF(OR(C55=0,MID(C55,2,2)=\"00\"),1,0)","v":0},1,{"$f":"A55+1","v":2},null,20,null,null,null,null,null,3490]
[1,5,999,"Andre tilskudd",null,null,15999,0,0,0,0,0,0,0,0,0,0,0,0,{"$f":"$T$4","v":0},{"$f":"$U$4","v":0},null,0,0,1,2]
[1,6,0,"Varer og tjenester",null,null,16000,null,null,null,null,null,null,null,null,null,null,null,null,null,null,null,0,1,1,2]
[1,6,1,"Frakt",null,null,16001,{"$f":"IF(GRLTilleggTrekk=1,AB58,IF(GRLTilleggTrekk=2,AN58,IF(GRLTilleggTrekk=3,AZ58,IF(GRLTilleggTrekk=4,BL58,IF(GRLTilleggTrekk=5,BX58,IF(GRLTilleggTrekk=6,CJ58,IF(GRLTilleggTrekk=7,CV58,IF(GRLTilleggTrekk=8,DH58,IF(GRLTilleggTrekk=9,DT58,IF(GRLTilleggTrekk=10,EF58,IF(GRLTilleggTrekk=11,ER58,IF(GRLTilleggTrekk=12,FD58,IF(GRLTilleggTrekk=13,FP58,IF(GRLTilleggTrekk=14,GB58,IF(GRLTilleggTrekk=15,GN58,0)))))))))))))))","v":0},{"$f":"IF(GRLTilleggTrekk=1,AC58,IF(GRLTilleggTrekk=2,AO58,IF(GRLTilleggTrekk=3,BA58,IF(GRLTilleggTrekk=4,BM58,IF(GRLTilleggTrekk=5,BY58,IF(GRLTilleggTrekk=6,CK58,IF(GRLTilleggTrekk=7,CW58,IF(GRLTilleggTrekk=8,DI58,IF(GRLTilleggTrekk=9,DU58,IF(GRLTilleggTrekk=10,EG58,IF(GRLTilleggTrekk=11,ES58,IF(GRLTilleggTrekk=12,FE58,IF(GRLTilleggTrekk=13,FQ58,IF(GRLTilleggTrekk=14,GC58,IF(GRLTilleggTrekk=15,GO58,0)))))))))))))))","v":0},{"$f":"IF(GRLTilleggTrekk=1,AD58,IF(GRLTilleggTrekk=2,AP58,IF(GRLTilleggTrekk=3,BB58,IF(GRLTilleggTrekk=4,BN58,IF(GRLTilleggTrekk=5,BZ58,IF(GRLTilleggTrekk=6,CL58,IF(GRLTilleggTrekk=7,CX58,IF(GRLTilleggTrekk=8,DJ58,IF(GRLTilleggTrekk=9,DV58,IF(GRLTilleggTrekk=10,EH58,IF(GRLTilleggTrekk=11,ET58,IF(GRLTilleggTrekk=12,FF58,IF(GRLTilleggTrekk=13,FR58,IF(GRLTilleggTrekk=14,GD58,IF(GRLTilleggTrekk=15,GP58,0)))))))))))))))","v":0},{"$f":"IF(GRLTilleggTrekk=1,AE58,IF(GRLTilleggTrekk=2,AQ58,IF(GRLTilleggTrekk=3,BC58,IF(GRLTilleggTrekk=4,BO58,IF(GRLTilleggTrekk=5,CA58,IF(GRLTilleggTrekk=6,CM58,IF(GRLTilleggTrekk=7,CY58,IF(GRLTilleggTrekk=8,DK58,IF(GRLTilleggTrekk=9,DW58,IF(GRLTilleggTrekk=10,EI58,IF(GRLTilleggTrekk=11,EU58,IF(GRLTilleggTrekk=12,FG58,IF(GRLTilleggTrekk=13,FS58,IF(GRLTilleggTrekk=14,GE58,IF(GRLTilleggTrekk=15,GQ58,0)))))))))))))))","v":0},{"$f":"IF(GRLTilleggTrekk=1,AF58,IF(GRLTilleggTrekk=2,AR58,IF(GRLTilleggTrekk=3,BD58,IF(GRLTilleggTrekk=4,BP58,IF(GRLTilleggTrekk=5,CB58,IF(GRLTilleggTrekk=6,CN58,IF(GRLTilleggTrekk=7,CZ58,IF(GRLTilleggTrekk=8,DL58,IF(GRLTilleggTrekk=9,DX58,IF(GRLTilleggTrekk=10,EJ58,IF(GRLTilleggTrekk=11,EV58,IF(GRLTilleggTrekk=12,FH58,IF(GRLTilleggTrekk=13,FT58,IF(GRLTilleggTrekk=14,GF58,IF(GRLTilleggTrekk=15,GR58,0)))))))))))))))","v":0},{"$f":"IF(GRLTilleggTrekk=1,AG58,IF(GRLTilleggTrekk=2,AS58,IF(GRLTilleggTrekk=3,BE58,IF(GRLTilleggTrekk=4,BQ58,IF(GRLTilleggTrekk=5,CC58,IF(GRLTilleggTrekk=6,CO58,IF(GRLTilleggTrekk=7,DA58,IF(GRLTilleggTrekk=8,DM58,IF(GRLTilleggTrekk=9,DY58,IF(GRLTilleggTrekk=10,EK58,IF(GRLTilleggTrekk=11,EW58,IF(GRLTilleggTrekk=12,FI58,IF(GRLTilleggTrekk=13,FU58,IF(GRLTilleggTrekk=14,GG58,IF(GRLTilleggTrekk=15,GS58,0)))))))))))))))","v":0},{"$f":"IF(GRLTilleggTrekk=1,AH58,IF(GRLTilleggTrekk=2,AT58,IF(GRLTilleggTrekk=3,BF58,IF(GRLTilleggTrekk=4,BR58,IF(GRLTilleggTrekk=5,CD58,IF(GRLTilleggTrekk=6,CP58,IF(GRLTilleggTrekk=7,DB58,IF(GRLTilleggTrekk=8,DN58,IF(GRLTilleggTrekk=9,DZ58,IF(GRLTilleggTrekk=10,EL58,IF(GRLTilleggTrekk=11,EX58,IF(GRLTilleggTrekk=12,FJ58,IF(GRLTilleggTrekk=13,FV58,IF(GRLTilleggTrekk=14,GH58,IF(GRLTilleggTrekk=15,GT58,0)))))))))))))))","v":0},{"$f":"IF(GRLTilleggTrekk=1,AI58,IF(GRLTilleggTrekk=2,AU58,IF(GRLTilleggTrekk=3,BG58,IF(GRLTilleggTrekk=4,BS58,IF(GRLTilleggTrekk=5,CE58,IF(GRLTilleggTrekk=6,CQ58,IF(GRLTilleggTrekk=7,DC58,IF(GRLTilleggTrekk=8,DO58,IF(GRLTilleggTrekk=9,EA58,IF(GRLTilleggTrekk=10,EM58,IF(GRLTilleggTrekk=11,EY58,IF(GRLTilleggTrekk=12,FK58,IF(GRLTilleggTrekk=13,FW58,IF(GRLTilleggTrekk=14,GI58,IF(GRLTilleggTrekk=15,GU58,0)))))))))))))))","v":0},{"$f":"IF(GRLTilleggTrekk=1,AJ58,IF(GRLTilleggTrekk=2,AV58,IF(GRLTilleggTrekk=3,BH58,IF(GRLTilleggTrekk=4,BT58,IF(GRLTilleggTrekk=5,CF58,IF(GRLTilleggTrekk=6,CR58,IF(GRLTilleggTrekk=7,DD58,IF(GRLTilleggTrekk=8,DP58,IF(GRLTilleggTrekk=9,EB58,IF(GRLTilleggTrekk=10,EN58,IF(GRLTilleggTrekk=11,EZ58,IF(GRLTilleggTrekk=12,FL58,IF(GRLTilleggTrekk=13,FX58,IF(GRLTilleggTrekk=14,GJ58,IF(GRLTilleggTrekk=15,GV58,0)))))))))))))))","v":0},{"$f":"IF(GRLTilleggTrekk=1,AK58,IF(GRLTilleggTrekk=2,AW58,IF(GRLTilleggTrekk=3,BI58,IF(GRLTilleggTrekk=4,BU58,IF(GRLTilleggTrekk=5,CG58,IF(GRLTilleggTrekk=6,CS58,IF(GRLTilleggTrekk=7,DE58,IF(GRLTilleggTrekk=8,DQ58,IF(GRLTilleggTrekk=9,EC58,IF(GRLTilleggTrekk=10,EO58,IF(GRLTilleggTrekk=11,FA58,IF(GRLTilleggTrekk=12,FM58,IF(GRLTilleggTrekk=13,FY58,IF(GRLTilleggTrekk=14,GK58,IF(GRLTilleggTrekk=15,GW58,0)))))))))))))))","v":0},{"$f":"IF(GRLTilleggTrekk=1,AL58,IF(GRLTilleggTrekk=2,AX58,IF(GRLTilleggTrekk=3,BJ58,IF(GRLTilleggTrekk=4,BV58,IF(GRLTilleggTrekk=5,CH58,IF(GRLTilleggTrekk=6,CT58,IF(GRLTilleggTrekk=7,DF58,IF(GRLTilleggTrekk=8,DR58,IF(GRLTilleggTrekk=9,ED58,IF(GRLTilleggTrekk=10,EP58,IF(GRLTilleggTrekk=11,FB58,IF(GRLTilleggTrekk=12,FN58,IF(GRLTilleggTrekk=13,FZ58,IF(GRLTilleggTrekk=14,GL58,IF(GRLTilleggTrekk=15,GX58,0)))))))))))))))","v":0},{"$f":"IF(GRLTilleggTrekk=1,AM58,IF(GRLTilleggTrekk=2,AY58,IF(GRLTilleggTrekk=3,BK58,IF(GRLTilleggTrekk=4,BW58,IF(GRLTilleggTrekk=5,CI58,IF(GRLTilleggTrekk=6,CU58,IF(GRLTilleggTrekk=7,DG58,IF(GRLTilleggTrekk=8,DS58,IF(GRLTilleggTrekk=9,EE58,IF(GRLTilleggTrekk=10,EQ58,IF(GRLTilleggTrekk=11,FC58,IF(GRLTilleggTrekk=12,FO58,IF(GRLTilleggTrekk=13,GA58,IF(GRLTilleggTrekk=14,GM58,IF(GRLTilleggTrekk=15,GY58,0)))))))))))))))","v":0},{"$f":"$T$4","v":0},{"$f":"$U$4","v":0},null,0,0,1,2,null,20,null,null,null,null,4460]
[1,6,{"$f":"C58+1","v":2},"Kjøp av planter",null,null,16002,0,0,0,0,0,0,0,0,0,0,0,0,0,0,null,0,0,1,2]
[1,6,{"$f":"C59+1","v":3},"Kjøp av såfrø",null,null,16003,0,0,0,0,0,0,0,0,0,0,0,0,0,0,null,0,0,1,2]
[1,6,4,"Lagerleie",null,null,16004,0,0,0,0,0,0,0,0,0,0,0,0,0,0,null,0,0,1,2,null,20,null,6300,null,null,6300]
[1,6,5,"Tørkekostnader",null,null,16005,0,0,0,0,0,0,0,0,0,0,0,0,0,0,null,0,0,1,2,null,20,null,null,null,null,4543]
[1,6,6,"Maskinleie",null,null,16006,0,0,0,0,0,0,0,0,0,0,0,0,0,0,null,0,0,1,2]
[1,6,7,"Plantevernmidler",null,null,16007,0,0,0,0,0,0,0,0,0,0,0,0,0,0,null,0,0,1,2]
[1,6,8,"Rekvisita og diverse",null,null,16008,0,0,0,0,0,0,0,0,0,0,0,0,0,0,null,0,0,1,2]
[1,6,9,"Tjenester produkt, mengde/timer",null,null,16009,0,0,0,0,0,0,0,0,0,0,0,0,0,0,null,0,0,1,2]
[1,6,10,"Tjenester administrative, mengde/timer",null,null,16010,0,0,0,0,0,0,0,0,0,0,0,0,0,0,null,0,0,1,2]
[1,6,11,"Trekk jordprøve",null,null,{"$f":"VALUE(A68&B68&IF(LEN(C68)=1,\"00\"&C68,IF(LEN(C68)=2,\"0\"&C68,C68)))","v":16011},0,0,0,0,0,0,0,0,0,0,0,0,0,0,null,0,0,1,2]
[1,6,12,"Utstyr og lagerhåndtering",null,null,16012,0,0,0,0,0,0,0,0,0,0,0,0,0,0,null,0,0,1,2]
[1,6,13,"Administrative tillegg",null,"Oppgjør på Epost",16013,0,0,0,0,0,0,0,0,0,0,0,0,0,0,null,0,0,1,{"$f":"A70+1","v":2},null,20,null,null,null,null,null,null,null,null,null,3001]
[1,6,14,"Administrative trekk",null,"Bankgebyr",16014,0,0,0,0,0,0,0,0,0,0,0,0,0,0,null,{"$f":"IF(B71=0,1,0)","v":0},{"$f":"IF(OR(C71=0,MID(C71,2,2)=\"00\"),1,0)","v":0},1,{"$f":"A71+1","v":2},null,20,null,null,null,null,7770]
[1,6,15,"Emballasje",null,null,16015,0,0,0,0,0,0,0,0,0,0,0,0,0,0,null,0,0,1,{"$f":"A72+1","v":2},null,20,null,null,null,null,null,null,null,null,null,3183]
[1,6,16,"Rensing mjøldrøye",null,"Felleskjøpet, tjeneste",16016,0,0,0,0,0,0,0,0,0,0,0,0,0,0,null,{"$f":"IF(B73=0,1,0)","v":0},{"$f":"IF(OR(C73=0,MID(C73,2,2)=\"00\"),1,0)","v":0},1,{"$f":"A73+1","v":2},null,20,null,null,null,null,4549]
[1,6,999,"Andre varer og tjenester",null,null,16999,0,0,0,0,0,0,0,0,0,0,0,0,0,0,null,0,0,1,2]
[2,0,0,{"$f":"Produkt!E73","v":"Poteter, grønnsaker, frukt, bær, blomster og hagebruksvekster"},null,null,20000,null,null,null,null,null,null,null,null,null,null,null,null,{"$f":"IF(GRLTilleggTrekk=1,AE75,IF(GRLTilleggTrekk=2,AQ75,IF(GRLTilleggTrekk=3,BC75,IF(GRLTilleggTrekk=4,BO75,IF(GRLTilleggTrekk=5,CA75,IF(GRLTilleggTrekk=6,CM75,IF(GRLTilleggTrekk=7,CY75,IF(GRLTilleggTrekk=8,DK75,IF(GRLTilleggTrekk=9,DW75,IF(GRLTilleggTrekk=10,EI75,IF(GRLTilleggTrekk=11,EU75,IF(GRLTilleggTrekk=12,FG75,IF(GRLTilleggTrekk=13,FS75,IF(GRLTilleggTrekk=14,GE75,IF(GRLTilleggTrekk=15,GQ75,0)))))))))))))))","v":0},{"$f":"IF(GRLTilleggTrekk=1,AF75,IF(GRLTilleggTrekk=2,AR75,IF(GRLTilleggTrekk=3,BD75,IF(GRLTilleggTrekk=4,BP75,IF(GRLTilleggTrekk=5,CB75,IF(GRLTilleggTrekk=6,CN75,IF(GRLTilleggTrekk=7,CZ75,IF(GRLTilleggTrekk=8,DL75,IF(GRLTilleggTrekk=9,DX75,IF(GRLTilleggTrekk=10,EJ75,IF(GRLTilleggTrekk=11,EV75,IF(GRLTilleggTrekk=12,FH75,IF(GRLTilleggTrekk=13,FT75,IF(GRLTilleggTrekk=14,GF75,IF(GRLTilleggTrekk=15,GR75,0)))))))))))))))","v":0},null,1,1,1,3,null,"Poteter",null,"Kode fra/til",2100,2199,null,null,null,null,null,null,null,"Grønnsaker",null,"Kode fra/til",2200,2499,null,null,null,null,null,null,null,"Frukt",null,"Kode fra/til",2500,2599,null,null,null,null,null,null,null,"Bær",null,"Kode fra/til",2600,2699,null,null,null,null,null,null,null,"2000-serien",null,"Kode fra/til",2000,2000,null,null,null,null,null,null,null,"Tekst",null,"Kode fra/til",null,null,null,null,null,null,null,null,null,"Tekst",null,"Kode fra/til",null,null,null,null,null,null,null,null,null,"Tekst",null,"Kode fra/til",null,null,null,null,null,null,null,null,null,"Tekst",null,"Kode fra/til",null,null,null,null,null,null,null,null,null,"Tekst",null,"Kode fra/til",null,null,null,null,null,null,null,null,null,"Tekst",null,"Kode fra/til",null,null,null,null,null,null,null,null,null,"Tekst",null,"Kode fra/til",null,null,null,null,null,null,null,null,null,"Tekst",null,"Kode fra/til",null,null,null,null,null,null,null,null,null,"Tekst",null,"Kode fra/til",null,null,null,null,null,null,null,null,null,"Tekst",null,"Kode fra/til"]
[2,1,0,"Tillegg",null,null,21000,null,null,null,null,null,null,null,null,null,null,null,null,null,null,null,0,1,1,3]
[2,1,1,"Avtaletillegg",null,"Høy sats ved levering til industri og fôr",21001,{"$f":"IF(GRLTilleggTrekk=1,AB77,IF(GRLTilleggTrekk=2,AN77,IF(GRLTilleggTrekk=3,AZ77,IF(GRLTilleggTrekk=4,BL77,IF(GRLTilleggTrekk=5,BX77,IF(GRLTilleggTrekk=6,CJ77,IF(GRLTilleggTrekk=7,CV77,IF(GRLTilleggTrekk=8,DH77,IF(GRLTilleggTrekk=9,DT77,IF(GRLTilleggTrekk=10,EF77,IF(GRLTilleggTrekk=11,ER77,IF(GRLTilleggTrekk=12,FD77,IF(GRLTilleggTrekk=13,FP77,IF(GRLTilleggTrekk=14,GB77,IF(GRLTilleggTrekk=15,GN77,0)))))))))))))))","v":0},{"$f":"IF(GRLTilleggTrekk=1,AC77,IF(GRLTilleggTrekk=2,AO77,IF(GRLTilleggTrekk=3,BA77,IF(GRLTilleggTrekk=4,BM77,IF(GRLTilleggTrekk=5,BY77,IF(GRLTilleggTrekk=6,CK77,IF(GRLTilleggTrekk=7,CW77,IF(GRLTilleggTrekk=8,DI77,IF(GRLTilleggTrekk=9,DU77,IF(GRLTilleggTrekk=10,EG77,IF(GRLTilleggTrekk=11,ES77,IF(GRLTilleggTrekk=12,FE77,IF(GRLTilleggTrekk=13,FQ77,IF(GRLTilleggTrekk=14,GC77,IF(GRLTilleggTrekk=15,GO77,0)))))))))))))))","v":0},{"$f":"IF(GRLTilleggTrekk=1,AD77,IF(GRLTilleggTrekk=2,AP77,IF(GRLTilleggTrekk=3,BB77,IF(GRLTilleggTrekk=4,BN77,IF(GRLTilleggTrekk=5,BZ77,IF(GRLTilleggTrekk=6,CL77,IF(GRLTilleggTrekk=7,CX77,IF(GRLTilleggTrekk=8,DJ77,IF(GRLTilleggTrekk=9,DV77,IF(GRLTilleggTrekk=10,EH77,IF(GRLTilleggTrekk=11,ET77,IF(GRLTilleggTrekk=12,FF77,IF(GRLTilleggTrekk=13,FR77,IF(GRLTilleggTrekk=14,GD77,IF(GRLTilleggTrekk=15,GP77,0)))))))))))))))","v":0},{"$f":"IF(GRLTilleggTrekk=1,AE77,IF(GRLTilleggTrekk=2,AQ77,IF(GRLTilleggTrekk=3,BC77,IF(GRLTilleggTrekk=4,BO77,IF(GRLTilleggTrekk=5,CA77,IF(GRLTilleggTrekk=6,CM77,IF(GRLTilleggTrekk=7,CY77,IF(GRLTilleggTrekk=8,DK77,IF(GRLTilleggTrekk=9,DW77,IF(GRLTilleggTrekk=10,EI77,IF(GRLTilleggTrekk=11,EU77,IF(GRLTilleggTrekk=12,FG77,IF(GRLTilleggTrekk=13,FS77,IF(GRLTilleggTrekk=14,GE77,IF(GRLTilleggTrekk=15,GQ77,0)))))))))))))))","v":0},{"$f":"IF(GRLTilleggTrekk=1,AF77,IF(GRLTilleggTrekk=2,AR77,IF(GRLTilleggTrekk=3,BD77,IF(GRLTilleggTrekk=4,BP77,IF(GRLTilleggTrekk=5,CB77,IF(GRLTilleggTrekk=6,CN77,IF(GRLTilleggTrekk=7,CZ77,IF(GRLTilleggTrekk=8,DL77,IF(GRLTilleggTrekk=9,DX77,IF(GRLTilleggTrekk=10,EJ77,IF(GRLTilleggTrekk=11,EV77,IF(GRLTilleggTrekk=12,FH77,IF(GRLTilleggTrekk=13,FT77,IF(GRLTilleggTrekk=14,GF77,IF(GRLTilleggTrekk=15,GR77,0)))))))))))))))","v":0},{"$f":"IF(GRLTilleggTrekk=1,AG77,IF(GRLTilleggTrekk=2,AS77,IF(GRLTilleggTrekk=3,BE77,IF(GRLTilleggTrekk=4,BQ77,IF(GRLTilleggTrekk=5,CC77,IF(GRLTilleggTrekk=6,CO77,IF(GRLTilleggTrekk=7,DA77,IF(GRLTilleggTrekk=8,DM77,IF(GRLTilleggTrekk=9,DY77,IF(GRLTilleggTrekk=10,EK77,IF(GRLTilleggTrekk=11,EW77,IF(GRLTilleggTrekk=12,FI77,IF(GRLTilleggTrekk=13,FU77,IF(GRLTilleggTrekk=14,GG77,IF(GRLTilleggTrekk=15,GS77,0)))))))))))))))","v":0},{"$f":"IF(GRLTilleggTrekk=1,AH77,IF(GRLTilleggTrekk=2,AT77,IF(GRLTilleggTrekk=3,BF77,IF(GRLTilleggTrekk=4,BR77,IF(GRLTilleggTrekk=5,CD77,IF(GRLTilleggTrekk=6,CP77,IF(GRLTilleggTrekk=7,DB77,IF(GRLTilleggTrekk=8,DN77,IF(GRLTilleggTrekk=9,DZ77,IF(GRLTilleggTrekk=10,EL77,IF(GRLTilleggTrekk=11,EX77,IF(GRLTilleggTrekk=12,FJ77,IF(GRLTilleggTrekk=13,FV77,IF(GRLTilleggTrekk=14,GH77,IF(GRLTilleggTrekk=15,GT77,0)))))))))))))))","v":0},{"$f":"IF(GRLTilleggTrekk=1,AI77,IF(GRLTilleggTrekk=2,AU77,IF(GRLTilleggTrekk=3,BG77,IF(GRLTilleggTrekk=4,BS77,IF(GRLTilleggTrekk=5,CE77,IF(GRLTilleggTrekk=6,CQ77,IF(GRLTilleggTrekk=7,DC77,IF(GRLTilleggTrekk=8,DO77,IF(GRLTilleggTrekk=9,EA77,IF(GRLTilleggTrekk=10,EM77,IF(GRLTilleggTrekk=11,EY77,IF(GRLTilleggTrekk=12,FK77,IF(GRLTilleggTrekk=13,FW77,IF(GRLTilleggTrekk=14,GI77,IF(GRLTilleggTrekk=15,GU77,0)))))))))))))))","v":0},{"$f":"IF(GRLTilleggTrekk=1,AJ77,IF(GRLTilleggTrekk=2,AV77,IF(GRLTilleggTrekk=3,BH77,IF(GRLTilleggTrekk=4,BT77,IF(GRLTilleggTrekk=5,CF77,IF(GRLTilleggTrekk=6,CR77,IF(GRLTilleggTrekk=7,DD77,IF(GRLTilleggTrekk=8,DP77,IF(GRLTilleggTrekk=9,EB77,IF(GRLTilleggTrekk=10,EN77,IF(GRLTilleggTrekk=11,EZ77,IF(GRLTilleggTrekk=12,FL77,IF(GRLTilleggTrekk=13,FX77,IF(GRLTilleggTrekk=14,GJ77,IF(GRLTilleggTrekk=15,GV77,0)))))))))))))))","v":0},{"$f":"IF(GRLTilleggTrekk=1,AK77,IF(GRLTilleggTrekk=2,AW77,IF(GRLTilleggTrekk=3,BI77,IF(GRLTilleggTrekk=4,BU77,IF(GRLTilleggTrekk=5,CG77,IF(GRLTilleggTrekk=6,CS77,IF(GRLTilleggTrekk=7,DE77,IF(GRLTilleggTrekk=8,DQ77,IF(GRLTilleggTrekk=9,EC77,IF(GRLTilleggTrekk=10,EO77,IF(GRLTilleggTrekk=11,FA77,IF(GRLTilleggTrekk=12,FM77,IF(GRLTilleggTrekk=13,FY77,IF(GRLTilleggTrekk=14,GK77,IF(GRLTilleggTrekk=15,GW77,0)))))))))))))))","v":0},{"$f":"IF(GRLTilleggTrekk=1,AL77,IF(GRLTilleggTrekk=2,AX77,IF(GRLTilleggTrekk=3,BJ77,IF(GRLTilleggTrekk=4,BV77,IF(GRLTilleggTrekk=5,CH77,IF(GRLTilleggTrekk=6,CT77,IF(GRLTilleggTrekk=7,DF77,IF(GRLTilleggTrekk=8,DR77,IF(GRLTilleggTrekk=9,ED77,IF(GRLTilleggTrekk=10,EP77,IF(GRLTilleggTrekk=11,FB77,IF(GRLTilleggTrekk=12,FN77,IF(GRLTilleggTrekk=13,FZ77,IF(GRLTilleggTrekk=14,GL77,IF(GRLTilleggTrekk=15,GX77,0)))))))))))))))","v":0},{"$f":"IF(GRLTilleggTrekk=1,AM77,IF(GRLTilleggTrekk=2,AY77,IF(GRLTilleggTrekk=3,BK77,IF(GRLTilleggTrekk=4,BW77,IF(GRLTilleggTrekk=5,CI77,IF(GRLTilleggTrekk=6,CU77,IF(GRLTilleggTrekk=7,DG77,IF(GRLTilleggTrekk=8,DS77,IF(GRLTilleggTrekk=9,EE77,IF(GRLTilleggTrekk=10,EQ77,IF(GRLTilleggTrekk=11,FC77,IF(GRLTilleggTrekk=12,FO77,IF(GRLTilleggTrekk=13,GA77,IF(GRLTilleggTrekk=14,GM77,IF(GRLTilleggTrekk=15,GY77,0)))))))))))))))","v":0},{"$f":"$T$75","v":0},{"$f":"$U$75","v":0},null,0,0,1,3,null,20,null,null,null,null,null,null,null,null,3011,3014,null,20,null,null,null,null,null,null,null,null,3015,3019,null,20,null,null,null,null,null,null,null,null,3021,3024,null,20,null,null,null,null,null,null,null,null,3025,3029]
[2,1,{"$f":"C77+1","v":2},"Frakttilskudd/tillegg",null,null,21002,0,0,0,0,0,0,0,0,0,0,0,0,{"$f":"$T$75","v":0},{"$f":"$U$75","v":0},null,0,0,1,3,null,20,null,null,null,null,null,null,null,null,3011,3014,null,20,null,null,null,null,null,null,null,null,3015,3019,null,20,null,null,null,null,6100,null,null,null,3021,3024,null,20,null,null,null,null,6100,null,null,null,3025,3029,null,20,null,null,null,null,null,null,null,null,3095,3096]
[2,1,{"$f":"C78+1","v":3},"Godtgjøring klipping av løk",null,null,21003,0,0,0,0,0,0,0,0,0,0,0,0,0,0,null,0,0,1,3,null,null,null,null,null,null,null,null,null,null,null,null,null,20,null,null,null,null,null,null,null,null,3015,3019,null,null,null,null,null,null,null,null,null,null,null,null,null,null,null,null,null,null,null,null,null,null,null,null,null,20,null,null,null,null,null,null,null,null,3095,3096]
[2,1,4,"Høstetillegg",null,null,21004,0,0,0,0,0,0,0,0,0,0,0,0,0,0,null,0,0,1,3,null,20,null,null,null,null,null,null,null,null,3011,3014,null,20,null,null,null,null,null,null,null,null,3015,3019,null,20,null,null,null,null,null,null,null,null,3021,3024,null,20,null,null,null,null,null,null,null,null,3025,3029,null,20,null,null,null,null,null,null,null,null,3095,3096]
[2,1,5,"Inntransport/egentransport",null,null,21005,0,0,0,0,0,0,0,0,0,0,0,0,0,0,null,0,0,1,3]
[2,1,6,"Korreksjon av oppgjør",null,null,21006,0,0,0,0,0,0,0,0,0,0,0,0,0,0,null,0,0,1,3,null,20,null,null,null,null,null,null,null,null,3011,3014,null,20,null,null,null,null,null,null,null,null,3015,3019,null,20,null,null,null,null,null,null,null,null,3021,3024,null,20,null,null,null,null,null,null,null,null,3025,3029,null,20,null,null,null,null,null,null,null,null,3095,3096]
[2,1,7,"Lagringsgodtgjørelse",null,null,21007,0,0,0,0,0,0,0,0,0,0,0,0,0,0,null,0,0,1,3,null,20,null,null,null,null,null,null,null,null,3011,3014]
[2,1,8,"Pakketillegg",null,null,21008,0,0,0,0,0,0,0,0,0,0,0,0,0,0,null,0,0,1,3,null,20,null,null,null,null,4511,null,null,null,3011,3014,null,20,null,null,null,null,4511,null,null,null,3015,3019,null,20,null,null,null,null,4511,null,null,null,3021,3024,null,20,null,null,null,null,4511,null,null,null,3025,3029,null,20,null,null,null,null,4511,null,null,null,3095,3096]
[2,1,9,"Refusjon kassasjonskostnad",null,null,21009,0,0,0,0,0,0,0,0,0,0,0,0,0,0,null,0,0,1,3,null,20,null,null,null,null,null,null,null,null,3011,3014,null,20,null,null,null,null,null,null,null,null,3015,3019,null,20,null,null,null,null,null,null,null,null,3021,3024,null,20,null,null,null,null,null,null,null,null,3025,3029,null,20,null,null,null,null,null,null,null,null,3095,3096]
[2,1,10,"Utjevningstillegg (frakt)",null,null,21010,0,0,0,0,0,0,0,0,0,0,0,0,0,0,null,0,0,1,3,null,20,null,null,null,null,null,null,null,null,3011,3014]
[2,1,11,"Utsortering",null,null,21011,0,0,0,0,0,0,0,0,0,0,0,0,0,0,null,0,0,1,3,null,20,null,null,null,null,null,null,null,null,3011,3014,null,20,null,null,null,null,null,null,null,null,3015,3019,null,20,null,null,null,null,null,null,null,null,3021,3024,null,20,null,null,null,null,null,null,null,null,3025,3029,null,20,null,null,null,null,null,null,null,null,3095,3096]
[2,1,12,"Distribusjon",null,"Varebehandling bonde",21012,0,0,0,0,0,0,0,0,0,0,0,0,0,0,null,0,0,1,3,null,null,null,null,null,null,null,null,null,null,null,null,null,null,null,null,null,null,null,null,null,null,null,null,null,null,null,null,null,null,null,null,null,null,null,null,null,20,null,null,null,null,null,null,null,null,3025,3029]
[2,1,13,"Beisetillegg mv.",null,null,21013,0,0,0,0,0,0,0,0,0,0,0,0,0,0,null,0,0,1,{"$f":"A89+1","v":3},null,20,null,null,null,null,null,null,null,null,3011,3014]
[2,1,14,"Kvalitetstillegg",null,"HOFF Potetindustri",{"$f":"VALUE(A90&B90&IF(LEN(C90)=1,\"00\"&C90,IF(LEN(C90)=2,\"0\"&C90,C90)))","v":21014},{"$f":"IF(GRLTilleggTrekk=1,AB90,IF(GRLTilleggTrekk=2,AN90,IF(GRLTilleggTrekk=3,AZ90,IF(GRLTilleggTrekk=4,BL90,IF(GRLTilleggTrekk=5,BX90,IF(GRLTilleggTrekk=6,CJ90,IF(GRLTilleggTrekk=7,CV90,IF(GRLTilleggTrekk=8,DH90,IF(GRLTilleggTrekk=9,DT90,IF(GRLTilleggTrekk=10,EF90,IF(GRLTilleggTrekk=11,ER90,IF(GRLTilleggTrekk=12,FD90,IF(GRLTilleggTrekk=13,FP90,IF(GRLTilleggTrekk=14,GB90,IF(GRLTilleggTrekk=15,GN90,0)))))))))))))))","v":0},{"$f":"IF(GRLTilleggTrekk=1,AC90,IF(GRLTilleggTrekk=2,AO90,IF(GRLTilleggTrekk=3,BA90,IF(GRLTilleggTrekk=4,BM90,IF(GRLTilleggTrekk=5,BY90,IF(GRLTilleggTrekk=6,CK90,IF(GRLTilleggTrekk=7,CW90,IF(GRLTilleggTrekk=8,DI90,IF(GRLTilleggTrekk=9,DU90,IF(GRLTilleggTrekk=10,EG90,IF(GRLTilleggTrekk=11,ES90,IF(GRLTilleggTrekk=12,FE90,IF(GRLTilleggTrekk=13,FQ90,IF(GRLTilleggTrekk=14,GC90,IF(GRLTilleggTrekk=15,GO90,0)))))))))))))))","v":0},{"$f":"IF(GRLTilleggTrekk=1,AD90,IF(GRLTilleggTrekk=2,AP90,IF(GRLTilleggTrekk=3,BB90,IF(GRLTilleggTrekk=4,BN90,IF(GRLTilleggTrekk=5,BZ90,IF(GRLTilleggTrekk=6,CL90,IF(GRLTilleggTrekk=7,CX90,IF(GRLTilleggTrekk=8,DJ90,IF(GRLTilleggTrekk=9,DV90,IF(GRLTilleggTrekk=10,EH90,IF(GRLTilleggTrekk=11,ET90,IF(GRLTilleggTrekk=12,FF90,IF(GRLTilleggTrekk=13,FR90,IF(GRLTilleggTrekk=14,GD90,IF(GRLTilleggTrekk=15,GP90,0)))))))))))))))","v":0},{"$f":"IF(GRLTilleggTrekk=1,AE90,IF(GRLTilleggTrekk=2,AQ90,IF(GRLTilleggTrekk=3,BC90,IF(GRLTilleggTrekk=4,BO90,IF(GRLTilleggTrekk=5,CA90,IF(GRLTilleggTrekk=6,CM90,IF(GRLTilleggTrekk=7,CY90,IF(GRLTilleggTrekk=8,DK90,IF(GRLTilleggTrekk=9,DW90,IF(GRLTilleggTrekk=10,EI90,IF(GRLTilleggTrekk=11,EU90,IF(GRLTilleggTrekk=12,FG90,IF(GRLTilleggTrekk=13,FS90,IF(GRLTilleggTrekk=14,GE90,IF(GRLTilleggTrekk=15,GQ90,0)))))))))))))))","v":0},{"$f":"IF(GRLTilleggTrekk=1,AF90,IF(GRLTilleggTrekk=2,AR90,IF(GRLTilleggTrekk=3,BD90,IF(GRLTilleggTrekk=4,BP90,IF(GRLTilleggTrekk=5,CB90,IF(GRLTilleggTrekk=6,CN90,IF(GRLTilleggTrekk=7,CZ90,IF(GRLTilleggTrekk=8,DL90,IF(GRLTilleggTrekk=9,DX90,IF(GRLTilleggTrekk=10,EJ90,IF(GRLTilleggTrekk=11,EV90,IF(GRLTilleggTrekk=12,FH90,IF(GRLTilleggTrekk=13,FT90,IF(GRLTilleggTrekk=14,GF90,IF(GRLTilleggTrekk=15,GR90,0)))))))))))))))","v":0},{"$f":"IF(GRLTilleggTrekk=1,AG90,IF(GRLTilleggTrekk=2,AS90,IF(GRLTilleggTrekk=3,BE90,IF(GRLTilleggTrekk=4,BQ90,IF(GRLTilleggTrekk=5,CC90,IF(GRLTilleggTrekk=6,CO90,IF(GRLTilleggTrekk=7,DA90,IF(GRLTilleggTrekk=8,DM90,IF(GRLTilleggTrekk=9,DY90,IF(GRLTilleggTrekk=10,EK90,IF(GRLTilleggTrekk=11,EW90,IF(GRLTilleggTrekk=12,FI90,IF(GRLTilleggTrekk=13,FU90,IF(GRLTilleggTrekk=14,GG90,IF(GRLTilleggTrekk=15,GS90,0)))))))))))))))","v":0},{"$f":"IF(GRLTilleggTrekk=1,AH90,IF(GRLTilleggTrekk=2,AT90,IF(GRLTilleggTrekk=3,BF90,IF(GRLTilleggTrekk=4,BR90,IF(GRLTilleggTrekk=5,CD90,IF(GRLTilleggTrekk=6,CP90,IF(GRLTilleggTrekk=7,DB90,IF(GRLTilleggTrekk=8,DN90,IF(GRLTilleggTrekk=9,DZ90,IF(GRLTilleggTrekk=10,EL90,IF(GRLTilleggTrekk=11,EX90,IF(GRLTilleggTrekk=12,FJ90,IF(GRLTilleggTrekk=13,FV90,IF(GRLTilleggTrekk=14,GH90,IF(GRLTilleggTrekk=15,GT90,0)))))))))))))))","v":0},{"$f":"IF(GRLTilleggTrekk=1,AI90,IF(GRLTilleggTrekk=2,AU90,IF(GRLTilleggTrekk=3,BG90,IF(GRLTilleggTrekk=4,BS90,IF(GRLTilleggTrekk=5,CE90,IF(GRLTilleggTrekk=6,CQ90,IF(GRLTilleggTrekk=7,DC90,IF(GRLTilleggTrekk=8,DO90,IF(GRLTilleggTrekk=9,EA90,IF(GRLTilleggTrekk=10,EM90,IF(GRLTilleggTrekk=11,EY90,IF(GRLTilleggTrekk=12,FK90,IF(GRLTilleggTrekk=13,FW90,IF(GRLTilleggTrekk=14,GI90,IF(GRLTilleggTrekk=15,GU90,0)))))))))))))))","v":0},{"$f":"IF(GRLTilleggTrekk=1,AJ90,IF(GRLTilleggTrekk=2,AV90,IF(GRLTilleggTrekk=3,BH90,IF(GRLTilleggTrekk=4,BT90,IF(GRLTilleggTrekk=5,CF90,IF(GRLTilleggTrekk=6,CR90,IF(GRLTilleggTrekk=7,DD90,IF(GRLTilleggTrekk=8,DP90,IF(GRLTilleggTrekk=9,EB90,IF(GRLTilleggTrekk=10,EN90,IF(GRLTilleggTrekk=11,EZ90,IF(GRLTilleggTrekk=12,FL90,IF(GRLTilleggTrekk=13,FX90,IF(GRLTilleggTrekk=14,GJ90,IF(GRLTilleggTrekk=15,GV90,0)))))))))))))))","v":0},{"$f":"IF(GRLTilleggTrekk=1,AK90,IF(GRLTilleggTrekk=2,AW90,IF(GRLTilleggTrekk=3,BI90,IF(GRLTilleggTrekk=4,BU90,IF(GRLTilleggTrekk=5,CG90,IF(GRLTilleggTrekk=6,CS90,IF(GRLTilleggTrekk=7,DE90,IF(GRLTilleggTrekk=8,DQ90,IF(GRLTilleggTrekk=9,EC90,IF(GRLTilleggTrekk=10,EO90,IF(GRLTilleggTrekk=11,FA90,IF(GRLTilleggTrekk=12,FM90,IF(GRLTilleggTrekk=13,FY90,IF(GRLTilleggTrekk=14,GK90,IF(GRLTilleggTrekk=15,GW90,0)))))))))))))))","v":0},{"$f":"IF(GRLTilleggTrekk=1,AL90,IF(GRLTilleggTrekk=2,AX90,IF(GRLTilleggTrekk=3,BJ90,IF(GRLTilleggTrekk=4,BV90,IF(GRLTilleggTrekk=5,CH90,IF(GRLTilleggTrekk=6,CT90,IF(GRLTilleggTrekk=7,DF90,IF(GRLTilleggTrekk=8,DR90,IF(GRLTilleggTrekk=9,ED90,IF(GRLTilleggTrekk=10,EP90,IF(GRLTilleggTrekk=11,FB90,IF(GRLTilleggTrekk=12,FN90,IF(GRLTilleggTrekk=13,FZ90,IF(GRLTilleggTrekk=14,GL90,IF(GRLTilleggTrekk=15,GX90,0)))))))))))))))","v":0},{"$f":"IF(GRLTilleggTrekk=1,AM90,IF(GRLTilleggTrekk=2,AY90,IF(GRLTilleggTrekk=3,BK90,IF(GRLTilleggTrekk=4,BW90,IF(GRLTilleggTrekk=5,CI90,IF(GRLTilleggTrekk=6,CU90,IF(GRLTilleggTrekk=7,DG90,IF(GRLTilleggTrekk=8,DS90,IF(GRLTilleggTrekk=9,EE90,IF(GRLTilleggTrekk=10,EQ90,IF(GRLTilleggTrekk=11,FC90,IF(GRLTilleggTrekk=12,FO90,IF(GRLTilleggTrekk=13,GA90,IF(GRLTilleggTrekk=14,GM90,IF(GRLTilleggTrekk=15,GY90,0)))))))))))))))","v":0},0,0,null,{"$f":"IF(B90=0,1,0)","v":0},{"$f":"IF(OR(C90=0,MID(C90,2,2)=\"00\"),1,0)","v":0},1,{"$f":"A90+1","v":3},null,20,null,null,null,null,null,null,null,null,3011]
[2,1,999,"Andre tillegg",null,null,21999,0,0,0,0,0,0,0,0,0,0,0,0,0,0,null,0,0,1,{"$f":"A91+1","v":3}]
[2,2,0,"Trekk",null,null,22000,null,null,null,null,null,null,null,null,null,null,null,null,null,null,null,0,1,1,3]
[2,2,1,"Aktivitetstrekk",null,null,22001,{"$f":"IF(GRLTilleggTrekk=1,AB93,IF(GRLTilleggTrekk=2,AN93,IF(GRLTilleggTrekk=3,AZ93,IF(GRLTilleggTrekk=4,BL93,IF(GRLTilleggTrekk=5,BX93,IF(GRLTilleggTrekk=6,CJ93,IF(GRLTilleggTrekk=7,CV93,IF(GRLTilleggTrekk=8,DH93,IF(GRLTilleggTrekk=9,DT93,IF(GRLTilleggTrekk=10,EF93,IF(GRLTilleggTrekk=11,ER93,IF(GRLTilleggTrekk=12,FD93,IF(GRLTilleggTrekk=13,FP93,IF(GRLTilleggTrekk=14,GB93,IF(GRLTilleggTrekk=15,GN93,0)))))))))))))))","v":0},{"$f":"IF(GRLTilleggTrekk=1,AC93,IF(GRLTilleggTrekk=2,AO93,IF(GRLTilleggTrekk=3,BA93,IF(GRLTilleggTrekk=4,BM93,IF(GRLTilleggTrekk=5,BY93,IF(GRLTilleggTrekk=6,CK93,IF(GRLTilleggTrekk=7,CW93,IF(GRLTilleggTrekk=8,DI93,IF(GRLTilleggTrekk=9,DU93,IF(GRLTilleggTrekk=10,EG93,IF(GRLTilleggTrekk=11,ES93,IF(GRLTilleggTrekk=12,FE93,IF(GRLTilleggTrekk=13,FQ93,IF(GRLTilleggTrekk=14,GC93,IF(GRLTilleggTrekk=15,GO93,0)))))))))))))))","v":0},{"$f":"IF(GRLTilleggTrekk=1,AD93,IF(GRLTilleggTrekk=2,AP93,IF(GRLTilleggTrekk=3,BB93,IF(GRLTilleggTrekk=4,BN93,IF(GRLTilleggTrekk=5,BZ93,IF(GRLTilleggTrekk=6,CL93,IF(GRLTilleggTrekk=7,CX93,IF(GRLTilleggTrekk=8,DJ93,IF(GRLTilleggTrekk=9,DV93,IF(GRLTilleggTrekk=10,EH93,IF(GRLTilleggTrekk=11,ET93,IF(GRLTilleggTrekk=12,FF93,IF(GRLTilleggTrekk=13,FR93,IF(GRLTilleggTrekk=14,GD93,IF(GRLTilleggTrekk=15,GP93,0)))))))))))))))","v":0},{"$f":"IF(GRLTilleggTrekk=1,AE93,IF(GRLTilleggTrekk=2,AQ93,IF(GRLTilleggTrekk=3,BC93,IF(GRLTilleggTrekk=4,BO93,IF(GRLTilleggTrekk=5,CA93,IF(GRLTilleggTrekk=6,CM93,IF(GRLTilleggTrekk=7,CY93,IF(GRLTilleggTrekk=8,DK93,IF(GRLTilleggTrekk=9,DW93,IF(GRLTilleggTrekk=10,EI93,IF(GRLTilleggTrekk=11,EU93,IF(GRLTilleggTrekk=12,FG93,IF(GRLTilleggTrekk=13,FS93,IF(GRLTilleggTrekk=14,GE93,IF(GRLTilleggTrekk=15,GQ93,0)))))))))))))))","v":0},{"$f":"IF(GRLTilleggTrekk=1,AF93,IF(GRLTilleggTrekk=2,AR93,IF(GRLTilleggTrekk=3,BD93,IF(GRLTilleggTrekk=4,BP93,IF(GRLTilleggTrekk=5,CB93,IF(GRLTilleggTrekk=6,CN93,IF(GRLTilleggTrekk=7,CZ93,IF(GRLTilleggTrekk=8,DL93,IF(GRLTilleggTrekk=9,DX93,IF(GRLTilleggTrekk=10,EJ93,IF(GRLTilleggTrekk=11,EV93,IF(GRLTilleggTrekk=12,FH93,IF(GRLTilleggTrekk=13,FT93,IF(GRLTilleggTrekk=14,GF93,IF(GRLTilleggTrekk=15,GR93,0)))))))))))))))","v":0},{"$f":"IF(GRLTilleggTrekk=1,AG93,IF(GRLTilleggTrekk=2,AS93,IF(GRLTilleggTrekk=3,BE93,IF(GRLTilleggTrekk=4,BQ93,IF(GRLTilleggTrekk=5,CC93,IF(GRLTilleggTrekk=6,CO93,IF(GRLTilleggTrekk=7,DA93,IF(GRLTilleggTrekk=8,DM93,IF(GRLTilleggTrekk=9,DY93,IF(GRLTilleggTrekk=10,EK93,IF(GRLTilleggTrekk=11,EW93,IF(GRLTilleggTrekk=12,FI93,IF(GRLTilleggTrekk=13,FU93,IF(GRLTilleggTrekk=14,GG93,IF(GRLTilleggTrekk=15,GS93,0)))))))))))))))","v":0},{"$f":"IF(GRLTilleggTrekk=1,AH93,IF(GRLTilleggTrekk=2,AT93,IF(GRLTilleggTrekk=3,BF93,IF(GRLTilleggTrekk=4,BR93,IF(GRLTilleggTrekk=5,CD93,IF(GRLTilleggTrekk=6,CP93,IF(GRLTilleggTrekk=7,DB93,IF(GRLTilleggTrekk=8,DN93,IF(GRLTilleggTrekk=9,DZ93,IF(GRLTilleggTrekk=10,EL93,IF(GRLTilleggTrekk=11,EX93,IF(GRLTilleggTrekk=12,FJ93,IF(GRLTilleggTrekk=13,FV93,IF(GRLTilleggTrekk=14,GH93,IF(GRLTilleggTrekk=15,GT93,0)))))))))))))))","v":0},{"$f":"IF(GRLTilleggTrekk=1,AI93,IF(GRLTilleggTrekk=2,AU93,IF(GRLTilleggTrekk=3,BG93,IF(GRLTilleggTrekk=4,BS93,IF(GRLTilleggTrekk=5,CE93,IF(GRLTilleggTrekk=6,CQ93,IF(GRLTilleggTrekk=7,DC93,IF(GRLTilleggTrekk=8,DO93,IF(GRLTilleggTrekk=9,EA93,IF(GRLTilleggTrekk=10,EM93,IF(GRLTilleggTrekk=11,EY93,IF(GRLTilleggTrekk=12,FK93,IF(GRLTilleggTrekk=13,FW93,IF(GRLTilleggTrekk=14,GI93,IF(GRLTilleggTrekk=15,GU93,0)))))))))))))))","v":0},{"$f":"IF(GRLTilleggTrekk=1,AJ93,IF(GRLTilleggTrekk=2,AV93,IF(GRLTilleggTrekk=3,BH93,IF(GRLTilleggTrekk=4,BT93,IF(GRLTilleggTrekk=5,CF93,IF(GRLTilleggTrekk=6,CR93,IF(GRLTilleggTrekk=7,DD93,IF(GRLTilleggTrekk=8,DP93,IF(GRLTilleggTrekk=9,EB93,IF(GRLTilleggTrekk=10,EN93,IF(GRLTilleggTrekk=11,EZ93,IF(GRLTilleggTrekk=12,FL93,IF(GRLTilleggTrekk=13,FX93,IF(GRLTilleggTrekk=14,GJ93,IF(GRLTilleggTrekk=15,GV93,0)))))))))))))))","v":0},{"$f":"IF(GRLTilleggTrekk=1,AK93,IF(GRLTilleggTrekk=2,AW93,IF(GRLTilleggTrekk=3,BI93,IF(GRLTilleggTrekk=4,BU93,IF(GRLTilleggTrekk=5,CG93,IF(GRLTilleggTrekk=6,CS93,IF(GRLTilleggTrekk=7,DE93,IF(GRLTilleggTrekk=8,DQ93,IF(GRLTilleggTrekk=9,EC93,IF(GRLTilleggTrekk=10,EO93,IF(GRLTilleggTrekk=11,FA93,IF(GRLTilleggTrekk=12,FM93,IF(GRLTilleggTrekk=13,FY93,IF(GRLTilleggTrekk=14,GK93,IF(GRLTilleggTrekk=15,GW93,0)))))))))))))))","v":0},{"$f":"IF(GRLTilleggTrekk=1,AL93,IF(GRLTilleggTrekk=2,AX93,IF(GRLTilleggTrekk=3,BJ93,IF(GRLTilleggTrekk=4,BV93,IF(GRLTilleggTrekk=5,CH93,IF(GRLTilleggTrekk=6,CT93,IF(GRLTilleggTrekk=7,DF93,IF(GRLTilleggTrekk=8,DR93,IF(GRLTilleggTrekk=9,ED93,IF(GRLTilleggTrekk=10,EP93,IF(GRLTilleggTrekk=11,FB93,IF(GRLTilleggTrekk=12,FN93,IF(GRLTilleggTrekk=13,FZ93,IF(GRLTilleggTrekk=14,GL93,IF(GRLTilleggTrekk=15,GX93,0)))))))))))))))","v":0},{"$f":"IF(GRLTilleggTrekk=1,AM93,IF(GRLTilleggTrekk=2,AY93,IF(GRLTilleggTrekk=3,BK93,IF(GRLTilleggTrekk=4,BW93,IF(GRLTilleggTrekk=5,CI93,IF(GRLTilleggTrekk=6,CU93,IF(GRLTilleggTrekk=7,DG93,IF(GRLTilleggTrekk=8,DS93,IF(GRLTilleggTrekk=9,EE93,IF(GRLTilleggTrekk=10,EQ93,IF(GRLTilleggTrekk=11,FC93,IF(GRLTilleggTrekk=12,FO93,IF(GRLTilleggTrekk=13,GA93,IF(GRLTilleggTrekk=14,GM93,IF(GRLTilleggTrekk=15,GY93,0)))))))))))))))","v":0},0,0,null,0,0,1,3,null,20,null,null,null,null,null,null,null,null,3011,3014,null,20,null,null,null,null,null,null,null,null,3015,3019,null,null,null,null,null,null,null,null,null,null,null,null,null,null,null,null,null,null,null,null,null,null,null,null,null,20,null,null,null,null,null,null,null,null,3095,3096]
[2,2,{"$f":"C93+1","v":2},"Analyser/avregningskostnader",null,null,22002,0,0,0,0,0,0,0,0,0,0,0,0,0,0,null,0,0,1,3]
[2,2,{"$f":"C94+1","v":3},"Andre trekk (leveringssted)",null,null,22003,0,0,0,0,0,0,0,0,0,0,0,0,0,0,null,0,0,1,3,null,20,null,null,null,4512,4511,null,null,null,3011,3014,null,20,null,null,null,4512,4511,null,null,null,3015,3019,null,20,null,null,null,4512,4511,null,null,null,null,null,null,20,null,null,null,4512,4511,null,null,null,null,null,null,20,null,null,null,4512,4511,null,null,null,3095,3096]
[2,2,4,"Avfallstrekk/Innveid jord",null,null,22004,0,0,0,0,0,0,0,0,0,0,0,0,0,0,null,0,0,1,3,null,20,null,null,null,null,4511,null,null,null,3011,3014,null,20,null,null,null,4512,4511,null,null,null,3015,3019,null,20,null,null,null,null,4511,null,null,null,3021,3024,null,20,null,null,null,null,4511,null,null,null,3025,3029,null,20,null,null,null,4512,4511,null,null,null,3095,3096]
[2,2,5,"Fondstrekk",null,null,22005,0,0,0,0,0,0,0,0,0,0,0,0,0,0,null,0,0,1,3,null,20,null,null,null,4512,4511,null,null,null,3011,3014,null,20,null,null,null,4512,4511,null,null,null,3015,3019,null,20,null,null,null,4512,4511,null,null,null,3021,3024,null,20,null,null,null,4512,4511,null,null,null,3025,3029,null,20,null,null,null,4512,4511,null,null,null,3095,3096]
[2,2,6,"Ledig",null,null,22006,0,0,0,0,0,0,0,0,0,0,0,0,0,0,null,0,0,1,3]
[2,2,7,"Kampanjetrekk",null,null,22007,0,0,0,0,0,0,0,0,0,0,0,0,0,0,null,0,0,1,3,null,20,null,null,null,null,null,null,null,null,3011,3014,null,20,null,null,null,null,4511,null,null,null,3015,3019,null,null,null,null,null,null,null,null,null,null,null,null,null,null,null,null,null,null,null,null,null,null,null,null,null,20,null,null,null,null,4511,null,null,null,3095,3096]
[2,2,8,"Kontraktdyrkerlag",null,null,22008,0,0,0,0,0,0,0,0,0,0,0,0,0,0,null,0,0,1,3,null,20,null,null,null,null,4511,null,null,null,null,null,null,20,null,null,null,null,4511,null,null,null,null,null,null,20,null,null,null,null,4511,null,null,null,null,null,null,20,null,null,null,null,4511,null,null,null,null,null,null,20,null,null,null,null,4511]
[2,2,9,"KSLtrekk",null,null,22009,0,0,0,0,0,0,0,0,0,0,0,0,0,0,null,0,0,1,3]
[2,2,10,"Kvalitetsfeil",null,"Skade/avrens/forurensing/innblanding",22010,0,0,0,0,0,0,0,0,0,0,0,0,0,0,null,0,0,1,3,null,20,null,null,null,null,null,null,null,null,3011,3014]
[2,2,11,"Lagringskostnader",null,null,22011,0,0,0,0,0,0,0,0,0,0,0,0,0,0,null,0,0,1,3,null,20,null,null,null,null,4511,null,null,null,null,null,null,20,null,null,null,null,4511,null,null,null,3015,3019,null,20,null,null,null,null,4511,null,null,null,null,null,null,20,null,null,null,null,4511,null,null,null,null,null,null,20,null,null,null,null,4511,null,null,null,3095,3096]
[2,2,12,"Markedstrekk",null,null,22012,0,0,0,0,0,0,0,0,0,0,0,0,0,0,null,0,0,1,3,null,20,null,null,null,null,null,null,null,null,3011,3014,null,20,null,null,null,null,4511,null,null,null,3015,3019,null,20,null,null,null,null,null,null,null,null,3021,3024,null,20,null,null,null,null,null,null,null,null,3025,3029,null,20,null,null,null,null,4511,null,null,null,3095,3096]
[2,2,13,"Terminal- og palletrekk",null,"Terminaltrekk? Tjeneste (innfrakt)",22013,0,0,0,0,0,0,0,0,0,0,0,0,0,0,null,0,0,1,3,null,20,null,null,null,null,4441,null,null,null,null,null,null,20,null,null,null,null,4441,null,null,null,null,null,null,20,null,null,null,null,4441,null,null,null,null,null,null,20,null,null,null,null,4441,null,null,null,null,null,null,20,null,null,null,null,4441]
[2,2,14,"Leie av lagerkasser og paller",null,"Avgiftspliktig",22014,0,0,0,0,0,0,0,0,0,0,0,0,0,0,null,0,0,1,3,null,20,null,null,null,null,4441,null,null,null,3011,3014,null,20,null,4518,null,null,4441,null,null,null,3015,3019,null,20,null,null,null,null,4441,null,null,null,3021,3024,null,20,null,null,null,null,4441,null,null,null,3025,3029,null,20,null,4518,null,null,4441,null,null,null,3095,3096]
[2,2,15,"Pant paller/Flasker",null,null,22015,0,0,0,0,0,0,0,0,0,0,0,0,0,0,null,0,0,1,3,null,20,null,4443,null,null,4441,null,null,null,3011,3014,null,20,null,4443,null,null,4441,null,null,null,3015,3019,null,20,null,4443,null,null,4441,null,null,null,3021,3024,null,20,null,4443,null,null,4441,null,null,null,3025,3029,null,20,null,4443,null,null,4441,null,null,null,3095,3096]
[2,2,16,"Ifcopant og leie av emballasje",null,"Kan være både tillegg og trekk (nettoføring kto 4442). Avgiftsfritt",22016,0,0,0,0,0,0,0,0,0,0,0,0,0,0,null,0,0,1,3,null,20,null,4442,null,null,null,null,null,null,null,null,null,20,null,4442,null,null,null,null,null,null,null,null,null,20,null,4442,null,null,null,null,null,null,null,null,null,20,null,4442,null,null,null,null,null,null,null,null,null,20,null,4442]
[2,2,17,"Råvaretrekk",null,null,22017,0,0,0,0,0,0,0,0,0,0,0,0,0,0,null,0,0,1,3,null,null,null,null,null,null,null,null,null,null,null,null,null,20,null,null,null,null,null,null,null,null,3015,3019,null,null,null,null,null,null,null,null,null,null,null,null,null,null,null,null,null,null,null,null,null,null,null,null,null,20,null,null,null,null,null,null,null,null,3095,3096]
[2,2,18,"Trekk kvalitetstillegg",null,null,22018,0,0,0,0,0,0,0,0,0,0,0,0,0,0,null,0,0,1,3,null,20,null,null,null,4512,4511,null,null,null,3011,3014,null,20,null,null,null,4512,4511,null,null,null,3015,3019,null,20,null,null,null,4512,4511,null,null,null,3021,3024,null,20,null,null,null,4512,4511,null,null,null,3025,3029,null,20,null,null,null,4512,4511,null,null,null,3095,3096]
[2,2,19,"Trekk til produsentlag",null,null,22019,0,0,0,0,0,0,0,0,0,0,0,0,0,0,null,0,0,1,3,null,20,null,4518,null,null,4511,null,null,null,3011,3014,null,20,null,4518,null,null,4511,null,null,null,3015,3019,null,20,null,4518,null,null,4511,null,null,null,3021,3024,null,20,null,4518,null,null,4511,null,null,null,3025,3029,null,20,null,4518,null,null,4511,null,null,null,3095,3096]
[2,2,20,"Trekk NGF",null,null,22020,0,0,0,0,0,0,0,0,0,0,0,0,0,0,null,0,0,1,3,null,20,null,null,null,null,4511,null,null,null,null,null,null,20,null,null,null,null,4511,null,null,null,null,null,null,20,null,null,null,null,4511,null,null,null,null,null,null,20,null,null,null,null,4511,null,null,null,null,null,null,20,null,null,null,null,4511]
[2,2,21,"Utjevningstrekk (frakt)",null,null,22021,0,0,0,0,0,0,0,0,0,0,0,0,0,0,null,0,0,1,3,null,20,null,null,null,6100,6100,null,null,null,3011,3014,null,20,null,null,null,6100,6100,null,null,null,3015,3019,null,20,null,null,null,6100,6100,null,null,null,3021,3024,null,20,null,null,null,6100,6100,null,null,null,3025,3029,null,20,null,null,null,6100,6100,null,null,null,3095,3096]
[2,2,22,"Ledig",null,null,22022,0,0,0,0,0,0,0,0,0,0,0,0,0,0,null,0,0,1,3]
[2,2,23,"Forskningstrekk GPS",null,null,22023,0,0,0,0,0,0,0,0,0,0,0,0,0,0,null,0,0,1,3,null,20,null,null,null,null,4511,null,null,null,null,null,null,20,null,null,null,null,4511,null,null,null,3015,3019,null,20,null,null,null,null,4511,null,null,null,null,null,null,20,null,null,null,null,4511,null,null,null,null,null,null,20,null,null,null,null,4511,null,null,null,3095,3096]
[2,2,999,"Andre trekk",null,null,22999,0,0,0,0,0,0,0,0,0,0,0,0,0,0,null,0,0,1,3]
[2,3,0,"Avgifter",null,null,23000,null,null,null,null,null,null,null,null,null,null,null,null,null,null,null,0,1,1,3]
[2,3,1,"Avfallsavgift",null,null,23001,{"$f":"IF(GRLTilleggTrekk=1,AB118,IF(GRLTilleggTrekk=2,AN118,IF(GRLTilleggTrekk=3,AZ118,IF(GRLTilleggTrekk=4,BL118,IF(GRLTilleggTrekk=5,BX118,IF(GRLTilleggTrekk=6,CJ118,IF(GRLTilleggTrekk=7,CV118,IF(GRLTilleggTrekk=8,DH118,IF(GRLTilleggTrekk=9,DT118,IF(GRLTilleggTrekk=10,EF118,IF(GRLTilleggTrekk=11,ER118,IF(GRLTilleggTrekk=12,FD118,IF(GRLTilleggTrekk=13,FP118,IF(GRLTilleggTrekk=14,GB118,IF(GRLTilleggTrekk=15,GN118,0)))))))))))))))","v":0},0,0,0,0,0,0,0,0,0,0,0,0,0,null,0,0,1,3,null,20,null,null,null,null,4511,null,null,null,null,null,null,20,null,null,null,null,4511,null,null,null,3015,3019,null,20,null,null,null,null,4511,null,null,null,null,null,null,20,null,null,null,null,4511,null,null,null,null,null,null,20,null,null,null,null,4511,null,null,null,3095,3096]
[2,3,{"$f":"C118+1","v":2},"Forskningsavgift",null,"Gartnerhallen, epost 06.07.2018",23002,0,0,0,0,0,0,0,0,0,0,0,0,0,0,null,0,0,1,3,null,20,null,4518,null,null,4511,null,null,null,3011,3014,null,20,null,4518,null,null,4511,null,null,null,3015,3019,null,20,null,4518,null,null,4511,null,null,null,3021,3024,null,20,null,4518,null,null,4511,null,null,null,3025,3029,null,20,null,4518,null,null,4511,null,null,null,3095,3096]
[2,3,3,"GPS avgift",null,null,23003,0,0,0,0,0,0,0,0,0,0,0,0,0,0,null,0,0,1,3,null,20,null,null,null,null,4511,null,null,null,3011,3014,null,20,null,null,null,null,4511,null,null,null,3015,3019,null,20,null,null,null,null,4511,null,null,null,3021,3024,null,20,null,null,null,null,4511,null,null,null,3025,3029,null,20,null,null,null,null,4511,null,null,null,3095,3096]
[2,3,4,"Matproduksjonsavgift",null,null,23004,0,0,0,0,0,0,0,0,0,0,0,0,0,0,null,0,0,1,3,null,20,null,null,null,null,null,null,null,null,3011,3014,null,20,null,null,null,null,null,null,null,null,3015,3019,null,20,null,null,null,null,null,null,null,null,3021,3024,null,20,null,null,null,null,null,null,null,null,3025,3029,null,20,null,null,null,null,null,null,null,null,3095,3096]
[2,3,5,"Omsetningsavgift",null,null,23005,0,0,0,0,0,0,0,0,0,0,0,0,0,0,null,0,0,1,3]
[2,3,6,"Servicavgift",null,"Gartnerhallen, epost 06.07.2018",23006,0,0,0,0,0,0,0,0,0,0,0,0,0,0,null,0,0,1,3,null,20,null,4518,null,null,4511,null,null,null,3011,3014,null,20,null,4518,null,null,4511,null,null,null,3015,3019,null,20,null,4518,null,null,4511,null,null,null,3021,3024,null,20,null,4518,null,null,4511,null,null,null,3025,3029,null,20,null,4518,null,null,4511,null,null,null,3095,3096]
[2,3,7,"Kontingenter",null,null,23007,0,0,0,0,0,0,0,0,0,0,0,0,0,0,null,0,0,1,3,null,20,null,7402,null,null,null,null,null,null,null,null,null,20,null,7402,null,null,null,null,null,null,null,null,null,20,null,7402,null,null,null,null,null,null,null,null,null,20,null,7402,null,null,null,null,null,null,null,null,null,20,null,7402]
[2,3,999,"Andre avgifter",null,null,23999,0,0,0,0,0,0,0,0,0,0,0,0,0,0,null,0,0,1,3]
[2,4,0,"Etterbetalinger, erstatninger og bonuser",null,null,24000,null,null,null,null,null,null,null,null,null,null,null,null,null,null,null,0,1,1,3]
[2,4,1,"Etterbetalinger",null,null,24001,{"$f":"IF(GRLTilleggTrekk=1,AB127,IF(GRLTilleggTrekk=2,AN127,IF(GRLTilleggTrekk=3,AZ127,IF(GRLTilleggTrekk=4,BL127,IF(GRLTilleggTrekk=5,BX127,IF(GRLTilleggTrekk=6,CJ127,IF(GRLTilleggTrekk=7,CV127,IF(GRLTilleggTrekk=8,DH127,IF(GRLTilleggTrekk=9,DT127,IF(GRLTilleggTrekk=10,EF127,IF(GRLTilleggTrekk=11,ER127,IF(GRLTilleggTrekk=12,FD127,IF(GRLTilleggTrekk=13,FP127,IF(GRLTilleggTrekk=14,GB127,IF(GRLTilleggTrekk=15,GN127,0)))))))))))))))","v":0},0,0,0,0,0,0,0,0,0,0,0,0,0,null,0,0,1,3,null,20,null,null,null,null,null,null,null,null,3011,3014,null,20,null,null,null,null,null,null,null,null,3015,3019,null,20,null,null,null,null,null,null,null,null,3021,3024,null,20,null,null,null,null,null,null,null,null,3025,3029,null,20,null,null,null,null,null,null,null,null,3095,3096]
[2,4,2,"Erstatninger",null,null,24002,0,0,0,0,0,0,0,0,0,0,0,0,0,0,null,0,0,1,3]
[2,4,3,"Forskudd",null,null,24003,0,0,0,0,0,0,0,0,0,0,0,0,0,0,null,0,0,1,{"$f":"A129+1","v":3},null,10,2900,null,null,null,null,null,null,null,null,null,null,10,2900,null,null,null,null,null,null,null,null,null,null,10,2900,null,null,null,null,null,null,null,null,null,null,null,null,null,null,null,null,null,null,null,null,null,null,10,2900]
[2,4,4,"Betalingstrekk",null,null,24004,0,0,0,0,0,0,0,0,0,0,0,0,0,0,null,0,0,1,{"$f":"A130+1","v":3},null,10,2900,null,null,null,null,null,null,null,null,null,null,10,2900,null,null,null,null,null,null,null,null,null,null,10,2900,null,null,null,null,null,null,null,null,null,null,10,2900,null,null,null,null,null,null,null,null,null,null,10,2900]
[2,4,999,"Andre etterbetalinger og erstatninger",null,null,24999,0,0,0,0,0,0,0,0,0,0,0,0,0,0,null,0,0,1,3]
[2,5,0,"Tilskudd",null,null,25000,null,null,null,null,null,null,null,null,null,null,null,null,null,null,null,0,1,1,3]
[2,5,1,"Produksjonsavhengige tilskuddd grønt, lav sats",null,null,{"$f":"VALUE(A133&B133&IF(LEN(C133)=1,\"00\"&C133,IF(LEN(C133)=2,\"0\"&C133,C133)))","v":25001},{"$f":"IF(GRLTilleggTrekk=1,AB133,IF(GRLTilleggTrekk=2,AN133,IF(GRLTilleggTrekk=3,AZ133,IF(GRLTilleggTrekk=4,BL133,IF(GRLTilleggTrekk=5,BX133,IF(GRLTilleggTrekk=6,CJ133,IF(GRLTilleggTrekk=7,CV133,IF(GRLTilleggTrekk=8,DH133,IF(GRLTilleggTrekk=9,DT133,IF(GRLTilleggTrekk=10,EF133,IF(GRLTilleggTrekk=11,ER133,IF(GRLTilleggTrekk=12,FD133,IF(GRLTilleggTrekk=13,FP133,IF(GRLTilleggTrekk=14,GB133,IF(GRLTilleggTrekk=15,GN133,0)))))))))))))))","v":0},0,0,0,0,0,0,0,0,0,0,0,0,0,null,0,0,1,{"$f":"A133+1","v":3},null,20,null,null,null,null,null,null,null,null,3011,null,null,20,null,null,null,null,null,null,null,null,3015,null,null,20,null,null,null,null,null,null,null,null,3021,null,null,20,null,null,null,null,null,null,null,null,3025,null,null,20,null,null,null,null,null,null,null,null,3095]
[2,5,999,"Andre tilskudd",null,null,25999,0,0,0,0,0,0,0,0,0,0,0,0,0,0,null,0,0,1,3]
[2,6,0,"Varer og tjenester",null,null,26000,null,null,null,null,null,null,null,null,null,null,null,null,null,null,null,0,1,1,3]
[2,6,1,"Emballasje produkt",null,null,26001,{"$f":"IF(GRLTilleggTrekk=1,AB136,IF(GRLTilleggTrekk=2,AN136,IF(GRLTilleggTrekk=3,AZ136,IF(GRLTilleggTrekk=4,BL136,IF(GRLTilleggTrekk=5,BX136,IF(GRLTilleggTrekk=6,CJ136,IF(GRLTilleggTrekk=7,CV136,IF(GRLTilleggTrekk=8,DH136,IF(GRLTilleggTrekk=9,DT136,IF(GRLTilleggTrekk=10,EF136,IF(GRLTilleggTrekk=11,ER136,IF(GRLTilleggTrekk=12,FD136,IF(GRLTilleggTrekk=13,FP136,IF(GRLTilleggTrekk=14,GB136,IF(GRLTilleggTrekk=15,GN136,0)))))))))))))))","v":0},{"$f":"IF(GRLTilleggTrekk=1,AC136,IF(GRLTilleggTrekk=2,AO136,IF(GRLTilleggTrekk=3,BA136,IF(GRLTilleggTrekk=4,BM136,IF(GRLTilleggTrekk=5,BY136,IF(GRLTilleggTrekk=6,CK136,IF(GRLTilleggTrekk=7,CW136,IF(GRLTilleggTrekk=8,DI136,IF(GRLTilleggTrekk=9,DU136,IF(GRLTilleggTrekk=10,EG136,IF(GRLTilleggTrekk=11,ES136,IF(GRLTilleggTrekk=12,FE136,IF(GRLTilleggTrekk=13,FQ136,IF(GRLTilleggTrekk=14,GC136,IF(GRLTilleggTrekk=15,GO136,0)))))))))))))))","v":0},{"$f":"IF(GRLTilleggTrekk=1,AD136,IF(GRLTilleggTrekk=2,AP136,IF(GRLTilleggTrekk=3,BB136,IF(GRLTilleggTrekk=4,BN136,IF(GRLTilleggTrekk=5,BZ136,IF(GRLTilleggTrekk=6,CL136,IF(GRLTilleggTrekk=7,CX136,IF(GRLTilleggTrekk=8,DJ136,IF(GRLTilleggTrekk=9,DV136,IF(GRLTilleggTrekk=10,EH136,IF(GRLTilleggTrekk=11,ET136,IF(GRLTilleggTrekk=12,FF136,IF(GRLTilleggTrekk=13,FR136,IF(GRLTilleggTrekk=14,GD136,IF(GRLTilleggTrekk=15,GP136,0)))))))))))))))","v":0},{"$f":"IF(GRLTilleggTrekk=1,AE136,IF(GRLTilleggTrekk=2,AQ136,IF(GRLTilleggTrekk=3,BC136,IF(GRLTilleggTrekk=4,BO136,IF(GRLTilleggTrekk=5,CA136,IF(GRLTilleggTrekk=6,CM136,IF(GRLTilleggTrekk=7,CY136,IF(GRLTilleggTrekk=8,DK136,IF(GRLTilleggTrekk=9,DW136,IF(GRLTilleggTrekk=10,EI136,IF(GRLTilleggTrekk=11,EU136,IF(GRLTilleggTrekk=12,FG136,IF(GRLTilleggTrekk=13,FS136,IF(GRLTilleggTrekk=14,GE136,IF(GRLTilleggTrekk=15,GQ136,0)))))))))))))))","v":0},{"$f":"IF(GRLTilleggTrekk=1,AF136,IF(GRLTilleggTrekk=2,AR136,IF(GRLTilleggTrekk=3,BD136,IF(GRLTilleggTrekk=4,BP136,IF(GRLTilleggTrekk=5,CB136,IF(GRLTilleggTrekk=6,CN136,IF(GRLTilleggTrekk=7,CZ136,IF(GRLTilleggTrekk=8,DL136,IF(GRLTilleggTrekk=9,DX136,IF(GRLTilleggTrekk=10,EJ136,IF(GRLTilleggTrekk=11,EV136,IF(GRLTilleggTrekk=12,FH136,IF(GRLTilleggTrekk=13,FT136,IF(GRLTilleggTrekk=14,GF136,IF(GRLTilleggTrekk=15,GR136,0)))))))))))))))","v":0},{"$f":"IF(GRLTilleggTrekk=1,AG136,IF(GRLTilleggTrekk=2,AS136,IF(GRLTilleggTrekk=3,BE136,IF(GRLTilleggTrekk=4,BQ136,IF(GRLTilleggTrekk=5,CC136,IF(GRLTilleggTrekk=6,CO136,IF(GRLTilleggTrekk=7,DA136,IF(GRLTilleggTrekk=8,DM136,IF(GRLTilleggTrekk=9,DY136,IF(GRLTilleggTrekk=10,EK136,IF(GRLTilleggTrekk=11,EW136,IF(GRLTilleggTrekk=12,FI136,IF(GRLTilleggTrekk=13,FU136,IF(GRLTilleggTrekk=14,GG136,IF(GRLTilleggTrekk=15,GS136,0)))))))))))))))","v":0},{"$f":"IF(GRLTilleggTrekk=1,AH136,IF(GRLTilleggTrekk=2,AT136,IF(GRLTilleggTrekk=3,BF136,IF(GRLTilleggTrekk=4,BR136,IF(GRLTilleggTrekk=5,CD136,IF(GRLTilleggTrekk=6,CP136,IF(GRLTilleggTrekk=7,DB136,IF(GRLTilleggTrekk=8,DN136,IF(GRLTilleggTrekk=9,DZ136,IF(GRLTilleggTrekk=10,EL136,IF(GRLTilleggTrekk=11,EX136,IF(GRLTilleggTrekk=12,FJ136,IF(GRLTilleggTrekk=13,FV136,IF(GRLTilleggTrekk=14,GH136,IF(GRLTilleggTrekk=15,GT136,0)))))))))))))))","v":0},{"$f":"IF(GRLTilleggTrekk=1,AI136,IF(GRLTilleggTrekk=2,AU136,IF(GRLTilleggTrekk=3,BG136,IF(GRLTilleggTrekk=4,BS136,IF(GRLTilleggTrekk=5,CE136,IF(GRLTilleggTrekk=6,CQ136,IF(GRLTilleggTrekk=7,DC136,IF(GRLTilleggTrekk=8,DO136,IF(GRLTilleggTrekk=9,EA136,IF(GRLTilleggTrekk=10,EM136,IF(GRLTilleggTrekk=11,EY136,IF(GRLTilleggTrekk=12,FK136,IF(GRLTilleggTrekk=13,FW136,IF(GRLTilleggTrekk=14,GI136,IF(GRLTilleggTrekk=15,GU136,0)))))))))))))))","v":0},{"$f":"IF(GRLTilleggTrekk=1,AJ136,IF(GRLTilleggTrekk=2,AV136,IF(GRLTilleggTrekk=3,BH136,IF(GRLTilleggTrekk=4,BT136,IF(GRLTilleggTrekk=5,CF136,IF(GRLTilleggTrekk=6,CR136,IF(GRLTilleggTrekk=7,DD136,IF(GRLTilleggTrekk=8,DP136,IF(GRLTilleggTrekk=9,EB136,IF(GRLTilleggTrekk=10,EN136,IF(GRLTilleggTrekk=11,EZ136,IF(GRLTilleggTrekk=12,FL136,IF(GRLTilleggTrekk=13,FX136,IF(GRLTilleggTrekk=14,GJ136,IF(GRLTilleggTrekk=15,GV136,0)))))))))))))))","v":0},{"$f":"IF(GRLTilleggTrekk=1,AK136,IF(GRLTilleggTrekk=2,AW136,IF(GRLTilleggTrekk=3,BI136,IF(GRLTilleggTrekk=4,BU136,IF(GRLTilleggTrekk=5,CG136,IF(GRLTilleggTrekk=6,CS136,IF(GRLTilleggTrekk=7,DE136,IF(GRLTilleggTrekk=8,DQ136,IF(GRLTilleggTrekk=9,EC136,IF(GRLTilleggTrekk=10,EO136,IF(GRLTilleggTrekk=11,FA136,IF(GRLTilleggTrekk=12,FM136,IF(GRLTilleggTrekk=13,FY136,IF(GRLTilleggTrekk=14,GK136,IF(GRLTilleggTrekk=15,GW136,0)))))))))))))))","v":0},{"$f":"IF(GRLTilleggTrekk=1,AL136,IF(GRLTilleggTrekk=2,AX136,IF(GRLTilleggTrekk=3,BJ136,IF(GRLTilleggTrekk=4,BV136,IF(GRLTilleggTrekk=5,CH136,IF(GRLTilleggTrekk=6,CT136,IF(GRLTilleggTrekk=7,DF136,IF(GRLTilleggTrekk=8,DR136,IF(GRLTilleggTrekk=9,ED136,IF(GRLTilleggTrekk=10,EP136,IF(GRLTilleggTrekk=11,FB136,IF(GRLTilleggTrekk=12,FN136,IF(GRLTilleggTrekk=13,FZ136,IF(GRLTilleggTrekk=14,GL136,IF(GRLTilleggTrekk=15,GX136,0)))))))))))))))","v":0},{"$f":"IF(GRLTilleggTrekk=1,AM136,IF(GRLTilleggTrekk=2,AY136,IF(GRLTilleggTrekk=3,BK136,IF(GRLTilleggTrekk=4,BW136,IF(GRLTilleggTrekk=5,CI136,IF(GRLTilleggTrekk=6,CU136,IF(GRLTilleggTrekk=7,DG136,IF(GRLTilleggTrekk=8,DS136,IF(GRLTilleggTrekk=9,EE136,IF(GRLTilleggTrekk=10,EQ136,IF(GRLTilleggTrekk=11,FC136,IF(GRLTilleggTrekk=12,FO136,IF(GRLTilleggTrekk=13,GA136,IF(GRLTilleggTrekk=14,GM136,IF(GRLTilleggTrekk=15,GY136,0)))))))))))))))","v":0},0,0,null,0,0,1,3,null,20,null,null,null,null,4444,null,null,null,3011,3014,null,20,null,null,null,null,4444,null,null,null,3015,3019,null,20,null,null,null,null,4444,null,null,null,3021,3024,null,20,null,null,null,null,4444,null,null,null,3025,3029,null,20,null,null,null,null,4444]
[2,6,{"$f":"C136+1","v":2},"Frakt",null,"Frakt fra varemottaker til marked",26002,0,0,0,0,0,0,0,0,0,0,0,0,0,0,null,{"$f":"IF(B137=0,1,0)","v":0},{"$f":"IF(OR(C137=0,MID(C137,2,2)=\"00\"),1,0)","v":0},1,3,null,20,null,null,null,6100,6100,null,null,null,3011,3014,null,20,null,null,null,6100,6100,null,null,null,3015,3019,null,20,null,null,null,6100,6100,null,null,null,3021,3024,null,20,null,null,null,6100,6100,null,null,null,3025,3029,null,20,null,null,null,6100,6100,null,null,null,3095,3096]
[2,6,{"$f":"C137+1","v":3},"Frakt returvarer",null,null,26003,0,0,0,0,0,0,0,0,0,0,0,0,0,0,null,0,0,1,3]
[2,6,4,"Inntakskostnader",null,null,26004,0,0,0,0,0,0,0,0,0,0,0,0,0,0,null,0,0,1,3,null,20,null,null,null,null,4511,null,null,null,null,null,null,20,null,null,null,null,4511,null,null,null,null,null,null,20,null,null,null,null,4511,null,null,null,null,null,null,20,null,null,null,null,4511,null,null,null,null,null,null,20,null,null,null,null,4511]
[2,6,5,"Kjøp av planter",null,"Slå sammen? Konto passer ikke",26005,0,0,0,0,0,0,0,0,0,0,0,0,0,0,null,0,0,1,3,null,20,null,null,null,null,4110]
[2,6,6,"Kjøp av såfrø",null,"Slå sammen? Konto passer ikke",26006,0,0,0,0,0,0,0,0,0,0,0,0,0,0,null,0,0,1,3,null,20,null,null,null,null,4110,null,null,null,null,null,null,20,null,null,null,null,4001,null,null,null,null,null,null,20,null,null,null,null,4001,null,null,null,null,null,null,20,null,null,null,null,4001,null,null,null,null,null,null,20,null,null,null,null,4001]
[2,6,7,"Klipping/sortering",null,null,26007,0,0,0,0,0,0,0,0,0,0,0,0,0,0,null,0,0,1,3,null,null,null,null,null,null,null,null,null,null,null,null,null,20,null,null,null,null,null,null,null,null,3015,3019,null,null,null,null,null,null,null,null,null,null,null,null,null,null,null,null,null,null,null,null,null,null,null,null,null,20,null,null,null,null,null,null,null,null,3095,3096]
[2,6,8,"Lagerleie",null,null,26008,0,0,0,0,0,0,0,0,0,0,0,0,0,0,null,0,0,1,3,null,20,null,6300,null,null,4511,null,null,null,null,null,null,20,null,6300,null,null,4511,null,null,null,null,null,null,20,null,6300,null,null,4511,null,null,null,null,null,null,20,null,6300,null,null,4511,null,null,null,null,null,null,20,null,6300,null,null,4511]
[2,6,9,"Markedsføring",null,null,26009,0,0,0,0,0,0,0,0,0,0,0,0,0,0,null,0,0,1,3,null,20,null,null,null,null,4549,null,null,null,3011,3014,null,20,null,null,null,null,4549,null,null,null,3015,3019,null,20,null,null,null,null,4549,null,null,null,3021,3024,null,20,null,null,null,null,4549,null,null,null,3025,3029,null,20,null,null,null,null,4549,null,null,null,3095,3096]
[2,6,10,"Maskinleie",null,null,26010,0,0,0,0,0,0,0,0,0,0,0,0,0,0,null,0,0,1,3,null,20,null,null,null,null,4550,null,null,null,null,null,null,20,null,null,null,null,4550,null,null,null,null,null,null,20,null,null,null,null,4550,null,null,null,null,null,null,20,null,null,null,null,4550,null,null,null,null,null,null,20,null,null,null,null,4550]
[2,6,11,"Plantevernmidler",null,null,26011,0,0,0,0,0,0,0,0,0,0,0,0,0,0,null,0,0,1,3,null,20,null,null,null,null,4410,null,null,null,null,null,null,20,null,null,null,null,4410,null,null,null,null,null,null,20,null,null,null,null,4410,null,null,null,null,null,null,20,null,null,null,null,4410,null,null,null,null,null,null,20,null,null,null,null,4410]
[2,6,12,"Rekvisita og diverse",null,null,26012,0,0,0,0,0,0,0,0,0,0,0,0,{"$f":"$T$75","v":0},{"$f":"$U$75","v":0},null,0,0,1,3,null,20,null,null,null,null,4433,null,null,null,null,null,null,20,null,null,null,null,4433,null,null,null,null,null,null,20,null,null,null,null,4433,null,null,null,null,null,null,20,null,null,null,null,4433,null,null,null,null,null,null,20,null,null,null,null,4433]
[2,6,13,"Tjenester produkt, mengde/timer",null,null,26013,0,0,0,0,0,0,0,0,0,0,0,0,0,0,null,0,0,1,3,null,20,null,null,null,null,4511,null,null,null,3011,3014,null,20,null,null,null,null,4511,null,null,null,3015,3019,null,20,null,null,null,null,4511,null,null,null,3021,3024,null,20,null,null,null,null,4511,null,null,null,3025,3029,null,20,null,null,null,null,4511,null,null,null,3095,3096]
[2,6,14,"Tjenester administrative, mengde/timer",null,null,26014,0,0,0,0,0,0,0,0,0,0,0,0,0,0,null,0,0,1,3,null,20,null,4518,null,null,4511,null,null,null,null,null,null,20,null,4518,null,null,4511,null,null,null,3015,3019,null,20,null,4518,null,null,4511,null,null,null,null,null,null,20,null,4518,null,null,4511,null,null,null,null,null,null,20,null,4518,null,null,4511,null,null,null,3095,3096]
[2,6,15,"Trekk jordprøve",null,null,26015,0,0,0,0,0,0,0,0,0,0,0,0,0,0,null,0,0,1,3,null,20,null,null,null,null,4561,null,null,null,null,null,null,20,null,null,null,null,4561,null,null,null,null,null,null,20,null,null,null,null,4561,null,null,null,null,null,null,20,null,null,null,null,4561,null,null,null,null,null,null,20,null,null,null,null,4561]
[2,6,16,"Inntransport/Innfrakt",null,null,26016,0,0,0,0,0,0,0,0,0,0,0,0,0,0,null,0,0,1,3,null,20,null,null,null,6100,6100,null,null,null,3011,3014,null,20,null,null,null,6100,6100,null,null,null,3015,3019,null,20,null,null,null,6100,6100,null,null,null,null,null,null,20,null,null,null,6100,6100,null,null,null,null,null,null,20,null,null,null,6100,6100,null,null,null,3095,3096]
[2,6,17,"Utstyr og lagerhåndtering",null,null,26017,0,0,0,0,0,0,0,0,0,0,0,0,0,0,null,0,0,1,3,null,20,null,null,null,null,4550,null,null,null,null,null,null,20,null,null,null,null,4550,null,null,null,3015,3019,null,20,null,null,null,null,4550,null,null,null,null,null,null,20,null,null,null,null,4550,null,null,null,null,null,null,20,null,null,null,null,4550,null,null,null,3095,3096]
[2,6,18,"Reklamemateriell",null,"Sjokkselgere",26018,0,0,0,0,0,0,0,0,0,0,0,0,0,0,null,0,0,1,3,null,20,null,null,null,null,7320,null,null,null,null,null,null,20,null,null,null,null,7320,null,null,null,null,null,null,20,null,null,null,null,7320,null,null,null,null,null,null,20,null,null,null,null,7320,null,null,null,null,null,null,20,null,null,null,null,7320]
[2,6,19,"Sortering/pakking/vasking m.m",null,null,26019,0,0,0,0,0,0,0,0,0,0,0,0,0,0,null,0,0,1,3,null,20,null,null,null,null,4511,null,null,null,3011,3014,null,20,null,null,null,null,4511,null,null,null,3015,3019,null,20,null,null,null,null,4511,null,null,null,3021,3024,null,20,null,null,null,null,4511,null,null,null,3025,3029,null,20,null,null,null,null,4511,null,null,null,3095,3096]
[2,6,20,"Innfrysing og kjøling",null,null,26020,0,0,0,0,0,0,0,0,0,0,0,0,0,0,null,0,0,1,3,null,null,null,null,null,null,null,null,null,null,null,null,null,20,null,null,null,4512,4511,null,null,null,3015,3019,null,null,null,null,null,null,null,null,null,null,null,null,null,20,null,null,null,4512,4511,null,null,null,null,null,null,20,null,null,null,4512,4511,null,null,null,3095,3096]
[2,6,21,"Andelstrekk",null,null,26021,0,0,0,0,0,0,0,0,0,0,0,0,0,0,null,0,0,1,{"$f":"A156+1","v":3},null,10,1355,null,null,null,null,null,null,null,null,null,null,10,1355,null,null,null,null,null,null,null,null,null,null,10,1355,null,null,null,null,null,null,null,null,null,null,10,1355,null,null,null,null,null,null,null,null,null,null,10,1355]
[2,6,999,"Andre varer og tjenester",null,null,26999,0,0,0,0,0,0,0,0,0,0,0,0,0,0,null,0,0,1,3]
[3,0,0,{"$f":"Produkt!E120","v":"Husdyrprodukter"},null,null,30000,null,null,null,null,null,null,null,null,null,null,null,null,{"$f":"IF(GRLTilleggTrekk=1,AE158,IF(GRLTilleggTrekk=2,AQ158,IF(GRLTilleggTrekk=3,BC158,IF(GRLTilleggTrekk=4,BO158,IF(GRLTilleggTrekk=5,CA158,IF(GRLTilleggTrekk=6,CM158,IF(GRLTilleggTrekk=7,CY158,IF(GRLTilleggTrekk=8,DK158,IF(GRLTilleggTrekk=9,DW158,IF(GRLTilleggTrekk=10,EI158,IF(GRLTilleggTrekk=11,EU158,IF(GRLTilleggTrekk=12,FG158,IF(GRLTilleggTrekk=13,FS158,IF(GRLTilleggTrekk=14,GE158,IF(GRLTilleggTrekk=15,GQ158,0)))))))))))))))","v":0},{"$f":"IF(GRLTilleggTrekk=1,AF158,IF(GRLTilleggTrekk=2,AR158,IF(GRLTilleggTrekk=3,BD158,IF(GRLTilleggTrekk=4,BP158,IF(GRLTilleggTrekk=5,CB158,IF(GRLTilleggTrekk=6,CN158,IF(GRLTilleggTrekk=7,CZ158,IF(GRLTilleggTrekk=8,DL158,IF(GRLTilleggTrekk=9,DX158,IF(GRLTilleggTrekk=10,EJ158,IF(GRLTilleggTrekk=11,EV158,IF(GRLTilleggTrekk=12,FH158,IF(GRLTilleggTrekk=13,FT158,IF(GRLTilleggTrekk=14,GF158,IF(GRLTilleggTrekk=15,GR158,0)))))))))))))))","v":0},null,1,1,1,4,null,"Melk",null,"Kode fra/til",3000,3199,null,null,null,null,null,null,null,"Egg og bier",null,"Kode fra/til",3200,3399,null,null,null,null,null,null,null,"Ull og skinn",null,"Kode fra/til",3400,3499,null,null,null,null,null,null,null,"Andre husdyrprod.",null,"Kode fra/til",3900,3999,null,null,null,null,null,null,null,"Pelsdyr",null,"Kode fra/til",3500,3599,null,null,null,null,null,null,null,"Tekst",null,"Kode fra/til",null,null,null,null,null,null,null,null,null,"Tekst",null,"Kode fra/til",null,null,null,null,null,null,null,null,null,"Tekst",null,"Kode fra/til",null,null,null,null,null,null,null,null,null,"Tekst",null,"Kode fra/til",null,null,null,null,null,null,null,null,null,"Tekst",null,"Kode fra/til",null,null,null,null,null,null,null,null,null,"Tekst",null,"Kode fra/til",null,null,null,null,null,null,null,null,null,"Tekst",null,"Kode fra/til",null,null,null,null,null,null,null,null,null,"Tekst",null,"Kode fra/til",null,null,null,null,null,null,null,null,null,"Tekst",null,"Kode fra/til",null,null,null,null,null,null,null,null,null,"Tekst",null,"Kode fra/til"]
[3,1,0,"Tillegg",null,null,31000,null,null,null,null,null,null,null,null,null,null,null,null,null,null,null,0,1,1,{"$f":"A159+1","v":4}]
[3,1,1,"Leveransetillegg",null,null,31001,{"$f":"IF(GRLTilleggTrekk=1,AB160,IF(GRLTilleggTrekk=2,AN160,IF(GRLTilleggTrekk=3,AZ160,IF(GRLTilleggTrekk=4,BL160,IF(GRLTilleggTrekk=5,BX160,IF(GRLTilleggTrekk=6,CJ160,IF(GRLTilleggTrekk=7,CV160,IF(GRLTilleggTrekk=8,DH160,IF(GRLTilleggTrekk=9,DT160,IF(GRLTilleggTrekk=10,EF160,IF(GRLTilleggTrekk=11,ER160,IF(GRLTilleggTrekk=12,FD160,IF(GRLTilleggTrekk=13,FP160,IF(GRLTilleggTrekk=14,GB160,IF(GRLTilleggTrekk=15,GN160,0)))))))))))))))","v":0},{"$f":"IF(GRLTilleggTrekk=1,AC160,IF(GRLTilleggTrekk=2,AO160,IF(GRLTilleggTrekk=3,BA160,IF(GRLTilleggTrekk=4,BM160,IF(GRLTilleggTrekk=5,BY160,IF(GRLTilleggTrekk=6,CK160,IF(GRLTilleggTrekk=7,CW160,IF(GRLTilleggTrekk=8,DI160,IF(GRLTilleggTrekk=9,DU160,IF(GRLTilleggTrekk=10,EG160,IF(GRLTilleggTrekk=11,ES160,IF(GRLTilleggTrekk=12,FE160,IF(GRLTilleggTrekk=13,FQ160,IF(GRLTilleggTrekk=14,GC160,IF(GRLTilleggTrekk=15,GO160,0)))))))))))))))","v":0},{"$f":"IF(GRLTilleggTrekk=1,AD160,IF(GRLTilleggTrekk=2,AP160,IF(GRLTilleggTrekk=3,BB160,IF(GRLTilleggTrekk=4,BN160,IF(GRLTilleggTrekk=5,BZ160,IF(GRLTilleggTrekk=6,CL160,IF(GRLTilleggTrekk=7,CX160,IF(GRLTilleggTrekk=8,DJ160,IF(GRLTilleggTrekk=9,DV160,IF(GRLTilleggTrekk=10,EH160,IF(GRLTilleggTrekk=11,ET160,IF(GRLTilleggTrekk=12,FF160,IF(GRLTilleggTrekk=13,FR160,IF(GRLTilleggTrekk=14,GD160,IF(GRLTilleggTrekk=15,GP160,0)))))))))))))))","v":0},{"$f":"IF(GRLTilleggTrekk=1,AE160,IF(GRLTilleggTrekk=2,AQ160,IF(GRLTilleggTrekk=3,BC160,IF(GRLTilleggTrekk=4,BO160,IF(GRLTilleggTrekk=5,CA160,IF(GRLTilleggTrekk=6,CM160,IF(GRLTilleggTrekk=7,CY160,IF(GRLTilleggTrekk=8,DK160,IF(GRLTilleggTrekk=9,DW160,IF(GRLTilleggTrekk=10,EI160,IF(GRLTilleggTrekk=11,EU160,IF(GRLTilleggTrekk=12,FG160,IF(GRLTilleggTrekk=13,FS160,IF(GRLTilleggTrekk=14,GE160,IF(GRLTilleggTrekk=15,GQ160,0)))))))))))))))","v":0},{"$f":"IF(GRLTilleggTrekk=1,AF160,IF(GRLTilleggTrekk=2,AR160,IF(GRLTilleggTrekk=3,BD160,IF(GRLTilleggTrekk=4,BP160,IF(GRLTilleggTrekk=5,CB160,IF(GRLTilleggTrekk=6,CN160,IF(GRLTilleggTrekk=7,CZ160,IF(GRLTilleggTrekk=8,DL160,IF(GRLTilleggTrekk=9,DX160,IF(GRLTilleggTrekk=10,EJ160,IF(GRLTilleggTrekk=11,EV160,IF(GRLTilleggTrekk=12,FH160,IF(GRLTilleggTrekk=13,FT160,IF(GRLTilleggTrekk=14,GF160,IF(GRLTilleggTrekk=15,GR160,0)))))))))))))))","v":0},{"$f":"IF(GRLTilleggTrekk=1,AG160,IF(GRLTilleggTrekk=2,AS160,IF(GRLTilleggTrekk=3,BE160,IF(GRLTilleggTrekk=4,BQ160,IF(GRLTilleggTrekk=5,CC160,IF(GRLTilleggTrekk=6,CO160,IF(GRLTilleggTrekk=7,DA160,IF(GRLTilleggTrekk=8,DM160,IF(GRLTilleggTrekk=9,DY160,IF(GRLTilleggTrekk=10,EK160,IF(GRLTilleggTrekk=11,EW160,IF(GRLTilleggTrekk=12,FI160,IF(GRLTilleggTrekk=13,FU160,IF(GRLTilleggTrekk=14,GG160,IF(GRLTilleggTrekk=15,GS160,0)))))))))))))))","v":0},{"$f":"IF(GRLTilleggTrekk=1,AH160,IF(GRLTilleggTrekk=2,AT160,IF(GRLTilleggTrekk=3,BF160,IF(GRLTilleggTrekk=4,BR160,IF(GRLTilleggTrekk=5,CD160,IF(GRLTilleggTrekk=6,CP160,IF(GRLTilleggTrekk=7,DB160,IF(GRLTilleggTrekk=8,DN160,IF(GRLTilleggTrekk=9,DZ160,IF(GRLTilleggTrekk=10,EL160,IF(GRLTilleggTrekk=11,EX160,IF(GRLTilleggTrekk=12,FJ160,IF(GRLTilleggTrekk=13,FV160,IF(GRLTilleggTrekk=14,GH160,IF(GRLTilleggTrekk=15,GT160,0)))))))))))))))","v":0},{"$f":"IF(GRLTilleggTrekk=1,AI160,IF(GRLTilleggTrekk=2,AU160,IF(GRLTilleggTrekk=3,BG160,IF(GRLTilleggTrekk=4,BS160,IF(GRLTilleggTrekk=5,CE160,IF(GRLTilleggTrekk=6,CQ160,IF(GRLTilleggTrekk=7,DC160,IF(GRLTilleggTrekk=8,DO160,IF(GRLTilleggTrekk=9,EA160,IF(GRLTilleggTrekk=10,EM160,IF(GRLTilleggTrekk=11,EY160,IF(GRLTilleggTrekk=12,FK160,IF(GRLTilleggTrekk=13,FW160,IF(GRLTilleggTrekk=14,GI160,IF(GRLTilleggTrekk=15,GU160,0)))))))))))))))","v":0},{"$f":"IF(GRLTilleggTrekk=1,AJ160,IF(GRLTilleggTrekk=2,AV160,IF(GRLTilleggTrekk=3,BH160,IF(GRLTilleggTrekk=4,BT160,IF(GRLTilleggTrekk=5,CF160,IF(GRLTilleggTrekk=6,CR160,IF(GRLTilleggTrekk=7,DD160,IF(GRLTilleggTrekk=8,DP160,IF(GRLTilleggTrekk=9,EB160,IF(GRLTilleggTrekk=10,EN160,IF(GRLTilleggTrekk=11,EZ160,IF(GRLTilleggTrekk=12,FL160,IF(GRLTilleggTrekk=13,FX160,IF(GRLTilleggTrekk=14,GJ160,IF(GRLTilleggTrekk=15,GV160,0)))))))))))))))","v":0},{"$f":"IF(GRLTilleggTrekk=1,AK160,IF(GRLTilleggTrekk=2,AW160,IF(GRLTilleggTrekk=3,BI160,IF(GRLTilleggTrekk=4,BU160,IF(GRLTilleggTrekk=5,CG160,IF(GRLTilleggTrekk=6,CS160,IF(GRLTilleggTrekk=7,DE160,IF(GRLTilleggTrekk=8,DQ160,IF(GRLTilleggTrekk=9,EC160,IF(GRLTilleggTrekk=10,EO160,IF(GRLTilleggTrekk=11,FA160,IF(GRLTilleggTrekk=12,FM160,IF(GRLTilleggTrekk=13,FY160,IF(GRLTilleggTrekk=14,GK160,IF(GRLTilleggTrekk=15,GW160,0)))))))))))))))","v":0},{"$f":"IF(GRLTilleggTrekk=1,AL160,IF(GRLTilleggTrekk=2,AX160,IF(GRLTilleggTrekk=3,BJ160,IF(GRLTilleggTrekk=4,BV160,IF(GRLTilleggTrekk=5,CH160,IF(GRLTilleggTrekk=6,CT160,IF(GRLTilleggTrekk=7,DF160,IF(GRLTilleggTrekk=8,DR160,IF(GRLTilleggTrekk=9,ED160,IF(GRLTilleggTrekk=10,EP160,IF(GRLTilleggTrekk=11,FB160,IF(GRLTilleggTrekk=12,FN160,IF(GRLTilleggTrekk=13,FZ160,IF(GRLTilleggTrekk=14,GL160,IF(GRLTilleggTrekk=15,GX160,0)))))))))))))))","v":0},{"$f":"IF(GRLTilleggTrekk=1,AM160,IF(GRLTilleggTrekk=2,AY160,IF(GRLTilleggTrekk=3,BK160,IF(GRLTilleggTrekk=4,BW160,IF(GRLTilleggTrekk=5,CI160,IF(GRLTilleggTrekk=6,CU160,IF(GRLTilleggTrekk=7,DG160,IF(GRLTilleggTrekk=8,DS160,IF(GRLTilleggTrekk=9,EE160,IF(GRLTilleggTrekk=10,EQ160,IF(GRLTilleggTrekk=11,FC160,IF(GRLTilleggTrekk=12,FO160,IF(GRLTilleggTrekk=13,GA160,IF(GRLTilleggTrekk=14,GM160,IF(GRLTilleggTrekk=15,GY160,0)))))))))))))))","v":0},{"$f":"$T$158","v":0},{"$f":"$U$158","v":0},null,0,0,1,4,null,20,null,null,null,null,null,null,null,null,null,3071,null,20,null,null,null,null,null,null,null,null,null,null,null,20,null,null,null,null,null,null,null,null,null,3079]
[3,1,{"$f":"C160+1","v":2},"Priskorrigering",null,"Evrytype E",31002,0,0,0,0,0,0,0,0,0,0,0,0,{"$f":"$T$158","v":0},{"$f":"$U$158","v":0},null,0,0,1,4,null,20,null,null,null,null,null,null,null,null,null,3071,null,20,null,null,null,null,null,null,null,null,3075,3076,null,20,null,null,null,null,null,null,null,null,null,3079]
[3,1,{"$f":"C161+1","v":3},"Prissone tillegg",null,null,31003,0,0,0,0,0,0,0,0,0,0,0,0,0,0,null,0,0,1,4,null,20,null,null,null,null,null,null,null,null,null,3071,null,20]
[3,1,4,"Kvantumbaserte tillegg",null,"Evry type C",31004,0,0,0,0,0,0,0,0,0,0,0,0,0,0,null,0,0,1,4,null,20,null,null,null,null,null,null,null,null,null,null,null,20,null,null,null,null,null,null,null,null,3075]
[3,1,5,"Avtale- og pristillegg",null,"God ullbehandling",31005,0,0,0,0,0,0,0,0,0,0,0,0,0,0,null,0,0,1,4,null,20,null,null,null,null,null,null,null,null,null,null,null,20,null,null,null,null,null,null,null,null,3075,3076,null,20,null,null,null,null,null,null,null,null,null,3079]
[3,1,6,"HK-medlemsskap (Ku og geit)",null,null,31006,0,0,0,0,0,0,0,0,0,0,0,0,0,0,null,0,0,1,4,null,20,null,null,null,null,null,null,null,null,null,3071,null,20]
[3,1,7,"Driftstillegg",null,null,31007,0,0,0,0,0,0,0,0,0,0,0,0,0,0,null,0,0,1,4,null,20,null,null,null,null,null,null,null,null,null,null,null,20]
[3,1,8,"KSL tillegg",null,null,31008,0,0,0,0,0,0,0,0,0,0,0,0,0,0,null,0,0,1,4,null,20,null,null,null,null,null,null,null,null,null,3071,null,20]
[3,1,9,"Pristillegg ny bruker",null,"Evry type D",31009,0,0,0,0,0,0,0,0,0,0,0,0,0,0,null,0,0,1,{"$f":"A168+1","v":4},null,20,null,null,null,null,null,null,null,null,null,3071,null,20,null,null,null,null,null,null,null,null,3075,3076]
[3,1,10,"Sesongtillegg",null,null,31010,0,0,0,0,0,0,0,0,0,0,0,0,0,0,null,0,0,1,4,null,20,null,null,null,null,null,null,null,null,null,3071,null,20,null,null,null,null,null,null,null,null,null,null,null,20,null,null,null,null,null,null,null,null,null,3079]
[3,1,11,"Utbetaling fellesbeite",null,null,31011,0,0,0,0,0,0,0,0,0,0,0,0,0,0,null,0,0,1,4,null,10,1579,null,null,null,null,null,null,null,null,null,null,20]
[3,1,12,"Pristillegg økologisk",null,null,31012,0,0,0,0,0,0,0,0,0,0,0,0,0,0,null,0,0,1,4,null,20,null,null,null,null,null,null,null,null,null,3071,null,20]
[3,1,13,"Regionalt tillegg",null,null,31013,0,0,0,0,0,0,0,0,0,0,0,0,0,0,null,0,0,1,4,null,20,null,null,null,null,null,null,null,null,null,3071,null,20]
[3,1,14,"Korreksjon",null,null,31014,0,0,0,0,0,0,0,0,0,0,0,0,0,0,null,0,0,1,4,null,20,null,null,null,null,null,null,null,null,null,3071,null,20]
[3,1,15,"Miljøinnredning",null,null,31015,0,0,0,0,0,0,0,0,0,0,0,0,0,0,null,0,0,1,{"$f":"A174+1","v":4},null,20,null,null,null,null,null,null,null,null,null,null,null,20,null,null,null,null,null,null,null,null,3075]
[3,1,16,"Frittgående",null,null,31016,0,0,0,0,0,0,0,0,0,0,0,0,0,0,null,0,0,1,4,null,20,null,null,null,null,null,null,null,null,null,null,null,20,null,null,null,null,null,null,null,null,3075]
[3,1,17,"Kompensasjon",null,"Evry type P",31017,0,0,0,0,0,0,0,0,0,0,0,0,0,0,null,0,0,1,4,null,20,null,null,null,null,null,null,null,null,null,3071,null,20,null,null,null,null,null,null,null,null,3075,3076,null,20,3903,null,null,null,null,null,null,null,null,3079]
[3,1,18,"Utrangeringstillegg/Kadaverhåndtering",null,null,31018,0,0,0,0,0,0,0,0,0,0,0,0,0,0,null,0,0,1,4,null,20,null,null,null,null,null,null,null,null,null,null,null,20,null,null,null,null,null,null,null,null,null,3076]
[3,1,19,"Klekketillegg",null,null,31019,0,0,0,0,0,0,0,0,0,0,0,0,0,0,null,0,0,1,4,null,20,null,null,null,null,null,null,null,null,null,null,null,20,null,null,null,null,null,null,null,null,null,3076]
[3,1,20,"Tillegg for rase",null,null,31020,0,0,0,0,0,0,0,0,0,0,0,0,0,0,null,0,0,1,4,null,20,null,null,null,null,null,null,null,null,null,null,null,20,null,null,null,null,null,null,null,null,null,null,null,20,null,null,null,null,null,null,null,null,null,3079]
[3,1,21,"Tillegg for beredde ullskinn",null,null,31021,0,0,0,0,0,0,0,0,0,0,0,0,0,0,null,0,0,1,4,null,20,null,null,null,null,null,null,null,null,null,null,null,20,null,null,null,null,null,null,null,null,null,null,null,20,null,null,null,null,null,null,null,null,null,3079]
[3,1,22,"Inntransport/egentransport",null,null,31022,0,0,0,0,0,0,0,0,0,0,0,0,0,0,null,0,0,1,4,null,20,null,null,null,null,null,null,null,null,null,3071,null,20,null,null,null,null,null,null,null,null,null,null,null,20,null,null,null,null,null,null,null,null,null,3079]
[3,1,23,"Tillegg for helse og velverd",null,"Evrykode i (liten bokstav)",31023,0,0,0,0,0,0,0,0,0,0,0,0,0,0,null,{"$f":"IF(B182=0,1,0)","v":0},{"$f":"IF(OR(C182=0,MID(C182,2,2)=\"00\"),1,0)","v":0},1,{"$f":"A182+1","v":4},null,20,null,null,null,null,null,null,null,null,null,3071,null,20,null,null,null,null,null,null,null,null,3075,3076]
[3,1,24,"Bærekraftstillegg",null,"Evrykode i (liten bokstav)",{"$f":"VALUE(A183&B183&IF(LEN(C183)=1,\"00\"&C183,IF(LEN(C183)=2,\"0\"&C183,C183)))","v":31024},{"$f":"IF(GRLTilleggTrekk=1,AB183,IF(GRLTilleggTrekk=2,AN183,IF(GRLTilleggTrekk=3,AZ183,IF(GRLTilleggTrekk=4,BL183,IF(GRLTilleggTrekk=5,BX183,IF(GRLTilleggTrekk=6,CJ183,IF(GRLTilleggTrekk=7,CV183,IF(GRLTilleggTrekk=8,DH183,IF(GRLTilleggTrekk=9,DT183,IF(GRLTilleggTrekk=10,EF183,IF(GRLTilleggTrekk=11,ER183,IF(GRLTilleggTrekk=12,FD183,IF(GRLTilleggTrekk=13,FP183,IF(GRLTilleggTrekk=14,GB183,IF(GRLTilleggTrekk=15,GN183,0)))))))))))))))","v":0},{"$f":"IF(GRLTilleggTrekk=1,AC183,IF(GRLTilleggTrekk=2,AO183,IF(GRLTilleggTrekk=3,BA183,IF(GRLTilleggTrekk=4,BM183,IF(GRLTilleggTrekk=5,BY183,IF(GRLTilleggTrekk=6,CK183,IF(GRLTilleggTrekk=7,CW183,IF(GRLTilleggTrekk=8,DI183,IF(GRLTilleggTrekk=9,DU183,IF(GRLTilleggTrekk=10,EG183,IF(GRLTilleggTrekk=11,ES183,IF(GRLTilleggTrekk=12,FE183,IF(GRLTilleggTrekk=13,FQ183,IF(GRLTilleggTrekk=14,GC183,IF(GRLTilleggTrekk=15,GO183,0)))))))))))))))","v":0},{"$f":"IF(GRLTilleggTrekk=1,AD183,IF(GRLTilleggTrekk=2,AP183,IF(GRLTilleggTrekk=3,BB183,IF(GRLTilleggTrekk=4,BN183,IF(GRLTilleggTrekk=5,BZ183,IF(GRLTilleggTrekk=6,CL183,IF(GRLTilleggTrekk=7,CX183,IF(GRLTilleggTrekk=8,DJ183,IF(GRLTilleggTrekk=9,DV183,IF(GRLTilleggTrekk=10,EH183,IF(GRLTilleggTrekk=11,ET183,IF(GRLTilleggTrekk=12,FF183,IF(GRLTilleggTrekk=13,FR183,IF(GRLTilleggTrekk=14,GD183,IF(GRLTilleggTrekk=15,GP183,0)))))))))))))))","v":0},{"$f":"IF(GRLTilleggTrekk=1,AE183,IF(GRLTilleggTrekk=2,AQ183,IF(GRLTilleggTrekk=3,BC183,IF(GRLTilleggTrekk=4,BO183,IF(GRLTilleggTrekk=5,CA183,IF(GRLTilleggTrekk=6,CM183,IF(GRLTilleggTrekk=7,CY183,IF(GRLTilleggTrekk=8,DK183,IF(GRLTilleggTrekk=9,DW183,IF(GRLTilleggTrekk=10,EI183,IF(GRLTilleggTrekk=11,EU183,IF(GRLTilleggTrekk=12,FG183,IF(GRLTilleggTrekk=13,FS183,IF(GRLTilleggTrekk=14,GE183,IF(GRLTilleggTrekk=15,GQ183,0)))))))))))))))","v":0},{"$f":"IF(GRLTilleggTrekk=1,AF183,IF(GRLTilleggTrekk=2,AR183,IF(GRLTilleggTrekk=3,BD183,IF(GRLTilleggTrekk=4,BP183,IF(GRLTilleggTrekk=5,CB183,IF(GRLTilleggTrekk=6,CN183,IF(GRLTilleggTrekk=7,CZ183,IF(GRLTilleggTrekk=8,DL183,IF(GRLTilleggTrekk=9,DX183,IF(GRLTilleggTrekk=10,EJ183,IF(GRLTilleggTrekk=11,EV183,IF(GRLTilleggTrekk=12,FH183,IF(GRLTilleggTrekk=13,FT183,IF(GRLTilleggTrekk=14,GF183,IF(GRLTilleggTrekk=15,GR183,0)))))))))))))))","v":0},{"$f":"IF(GRLTilleggTrekk=1,AG183,IF(GRLTilleggTrekk=2,AS183,IF(GRLTilleggTrekk=3,BE183,IF(GRLTilleggTrekk=4,BQ183,IF(GRLTilleggTrekk=5,CC183,IF(GRLTilleggTrekk=6,CO183,IF(GRLTilleggTrekk=7,DA183,IF(GRLTilleggTrekk=8,DM183,IF(GRLTilleggTrekk=9,DY183,IF(GRLTilleggTrekk=10,EK183,IF(GRLTilleggTrekk=11,EW183,IF(GRLTilleggTrekk=12,FI183,IF(GRLTilleggTrekk=13,FU183,IF(GRLTilleggTrekk=14,GG183,IF(GRLTilleggTrekk=15,GS183,0)))))))))))))))","v":0},{"$f":"IF(GRLTilleggTrekk=1,AH183,IF(GRLTilleggTrekk=2,AT183,IF(GRLTilleggTrekk=3,BF183,IF(GRLTilleggTrekk=4,BR183,IF(GRLTilleggTrekk=5,CD183,IF(GRLTilleggTrekk=6,CP183,IF(GRLTilleggTrekk=7,DB183,IF(GRLTilleggTrekk=8,DN183,IF(GRLTilleggTrekk=9,DZ183,IF(GRLTilleggTrekk=10,EL183,IF(GRLTilleggTrekk=11,EX183,IF(GRLTilleggTrekk=12,FJ183,IF(GRLTilleggTrekk=13,FV183,IF(GRLTilleggTrekk=14,GH183,IF(GRLTilleggTrekk=15,GT183,0)))))))))))))))","v":0},{"$f":"IF(GRLTilleggTrekk=1,AI183,IF(GRLTilleggTrekk=2,AU183,IF(GRLTilleggTrekk=3,BG183,IF(GRLTilleggTrekk=4,BS183,IF(GRLTilleggTrekk=5,CE183,IF(GRLTilleggTrekk=6,CQ183,IF(GRLTilleggTrekk=7,DC183,IF(GRLTilleggTrekk=8,DO183,IF(GRLTilleggTrekk=9,EA183,IF(GRLTilleggTrekk=10,EM183,IF(GRLTilleggTrekk=11,EY183,IF(GRLTilleggTrekk=12,FK183,IF(GRLTilleggTrekk=13,FW183,IF(GRLTilleggTrekk=14,GI183,IF(GRLTilleggTrekk=15,GU183,0)))))))))))))))","v":0},{"$f":"IF(GRLTilleggTrekk=1,AJ183,IF(GRLTilleggTrekk=2,AV183,IF(GRLTilleggTrekk=3,BH183,IF(GRLTilleggTrekk=4,BT183,IF(GRLTilleggTrekk=5,CF183,IF(GRLTilleggTrekk=6,CR183,IF(GRLTilleggTrekk=7,DD183,IF(GRLTilleggTrekk=8,DP183,IF(GRLTilleggTrekk=9,EB183,IF(GRLTilleggTrekk=10,EN183,IF(GRLTilleggTrekk=11,EZ183,IF(GRLTilleggTrekk=12,FL183,IF(GRLTilleggTrekk=13,FX183,IF(GRLTilleggTrekk=14,GJ183,IF(GRLTilleggTrekk=15,GV183,0)))))))))))))))","v":0},{"$f":"IF(GRLTilleggTrekk=1,AK183,IF(GRLTilleggTrekk=2,AW183,IF(GRLTilleggTrekk=3,BI183,IF(GRLTilleggTrekk=4,BU183,IF(GRLTilleggTrekk=5,CG183,IF(GRLTilleggTrekk=6,CS183,IF(GRLTilleggTrekk=7,DE183,IF(GRLTilleggTrekk=8,DQ183,IF(GRLTilleggTrekk=9,EC183,IF(GRLTilleggTrekk=10,EO183,IF(GRLTilleggTrekk=11,FA183,IF(GRLTilleggTrekk=12,FM183,IF(GRLTilleggTrekk=13,FY183,IF(GRLTilleggTrekk=14,GK183,IF(GRLTilleggTrekk=15,GW183,0)))))))))))))))","v":0},{"$f":"IF(GRLTilleggTrekk=1,AL183,IF(GRLTilleggTrekk=2,AX183,IF(GRLTilleggTrekk=3,BJ183,IF(GRLTilleggTrekk=4,BV183,IF(GRLTilleggTrekk=5,CH183,IF(GRLTilleggTrekk=6,CT183,IF(GRLTilleggTrekk=7,DF183,IF(GRLTilleggTrekk=8,DR183,IF(GRLTilleggTrekk=9,ED183,IF(GRLTilleggTrekk=10,EP183,IF(GRLTilleggTrekk=11,FB183,IF(GRLTilleggTrekk=12,FN183,IF(GRLTilleggTrekk=13,FZ183,IF(GRLTilleggTrekk=14,GL183,IF(GRLTilleggTrekk=15,GX183,0)))))))))))))))","v":0},{"$f":"IF(GRLTilleggTrekk=1,AM183,IF(GRLTilleggTrekk=2,AY183,IF(GRLTilleggTrekk=3,BK183,IF(GRLTilleggTrekk=4,BW183,IF(GRLTilleggTrekk=5,CI183,IF(GRLTilleggTrekk=6,CU183,IF(GRLTilleggTrekk=7,DG183,IF(GRLTilleggTrekk=8,DS183,IF(GRLTilleggTrekk=9,EE183,IF(GRLTilleggTrekk=10,EQ183,IF(GRLTilleggTrekk=11,FC183,IF(GRLTilleggTrekk=12,FO183,IF(GRLTilleggTrekk=13,GA183,IF(GRLTilleggTrekk=14,GM183,IF(GRLTilleggTrekk=15,GY183,0)))))))))))))))","v":0},0,0,null,{"$f":"IF(B183=0,1,0)","v":0},{"$f":"IF(OR(C183=0,MID(C183,2,2)=\"00\"),1,0)","v":0},1,{"$f":"A183+1","v":4},null,20,null,null,null,null,null,null,null,null,null,3071]
[3,1,999,"Andre tillegg",null,null,31999,0,0,0,0,0,0,0,0,0,0,0,0,0,0,null,0,0,1,4,null,20,null,null,null,null,null,null,null,null,null,3071,null,20]
[3,2,0,"Trekk",null,null,32000,null,null,null,null,null,null,null,null,null,null,null,null,null,null,null,0,1,1,4]
[3,2,1,"Prissone trekk",null,null,32001,{"$f":"IF(GRLTilleggTrekk=1,AB186,IF(GRLTilleggTrekk=2,AN186,IF(GRLTilleggTrekk=3,AZ186,IF(GRLTilleggTrekk=4,BL186,IF(GRLTilleggTrekk=5,BX186,IF(GRLTilleggTrekk=6,CJ186,IF(GRLTilleggTrekk=7,CV186,IF(GRLTilleggTrekk=8,DH186,IF(GRLTilleggTrekk=9,DT186,IF(GRLTilleggTrekk=10,EF186,IF(GRLTilleggTrekk=11,ER186,IF(GRLTilleggTrekk=12,FD186,IF(GRLTilleggTrekk=13,FP186,IF(GRLTilleggTrekk=14,GB186,IF(GRLTilleggTrekk=15,GN186,0)))))))))))))))","v":0},{"$f":"IF(GRLTilleggTrekk=1,AC186,IF(GRLTilleggTrekk=2,AO186,IF(GRLTilleggTrekk=3,BA186,IF(GRLTilleggTrekk=4,BM186,IF(GRLTilleggTrekk=5,BY186,IF(GRLTilleggTrekk=6,CK186,IF(GRLTilleggTrekk=7,CW186,IF(GRLTilleggTrekk=8,DI186,IF(GRLTilleggTrekk=9,DU186,IF(GRLTilleggTrekk=10,EG186,IF(GRLTilleggTrekk=11,ES186,IF(GRLTilleggTrekk=12,FE186,IF(GRLTilleggTrekk=13,FQ186,IF(GRLTilleggTrekk=14,GC186,IF(GRLTilleggTrekk=15,GO186,0)))))))))))))))","v":0},{"$f":"IF(GRLTilleggTrekk=1,AD186,IF(GRLTilleggTrekk=2,AP186,IF(GRLTilleggTrekk=3,BB186,IF(GRLTilleggTrekk=4,BN186,IF(GRLTilleggTrekk=5,BZ186,IF(GRLTilleggTrekk=6,CL186,IF(GRLTilleggTrekk=7,CX186,IF(GRLTilleggTrekk=8,DJ186,IF(GRLTilleggTrekk=9,DV186,IF(GRLTilleggTrekk=10,EH186,IF(GRLTilleggTrekk=11,ET186,IF(GRLTilleggTrekk=12,FF186,IF(GRLTilleggTrekk=13,FR186,IF(GRLTilleggTrekk=14,GD186,IF(GRLTilleggTrekk=15,GP186,0)))))))))))))))","v":0},{"$f":"IF(GRLTilleggTrekk=1,AE186,IF(GRLTilleggTrekk=2,AQ186,IF(GRLTilleggTrekk=3,BC186,IF(GRLTilleggTrekk=4,BO186,IF(GRLTilleggTrekk=5,CA186,IF(GRLTilleggTrekk=6,CM186,IF(GRLTilleggTrekk=7,CY186,IF(GRLTilleggTrekk=8,DK186,IF(GRLTilleggTrekk=9,DW186,IF(GRLTilleggTrekk=10,EI186,IF(GRLTilleggTrekk=11,EU186,IF(GRLTilleggTrekk=12,FG186,IF(GRLTilleggTrekk=13,FS186,IF(GRLTilleggTrekk=14,GE186,IF(GRLTilleggTrekk=15,GQ186,0)))))))))))))))","v":0},{"$f":"IF(GRLTilleggTrekk=1,AF186,IF(GRLTilleggTrekk=2,AR186,IF(GRLTilleggTrekk=3,BD186,IF(GRLTilleggTrekk=4,BP186,IF(GRLTilleggTrekk=5,CB186,IF(GRLTilleggTrekk=6,CN186,IF(GRLTilleggTrekk=7,CZ186,IF(GRLTilleggTrekk=8,DL186,IF(GRLTilleggTrekk=9,DX186,IF(GRLTilleggTrekk=10,EJ186,IF(GRLTilleggTrekk=11,EV186,IF(GRLTilleggTrekk=12,FH186,IF(GRLTilleggTrekk=13,FT186,IF(GRLTilleggTrekk=14,GF186,IF(GRLTilleggTrekk=15,GR186,0)))))))))))))))","v":0},{"$f":"IF(GRLTilleggTrekk=1,AG186,IF(GRLTilleggTrekk=2,AS186,IF(GRLTilleggTrekk=3,BE186,IF(GRLTilleggTrekk=4,BQ186,IF(GRLTilleggTrekk=5,CC186,IF(GRLTilleggTrekk=6,CO186,IF(GRLTilleggTrekk=7,DA186,IF(GRLTilleggTrekk=8,DM186,IF(GRLTilleggTrekk=9,DY186,IF(GRLTilleggTrekk=10,EK186,IF(GRLTilleggTrekk=11,EW186,IF(GRLTilleggTrekk=12,FI186,IF(GRLTilleggTrekk=13,FU186,IF(GRLTilleggTrekk=14,GG186,IF(GRLTilleggTrekk=15,GS186,0)))))))))))))))","v":0},{"$f":"IF(GRLTilleggTrekk=1,AH186,IF(GRLTilleggTrekk=2,AT186,IF(GRLTilleggTrekk=3,BF186,IF(GRLTilleggTrekk=4,BR186,IF(GRLTilleggTrekk=5,CD186,IF(GRLTilleggTrekk=6,CP186,IF(GRLTilleggTrekk=7,DB186,IF(GRLTilleggTrekk=8,DN186,IF(GRLTilleggTrekk=9,DZ186,IF(GRLTilleggTrekk=10,EL186,IF(GRLTilleggTrekk=11,EX186,IF(GRLTilleggTrekk=12,FJ186,IF(GRLTilleggTrekk=13,FV186,IF(GRLTilleggTrekk=14,GH186,IF(GRLTilleggTrekk=15,GT186,0)))))))))))))))","v":0},{"$f":"IF(GRLTilleggTrekk=1,AI186,IF(GRLTilleggTrekk=2,AU186,IF(GRLTilleggTrekk=3,BG186,IF(GRLTilleggTrekk=4,BS186,IF(GRLTilleggTrekk=5,CE186,IF(GRLTilleggTrekk=6,CQ186,IF(GRLTilleggTrekk=7,DC186,IF(GRLTilleggTrekk=8,DO186,IF(GRLTilleggTrekk=9,EA186,IF(GRLTilleggTrekk=10,EM186,IF(GRLTilleggTrekk=11,EY186,IF(GRLTilleggTrekk=12,FK186,IF(GRLTilleggTrekk=13,FW186,IF(GRLTilleggTrekk=14,GI186,IF(GRLTilleggTrekk=15,GU186,0)))))))))))))))","v":0},{"$f":"IF(GRLTilleggTrekk=1,AJ186,IF(GRLTilleggTrekk=2,AV186,IF(GRLTilleggTrekk=3,BH186,IF(GRLTilleggTrekk=4,BT186,IF(GRLTilleggTrekk=5,CF186,IF(GRLTilleggTrekk=6,CR186,IF(GRLTilleggTrekk=7,DD186,IF(GRLTilleggTrekk=8,DP186,IF(GRLTilleggTrekk=9,EB186,IF(GRLTilleggTrekk=10,EN186,IF(GRLTilleggTrekk=11,EZ186,IF(GRLTilleggTrekk=12,FL186,IF(GRLTilleggTrekk=13,FX186,IF(GRLTilleggTrekk=14,GJ186,IF(GRLTilleggTrekk=15,GV186,0)))))))))))))))","v":0},{"$f":"IF(GRLTilleggTrekk=1,AK186,IF(GRLTilleggTrekk=2,AW186,IF(GRLTilleggTrekk=3,BI186,IF(GRLTilleggTrekk=4,BU186,IF(GRLTilleggTrekk=5,CG186,IF(GRLTilleggTrekk=6,CS186,IF(GRLTilleggTrekk=7,DE186,IF(GRLTilleggTrekk=8,DQ186,IF(GRLTilleggTrekk=9,EC186,IF(GRLTilleggTrekk=10,EO186,IF(GRLTilleggTrekk=11,FA186,IF(GRLTilleggTrekk=12,FM186,IF(GRLTilleggTrekk=13,FY186,IF(GRLTilleggTrekk=14,GK186,IF(GRLTilleggTrekk=15,GW186,0)))))))))))))))","v":0},{"$f":"IF(GRLTilleggTrekk=1,AL186,IF(GRLTilleggTrekk=2,AX186,IF(GRLTilleggTrekk=3,BJ186,IF(GRLTilleggTrekk=4,BV186,IF(GRLTilleggTrekk=5,CH186,IF(GRLTilleggTrekk=6,CT186,IF(GRLTilleggTrekk=7,DF186,IF(GRLTilleggTrekk=8,DR186,IF(GRLTilleggTrekk=9,ED186,IF(GRLTilleggTrekk=10,EP186,IF(GRLTilleggTrekk=11,FB186,IF(GRLTilleggTrekk=12,FN186,IF(GRLTilleggTrekk=13,FZ186,IF(GRLTilleggTrekk=14,GL186,IF(GRLTilleggTrekk=15,GX186,0)))))))))))))))","v":0},{"$f":"IF(GRLTilleggTrekk=1,AM186,IF(GRLTilleggTrekk=2,AY186,IF(GRLTilleggTrekk=3,BK186,IF(GRLTilleggTrekk=4,BW186,IF(GRLTilleggTrekk=5,CI186,IF(GRLTilleggTrekk=6,CU186,IF(GRLTilleggTrekk=7,DG186,IF(GRLTilleggTrekk=8,DS186,IF(GRLTilleggTrekk=9,EE186,IF(GRLTilleggTrekk=10,EQ186,IF(GRLTilleggTrekk=11,FC186,IF(GRLTilleggTrekk=12,FO186,IF(GRLTilleggTrekk=13,GA186,IF(GRLTilleggTrekk=14,GM186,IF(GRLTilleggTrekk=15,GY186,0)))))))))))))))","v":0},0,0,null,0,0,1,4,null,20,null,null,null,null,null,null,null,null,null,3071,null,20]
[3,2,{"$f":"C186+1","v":2},"Levering over kvote",null,null,32002,0,0,0,0,0,0,0,0,0,0,0,0,0,0,null,0,0,1,4,null,20,null,null,null,null,null,null,null,null,null,3071,null,20]
[3,2,{"$f":"C187+1","v":3},"Privat uttak (kjøp)",null,"Tas ut?",32003,0,0,0,0,0,0,0,0,0,0,0,0,0,0,null,0,0,1,4,null,10,null,null,null,null,null,null,null,null,null,null,null,20]
[3,2,4,"KSL trekk",null,"Evrytype G",32004,0,0,0,0,0,0,0,0,0,0,0,0,0,0,null,0,0,1,4,null,20,null,null,null,null,null,null,null,null,null,3071,null,20,null,null,null,null,null,null,null,null,3075,3076]
[3,2,5,"Medisinrester",null,null,32005,0,0,0,0,0,0,0,0,0,0,0,0,0,0,null,0,0,1,{"$f":"A190+1","v":4},null,20,null,null,null,null,null,null,null,null,null,3071,null,20]
[3,2,6,"Medisinrester 2. gang",null,null,32006,0,0,0,0,0,0,0,0,0,0,0,0,0,0,null,0,0,1,4,null,20,null,null,null,null,null,null,null,null,null,3071,null,20]
[3,2,7,"Sykdomssanering",null,"Trekk pålagt av næringa, solidaritet",32007,0,0,0,0,0,0,0,0,0,0,0,0,0,0,null,0,0,1,4,null,20,null,null,null,null,4539,null,null,null,null,null,null,20,null,null,null,null,4539]
[3,2,8,"Sesongtrekk",null,null,32008,0,0,0,0,0,0,0,0,0,0,0,0,0,0,null,0,0,1,4,null,20,null,null,null,null,null,null,null,null,null,3071,null,20]
[3,2,9,"Trekk fellesbeiter",null,null,32009,0,0,0,0,0,0,0,0,0,0,0,0,0,0,null,0,0,1,4,null,10,2990,2990,null,null,null,null,null,null,null,null,null,20]
[3,2,10,"Regionalt trekk",null,null,32010,0,0,0,0,0,0,0,0,0,0,0,0,0,0,null,0,0,1,4,null,20,null,null,null,null,null,null,null,null,null,3071,null,20]
[3,2,11,"Klekketrekk",null,null,32011,0,0,0,0,0,0,0,0,0,0,0,0,0,0,null,0,0,1,{"$f":"A196+1","v":4},null,20,null,null,null,null,null,null,null,null,null,null,null,20,null,null,null,null,null,null,null,null,null,3076]
[3,2,12,"Egg utsortert",null,null,32012,0,0,0,0,0,0,0,0,0,0,0,0,0,0,null,0,0,1,{"$f":"A197+1","v":4},null,20,null,null,null,null,null,null,null,null,null,null,null,20,null,null,null,null,null,null,null,null,null,3076]
[3,2,13,"Ikke klippt",null,null,{"$f":"VALUE(A198&B198&IF(LEN(C198)=1,\"00\"&C198,IF(LEN(C198)=2,\"0\"&C198,C198)))","v":32013},0,0,0,0,0,0,0,0,0,0,0,0,0,0,null,0,0,1,{"$f":"A198+1","v":4},null,20,null,null,null,null,null,null,null,null,null,null,null,20,null,null,null,null,null,null,null,null,null,null,null,20,null,null,null,null,null,null,null,null,null,3079]
[3,2,14,"Kassert",null,null,32014,0,0,0,0,0,0,0,0,0,0,0,0,0,0,null,0,0,1,4,null,20,null,null,null,null,null,null,null,null,null,null,null,20,null,null,null,null,null,null,null,null,null,null,null,20,null,null,null,null,null,null,null,null,null,3079]
[3,2,15,"Priskorrigering",null,"Evry type J",32015,0,0,0,0,0,0,0,0,0,0,0,0,0,0,null,0,0,1,4,null,20,null,null,null,null,null,null,null,null,null,null,null,20,null,null,null,null,null,null,null,null,null,3076,null,20,null,null,null,null,null,null,null,null,null,3079]
[3,2,16,"Trekk for frakt og sekk, ull",null,null,32016,0,0,0,0,0,0,0,0,0,0,0,0,0,0,null,{"$f":"IF(B201=0,1,0)","v":0},{"$f":"IF(OR(C201=0,MID(C201,2,2)=\"00\"),1,0)","v":0},1,{"$f":"A201+1","v":4},null,null,null,null,null,null,null,null,null,null,null,null,null,null,null,null,null,null,null,null,null,null,null,null,null,20,null,null,null,null,null,null,null,null,null,3079]
[3,2,17,"Ekstraordinære trekk",null,"Tine, Omstillngsfond Nortura",32017,0,0,0,0,0,0,0,0,0,0,0,0,0,0,null,{"$f":"IF(B202=0,1,0)","v":0},{"$f":"IF(OR(C202=0,MID(C202,2,2)=\"00\"),1,0)","v":0},1,{"$f":"A202+1","v":4},null,20,null,null,null,null,null,null,null,null,null,3071,null,20,null,null,null,null,null,null,null,null,null,3076]
[3,2,18,"Trekk for helse og velverd",null,"Evry type g",32018,0,0,0,0,0,0,0,0,0,0,0,0,0,0,null,{"$f":"IF(B203=0,1,0)","v":0},{"$f":"IF(OR(C203=0,MID(C203,2,2)=\"00\"),1,0)","v":0},1,{"$f":"A203+1","v":4},null,null,null,null,null,null,null,null,null,null,null,null,null,20,null,null,null,null,null,null,null,null,3075,3076]
[3,2,999,"Andre trekk",null,null,32999,0,0,0,0,0,0,0,0,0,0,0,0,0,0,null,0,0,1,4,null,20,null,null,null,null,4539,null,null,null,null,3071,null,20,null,null,null,null,4539,null,null,null,null,null,null,20,null,null,null,null,4539]
[3,3,0,"Avgifter",null,null,33000,null,null,null,null,null,null,null,null,null,null,null,null,null,null,null,0,1,1,4]
[3,3,1,"Forskningsavgift",null,null,33001,{"$f":"IF(GRLTilleggTrekk=1,AB206,IF(GRLTilleggTrekk=2,AN206,IF(GRLTilleggTrekk=3,AZ206,IF(GRLTilleggTrekk=4,BL206,IF(GRLTilleggTrekk=5,BX206,IF(GRLTilleggTrekk=6,CJ206,IF(GRLTilleggTrekk=7,CV206,IF(GRLTilleggTrekk=8,DH206,IF(GRLTilleggTrekk=9,DT206,IF(GRLTilleggTrekk=10,EF206,IF(GRLTilleggTrekk=11,ER206,IF(GRLTilleggTrekk=12,FD206,IF(GRLTilleggTrekk=13,FP206,IF(GRLTilleggTrekk=14,GB206,IF(GRLTilleggTrekk=15,GN206,0)))))))))))))))","v":0},0,0,0,0,0,0,0,0,0,0,0,0,0,null,{"$f":"IF(B206=0,1,0)","v":0},{"$f":"IF(OR(C206=0,MID(C206,2,2)=\"00\"),1,0)","v":0},1,4,null,20,null,null,null,null,null,null,null,null,null,3071]
[3,3,{"$f":"C206+1","v":2},"Omsetningsavgift",null,"Kumelk",33002,0,0,0,0,0,0,0,0,0,0,0,0,0,0,null,0,0,1,4,null,20,null,null,null,null,null,null,null,null,null,3071]
[3,3,{"$f":"C207+1","v":3},"Overproduksjonsavgift",null,"Kumelk",33003,0,0,0,0,0,0,0,0,0,0,0,0,0,0,null,0,0,1,4,null,20,null,null,null,null,null,null,null,null,null,3071]
[3,3,{"$f":"C208+1","v":4},"Årsavgift husdyrkontrollen",null,null,33004,0,0,0,0,0,0,0,0,0,0,0,0,0,0,null,0,0,1,4,null,20,null,null,null,null,4531,null,null,null,null,3071]
[3,3,{"$f":"C209+1","v":5},"Sædavgift",null,null,33005,0,0,0,0,0,0,0,0,0,0,0,0,0,0,null,0,0,1,4,null,20]
[3,3,{"$f":"C210+1","v":6},"Kontingenter",null,null,33006,0,0,0,0,0,0,0,0,0,0,0,0,0,0,null,0,0,1,4,null,20]
[3,3,999,"Andre avgifter",null,null,33999,0,0,0,0,0,0,0,0,0,0,0,0,0,0,null,0,0,1,4,null,20]
[3,4,0,"Etterbetalinger, erstatninger og bonuser",null,null,34000,null,null,null,null,null,null,null,null,null,null,null,null,null,null,null,0,1,1,4]
[3,4,1,"Egenandel erstatning",null,"Debet erstatning?",34001,{"$f":"IF(GRLTilleggTrekk=1,AB214,IF(GRLTilleggTrekk=2,AN214,IF(GRLTilleggTrekk=3,AZ214,IF(GRLTilleggTrekk=4,BL214,IF(GRLTilleggTrekk=5,BX214,IF(GRLTilleggTrekk=6,CJ214,IF(GRLTilleggTrekk=7,CV214,IF(GRLTilleggTrekk=8,DH214,IF(GRLTilleggTrekk=9,DT214,IF(GRLTilleggTrekk=10,EF214,IF(GRLTilleggTrekk=11,ER214,IF(GRLTilleggTrekk=12,FD214,IF(GRLTilleggTrekk=13,FP214,IF(GRLTilleggTrekk=14,GB214,IF(GRLTilleggTrekk=15,GN214,0)))))))))))))))","v":0},0,0,0,0,0,0,0,0,0,0,0,0,0,null,0,0,1,4,null,20,3903,null,null,null,null,null,null,null,null,3071,null,20,3903,null,null,null,null,null,null,null,null,null,null,20,3903]
[3,4,{"$f":"C214+1","v":2},"Erstatning og kompensasjon (Produkt)",null,null,34002,0,0,0,0,0,0,0,0,0,0,0,0,0,0,null,0,0,1,4,null,20,3903,null,null,null,null,null,null,null,null,null,null,20,3903,null,null,null,null,null,null,null,null,null,null,20,3903]
[3,4,{"$f":"C215+1","v":3},"Etterbetaling",null,null,34003,0,0,0,0,0,0,0,0,0,0,0,0,0,0,null,0,0,1,4,null,20,null,null,null,null,null,null,null,null,null,3071,null,20,null,null,null,null,null,null,null,null,3075,3076,null,20,null,null,null,null,null,null,null,null,null,3079]
[3,4,{"$f":"C216+1","v":4},"Bonus og rabatter",null,null,34004,0,0,0,0,0,0,0,0,0,0,0,0,0,0,null,0,0,1,4,null,null,null,null,null,null,null,null,null,null,null,null,null,null,null,null,null,null,null,null,null,null,null,null,null,20,null,null,null,null,null,null,null,null,null,3079]
[3,4,{"$f":"C217+1","v":5},"Utbytte fra samvirkeforetak",null,null,34005,0,0,0,0,0,0,0,0,0,0,0,0,0,0,null,0,0,1,{"$f":"A218+1","v":4},null,10,8079,null,null,null,null,null,null,null,null,null,null,10,8079,null,null,null,null,null,null,null,null,null,null,10,8079]
[3,4,{"$f":"C218+1","v":6},"Erstatning tap av dyr",null,null,34006,0,0,0,0,0,0,0,0,0,0,0,0,0,0,null,0,0,1,{"$f":"A219+1","v":4},null,20,3902,null,null,null,null,null,null,null,null,null,null,20,3902,null,null,null,null,null,null,null,null,null,null,20,3902]
[3,4,999,"Andre etterbetalinger og erstatninger",null,null,34999,0,0,0,0,0,0,0,0,0,0,0,0,0,0,null,0,0,1,4]
[3,5,0,"Tilskudd",null,null,35000,null,null,null,null,null,null,null,null,null,null,null,null,null,null,null,0,1,1,4]
[3,5,1,"Distriktstilskudd",null,null,35001,{"$f":"IF(GRLTilleggTrekk=1,AB222,IF(GRLTilleggTrekk=2,AN222,IF(GRLTilleggTrekk=3,AZ222,IF(GRLTilleggTrekk=4,BL222,IF(GRLTilleggTrekk=5,BX222,IF(GRLTilleggTrekk=6,CJ222,IF(GRLTilleggTrekk=7,CV222,IF(GRLTilleggTrekk=8,DH222,IF(GRLTilleggTrekk=9,DT222,IF(GRLTilleggTrekk=10,EF222,IF(GRLTilleggTrekk=11,ER222,IF(GRLTilleggTrekk=12,FD222,IF(GRLTilleggTrekk=13,FP222,IF(GRLTilleggTrekk=14,GB222,IF(GRLTilleggTrekk=15,GN222,0)))))))))))))))","v":0},0,0,0,0,0,0,0,0,0,0,0,0,0,null,0,0,1,4,null,20,null,null,null,null,null,null,null,null,null,3073,null,20,null,null,null,null,null,null,null,null,3077,3078]
[3,5,{"$f":"C222+1","v":2},"Grunntilskudd",null,null,35002,0,0,0,0,0,0,0,0,0,0,0,0,0,0,null,0,0,1,4,null,20,null,null,null,null,null,null,null,null,null,3074]
[3,5,3,"Gårdstankhold",null,null,35003,0,0,0,0,0,0,0,0,0,0,0,0,0,0,null,0,0,1,{"$f":"A224+1","v":4},null,20,3281,null,null,null,null,null,null,null,null,3071]
[3,5,4,"Ulltilskudd",null,"Endret konto til 3048",35004,0,0,0,0,0,0,0,0,0,0,0,0,0,0,null,0,0,1,{"$f":"A225+1","v":4},null,null,null,null,null,null,null,null,null,null,null,null,null,null,null,null,null,null,null,null,null,null,null,null,null,20,null,null,null,null,null,null,null,null,null,3048]
[3,5,5,"Produksjonstilskudd skinn",null,null,35005,0,0,0,0,0,0,0,0,0,0,0,0,0,0,null,0,0,1,{"$f":"A226+1","v":4},null,null,null,null,null,null,null,null,null,null,null,null,null,null,null,null,null,null,null,null,null,null,null,null,null,20,null,null,null,null,null,null,null,null,null,3079]
[3,5,6,"Egentransport (tilskudd)",null,null,35006,0,0,0,0,0,0,0,0,0,0,0,0,0,0,null,0,0,1,{"$f":"A227+1","v":4},null,20,null,null,null,null,null,null,null,null,null,3071,null,null,null,null,null,null,null,null,null,null,null,null,null,20,null,null,null,null,null,null,null,null,null,3079]
[3,5,7,"Produksjonstilskudd skinn villsau",null,null,35007,0,0,0,0,0,0,0,0,0,0,0,0,0,0,null,0,0,1,{"$f":"A228+1","v":4},null,null,null,null,null,null,null,null,null,null,null,null,null,null,null,null,null,null,null,null,null,null,null,null,null,20,null,null,null,null,null,null,null,null,null,3079]
[3,5,999,"Andre tilskudd forvaltet av varemottaker",null,null,35999,0,0,0,0,0,0,0,0,0,0,0,0,0,0,null,0,0,1,4]
[3,6,0,"Varer og tjenester",null,"Faktura i avregning",36000,null,null,null,null,null,null,null,null,null,null,null,null,null,null,null,0,1,1,4]
[3,6,1,"Retur (vare leveranse)",null,"Skinn",36001,{"$f":"IF(GRLTilleggTrekk=1,AB231,IF(GRLTilleggTrekk=2,AN231,IF(GRLTilleggTrekk=3,AZ231,IF(GRLTilleggTrekk=4,BL231,IF(GRLTilleggTrekk=5,BX231,IF(GRLTilleggTrekk=6,CJ231,IF(GRLTilleggTrekk=7,CV231,IF(GRLTilleggTrekk=8,DH231,IF(GRLTilleggTrekk=9,DT231,IF(GRLTilleggTrekk=10,EF231,IF(GRLTilleggTrekk=11,ER231,IF(GRLTilleggTrekk=12,FD231,IF(GRLTilleggTrekk=13,FP231,IF(GRLTilleggTrekk=14,GB231,IF(GRLTilleggTrekk=15,GN231,0)))))))))))))))","v":0},{"$f":"IF(GRLTilleggTrekk=1,AC231,IF(GRLTilleggTrekk=2,AO231,IF(GRLTilleggTrekk=3,BA231,IF(GRLTilleggTrekk=4,BM231,IF(GRLTilleggTrekk=5,BY231,IF(GRLTilleggTrekk=6,CK231,IF(GRLTilleggTrekk=7,CW231,IF(GRLTilleggTrekk=8,DI231,IF(GRLTilleggTrekk=9,DU231,IF(GRLTilleggTrekk=10,EG231,IF(GRLTilleggTrekk=11,ES231,IF(GRLTilleggTrekk=12,FE231,IF(GRLTilleggTrekk=13,FQ231,IF(GRLTilleggTrekk=14,GC231,IF(GRLTilleggTrekk=15,GO231,0)))))))))))))))","v":0},{"$f":"IF(GRLTilleggTrekk=1,AD231,IF(GRLTilleggTrekk=2,AP231,IF(GRLTilleggTrekk=3,BB231,IF(GRLTilleggTrekk=4,BN231,IF(GRLTilleggTrekk=5,BZ231,IF(GRLTilleggTrekk=6,CL231,IF(GRLTilleggTrekk=7,CX231,IF(GRLTilleggTrekk=8,DJ231,IF(GRLTilleggTrekk=9,DV231,IF(GRLTilleggTrekk=10,EH231,IF(GRLTilleggTrekk=11,ET231,IF(GRLTilleggTrekk=12,FF231,IF(GRLTilleggTrekk=13,FR231,IF(GRLTilleggTrekk=14,GD231,IF(GRLTilleggTrekk=15,GP231,0)))))))))))))))","v":0},{"$f":"IF(GRLTilleggTrekk=1,AE231,IF(GRLTilleggTrekk=2,AQ231,IF(GRLTilleggTrekk=3,BC231,IF(GRLTilleggTrekk=4,BO231,IF(GRLTilleggTrekk=5,CA231,IF(GRLTilleggTrekk=6,CM231,IF(GRLTilleggTrekk=7,CY231,IF(GRLTilleggTrekk=8,DK231,IF(GRLTilleggTrekk=9,DW231,IF(GRLTilleggTrekk=10,EI231,IF(GRLTilleggTrekk=11,EU231,IF(GRLTilleggTrekk=12,FG231,IF(GRLTilleggTrekk=13,FS231,IF(GRLTilleggTrekk=14,GE231,IF(GRLTilleggTrekk=15,GQ231,0)))))))))))))))","v":0},{"$f":"IF(GRLTilleggTrekk=1,AF231,IF(GRLTilleggTrekk=2,AR231,IF(GRLTilleggTrekk=3,BD231,IF(GRLTilleggTrekk=4,BP231,IF(GRLTilleggTrekk=5,CB231,IF(GRLTilleggTrekk=6,CN231,IF(GRLTilleggTrekk=7,CZ231,IF(GRLTilleggTrekk=8,DL231,IF(GRLTilleggTrekk=9,DX231,IF(GRLTilleggTrekk=10,EJ231,IF(GRLTilleggTrekk=11,EV231,IF(GRLTilleggTrekk=12,FH231,IF(GRLTilleggTrekk=13,FT231,IF(GRLTilleggTrekk=14,GF231,IF(GRLTilleggTrekk=15,GR231,0)))))))))))))))","v":0},{"$f":"IF(GRLTilleggTrekk=1,AG231,IF(GRLTilleggTrekk=2,AS231,IF(GRLTilleggTrekk=3,BE231,IF(GRLTilleggTrekk=4,BQ231,IF(GRLTilleggTrekk=5,CC231,IF(GRLTilleggTrekk=6,CO231,IF(GRLTilleggTrekk=7,DA231,IF(GRLTilleggTrekk=8,DM231,IF(GRLTilleggTrekk=9,DY231,IF(GRLTilleggTrekk=10,EK231,IF(GRLTilleggTrekk=11,EW231,IF(GRLTilleggTrekk=12,FI231,IF(GRLTilleggTrekk=13,FU231,IF(GRLTilleggTrekk=14,GG231,IF(GRLTilleggTrekk=15,GS231,0)))))))))))))))","v":0},{"$f":"IF(GRLTilleggTrekk=1,AH231,IF(GRLTilleggTrekk=2,AT231,IF(GRLTilleggTrekk=3,BF231,IF(GRLTilleggTrekk=4,BR231,IF(GRLTilleggTrekk=5,CD231,IF(GRLTilleggTrekk=6,CP231,IF(GRLTilleggTrekk=7,DB231,IF(GRLTilleggTrekk=8,DN231,IF(GRLTilleggTrekk=9,DZ231,IF(GRLTilleggTrekk=10,EL231,IF(GRLTilleggTrekk=11,EX231,IF(GRLTilleggTrekk=12,FJ231,IF(GRLTilleggTrekk=13,FV231,IF(GRLTilleggTrekk=14,GH231,IF(GRLTilleggTrekk=15,GT231,0)))))))))))))))","v":0},{"$f":"IF(GRLTilleggTrekk=1,AI231,IF(GRLTilleggTrekk=2,AU231,IF(GRLTilleggTrekk=3,BG231,IF(GRLTilleggTrekk=4,BS231,IF(GRLTilleggTrekk=5,CE231,IF(GRLTilleggTrekk=6,CQ231,IF(GRLTilleggTrekk=7,DC231,IF(GRLTilleggTrekk=8,DO231,IF(GRLTilleggTrekk=9,EA231,IF(GRLTilleggTrekk=10,EM231,IF(GRLTilleggTrekk=11,EY231,IF(GRLTilleggTrekk=12,FK231,IF(GRLTilleggTrekk=13,FW231,IF(GRLTilleggTrekk=14,GI231,IF(GRLTilleggTrekk=15,GU231,0)))))))))))))))","v":0},{"$f":"IF(GRLTilleggTrekk=1,AJ231,IF(GRLTilleggTrekk=2,AV231,IF(GRLTilleggTrekk=3,BH231,IF(GRLTilleggTrekk=4,BT231,IF(GRLTilleggTrekk=5,CF231,IF(GRLTilleggTrekk=6,CR231,IF(GRLTilleggTrekk=7,DD231,IF(GRLTilleggTrekk=8,DP231,IF(GRLTilleggTrekk=9,EB231,IF(GRLTilleggTrekk=10,EN231,IF(GRLTilleggTrekk=11,EZ231,IF(GRLTilleggTrekk=12,FL231,IF(GRLTilleggTrekk=13,FX231,IF(GRLTilleggTrekk=14,GJ231,IF(GRLTilleggTrekk=15,GV231,0)))))))))))))))","v":0},{"$f":"IF(GRLTilleggTrekk=1,AK231,IF(GRLTilleggTrekk=2,AW231,IF(GRLTilleggTrekk=3,BI231,IF(GRLTilleggTrekk=4,BU231,IF(GRLTilleggTrekk=5,CG231,IF(GRLTilleggTrekk=6,CS231,IF(GRLTilleggTrekk=7,DE231,IF(GRLTilleggTrekk=8,DQ231,IF(GRLTilleggTrekk=9,EC231,IF(GRLTilleggTrekk=10,EO231,IF(GRLTilleggTrekk=11,FA231,IF(GRLTilleggTrekk=12,FM231,IF(GRLTilleggTrekk=13,FY231,IF(GRLTilleggTrekk=14,GK231,IF(GRLTilleggTrekk=15,GW231,0)))))))))))))))","v":0},{"$f":"IF(GRLTilleggTrekk=1,AL231,IF(GRLTilleggTrekk=2,AX231,IF(GRLTilleggTrekk=3,BJ231,IF(GRLTilleggTrekk=4,BV231,IF(GRLTilleggTrekk=5,CH231,IF(GRLTilleggTrekk=6,CT231,IF(GRLTilleggTrekk=7,DF231,IF(GRLTilleggTrekk=8,DR231,IF(GRLTilleggTrekk=9,ED231,IF(GRLTilleggTrekk=10,EP231,IF(GRLTilleggTrekk=11,FB231,IF(GRLTilleggTrekk=12,FN231,IF(GRLTilleggTrekk=13,FZ231,IF(GRLTilleggTrekk=14,GL231,IF(GRLTilleggTrekk=15,GX231,0)))))))))))))))","v":0},{"$f":"IF(GRLTilleggTrekk=1,AM231,IF(GRLTilleggTrekk=2,AY231,IF(GRLTilleggTrekk=3,BK231,IF(GRLTilleggTrekk=4,BW231,IF(GRLTilleggTrekk=5,CI231,IF(GRLTilleggTrekk=6,CU231,IF(GRLTilleggTrekk=7,DG231,IF(GRLTilleggTrekk=8,DS231,IF(GRLTilleggTrekk=9,EE231,IF(GRLTilleggTrekk=10,EQ231,IF(GRLTilleggTrekk=11,FC231,IF(GRLTilleggTrekk=12,FO231,IF(GRLTilleggTrekk=13,GA231,IF(GRLTilleggTrekk=14,GM231,IF(GRLTilleggTrekk=15,GY231,0)))))))))))))))","v":0},0,0,null,0,0,1,4,null,null,null,null,null,null,null,null,null,null,null,null,null,null,null,null,null,null,null,null,null,null,null,null,null,10,null,null,null,null,2069]
[3,6,{"$f":"C231+1","v":2},"Speneprøve",null,null,36002,0,0,0,0,0,0,0,0,0,0,0,0,0,0,null,0,0,1,4,null,20,null,null,null,null,4539]
[3,6,3,"Trekk veterinære prøver",null,null,36003,0,0,0,0,0,0,0,0,0,0,0,0,0,0,null,0,0,1,4,null,20,null,null,null,null,4521]
[3,6,4,"Besøksavgift",null,null,36004,0,0,0,0,0,0,0,0,0,0,0,0,0,0,null,0,0,1,4]
[3,6,5,"Kontroller",null,null,36005,0,0,0,0,0,0,0,0,0,0,0,0,0,0,null,0,0,1,4]
[3,6,6,"Helgetillegg",null,null,36006,0,0,0,0,0,0,0,0,0,0,0,0,0,0,null,0,0,1,4]
[3,6,7,"Servicavgift",null,null,36007,0,0,0,0,0,0,0,0,0,0,0,0,0,0,null,0,0,1,4]
[3,6,8,"Tankleie",null,null,36008,0,0,0,0,0,0,0,0,0,0,0,0,0,0,null,0,0,1,4,null,20,null,null,null,null,6563]
[3,6,9,"Analyser i arbeid",null,null,36009,0,0,0,0,0,0,0,0,0,0,0,0,0,0,null,0,0,1,{"$f":"A239+1","v":4},null,20,null,null,null,null,4539,null,null,null,null,null,null,20,null,null,null,null,4539,null,null,null,null,null,null,20,null,null,null,null,4539]
[3,6,10,"Analyser u/ arbeid",null,null,36010,0,0,0,0,0,0,0,0,0,0,0,0,0,0,null,0,0,1,4,null,20,null,null,null,null,4539,null,null,null,null,null,null,20,null,null,null,null,4539,null,null,null,null,null,null,20,null,null,null,null,4539]
[3,6,11,"Gebyr",null,null,36011,0,0,0,0,0,0,0,0,0,0,0,0,0,0,null,0,0,1,4,null,20,null,null,null,null,7791,null,null,null,null,null,null,20,null,null,null,null,7791,null,null,null,null,null,null,20,null,null,null,null,7791]
[3,6,12,"Lån fra Tine (betalingstrekk)",null,null,36012,0,0,0,0,0,0,0,0,0,0,0,0,0,0,null,0,0,1,4,null,10,2990]
[3,6,13,"Andel Tine SA",null,null,36013,0,0,0,0,0,0,0,0,0,0,0,0,0,0,null,0,0,1,4,null,10,1355]
[3,6,14,"Andel Tine BA",null,null,36014,0,0,0,0,0,0,0,0,0,0,0,0,0,0,null,0,0,1,4,null,10,1355]
[3,6,15,"Utbetaling av lån (til bonde)",null,null,36015,0,0,0,0,0,0,0,0,0,0,0,0,0,0,null,0,0,1,4,null,10,2990,null,null,null,null,null,null,null,null,null,null,10,2990,null,null,null,null,null,null,null,null,null,null,10,2990]
[3,6,16,"Verktøy",null,null,36016,0,0,0,0,0,0,0,0,0,0,0,0,0,0,null,0,0,1,4]
[3,6,17,"Forskudd",null,null,36017,0,0,0,0,0,0,0,0,0,0,0,0,0,0,null,0,0,1,4,null,10,2900,null,null,null,null,null,null,null,null,null,null,10,2900,null,null,null,null,null,null,null,null,null,null,10,2900]
[3,6,18,"Betalingstrekk",null,null,36018,0,0,0,0,0,0,0,0,0,0,0,0,0,0,null,0,0,1,{"$f":"A248+1","v":4}]
[3,6,19,"Oppdrag for varemottaker",null,"Innsamlings godtgj. Ull Evrytype ",36019,0,0,0,0,0,0,0,0,0,0,0,0,0,0,null,0,0,1,{"$f":"A249+1","v":4},null,null,null,null,null,null,null,null,null,null,null,null,null,20,null,null,null,null,4539,null,null,null,null,null,null,20,null,null,null,null,null,null,null,null,null,3099]
[3,6,20,"Emballasje",null,null,36020,0,0,0,0,0,0,0,0,0,0,0,0,0,0,null,0,0,1,{"$f":"A250+1","v":4}]
[3,6,21,"Privat kjøp av varer/tjenester",null,"Brukes på kto 10.2069",36021,0,0,0,0,0,0,0,0,0,0,0,0,0,0,null,0,0,1,{"$f":"A251+1","v":4},null,10,null,null,null,2069,2069,null,null,null,null,null,null,10,null,null,null,null,2069,null,null,null,null,null,null,10,null,null,null,null,2069]
[3,6,22,"Privat uttak av husdyrprodukter (tilbakekjøp)",null,"Kto 10.2064 motkonto 20.3163",36022,0,0,0,0,0,0,0,0,0,0,0,0,0,0,null,0,0,1,{"$f":"A252+1","v":4},null,10,null,2064,null,null,null,null,null,null,null,null,null,10,null,2064,null,null,null,null,null,null,null,null,null,10,null,2064]
[3,6,999,"Andre varer og tjenester",null,null,36999,0,0,0,0,0,0,0,0,0,0,0,0,0,0,null,0,0,1,4,null,20,null,null,null,null,4539,null,null,null,null,null,null,20,null,null,null,null,4539,null,null,null,null,null,null,20,null,null,null,null,4539,null,null,null,null,3079]
[4,0,0,{"$f":"Produkt!E154","v":"Husdyr, slakt og skrotter"},null,null,40000,null,null,null,null,null,null,null,null,null,null,null,null,{"$f":"IF(GRLTilleggTrekk=1,AE254,IF(GRLTilleggTrekk=2,AQ254,IF(GRLTilleggTrekk=3,BC254,IF(GRLTilleggTrekk=4,BO254,IF(GRLTilleggTrekk=5,CA254,IF(GRLTilleggTrekk=6,CM254,IF(GRLTilleggTrekk=7,CY254,IF(GRLTilleggTrekk=8,DK254,IF(GRLTilleggTrekk=9,DW254,IF(GRLTilleggTrekk=10,EI254,IF(GRLTilleggTrekk=11,EU254,IF(GRLTilleggTrekk=12,FG254,IF(GRLTilleggTrekk=13,FS254,IF(GRLTilleggTrekk=14,GE254,IF(GRLTilleggTrekk=15,GQ254,0)))))))))))))))","v":0},{"$f":"IF(GRLTilleggTrekk=1,AF254,IF(GRLTilleggTrekk=2,AR254,IF(GRLTilleggTrekk=3,BD254,IF(GRLTilleggTrekk=4,BP254,IF(GRLTilleggTrekk=5,CB254,IF(GRLTilleggTrekk=6,CN254,IF(GRLTilleggTrekk=7,CZ254,IF(GRLTilleggTrekk=8,DL254,IF(GRLTilleggTrekk=9,DX254,IF(GRLTilleggTrekk=10,EJ254,IF(GRLTilleggTrekk=11,EV254,IF(GRLTilleggTrekk=12,FH254,IF(GRLTilleggTrekk=13,FT254,IF(GRLTilleggTrekk=14,GF254,IF(GRLTilleggTrekk=15,GR254,0)))))))))))))))","v":0},null,1,1,1,5,null,"Slakt husdyr",null,"Kode fra/til",4000,4499,null,null,null,null,null,null,null,"Slakt andre husdyr",null,"Kode fra/til",4900,4999,null,null,null,null,null,null,null,"Slakt pelsdyr",null,"Kode fra/til",4500,4599,null,null,null,null,null,null,null,"Tekst",null,"Kode fra/til",null,null,null,null,null,null,null,null,null,"Tekst",null,"Kode fra/til",null,null,null,null,null,null,null,null,null,"Tekst",null,"Kode fra/til",null,null,null,null,null,null,null,null,null,"Tekst",null,"Kode fra/til",null,null,null,null,null,null,null,null,null,"Tekst",null,"Kode fra/til",null,null,null,null,null,null,null,null,null,"Tekst",null,"Kode fra/til",null,null,null,null,null,null,null,null,null,"Tekst",null,"Kode fra/til",null,null,null,null,null,null,null,null,null,"Tekst",null,"Kode fra/til",null,null,null,null,null,null,null,null,null,"Tekst",null,"Kode fra/til",null,null,null,null,null,null,null,null,null,"Tekst",null,"Kode fra/til",null,null,null,null,null,null,null,null,null,"Tekst",null,"Kode fra/til",null,null,null,null,null,null,null,null,null,"Tekst",null,"Kode fra/til"]
[4,1,0,"Tillegg",null,null,41000,null,null,null,null,null,null,null,null,null,null,null,null,null,null,null,0,1,1,5]
[4,1,1,"Inntransport/egentransport",null,null,41001,{"$f":"IF(GRLTilleggTrekk=1,AB256,IF(GRLTilleggTrekk=2,AN256,IF(GRLTilleggTrekk=3,AZ256,IF(GRLTilleggTrekk=4,BL256,IF(GRLTilleggTrekk=5,BX256,IF(GRLTilleggTrekk=6,CJ256,IF(GRLTilleggTrekk=7,CV256,IF(GRLTilleggTrekk=8,DH256,IF(GRLTilleggTrekk=9,DT256,IF(GRLTilleggTrekk=10,EF256,IF(GRLTilleggTrekk=11,ER256,IF(GRLTilleggTrekk=12,FD256,IF(GRLTilleggTrekk=13,FP256,IF(GRLTilleggTrekk=14,GB256,IF(GRLTilleggTrekk=15,GN256,0)))))))))))))))","v":0},{"$f":"IF(GRLTilleggTrekk=1,AC256,IF(GRLTilleggTrekk=2,AO256,IF(GRLTilleggTrekk=3,BA256,IF(GRLTilleggTrekk=4,BM256,IF(GRLTilleggTrekk=5,BY256,IF(GRLTilleggTrekk=6,CK256,IF(GRLTilleggTrekk=7,CW256,IF(GRLTilleggTrekk=8,DI256,IF(GRLTilleggTrekk=9,DU256,IF(GRLTilleggTrekk=10,EG256,IF(GRLTilleggTrekk=11,ES256,IF(GRLTilleggTrekk=12,FE256,IF(GRLTilleggTrekk=13,FQ256,IF(GRLTilleggTrekk=14,GC256,IF(GRLTilleggTrekk=15,GO256,0)))))))))))))))","v":0},{"$f":"IF(GRLTilleggTrekk=1,AD256,IF(GRLTilleggTrekk=2,AP256,IF(GRLTilleggTrekk=3,BB256,IF(GRLTilleggTrekk=4,BN256,IF(GRLTilleggTrekk=5,BZ256,IF(GRLTilleggTrekk=6,CL256,IF(GRLTilleggTrekk=7,CX256,IF(GRLTilleggTrekk=8,DJ256,IF(GRLTilleggTrekk=9,DV256,IF(GRLTilleggTrekk=10,EH256,IF(GRLTilleggTrekk=11,ET256,IF(GRLTilleggTrekk=12,FF256,IF(GRLTilleggTrekk=13,FR256,IF(GRLTilleggTrekk=14,GD256,IF(GRLTilleggTrekk=15,GP256,0)))))))))))))))","v":0},{"$f":"IF(GRLTilleggTrekk=1,AE256,IF(GRLTilleggTrekk=2,AQ256,IF(GRLTilleggTrekk=3,BC256,IF(GRLTilleggTrekk=4,BO256,IF(GRLTilleggTrekk=5,CA256,IF(GRLTilleggTrekk=6,CM256,IF(GRLTilleggTrekk=7,CY256,IF(GRLTilleggTrekk=8,DK256,IF(GRLTilleggTrekk=9,DW256,IF(GRLTilleggTrekk=10,EI256,IF(GRLTilleggTrekk=11,EU256,IF(GRLTilleggTrekk=12,FG256,IF(GRLTilleggTrekk=13,FS256,IF(GRLTilleggTrekk=14,GE256,IF(GRLTilleggTrekk=15,GQ256,0)))))))))))))))","v":0},{"$f":"IF(GRLTilleggTrekk=1,AF256,IF(GRLTilleggTrekk=2,AR256,IF(GRLTilleggTrekk=3,BD256,IF(GRLTilleggTrekk=4,BP256,IF(GRLTilleggTrekk=5,CB256,IF(GRLTilleggTrekk=6,CN256,IF(GRLTilleggTrekk=7,CZ256,IF(GRLTilleggTrekk=8,DL256,IF(GRLTilleggTrekk=9,DX256,IF(GRLTilleggTrekk=10,EJ256,IF(GRLTilleggTrekk=11,EV256,IF(GRLTilleggTrekk=12,FH256,IF(GRLTilleggTrekk=13,FT256,IF(GRLTilleggTrekk=14,GF256,IF(GRLTilleggTrekk=15,GR256,0)))))))))))))))","v":0},{"$f":"IF(GRLTilleggTrekk=1,AG256,IF(GRLTilleggTrekk=2,AS256,IF(GRLTilleggTrekk=3,BE256,IF(GRLTilleggTrekk=4,BQ256,IF(GRLTilleggTrekk=5,CC256,IF(GRLTilleggTrekk=6,CO256,IF(GRLTilleggTrekk=7,DA256,IF(GRLTilleggTrekk=8,DM256,IF(GRLTilleggTrekk=9,DY256,IF(GRLTilleggTrekk=10,EK256,IF(GRLTilleggTrekk=11,EW256,IF(GRLTilleggTrekk=12,FI256,IF(GRLTilleggTrekk=13,FU256,IF(GRLTilleggTrekk=14,GG256,IF(GRLTilleggTrekk=15,GS256,0)))))))))))))))","v":0},{"$f":"IF(GRLTilleggTrekk=1,AH256,IF(GRLTilleggTrekk=2,AT256,IF(GRLTilleggTrekk=3,BF256,IF(GRLTilleggTrekk=4,BR256,IF(GRLTilleggTrekk=5,CD256,IF(GRLTilleggTrekk=6,CP256,IF(GRLTilleggTrekk=7,DB256,IF(GRLTilleggTrekk=8,DN256,IF(GRLTilleggTrekk=9,DZ256,IF(GRLTilleggTrekk=10,EL256,IF(GRLTilleggTrekk=11,EX256,IF(GRLTilleggTrekk=12,FJ256,IF(GRLTilleggTrekk=13,FV256,IF(GRLTilleggTrekk=14,GH256,IF(GRLTilleggTrekk=15,GT256,0)))))))))))))))","v":0},{"$f":"IF(GRLTilleggTrekk=1,AI256,IF(GRLTilleggTrekk=2,AU256,IF(GRLTilleggTrekk=3,BG256,IF(GRLTilleggTrekk=4,BS256,IF(GRLTilleggTrekk=5,CE256,IF(GRLTilleggTrekk=6,CQ256,IF(GRLTilleggTrekk=7,DC256,IF(GRLTilleggTrekk=8,DO256,IF(GRLTilleggTrekk=9,EA256,IF(GRLTilleggTrekk=10,EM256,IF(GRLTilleggTrekk=11,EY256,IF(GRLTilleggTrekk=12,FK256,IF(GRLTilleggTrekk=13,FW256,IF(GRLTilleggTrekk=14,GI256,IF(GRLTilleggTrekk=15,GU256,0)))))))))))))))","v":0},{"$f":"IF(GRLTilleggTrekk=1,AJ256,IF(GRLTilleggTrekk=2,AV256,IF(GRLTilleggTrekk=3,BH256,IF(GRLTilleggTrekk=4,BT256,IF(GRLTilleggTrekk=5,CF256,IF(GRLTilleggTrekk=6,CR256,IF(GRLTilleggTrekk=7,DD256,IF(GRLTilleggTrekk=8,DP256,IF(GRLTilleggTrekk=9,EB256,IF(GRLTilleggTrekk=10,EN256,IF(GRLTilleggTrekk=11,EZ256,IF(GRLTilleggTrekk=12,FL256,IF(GRLTilleggTrekk=13,FX256,IF(GRLTilleggTrekk=14,GJ256,IF(GRLTilleggTrekk=15,GV256,0)))))))))))))))","v":0},{"$f":"IF(GRLTilleggTrekk=1,AK256,IF(GRLTilleggTrekk=2,AW256,IF(GRLTilleggTrekk=3,BI256,IF(GRLTilleggTrekk=4,BU256,IF(GRLTilleggTrekk=5,CG256,IF(GRLTilleggTrekk=6,CS256,IF(GRLTilleggTrekk=7,DE256,IF(GRLTilleggTrekk=8,DQ256,IF(GRLTilleggTrekk=9,EC256,IF(GRLTilleggTrekk=10,EO256,IF(GRLTilleggTrekk=11,FA256,IF(GRLTilleggTrekk=12,FM256,IF(GRLTilleggTrekk=13,FY256,IF(GRLTilleggTrekk=14,GK256,IF(GRLTilleggTrekk=15,GW256,0)))))))))))))))","v":0},{"$f":"IF(GRLTilleggTrekk=1,AL256,IF(GRLTilleggTrekk=2,AX256,IF(GRLTilleggTrekk=3,BJ256,IF(GRLTilleggTrekk=4,BV256,IF(GRLTilleggTrekk=5,CH256,IF(GRLTilleggTrekk=6,CT256,IF(GRLTilleggTrekk=7,DF256,IF(GRLTilleggTrekk=8,DR256,IF(GRLTilleggTrekk=9,ED256,IF(GRLTilleggTrekk=10,EP256,IF(GRLTilleggTrekk=11,FB256,IF(GRLTilleggTrekk=12,FN256,IF(GRLTilleggTrekk=13,FZ256,IF(GRLTilleggTrekk=14,GL256,IF(GRLTilleggTrekk=15,GX256,0)))))))))))))))","v":0},{"$f":"IF(GRLTilleggTrekk=1,AM256,IF(GRLTilleggTrekk=2,AY256,IF(GRLTilleggTrekk=3,BK256,IF(GRLTilleggTrekk=4,BW256,IF(GRLTilleggTrekk=5,CI256,IF(GRLTilleggTrekk=6,CU256,IF(GRLTilleggTrekk=7,DG256,IF(GRLTilleggTrekk=8,DS256,IF(GRLTilleggTrekk=9,EE256,IF(GRLTilleggTrekk=10,EQ256,IF(GRLTilleggTrekk=11,FC256,IF(GRLTilleggTrekk=12,FO256,IF(GRLTilleggTrekk=13,GA256,IF(GRLTilleggTrekk=14,GM256,IF(GRLTilleggTrekk=15,GY256,0)))))))))))))))","v":0},{"$f":"$T$254","v":0},{"$f":"$U$254","v":0},null,0,0,1,5,null,20,null,null,null,null,null,null,3162,null,null,3041,null,20,null,null,null,null,null,null,null,null,null,3041]
[4,1,{"$f":"C256+1","v":2},"Leveransetillegg",null,"Skyve-, sesong-, avtale-, innmeldingstillegg",41002,0,0,0,0,0,0,0,0,0,0,0,0,{"$f":"$T$254","v":0},{"$f":"$U$254","v":0},null,0,0,1,5,null,20,null,null,null,null,null,null,3162,null,null,3041,null,20,null,null,null,null,null,null,null,null,null,3041]
[4,1,{"$f":"C257+1","v":3},"Priskorrigering",null,"F.eks. merpris, prisdifferanse",41003,0,0,0,0,0,0,0,0,0,0,0,0,0,0,null,0,0,1,5,null,20,null,null,null,null,null,null,null,null,null,3041,null,20,null,null,null,null,null,null,null,null,null,3041]
[4,1,4,"Prissone tillegg",null,null,41004,0,0,0,0,0,0,0,0,0,0,0,0,0,0,null,0,0,1,5,null,20,null,null,null,null,null,null,null,null,null,3041,null,20]
[4,1,5,"Kvantumbaserte tillegg/Puljetillegg",null,null,41005,0,0,0,0,0,0,0,0,0,0,0,0,0,0,null,0,0,1,5,null,20,null,null,null,null,null,null,3162,null,null,3041,null,20,null,null,null,null,null,null,null,null,null,3041]
[4,1,6,"Tillegg for helse og velverd",null,null,41006,0,0,0,0,0,0,0,0,0,0,0,0,0,0,null,0,0,1,5,null,20,null,null,null,null,null,null,null,null,null,3041,null,20]
[4,1,7,"Nybrukeravtale",null,null,{"$f":"VALUE(A262&B262&IF(LEN(C262)=1,\"00\"&C262,IF(LEN(C262)=2,\"0\"&C262,C262)))","v":41007},0,0,0,0,0,0,0,0,0,0,0,0,0,0,null,0,0,1,{"$f":"A262+1","v":5},null,20,null,null,null,null,null,null,null,null,null,3041,null,20,null,null,null,null,null,null,null,null,null,3041]
[4,1,8,"NAV purkering",null,null,41008,0,0,0,0,0,0,0,0,0,0,0,0,0,0,null,0,0,1,5,null,20,null,null,null,null,null,null,null,null,null,3041,null,20]
[4,1,9,"Kompensasjon slakt",null,null,41009,0,0,0,0,0,0,0,0,0,0,0,0,0,0,null,0,0,1,5,null,20,null,null,null,null,null,null,null,null,null,3041,null,20,null,null,null,null,null,null,null,null,null,3041]
[4,1,10,"Tillegg, rase og kjøttfe",null,"Er denne brukt riktig av Nortura?",41010,0,0,0,0,0,0,0,0,0,0,0,0,0,0,null,0,0,1,5,null,20,null,null,null,null,null,null,3162,null,null,3041,null,20,null,null,null,null,null,null,null,null,null,3041]
[4,1,11,"Vaksinasjonstillegg",null,null,41011,0,0,0,0,0,0,0,0,0,0,0,0,0,0,null,0,0,1,5,null,20,null,null,null,null,null,null,null,null,null,3041,null,20,null,null,null,null,null,null,null,null,null,3041]
[4,1,12,"Ledig",null,"Tidligere Avtaletillegg",41012,0,0,0,0,0,0,0,0,0,0,0,0,0,0,null,0,0,1,5]
[4,1,13,"Tillegg for skinn av pelsraser",null,null,41013,0,0,0,0,0,0,0,0,0,0,0,0,0,0,null,0,0,1,5,null,20,null,null,null,null,null,null,null,null,null,3041]
[4,1,14,"Kadaverhåndtering",null,"Refusjon til bonde",41014,0,0,0,0,0,0,0,0,0,0,0,0,0,0,null,0,0,1,{"$f":"A269+1","v":5},null,20,null,null,null,null,null,null,null,null,null,3041,null,20,null,null,null,null,null,null,null,null,null,3041]
[4,1,15,"Ulike kvalitetstillegg (sammenslått)",null,"Klassetillegg EUROP, vekt, rase, fett/marmorering",41015,0,0,0,0,0,0,0,0,0,0,0,0,0,0,null,{"$f":"IF(B270=0,1,0)","v":0},{"$f":"IF(OR(C270=0,MID(C270,2,2)=\"00\"),1,0)","v":0},1,{"$f":"A270+1","v":5},null,20,null,null,null,null,null,null,3162,null,null,3041]
[4,1,16,"Andre sammenslåtte tillegg",null,"Klippe-, RFID-, slakteri (eget), kombinertbesetning",41016,0,0,0,0,0,0,0,0,0,0,0,0,0,0,null,0,0,1,{"$f":"A271+1","v":5},null,20,null,null,null,null,null,null,3162,null,null,3041]
[4,1,999,"Andre tillegg",null,null,41999,0,0,0,0,0,0,0,0,0,0,0,0,0,0,null,0,0,1,5,null,20,null,null,null,null,null,null,null,null,null,3041,null,20]
[4,2,0,"Trekk",null,null,42000,null,null,null,null,null,null,null,null,null,null,null,null,null,null,null,0,1,1,5]
[4,2,1,"Trekk produksjonsringer",null,null,42001,{"$f":"IF(GRLTilleggTrekk=1,AB274,IF(GRLTilleggTrekk=2,AN274,IF(GRLTilleggTrekk=3,AZ274,IF(GRLTilleggTrekk=4,BL274,IF(GRLTilleggTrekk=5,BX274,IF(GRLTilleggTrekk=6,CJ274,IF(GRLTilleggTrekk=7,CV274,IF(GRLTilleggTrekk=8,DH274,IF(GRLTilleggTrekk=9,DT274,IF(GRLTilleggTrekk=10,EF274,IF(GRLTilleggTrekk=11,ER274,IF(GRLTilleggTrekk=12,FD274,IF(GRLTilleggTrekk=13,FP274,IF(GRLTilleggTrekk=14,GB274,IF(GRLTilleggTrekk=15,GN274,0)))))))))))))))","v":0},{"$f":"IF(GRLTilleggTrekk=1,AC274,IF(GRLTilleggTrekk=2,AO274,IF(GRLTilleggTrekk=3,BA274,IF(GRLTilleggTrekk=4,BM274,IF(GRLTilleggTrekk=5,BY274,IF(GRLTilleggTrekk=6,CK274,IF(GRLTilleggTrekk=7,CW274,IF(GRLTilleggTrekk=8,DI274,IF(GRLTilleggTrekk=9,DU274,IF(GRLTilleggTrekk=10,EG274,IF(GRLTilleggTrekk=11,ES274,IF(GRLTilleggTrekk=12,FE274,IF(GRLTilleggTrekk=13,FQ274,IF(GRLTilleggTrekk=14,GC274,IF(GRLTilleggTrekk=15,GO274,0)))))))))))))))","v":0},{"$f":"IF(GRLTilleggTrekk=1,AD274,IF(GRLTilleggTrekk=2,AP274,IF(GRLTilleggTrekk=3,BB274,IF(GRLTilleggTrekk=4,BN274,IF(GRLTilleggTrekk=5,BZ274,IF(GRLTilleggTrekk=6,CL274,IF(GRLTilleggTrekk=7,CX274,IF(GRLTilleggTrekk=8,DJ274,IF(GRLTilleggTrekk=9,DV274,IF(GRLTilleggTrekk=10,EH274,IF(GRLTilleggTrekk=11,ET274,IF(GRLTilleggTrekk=12,FF274,IF(GRLTilleggTrekk=13,FR274,IF(GRLTilleggTrekk=14,GD274,IF(GRLTilleggTrekk=15,GP274,0)))))))))))))))","v":0},{"$f":"IF(GRLTilleggTrekk=1,AE274,IF(GRLTilleggTrekk=2,AQ274,IF(GRLTilleggTrekk=3,BC274,IF(GRLTilleggTrekk=4,BO274,IF(GRLTilleggTrekk=5,CA274,IF(GRLTilleggTrekk=6,CM274,IF(GRLTilleggTrekk=7,CY274,IF(GRLTilleggTrekk=8,DK274,IF(GRLTilleggTrekk=9,DW274,IF(GRLTilleggTrekk=10,EI274,IF(GRLTilleggTrekk=11,EU274,IF(GRLTilleggTrekk=12,FG274,IF(GRLTilleggTrekk=13,FS274,IF(GRLTilleggTrekk=14,GE274,IF(GRLTilleggTrekk=15,GQ274,0)))))))))))))))","v":0},{"$f":"IF(GRLTilleggTrekk=1,AF274,IF(GRLTilleggTrekk=2,AR274,IF(GRLTilleggTrekk=3,BD274,IF(GRLTilleggTrekk=4,BP274,IF(GRLTilleggTrekk=5,CB274,IF(GRLTilleggTrekk=6,CN274,IF(GRLTilleggTrekk=7,CZ274,IF(GRLTilleggTrekk=8,DL274,IF(GRLTilleggTrekk=9,DX274,IF(GRLTilleggTrekk=10,EJ274,IF(GRLTilleggTrekk=11,EV274,IF(GRLTilleggTrekk=12,FH274,IF(GRLTilleggTrekk=13,FT274,IF(GRLTilleggTrekk=14,GF274,IF(GRLTilleggTrekk=15,GR274,0)))))))))))))))","v":0},{"$f":"IF(GRLTilleggTrekk=1,AG274,IF(GRLTilleggTrekk=2,AS274,IF(GRLTilleggTrekk=3,BE274,IF(GRLTilleggTrekk=4,BQ274,IF(GRLTilleggTrekk=5,CC274,IF(GRLTilleggTrekk=6,CO274,IF(GRLTilleggTrekk=7,DA274,IF(GRLTilleggTrekk=8,DM274,IF(GRLTilleggTrekk=9,DY274,IF(GRLTilleggTrekk=10,EK274,IF(GRLTilleggTrekk=11,EW274,IF(GRLTilleggTrekk=12,FI274,IF(GRLTilleggTrekk=13,FU274,IF(GRLTilleggTrekk=14,GG274,IF(GRLTilleggTrekk=15,GS274,0)))))))))))))))","v":0},{"$f":"IF(GRLTilleggTrekk=1,AH274,IF(GRLTilleggTrekk=2,AT274,IF(GRLTilleggTrekk=3,BF274,IF(GRLTilleggTrekk=4,BR274,IF(GRLTilleggTrekk=5,CD274,IF(GRLTilleggTrekk=6,CP274,IF(GRLTilleggTrekk=7,DB274,IF(GRLTilleggTrekk=8,DN274,IF(GRLTilleggTrekk=9,DZ274,IF(GRLTilleggTrekk=10,EL274,IF(GRLTilleggTrekk=11,EX274,IF(GRLTilleggTrekk=12,FJ274,IF(GRLTilleggTrekk=13,FV274,IF(GRLTilleggTrekk=14,GH274,IF(GRLTilleggTrekk=15,GT274,0)))))))))))))))","v":0},{"$f":"IF(GRLTilleggTrekk=1,AI274,IF(GRLTilleggTrekk=2,AU274,IF(GRLTilleggTrekk=3,BG274,IF(GRLTilleggTrekk=4,BS274,IF(GRLTilleggTrekk=5,CE274,IF(GRLTilleggTrekk=6,CQ274,IF(GRLTilleggTrekk=7,DC274,IF(GRLTilleggTrekk=8,DO274,IF(GRLTilleggTrekk=9,EA274,IF(GRLTilleggTrekk=10,EM274,IF(GRLTilleggTrekk=11,EY274,IF(GRLTilleggTrekk=12,FK274,IF(GRLTilleggTrekk=13,FW274,IF(GRLTilleggTrekk=14,GI274,IF(GRLTilleggTrekk=15,GU274,0)))))))))))))))","v":0},{"$f":"IF(GRLTilleggTrekk=1,AJ274,IF(GRLTilleggTrekk=2,AV274,IF(GRLTilleggTrekk=3,BH274,IF(GRLTilleggTrekk=4,BT274,IF(GRLTilleggTrekk=5,CF274,IF(GRLTilleggTrekk=6,CR274,IF(GRLTilleggTrekk=7,DD274,IF(GRLTilleggTrekk=8,DP274,IF(GRLTilleggTrekk=9,EB274,IF(GRLTilleggTrekk=10,EN274,IF(GRLTilleggTrekk=11,EZ274,IF(GRLTilleggTrekk=12,FL274,IF(GRLTilleggTrekk=13,FX274,IF(GRLTilleggTrekk=14,GJ274,IF(GRLTilleggTrekk=15,GV274,0)))))))))))))))","v":0},{"$f":"IF(GRLTilleggTrekk=1,AK274,IF(GRLTilleggTrekk=2,AW274,IF(GRLTilleggTrekk=3,BI274,IF(GRLTilleggTrekk=4,BU274,IF(GRLTilleggTrekk=5,CG274,IF(GRLTilleggTrekk=6,CS274,IF(GRLTilleggTrekk=7,DE274,IF(GRLTilleggTrekk=8,DQ274,IF(GRLTilleggTrekk=9,EC274,IF(GRLTilleggTrekk=10,EO274,IF(GRLTilleggTrekk=11,FA274,IF(GRLTilleggTrekk=12,FM274,IF(GRLTilleggTrekk=13,FY274,IF(GRLTilleggTrekk=14,GK274,IF(GRLTilleggTrekk=15,GW274,0)))))))))))))))","v":0},{"$f":"IF(GRLTilleggTrekk=1,AL274,IF(GRLTilleggTrekk=2,AX274,IF(GRLTilleggTrekk=3,BJ274,IF(GRLTilleggTrekk=4,BV274,IF(GRLTilleggTrekk=5,CH274,IF(GRLTilleggTrekk=6,CT274,IF(GRLTilleggTrekk=7,DF274,IF(GRLTilleggTrekk=8,DR274,IF(GRLTilleggTrekk=9,ED274,IF(GRLTilleggTrekk=10,EP274,IF(GRLTilleggTrekk=11,FB274,IF(GRLTilleggTrekk=12,FN274,IF(GRLTilleggTrekk=13,FZ274,IF(GRLTilleggTrekk=14,GL274,IF(GRLTilleggTrekk=15,GX274,0)))))))))))))))","v":0},{"$f":"IF(GRLTilleggTrekk=1,AM274,IF(GRLTilleggTrekk=2,AY274,IF(GRLTilleggTrekk=3,BK274,IF(GRLTilleggTrekk=4,BW274,IF(GRLTilleggTrekk=5,CI274,IF(GRLTilleggTrekk=6,CU274,IF(GRLTilleggTrekk=7,DG274,IF(GRLTilleggTrekk=8,DS274,IF(GRLTilleggTrekk=9,EE274,IF(GRLTilleggTrekk=10,EQ274,IF(GRLTilleggTrekk=11,FC274,IF(GRLTilleggTrekk=12,FO274,IF(GRLTilleggTrekk=13,GA274,IF(GRLTilleggTrekk=14,GM274,IF(GRLTilleggTrekk=15,GY274,0)))))))))))))))","v":0},0,0,null,0,0,1,5,null,20,null,null,null,null,null,null,null,null,null,3041,null,20]
[4,2,{"$f":"C274+1","v":2},"Trekk for helse og velverd",null,"Trekk for manglende dokumentasjon",42002,0,0,0,0,0,0,0,0,0,0,0,0,0,0,null,0,0,1,5,null,20,null,null,null,null,null,null,null,null,null,3041]
[4,2,{"$f":"C275+1","v":3},"KSL trekk",null,null,42003,0,0,0,0,0,0,0,0,0,0,0,0,0,0,null,0,0,1,5,null,20,null,null,null,null,null,null,null,null,null,3041,null,20,null,null,null,null,null,null,null,null,null,3041]
[4,2,4,"Prissone trekk",null,null,42004,0,0,0,0,0,0,0,0,0,0,0,0,0,0,null,0,0,1,5,null,20,null,null,null,null,null,null,null,null,null,3041,null,20]
[4,2,5,"Stoppsats/Frakt",null,null,42005,0,0,0,0,0,0,0,0,0,0,0,0,0,0,null,0,0,1,5,null,20,null,null,null,null,null,null,3162,null,null,3041,null,20,null,null,null,null,null,null,null,null,null,3041]
[4,2,6,"Levering over kvote",null,null,42006,0,0,0,0,0,0,0,0,0,0,0,0,0,0,null,0,0,1,5,null,20,null,null,null,null,null,null,null,null,null,3041,null,20]
[4,2,7,"Vaksinasjonsgebyr",null,null,42007,0,0,0,0,0,0,0,0,0,0,0,0,0,0,null,0,0,1,5,null,20,null,null,null,null,null,null,null,null,null,3041,null,20,null,null,null,null,null,null,null,null,null,3041]
[4,2,8,"Uren hud og hygiene",null,"Slakt med ulla på/klipping. Individuelle kvalitetstrekk på et/flere dyr/slakt (Uren hud, hygiene/USR).",42008,0,0,0,0,0,0,0,0,0,0,0,0,0,0,null,0,0,1,{"$f":"A281+1","v":5},null,20,null,null,null,null,null,null,3162,null,null,3041,null,20,null,null,null,null,null,null,null,null,null,3041]
[4,2,9,"Slakt med ulla på/klipping",null,"Tas ut etter hvert",42009,0,0,0,0,0,0,0,0,0,0,0,0,0,0,null,0,0,1,5,null,20,null,null,null,null,null,null,null,null,null,3041,null,20,null,null,null,null,null,null,null,null,null,3041]
[4,2,10,"Prisreduksjon",null,null,42010,0,0,0,0,0,0,0,0,0,0,0,0,0,0,null,0,0,1,5,null,20,null,null,null,null,null,null,null,null,null,3041,null,20,null,null,null,null,null,null,null,null,null,3041]
[4,2,11,"Umerket dyr",null,null,42011,0,0,0,0,0,0,0,0,0,0,0,0,0,0,null,0,0,1,5,null,20,null,null,null,null,null,null,3162,null,null,3041,null,20,null,null,null,null,null,null,null,null,null,3041]
[4,2,12,"Andre trekk (sammenslått)",null,"Trekk som ikke er individuelle",42012,0,0,0,0,0,0,0,0,0,0,0,0,0,0,null,{"$f":"IF(B285=0,1,0)","v":0},{"$f":"IF(OR(C285=0,MID(C285,2,2)=\"00\"),1,0)","v":0},1,5,null,20,null,null,null,null,null,null,3162,null,null,3041,null,20,null,null,null,null,null,null,null,null,null,3041]
[4,2,13,"Retur av skinn og Skinn til beredning",null,null,42013,0,0,0,0,0,0,0,0,0,0,0,0,0,0,null,{"$f":"IF(B286=0,1,0)","v":0},{"$f":"IF(OR(C286=0,MID(C286,2,2)=\"00\"),1,0)","v":0},1,5,null,20,null,null,null,null,null,null,null,null,null,3041]
[4,2,14,"Trekk for fett",null,null,42014,0,0,0,0,0,0,0,0,0,0,0,0,0,0,null,{"$f":"IF(B287=0,1,0)","v":0},{"$f":"IF(OR(C287=0,MID(C287,2,2)=\"00\"),1,0)","v":0},1,5,null,20,null,null,null,null,null,null,null,null,null,3041]
[4,2,15,"Trekk for over og undervekt slakt",null,null,42015,0,0,0,0,0,0,0,0,0,0,0,0,0,0,null,{"$f":"IF(B288=0,1,0)","v":0},{"$f":"IF(OR(C288=0,MID(C288,2,2)=\"00\"),1,0)","v":0},1,5,null,20,null,null,null,null,null,null,null,null,null,3041]
[4,2,999,"Andre trekk",null,null,42999,0,0,0,0,0,0,0,0,0,0,0,0,0,0,null,0,0,1,5]
[4,3,0,"Avgifter",null,null,43000,null,null,null,null,null,null,null,null,null,null,null,null,null,null,null,0,1,1,5]
[4,3,1,"Forskningsavgift",null,"Ikke produsentnivå",43001,{"$f":"IF(GRLTilleggTrekk=1,AB291,IF(GRLTilleggTrekk=2,AN291,IF(GRLTilleggTrekk=3,AZ291,IF(GRLTilleggTrekk=4,BL291,IF(GRLTilleggTrekk=5,BX291,IF(GRLTilleggTrekk=6,CJ291,IF(GRLTilleggTrekk=7,CV291,IF(GRLTilleggTrekk=8,DH291,IF(GRLTilleggTrekk=9,DT291,IF(GRLTilleggTrekk=10,EF291,IF(GRLTilleggTrekk=11,ER291,IF(GRLTilleggTrekk=12,FD291,IF(GRLTilleggTrekk=13,FP291,IF(GRLTilleggTrekk=14,GB291,IF(GRLTilleggTrekk=15,GN291,0)))))))))))))))","v":0},0,0,0,0,0,0,0,0,0,0,0,0,0,null,0,0,1,5,null,20,null,null,null,null,null,null,null,null,null,3041,null,20]
[4,3,{"$f":"C291+1","v":2},"Årsavgift husdyrkontrollen",null,null,43002,0,0,0,0,0,0,0,0,0,0,0,0,0,0,null,0,0,1,{"$f":"A292+1","v":5},null,20,null,null,null,null,4531,null,null,null,null,null,null,20]
[4,3,{"$f":"C292+1","v":3},"Kontingenter",null,null,43003,0,0,0,0,0,0,0,0,0,0,0,0,0,0,null,0,0,1,5,null,20,null,null,null,null,null,null,null,null,null,3041,null,20]
[4,3,{"$f":"C293+1","v":4},"Omsetningsavgift",null,"Markedsreguleringstrekk tatt inn i KLF-lista ",43004,0,0,0,0,0,0,0,0,0,0,0,0,0,0,null,0,0,1,{"$f":"A294+1","v":5},null,20,null,null,null,null,null,null,null,null,null,3041]
[4,3,{"$f":"C294+1","v":5},"Offentlige avgifter mv.",null,"Finnes i KLF-lista, men brukes ikke",43005,0,0,0,0,0,0,0,0,0,0,0,0,0,0,null,0,0,1,{"$f":"A295+1","v":5},null,20,null,null,null,null,null,null,null,null,null,3041]
[4,3,999,"Andre avgifter",null,null,43999,0,0,0,0,0,0,0,0,0,0,0,0,0,0,null,0,0,1,5,null,20,null,null,null,null,null,null,null,null,null,null,null,20]
[4,4,0,"Etterbetalinger, erstatninger og bonuser",null,null,44000,null,null,null,null,null,null,null,null,null,null,null,null,null,null,null,0,1,1,5]
[4,4,1,"Egenandel erstatning",null,null,44001,{"$f":"IF(GRLTilleggTrekk=1,AB298,IF(GRLTilleggTrekk=2,AN298,IF(GRLTilleggTrekk=3,AZ298,IF(GRLTilleggTrekk=4,BL298,IF(GRLTilleggTrekk=5,BX298,IF(GRLTilleggTrekk=6,CJ298,IF(GRLTilleggTrekk=7,CV298,IF(GRLTilleggTrekk=8,DH298,IF(GRLTilleggTrekk=9,DT298,IF(GRLTilleggTrekk=10,EF298,IF(GRLTilleggTrekk=11,ER298,IF(GRLTilleggTrekk=12,FD298,IF(GRLTilleggTrekk=13,FP298,IF(GRLTilleggTrekk=14,GB298,IF(GRLTilleggTrekk=15,GN298,0)))))))))))))))","v":0},0,0,0,0,0,0,0,0,0,0,0,0,0,null,0,0,1,5,null,20,null,null,null,null,null,null,null,null,null,null,null,20]
[4,4,{"$f":"C298+1","v":2},"Erstatning slakt",null,null,44002,0,0,0,0,0,0,0,0,0,0,0,0,0,0,null,0,0,1,5,null,20,3902,null,null,null,null,null,null,null,null,3041,null,20,3902]
[4,4,{"$f":"C299+1","v":3},"Etterbetaling innenfor året",null,"Etterbetaling, tids-/volumavhengige el.l. innenfor kalenderåret. Individnr 00000.",44003,0,0,0,0,0,0,0,0,0,0,0,0,0,0,null,0,0,1,5,null,20,null,null,null,null,null,null,3162,null,null,3041,null,20,null,null,null,null,null,null,null,null,null,3041]
[4,4,{"$f":"C300+1","v":4},"Etterbetaling/bonus år senere enn leveranse",null,"Etterbetaling/bonus år senere enn leveranse og utbetaling fra medlemskapitalkonto",44004,0,0,0,0,0,0,0,0,0,0,0,0,0,0,null,0,0,1,5,null,20,null,null,null,null,null,null,null,null,null,3041,null,20,null,null,null,null,null,null,null,null,null,3041]
[4,4,{"$f":"C301+1","v":5},"Etterbetaling satellitt/nav",null,null,44005,0,0,0,0,0,0,0,0,0,0,0,0,0,0,null,0,0,1,{"$f":"A302+1","v":5},null,20,null,null,null,null,null,null,null,null,null,3041,null,20,null,null,null,null,null,null,null,null,null,3041]
[4,4,{"$f":"C302+1","v":6},"Renter, annen",null,"Bl.a. renter av medlems- og andelskapital (flyttet)",44006,0,0,0,0,0,0,0,0,0,0,0,0,0,0,null,0,0,1,{"$f":"A303+1","v":5}]
[4,4,999,"Andre etterbetalinger og erstatninger",null,null,44999,0,0,0,0,0,0,0,0,0,0,0,0,0,0,null,0,0,1,5,null,20,null,null,null,null,null,null,null,null,null,null,null,20]
[4,5,0,"Tilskudd",null,null,45000,null,null,null,null,null,null,null,null,null,null,null,null,null,null,null,0,1,1,5]
[4,5,1,"Distriktstilskudd",null,null,45001,{"$f":"IF(GRLTilleggTrekk=1,AB306,IF(GRLTilleggTrekk=2,AN306,IF(GRLTilleggTrekk=3,AZ306,IF(GRLTilleggTrekk=4,BL306,IF(GRLTilleggTrekk=5,BX306,IF(GRLTilleggTrekk=6,CJ306,IF(GRLTilleggTrekk=7,CV306,IF(GRLTilleggTrekk=8,DH306,IF(GRLTilleggTrekk=9,DT306,IF(GRLTilleggTrekk=10,EF306,IF(GRLTilleggTrekk=11,ER306,IF(GRLTilleggTrekk=12,FD306,IF(GRLTilleggTrekk=13,FP306,IF(GRLTilleggTrekk=14,GB306,IF(GRLTilleggTrekk=15,GN306,0)))))))))))))))","v":0},0,0,0,0,0,0,0,0,0,0,0,0,0,null,0,0,1,5,null,20,null,null,null,null,null,null,null,null,null,3047,null,20,null,null,null,null,null,null,null,null,null,3047]
[4,5,{"$f":"C306+1","v":2},"Grunntiskudd",null,null,45002,0,0,0,0,0,0,0,0,0,0,0,0,0,0,null,0,0,1,5,null,20,null,null,null,null,null,null,null,null,null,3048,null,20,null,null,null,null,null,null,null,null,null,3048]
[4,5,3,"Kompensasjon tilskudd",null,null,45003,0,0,0,0,0,0,0,0,0,0,0,0,0,0,null,0,0,1,{"$f":"A308+1","v":5},null,20,null,null,null,null,null,null,null,null,null,3048,null,20,null,null,null,null,null,null,null,null,null,3048]
[4,5,4,"Kvalitetstilskudd (storfe, lam, kje)",null,"Brukes på alle dyreslag",45004,0,0,0,0,0,0,0,0,0,0,0,0,0,0,null,0,0,1,{"$f":"A309+1","v":5},null,20,null,null,null,null,null,null,null,null,null,3048,null,20,null,null,null,null,null,null,null,null,null,3048]
[4,5,5,"Tilskudd til skinn (Ldir)",null,null,45005,0,0,0,0,0,0,0,0,0,0,0,0,0,0,null,0,0,1,{"$f":"A310+1","v":5},null,20,null,null,null,null,null,null,null,null,null,3048,null,20]
[4,5,6,"Tilskudd kalveslakting (Ldir)",null,null,{"$f":"VALUE(A311&B311&IF(LEN(C311)=1,\"00\"&C311,IF(LEN(C311)=2,\"0\"&C311,C311)))","v":45006},{"$f":"IF(GRLTilleggTrekk=1,AB311,IF(GRLTilleggTrekk=2,AN311,IF(GRLTilleggTrekk=3,AZ311,IF(GRLTilleggTrekk=4,BL311,IF(GRLTilleggTrekk=5,BX311,IF(GRLTilleggTrekk=6,CJ311,IF(GRLTilleggTrekk=7,CV311,IF(GRLTilleggTrekk=8,DH311,IF(GRLTilleggTrekk=9,DT311,IF(GRLTilleggTrekk=10,EF311,IF(GRLTilleggTrekk=11,ER311,IF(GRLTilleggTrekk=12,FD311,IF(GRLTilleggTrekk=13,FP311,IF(GRLTilleggTrekk=14,GB311,IF(GRLTilleggTrekk=15,GN311,0)))))))))))))))","v":0},{"$f":"IF(GRLTilleggTrekk=1,AC311,IF(GRLTilleggTrekk=2,AO311,IF(GRLTilleggTrekk=3,BA311,IF(GRLTilleggTrekk=4,BM311,IF(GRLTilleggTrekk=5,BY311,IF(GRLTilleggTrekk=6,CK311,IF(GRLTilleggTrekk=7,CW311,IF(GRLTilleggTrekk=8,DI311,IF(GRLTilleggTrekk=9,DU311,IF(GRLTilleggTrekk=10,EG311,IF(GRLTilleggTrekk=11,ES311,IF(GRLTilleggTrekk=12,FE311,IF(GRLTilleggTrekk=13,FQ311,IF(GRLTilleggTrekk=14,GC311,IF(GRLTilleggTrekk=15,GO311,0)))))))))))))))","v":0},{"$f":"IF(GRLTilleggTrekk=1,AD311,IF(GRLTilleggTrekk=2,AP311,IF(GRLTilleggTrekk=3,BB311,IF(GRLTilleggTrekk=4,BN311,IF(GRLTilleggTrekk=5,BZ311,IF(GRLTilleggTrekk=6,CL311,IF(GRLTilleggTrekk=7,CX311,IF(GRLTilleggTrekk=8,DJ311,IF(GRLTilleggTrekk=9,DV311,IF(GRLTilleggTrekk=10,EH311,IF(GRLTilleggTrekk=11,ET311,IF(GRLTilleggTrekk=12,FF311,IF(GRLTilleggTrekk=13,FR311,IF(GRLTilleggTrekk=14,GD311,IF(GRLTilleggTrekk=15,GP311,0)))))))))))))))","v":0},{"$f":"IF(GRLTilleggTrekk=1,AE311,IF(GRLTilleggTrekk=2,AQ311,IF(GRLTilleggTrekk=3,BC311,IF(GRLTilleggTrekk=4,BO311,IF(GRLTilleggTrekk=5,CA311,IF(GRLTilleggTrekk=6,CM311,IF(GRLTilleggTrekk=7,CY311,IF(GRLTilleggTrekk=8,DK311,IF(GRLTilleggTrekk=9,DW311,IF(GRLTilleggTrekk=10,EI311,IF(GRLTilleggTrekk=11,EU311,IF(GRLTilleggTrekk=12,FG311,IF(GRLTilleggTrekk=13,FS311,IF(GRLTilleggTrekk=14,GE311,IF(GRLTilleggTrekk=15,GQ311,0)))))))))))))))","v":0},{"$f":"IF(GRLTilleggTrekk=1,AF311,IF(GRLTilleggTrekk=2,AR311,IF(GRLTilleggTrekk=3,BD311,IF(GRLTilleggTrekk=4,BP311,IF(GRLTilleggTrekk=5,CB311,IF(GRLTilleggTrekk=6,CN311,IF(GRLTilleggTrekk=7,CZ311,IF(GRLTilleggTrekk=8,DL311,IF(GRLTilleggTrekk=9,DX311,IF(GRLTilleggTrekk=10,EJ311,IF(GRLTilleggTrekk=11,EV311,IF(GRLTilleggTrekk=12,FH311,IF(GRLTilleggTrekk=13,FT311,IF(GRLTilleggTrekk=14,GF311,IF(GRLTilleggTrekk=15,GR311,0)))))))))))))))","v":0},{"$f":"IF(GRLTilleggTrekk=1,AG311,IF(GRLTilleggTrekk=2,AS311,IF(GRLTilleggTrekk=3,BE311,IF(GRLTilleggTrekk=4,BQ311,IF(GRLTilleggTrekk=5,CC311,IF(GRLTilleggTrekk=6,CO311,IF(GRLTilleggTrekk=7,DA311,IF(GRLTilleggTrekk=8,DM311,IF(GRLTilleggTrekk=9,DY311,IF(GRLTilleggTrekk=10,EK311,IF(GRLTilleggTrekk=11,EW311,IF(GRLTilleggTrekk=12,FI311,IF(GRLTilleggTrekk=13,FU311,IF(GRLTilleggTrekk=14,GG311,IF(GRLTilleggTrekk=15,GS311,0)))))))))))))))","v":0},{"$f":"IF(GRLTilleggTrekk=1,AH311,IF(GRLTilleggTrekk=2,AT311,IF(GRLTilleggTrekk=3,BF311,IF(GRLTilleggTrekk=4,BR311,IF(GRLTilleggTrekk=5,CD311,IF(GRLTilleggTrekk=6,CP311,IF(GRLTilleggTrekk=7,DB311,IF(GRLTilleggTrekk=8,DN311,IF(GRLTilleggTrekk=9,DZ311,IF(GRLTilleggTrekk=10,EL311,IF(GRLTilleggTrekk=11,EX311,IF(GRLTilleggTrekk=12,FJ311,IF(GRLTilleggTrekk=13,FV311,IF(GRLTilleggTrekk=14,GH311,IF(GRLTilleggTrekk=15,GT311,0)))))))))))))))","v":0},{"$f":"IF(GRLTilleggTrekk=1,AI311,IF(GRLTilleggTrekk=2,AU311,IF(GRLTilleggTrekk=3,BG311,IF(GRLTilleggTrekk=4,BS311,IF(GRLTilleggTrekk=5,CE311,IF(GRLTilleggTrekk=6,CQ311,IF(GRLTilleggTrekk=7,DC311,IF(GRLTilleggTrekk=8,DO311,IF(GRLTilleggTrekk=9,EA311,IF(GRLTilleggTrekk=10,EM311,IF(GRLTilleggTrekk=11,EY311,IF(GRLTilleggTrekk=12,FK311,IF(GRLTilleggTrekk=13,FW311,IF(GRLTilleggTrekk=14,GI311,IF(GRLTilleggTrekk=15,GU311,0)))))))))))))))","v":0},{"$f":"IF(GRLTilleggTrekk=1,AJ311,IF(GRLTilleggTrekk=2,AV311,IF(GRLTilleggTrekk=3,BH311,IF(GRLTilleggTrekk=4,BT311,IF(GRLTilleggTrekk=5,CF311,IF(GRLTilleggTrekk=6,CR311,IF(GRLTilleggTrekk=7,DD311,IF(GRLTilleggTrekk=8,DP311,IF(GRLTilleggTrekk=9,EB311,IF(GRLTilleggTrekk=10,EN311,IF(GRLTilleggTrekk=11,EZ311,IF(GRLTilleggTrekk=12,FL311,IF(GRLTilleggTrekk=13,FX311,IF(GRLTilleggTrekk=14,GJ311,IF(GRLTilleggTrekk=15,GV311,0)))))))))))))))","v":0},{"$f":"IF(GRLTilleggTrekk=1,AK311,IF(GRLTilleggTrekk=2,AW311,IF(GRLTilleggTrekk=3,BI311,IF(GRLTilleggTrekk=4,BU311,IF(GRLTilleggTrekk=5,CG311,IF(GRLTilleggTrekk=6,CS311,IF(GRLTilleggTrekk=7,DE311,IF(GRLTilleggTrekk=8,DQ311,IF(GRLTilleggTrekk=9,EC311,IF(GRLTilleggTrekk=10,EO311,IF(GRLTilleggTrekk=11,FA311,IF(GRLTilleggTrekk=12,FM311,IF(GRLTilleggTrekk=13,FY311,IF(GRLTilleggTrekk=14,GK311,IF(GRLTilleggTrekk=15,GW311,0)))))))))))))))","v":0},{"$f":"IF(GRLTilleggTrekk=1,AL311,IF(GRLTilleggTrekk=2,AX311,IF(GRLTilleggTrekk=3,BJ311,IF(GRLTilleggTrekk=4,BV311,IF(GRLTilleggTrekk=5,CH311,IF(GRLTilleggTrekk=6,CT311,IF(GRLTilleggTrekk=7,DF311,IF(GRLTilleggTrekk=8,DR311,IF(GRLTilleggTrekk=9,ED311,IF(GRLTilleggTrekk=10,EP311,IF(GRLTilleggTrekk=11,FB311,IF(GRLTilleggTrekk=12,FN311,IF(GRLTilleggTrekk=13,FZ311,IF(GRLTilleggTrekk=14,GL311,IF(GRLTilleggTrekk=15,GX311,0)))))))))))))))","v":0},{"$f":"IF(GRLTilleggTrekk=1,AM311,IF(GRLTilleggTrekk=2,AY311,IF(GRLTilleggTrekk=3,BK311,IF(GRLTilleggTrekk=4,BW311,IF(GRLTilleggTrekk=5,CI311,IF(GRLTilleggTrekk=6,CU311,IF(GRLTilleggTrekk=7,DG311,IF(GRLTilleggTrekk=8,DS311,IF(GRLTilleggTrekk=9,EE311,IF(GRLTilleggTrekk=10,EQ311,IF(GRLTilleggTrekk=11,FC311,IF(GRLTilleggTrekk=12,FO311,IF(GRLTilleggTrekk=13,GA311,IF(GRLTilleggTrekk=14,GM311,IF(GRLTilleggTrekk=15,GY311,0)))))))))))))))","v":0},0,0,null,{"$f":"IF(B311=0,1,0)","v":0},{"$f":"IF(OR(C311=0,MID(C311,2,2)=\"00\"),1,0)","v":0},1,{"$f":"A311+1","v":5},null,20,null,null,null,null,null,null,null,null,null,3048]
[4,5,7,"Tilskudd kraftfôrsilo",null,null,{"$f":"VALUE(A312&B312&IF(LEN(C312)=1,\"00\"&C312,IF(LEN(C312)=2,\"0\"&C312,C312)))","v":45007},{"$f":"IF(GRLTilleggTrekk=1,AB312,IF(GRLTilleggTrekk=2,AN312,IF(GRLTilleggTrekk=3,AZ312,IF(GRLTilleggTrekk=4,BL312,IF(GRLTilleggTrekk=5,BX312,IF(GRLTilleggTrekk=6,CJ312,IF(GRLTilleggTrekk=7,CV312,IF(GRLTilleggTrekk=8,DH312,IF(GRLTilleggTrekk=9,DT312,IF(GRLTilleggTrekk=10,EF312,IF(GRLTilleggTrekk=11,ER312,IF(GRLTilleggTrekk=12,FD312,IF(GRLTilleggTrekk=13,FP312,IF(GRLTilleggTrekk=14,GB312,IF(GRLTilleggTrekk=15,GN312,0)))))))))))))))","v":0},{"$f":"IF(GRLTilleggTrekk=1,AC312,IF(GRLTilleggTrekk=2,AO312,IF(GRLTilleggTrekk=3,BA312,IF(GRLTilleggTrekk=4,BM312,IF(GRLTilleggTrekk=5,BY312,IF(GRLTilleggTrekk=6,CK312,IF(GRLTilleggTrekk=7,CW312,IF(GRLTilleggTrekk=8,DI312,IF(GRLTilleggTrekk=9,DU312,IF(GRLTilleggTrekk=10,EG312,IF(GRLTilleggTrekk=11,ES312,IF(GRLTilleggTrekk=12,FE312,IF(GRLTilleggTrekk=13,FQ312,IF(GRLTilleggTrekk=14,GC312,IF(GRLTilleggTrekk=15,GO312,0)))))))))))))))","v":0},{"$f":"IF(GRLTilleggTrekk=1,AD312,IF(GRLTilleggTrekk=2,AP312,IF(GRLTilleggTrekk=3,BB312,IF(GRLTilleggTrekk=4,BN312,IF(GRLTilleggTrekk=5,BZ312,IF(GRLTilleggTrekk=6,CL312,IF(GRLTilleggTrekk=7,CX312,IF(GRLTilleggTrekk=8,DJ312,IF(GRLTilleggTrekk=9,DV312,IF(GRLTilleggTrekk=10,EH312,IF(GRLTilleggTrekk=11,ET312,IF(GRLTilleggTrekk=12,FF312,IF(GRLTilleggTrekk=13,FR312,IF(GRLTilleggTrekk=14,GD312,IF(GRLTilleggTrekk=15,GP312,0)))))))))))))))","v":0},{"$f":"IF(GRLTilleggTrekk=1,AE312,IF(GRLTilleggTrekk=2,AQ312,IF(GRLTilleggTrekk=3,BC312,IF(GRLTilleggTrekk=4,BO312,IF(GRLTilleggTrekk=5,CA312,IF(GRLTilleggTrekk=6,CM312,IF(GRLTilleggTrekk=7,CY312,IF(GRLTilleggTrekk=8,DK312,IF(GRLTilleggTrekk=9,DW312,IF(GRLTilleggTrekk=10,EI312,IF(GRLTilleggTrekk=11,EU312,IF(GRLTilleggTrekk=12,FG312,IF(GRLTilleggTrekk=13,FS312,IF(GRLTilleggTrekk=14,GE312,IF(GRLTilleggTrekk=15,GQ312,0)))))))))))))))","v":0},{"$f":"IF(GRLTilleggTrekk=1,AF312,IF(GRLTilleggTrekk=2,AR312,IF(GRLTilleggTrekk=3,BD312,IF(GRLTilleggTrekk=4,BP312,IF(GRLTilleggTrekk=5,CB312,IF(GRLTilleggTrekk=6,CN312,IF(GRLTilleggTrekk=7,CZ312,IF(GRLTilleggTrekk=8,DL312,IF(GRLTilleggTrekk=9,DX312,IF(GRLTilleggTrekk=10,EJ312,IF(GRLTilleggTrekk=11,EV312,IF(GRLTilleggTrekk=12,FH312,IF(GRLTilleggTrekk=13,FT312,IF(GRLTilleggTrekk=14,GF312,IF(GRLTilleggTrekk=15,GR312,0)))))))))))))))","v":0},{"$f":"IF(GRLTilleggTrekk=1,AG312,IF(GRLTilleggTrekk=2,AS312,IF(GRLTilleggTrekk=3,BE312,IF(GRLTilleggTrekk=4,BQ312,IF(GRLTilleggTrekk=5,CC312,IF(GRLTilleggTrekk=6,CO312,IF(GRLTilleggTrekk=7,DA312,IF(GRLTilleggTrekk=8,DM312,IF(GRLTilleggTrekk=9,DY312,IF(GRLTilleggTrekk=10,EK312,IF(GRLTilleggTrekk=11,EW312,IF(GRLTilleggTrekk=12,FI312,IF(GRLTilleggTrekk=13,FU312,IF(GRLTilleggTrekk=14,GG312,IF(GRLTilleggTrekk=15,GS312,0)))))))))))))))","v":0},{"$f":"IF(GRLTilleggTrekk=1,AH312,IF(GRLTilleggTrekk=2,AT312,IF(GRLTilleggTrekk=3,BF312,IF(GRLTilleggTrekk=4,BR312,IF(GRLTilleggTrekk=5,CD312,IF(GRLTilleggTrekk=6,CP312,IF(GRLTilleggTrekk=7,DB312,IF(GRLTilleggTrekk=8,DN312,IF(GRLTilleggTrekk=9,DZ312,IF(GRLTilleggTrekk=10,EL312,IF(GRLTilleggTrekk=11,EX312,IF(GRLTilleggTrekk=12,FJ312,IF(GRLTilleggTrekk=13,FV312,IF(GRLTilleggTrekk=14,GH312,IF(GRLTilleggTrekk=15,GT312,0)))))))))))))))","v":0},{"$f":"IF(GRLTilleggTrekk=1,AI312,IF(GRLTilleggTrekk=2,AU312,IF(GRLTilleggTrekk=3,BG312,IF(GRLTilleggTrekk=4,BS312,IF(GRLTilleggTrekk=5,CE312,IF(GRLTilleggTrekk=6,CQ312,IF(GRLTilleggTrekk=7,DC312,IF(GRLTilleggTrekk=8,DO312,IF(GRLTilleggTrekk=9,EA312,IF(GRLTilleggTrekk=10,EM312,IF(GRLTilleggTrekk=11,EY312,IF(GRLTilleggTrekk=12,FK312,IF(GRLTilleggTrekk=13,FW312,IF(GRLTilleggTrekk=14,GI312,IF(GRLTilleggTrekk=15,GU312,0)))))))))))))))","v":0},{"$f":"IF(GRLTilleggTrekk=1,AJ312,IF(GRLTilleggTrekk=2,AV312,IF(GRLTilleggTrekk=3,BH312,IF(GRLTilleggTrekk=4,BT312,IF(GRLTilleggTrekk=5,CF312,IF(GRLTilleggTrekk=6,CR312,IF(GRLTilleggTrekk=7,DD312,IF(GRLTilleggTrekk=8,DP312,IF(GRLTilleggTrekk=9,EB312,IF(GRLTilleggTrekk=10,EN312,IF(GRLTilleggTrekk=11,EZ312,IF(GRLTilleggTrekk=12,FL312,IF(GRLTilleggTrekk=13,FX312,IF(GRLTilleggTrekk=14,GJ312,IF(GRLTilleggTrekk=15,GV312,0)))))))))))))))","v":0},{"$f":"IF(GRLTilleggTrekk=1,AK312,IF(GRLTilleggTrekk=2,AW312,IF(GRLTilleggTrekk=3,BI312,IF(GRLTilleggTrekk=4,BU312,IF(GRLTilleggTrekk=5,CG312,IF(GRLTilleggTrekk=6,CS312,IF(GRLTilleggTrekk=7,DE312,IF(GRLTilleggTrekk=8,DQ312,IF(GRLTilleggTrekk=9,EC312,IF(GRLTilleggTrekk=10,EO312,IF(GRLTilleggTrekk=11,FA312,IF(GRLTilleggTrekk=12,FM312,IF(GRLTilleggTrekk=13,FY312,IF(GRLTilleggTrekk=14,GK312,IF(GRLTilleggTrekk=15,GW312,0)))))))))))))))","v":0},{"$f":"IF(GRLTilleggTrekk=1,AL312,IF(GRLTilleggTrekk=2,AX312,IF(GRLTilleggTrekk=3,BJ312,IF(GRLTilleggTrekk=4,BV312,IF(GRLTilleggTrekk=5,CH312,IF(GRLTilleggTrekk=6,CT312,IF(GRLTilleggTrekk=7,DF312,IF(GRLTilleggTrekk=8,DR312,IF(GRLTilleggTrekk=9,ED312,IF(GRLTilleggTrekk=10,EP312,IF(GRLTilleggTrekk=11,FB312,IF(GRLTilleggTrekk=12,FN312,IF(GRLTilleggTrekk=13,FZ312,IF(GRLTilleggTrekk=14,GL312,IF(GRLTilleggTrekk=15,GX312,0)))))))))))))))","v":0},{"$f":"IF(GRLTilleggTrekk=1,AM312,IF(GRLTilleggTrekk=2,AY312,IF(GRLTilleggTrekk=3,BK312,IF(GRLTilleggTrekk=4,BW312,IF(GRLTilleggTrekk=5,CI312,IF(GRLTilleggTrekk=6,CU312,IF(GRLTilleggTrekk=7,DG312,IF(GRLTilleggTrekk=8,DS312,IF(GRLTilleggTrekk=9,EE312,IF(GRLTilleggTrekk=10,EQ312,IF(GRLTilleggTrekk=11,FC312,IF(GRLTilleggTrekk=12,FO312,IF(GRLTilleggTrekk=13,GA312,IF(GRLTilleggTrekk=14,GM312,IF(GRLTilleggTrekk=15,GY312,0)))))))))))))))","v":0},0,0,null,{"$f":"IF(B312=0,1,0)","v":0},{"$f":"IF(OR(C312=0,MID(C312,2,2)=\"00\"),1,0)","v":0},1,{"$f":"A312+1","v":5},null,20,3281]
[4,5,999,"Andre tilskudd forvaltet av varemottaker",null,null,45999,0,0,0,0,0,0,0,0,0,0,0,0,0,0,null,0,0,1,5,null,20,null,null,null,null,null,null,null,null,null,null,null,20]
[4,6,0,"Varer og tjenester",null,null,46000,null,null,null,null,null,null,null,null,null,null,null,null,null,null,null,0,1,1,5]
[4,6,1,"Ledig",null,"Brukes til retur av slakt hvis faktura benyttes",46001,{"$f":"IF(GRLTilleggTrekk=1,AB315,IF(GRLTilleggTrekk=2,AN315,IF(GRLTilleggTrekk=3,AZ315,IF(GRLTilleggTrekk=4,BL315,IF(GRLTilleggTrekk=5,BX315,IF(GRLTilleggTrekk=6,CJ315,IF(GRLTilleggTrekk=7,CV315,IF(GRLTilleggTrekk=8,DH315,IF(GRLTilleggTrekk=9,DT315,IF(GRLTilleggTrekk=10,EF315,IF(GRLTilleggTrekk=11,ER315,IF(GRLTilleggTrekk=12,FD315,IF(GRLTilleggTrekk=13,FP315,IF(GRLTilleggTrekk=14,GB315,IF(GRLTilleggTrekk=15,GN315,0)))))))))))))))","v":0},{"$f":"IF(GRLTilleggTrekk=1,AC315,IF(GRLTilleggTrekk=2,AO315,IF(GRLTilleggTrekk=3,BA315,IF(GRLTilleggTrekk=4,BM315,IF(GRLTilleggTrekk=5,BY315,IF(GRLTilleggTrekk=6,CK315,IF(GRLTilleggTrekk=7,CW315,IF(GRLTilleggTrekk=8,DI315,IF(GRLTilleggTrekk=9,DU315,IF(GRLTilleggTrekk=10,EG315,IF(GRLTilleggTrekk=11,ES315,IF(GRLTilleggTrekk=12,FE315,IF(GRLTilleggTrekk=13,FQ315,IF(GRLTilleggTrekk=14,GC315,IF(GRLTilleggTrekk=15,GO315,0)))))))))))))))","v":0},{"$f":"IF(GRLTilleggTrekk=1,AD315,IF(GRLTilleggTrekk=2,AP315,IF(GRLTilleggTrekk=3,BB315,IF(GRLTilleggTrekk=4,BN315,IF(GRLTilleggTrekk=5,BZ315,IF(GRLTilleggTrekk=6,CL315,IF(GRLTilleggTrekk=7,CX315,IF(GRLTilleggTrekk=8,DJ315,IF(GRLTilleggTrekk=9,DV315,IF(GRLTilleggTrekk=10,EH315,IF(GRLTilleggTrekk=11,ET315,IF(GRLTilleggTrekk=12,FF315,IF(GRLTilleggTrekk=13,FR315,IF(GRLTilleggTrekk=14,GD315,IF(GRLTilleggTrekk=15,GP315,0)))))))))))))))","v":0},{"$f":"IF(GRLTilleggTrekk=1,AE315,IF(GRLTilleggTrekk=2,AQ315,IF(GRLTilleggTrekk=3,BC315,IF(GRLTilleggTrekk=4,BO315,IF(GRLTilleggTrekk=5,CA315,IF(GRLTilleggTrekk=6,CM315,IF(GRLTilleggTrekk=7,CY315,IF(GRLTilleggTrekk=8,DK315,IF(GRLTilleggTrekk=9,DW315,IF(GRLTilleggTrekk=10,EI315,IF(GRLTilleggTrekk=11,EU315,IF(GRLTilleggTrekk=12,FG315,IF(GRLTilleggTrekk=13,FS315,IF(GRLTilleggTrekk=14,GE315,IF(GRLTilleggTrekk=15,GQ315,0)))))))))))))))","v":0},{"$f":"IF(GRLTilleggTrekk=1,AF315,IF(GRLTilleggTrekk=2,AR315,IF(GRLTilleggTrekk=3,BD315,IF(GRLTilleggTrekk=4,BP315,IF(GRLTilleggTrekk=5,CB315,IF(GRLTilleggTrekk=6,CN315,IF(GRLTilleggTrekk=7,CZ315,IF(GRLTilleggTrekk=8,DL315,IF(GRLTilleggTrekk=9,DX315,IF(GRLTilleggTrekk=10,EJ315,IF(GRLTilleggTrekk=11,EV315,IF(GRLTilleggTrekk=12,FH315,IF(GRLTilleggTrekk=13,FT315,IF(GRLTilleggTrekk=14,GF315,IF(GRLTilleggTrekk=15,GR315,0)))))))))))))))","v":0},{"$f":"IF(GRLTilleggTrekk=1,AG315,IF(GRLTilleggTrekk=2,AS315,IF(GRLTilleggTrekk=3,BE315,IF(GRLTilleggTrekk=4,BQ315,IF(GRLTilleggTrekk=5,CC315,IF(GRLTilleggTrekk=6,CO315,IF(GRLTilleggTrekk=7,DA315,IF(GRLTilleggTrekk=8,DM315,IF(GRLTilleggTrekk=9,DY315,IF(GRLTilleggTrekk=10,EK315,IF(GRLTilleggTrekk=11,EW315,IF(GRLTilleggTrekk=12,FI315,IF(GRLTilleggTrekk=13,FU315,IF(GRLTilleggTrekk=14,GG315,IF(GRLTilleggTrekk=15,GS315,0)))))))))))))))","v":0},{"$f":"IF(GRLTilleggTrekk=1,AH315,IF(GRLTilleggTrekk=2,AT315,IF(GRLTilleggTrekk=3,BF315,IF(GRLTilleggTrekk=4,BR315,IF(GRLTilleggTrekk=5,CD315,IF(GRLTilleggTrekk=6,CP315,IF(GRLTilleggTrekk=7,DB315,IF(GRLTilleggTrekk=8,DN315,IF(GRLTilleggTrekk=9,DZ315,IF(GRLTilleggTrekk=10,EL315,IF(GRLTilleggTrekk=11,EX315,IF(GRLTilleggTrekk=12,FJ315,IF(GRLTilleggTrekk=13,FV315,IF(GRLTilleggTrekk=14,GH315,IF(GRLTilleggTrekk=15,GT315,0)))))))))))))))","v":0},{"$f":"IF(GRLTilleggTrekk=1,AI315,IF(GRLTilleggTrekk=2,AU315,IF(GRLTilleggTrekk=3,BG315,IF(GRLTilleggTrekk=4,BS315,IF(GRLTilleggTrekk=5,CE315,IF(GRLTilleggTrekk=6,CQ315,IF(GRLTilleggTrekk=7,DC315,IF(GRLTilleggTrekk=8,DO315,IF(GRLTilleggTrekk=9,EA315,IF(GRLTilleggTrekk=10,EM315,IF(GRLTilleggTrekk=11,EY315,IF(GRLTilleggTrekk=12,FK315,IF(GRLTilleggTrekk=13,FW315,IF(GRLTilleggTrekk=14,GI315,IF(GRLTilleggTrekk=15,GU315,0)))))))))))))))","v":0},{"$f":"IF(GRLTilleggTrekk=1,AJ315,IF(GRLTilleggTrekk=2,AV315,IF(GRLTilleggTrekk=3,BH315,IF(GRLTilleggTrekk=4,BT315,IF(GRLTilleggTrekk=5,CF315,IF(GRLTilleggTrekk=6,CR315,IF(GRLTilleggTrekk=7,DD315,IF(GRLTilleggTrekk=8,DP315,IF(GRLTilleggTrekk=9,EB315,IF(GRLTilleggTrekk=10,EN315,IF(GRLTilleggTrekk=11,EZ315,IF(GRLTilleggTrekk=12,FL315,IF(GRLTilleggTrekk=13,FX315,IF(GRLTilleggTrekk=14,GJ315,IF(GRLTilleggTrekk=15,GV315,0)))))))))))))))","v":0},{"$f":"IF(GRLTilleggTrekk=1,AK315,IF(GRLTilleggTrekk=2,AW315,IF(GRLTilleggTrekk=3,BI315,IF(GRLTilleggTrekk=4,BU315,IF(GRLTilleggTrekk=5,CG315,IF(GRLTilleggTrekk=6,CS315,IF(GRLTilleggTrekk=7,DE315,IF(GRLTilleggTrekk=8,DQ315,IF(GRLTilleggTrekk=9,EC315,IF(GRLTilleggTrekk=10,EO315,IF(GRLTilleggTrekk=11,FA315,IF(GRLTilleggTrekk=12,FM315,IF(GRLTilleggTrekk=13,FY315,IF(GRLTilleggTrekk=14,GK315,IF(GRLTilleggTrekk=15,GW315,0)))))))))))))))","v":0},{"$f":"IF(GRLTilleggTrekk=1,AL315,IF(GRLTilleggTrekk=2,AX315,IF(GRLTilleggTrekk=3,BJ315,IF(GRLTilleggTrekk=4,BV315,IF(GRLTilleggTrekk=5,CH315,IF(GRLTilleggTrekk=6,CT315,IF(GRLTilleggTrekk=7,DF315,IF(GRLTilleggTrekk=8,DR315,IF(GRLTilleggTrekk=9,ED315,IF(GRLTilleggTrekk=10,EP315,IF(GRLTilleggTrekk=11,FB315,IF(GRLTilleggTrekk=12,FN315,IF(GRLTilleggTrekk=13,FZ315,IF(GRLTilleggTrekk=14,GL315,IF(GRLTilleggTrekk=15,GX315,0)))))))))))))))","v":0},{"$f":"IF(GRLTilleggTrekk=1,AM315,IF(GRLTilleggTrekk=2,AY315,IF(GRLTilleggTrekk=3,BK315,IF(GRLTilleggTrekk=4,BW315,IF(GRLTilleggTrekk=5,CI315,IF(GRLTilleggTrekk=6,CU315,IF(GRLTilleggTrekk=7,DG315,IF(GRLTilleggTrekk=8,DS315,IF(GRLTilleggTrekk=9,EE315,IF(GRLTilleggTrekk=10,EQ315,IF(GRLTilleggTrekk=11,FC315,IF(GRLTilleggTrekk=12,FO315,IF(GRLTilleggTrekk=13,GA315,IF(GRLTilleggTrekk=14,GM315,IF(GRLTilleggTrekk=15,GY315,0)))))))))))))))","v":0},0,0,null,0,0,1,5]
[4,6,{"$f":"C315+1","v":2},"Kontroller",null,null,46002,0,0,0,0,0,0,0,0,0,0,0,0,0,0,null,0,0,1,5,null,20,null,null,null,null,null,null,null,null,null,null,null,20]
[4,6,3,"Helgetillegg",null,null,46003,0,0,0,0,0,0,0,0,0,0,0,0,0,0,null,0,0,1,5,null,20,null,null,null,null,null,null,null,null,null,3041,null,20,null,null,null,null,null,null,null,null,null,3041]
[4,6,4,"Servicavgift",null,null,46004,0,0,0,0,0,0,0,0,0,0,0,0,0,0,null,0,0,1,5,null,20,null,null,null,null,null,null,null,null,null,null,null,20]
[4,6,5,"Innmat storfe",null,null,46005,0,0,0,0,0,0,0,0,0,0,0,0,0,0,null,0,0,1,5,null,20,null,null,null,null,null,null,null,null,null,null,null,20]
[4,6,6,"Nødslakting",null,"Nødslaktgebyr KLF",46006,0,0,0,0,0,0,0,0,0,0,0,0,0,0,null,0,0,1,5,null,20,null,null,null,null,null,null,3162,null,null,3041,null,20,null,null,null,null,null,null,null,null,null,3041]
[4,6,7,"Slaktetjenester/tilbakekjøp i næring",null,"Tjenester og varer",46007,0,0,0,0,0,0,0,0,0,0,0,0,0,0,null,0,0,1,5,null,20,null,null,null,4300,4539,null,null,null,null,null,null,20,null,null,null,null,4539]
[4,6,8,"Ledig",null,null,46008,0,0,0,0,0,0,0,0,0,0,0,0,0,0,null,0,0,1,5,null,20,null,null,null,null,null,null,null,null,null,null,null,20]
[4,6,9,"Ledig",null,null,46009,0,0,0,0,0,0,0,0,0,0,0,0,0,0,null,0,0,1,{"$f":"A323+1","v":5},null,20,null,null,null,null,null,null,null,null,null,null,null,20]
[4,6,10,"Frakt ved salg av varer og stoppsats",null,null,46010,0,0,0,0,0,0,0,0,0,0,0,0,0,0,null,0,0,1,{"$f":"A324+1","v":5},null,20,null,null,null,null,6100,null,null,null,null,null,null,20,null,null,null,null,6100]
[4,6,11,"Plukking",null,null,46011,0,0,0,0,0,0,0,0,0,0,0,0,0,0,null,0,0,1,{"$f":"A325+1","v":5},null,20,null,null,null,null,4539,null,null,null,null,null,null,20,null,null,null,null,4539]
[4,6,12,"Private slaktetjenester og varekjøp",null,"Ved returslakt. Kto 10.2069",46012,0,0,0,0,0,0,0,0,0,0,0,0,0,0,null,0,0,1,{"$f":"A326+1","v":5},null,10,null,null,null,null,2069,null,null,null,null,null,null,10,null,null,null,null,2069]
[4,6,13,"Privat uttak av slakt (tilbakekjøp)",null,"Kto 10.2064 motkonto 20.3162",46013,0,0,0,0,0,0,0,0,0,0,0,0,0,0,null,0,0,1,5,null,10,null,2064,null,null,null,null,null,null,null,null,null,10,null,2064]
[4,6,14,"Ledig",null,"Flyttet: Produkt=7910/ProduktTilleggTrekk=76041",{"$f":"VALUE(A328&B328&IF(LEN(C328)=1,\"00\"&C328,IF(LEN(C328)=2,\"0\"&C328,C328)))","v":46014},0,0,0,0,0,0,0,0,0,0,0,0,0,0,null,0,0,1,{"$f":"A328+1","v":5}]
[4,6,15,"Administrative tillegg",null,null,46015,0,0,0,0,0,0,0,0,0,0,0,0,0,0,null,0,0,1,{"$f":"A329+1","v":5}]
[4,6,16,"Administrative trekk",null,null,46016,0,0,0,0,0,0,0,0,0,0,0,0,0,0,null,0,0,1,{"$f":"A330+1","v":5},null,20,null,null,null,null,7791,null,null,null,null,3041,null,20,null,null,null,null,7791]
[4,6,999,"Andre varer og tjenester",null,null,46999,0,0,0,0,0,0,0,0,0,0,0,0,0,0,null,0,0,1,5,null,20,null,null,null,null,null,null,null,null,null,null,null,20]
[5,0,0,{"$f":"Produkt!E198","v":"Husdyr, livdyr, fôringsdyr, produksjonsdyr og balanse"},null,null,50000,null,null,null,null,null,null,null,null,null,null,null,null,{"$f":"IF(GRLTilleggTrekk=1,AE332,IF(GRLTilleggTrekk=2,AQ332,IF(GRLTilleggTrekk=3,BC332,IF(GRLTilleggTrekk=4,BO332,IF(GRLTilleggTrekk=5,CA332,IF(GRLTilleggTrekk=6,CM332,IF(GRLTilleggTrekk=7,CY332,IF(GRLTilleggTrekk=8,DK332,IF(GRLTilleggTrekk=9,DW332,IF(GRLTilleggTrekk=10,EI332,IF(GRLTilleggTrekk=11,EU332,IF(GRLTilleggTrekk=12,FG332,IF(GRLTilleggTrekk=13,FS332,IF(GRLTilleggTrekk=14,GE332,IF(GRLTilleggTrekk=15,GQ332,0)))))))))))))))","v":0},{"$f":"IF(GRLTilleggTrekk=1,AF332,IF(GRLTilleggTrekk=2,AR332,IF(GRLTilleggTrekk=3,BD332,IF(GRLTilleggTrekk=4,BP332,IF(GRLTilleggTrekk=5,CB332,IF(GRLTilleggTrekk=6,CN332,IF(GRLTilleggTrekk=7,CZ332,IF(GRLTilleggTrekk=8,DL332,IF(GRLTilleggTrekk=9,DX332,IF(GRLTilleggTrekk=10,EJ332,IF(GRLTilleggTrekk=11,EV332,IF(GRLTilleggTrekk=12,FH332,IF(GRLTilleggTrekk=13,FT332,IF(GRLTilleggTrekk=14,GF332,IF(GRLTilleggTrekk=15,GR332,0)))))))))))))))","v":0},null,1,1,1,6,null,"Livdyr husdyr",null,"Kode fra/til",5000,5599,null,null,null,null,null,null,null,"Livdyr andre husdyr",null,"Kode fra/til",5700,5799,null,null,null,null,null,null,null,"Livdyr pelsdyr",null,"Kode fra/til",5600,5699,null,null,null,null,null,null,null,"Tekst",null,"Kode fra/til",null,null,null,null,null,null,null,null,null,"Tekst",null,"Kode fra/til",null,null,null,null,null,null,null,null,null,"Tekst",null,"Kode fra/til",null,null,null,null,null,null,null,null,null,"Tekst",null,"Kode fra/til",null,null,null,null,null,null,null,null,null,"Tekst",null,"Kode fra/til",null,null,null,null,null,null,null,null,null,"Tekst",null,"Kode fra/til",null,null,null,null,null,null,null,null,null,"Tekst",null,"Kode fra/til",null,null,null,null,null,null,null,null,null,"Tekst",null,"Kode fra/til",null,null,null,null,null,null,null,null,null,"Tekst",null,"Kode fra/til",null,null,null,null,null,null,null,null,null,"Tekst",null,"Kode fra/til",null,null,null,null,null,null,null,null,null,"Tekst",null,"Kode fra/til",null,null,null,null,null,null,null,null,null,"Tekst",null,"Kode fra/til"]
[5,1,0,"Tillegg",null,null,51000,null,null,null,null,null,null,null,null,null,null,null,null,null,null,null,0,1,1,6]
[5,1,1,"Inntransport/egentransport",null,null,51001,{"$f":"IF(GRLTilleggTrekk=1,AB334,IF(GRLTilleggTrekk=2,AN334,IF(GRLTilleggTrekk=3,AZ334,IF(GRLTilleggTrekk=4,BL334,IF(GRLTilleggTrekk=5,BX334,IF(GRLTilleggTrekk=6,CJ334,IF(GRLTilleggTrekk=7,CV334,IF(GRLTilleggTrekk=8,DH334,IF(GRLTilleggTrekk=9,DT334,IF(GRLTilleggTrekk=10,EF334,IF(GRLTilleggTrekk=11,ER334,IF(GRLTilleggTrekk=12,FD334,IF(GRLTilleggTrekk=13,FP334,IF(GRLTilleggTrekk=14,GB334,IF(GRLTilleggTrekk=15,GN334,0)))))))))))))))","v":0},{"$f":"IF(GRLTilleggTrekk=1,AC334,IF(GRLTilleggTrekk=2,AO334,IF(GRLTilleggTrekk=3,BA334,IF(GRLTilleggTrekk=4,BM334,IF(GRLTilleggTrekk=5,BY334,IF(GRLTilleggTrekk=6,CK334,IF(GRLTilleggTrekk=7,CW334,IF(GRLTilleggTrekk=8,DI334,IF(GRLTilleggTrekk=9,DU334,IF(GRLTilleggTrekk=10,EG334,IF(GRLTilleggTrekk=11,ES334,IF(GRLTilleggTrekk=12,FE334,IF(GRLTilleggTrekk=13,FQ334,IF(GRLTilleggTrekk=14,GC334,IF(GRLTilleggTrekk=15,GO334,0)))))))))))))))","v":0},{"$f":"IF(GRLTilleggTrekk=1,AD334,IF(GRLTilleggTrekk=2,AP334,IF(GRLTilleggTrekk=3,BB334,IF(GRLTilleggTrekk=4,BN334,IF(GRLTilleggTrekk=5,BZ334,IF(GRLTilleggTrekk=6,CL334,IF(GRLTilleggTrekk=7,CX334,IF(GRLTilleggTrekk=8,DJ334,IF(GRLTilleggTrekk=9,DV334,IF(GRLTilleggTrekk=10,EH334,IF(GRLTilleggTrekk=11,ET334,IF(GRLTilleggTrekk=12,FF334,IF(GRLTilleggTrekk=13,FR334,IF(GRLTilleggTrekk=14,GD334,IF(GRLTilleggTrekk=15,GP334,0)))))))))))))))","v":0},{"$f":"IF(GRLTilleggTrekk=1,AE334,IF(GRLTilleggTrekk=2,AQ334,IF(GRLTilleggTrekk=3,BC334,IF(GRLTilleggTrekk=4,BO334,IF(GRLTilleggTrekk=5,CA334,IF(GRLTilleggTrekk=6,CM334,IF(GRLTilleggTrekk=7,CY334,IF(GRLTilleggTrekk=8,DK334,IF(GRLTilleggTrekk=9,DW334,IF(GRLTilleggTrekk=10,EI334,IF(GRLTilleggTrekk=11,EU334,IF(GRLTilleggTrekk=12,FG334,IF(GRLTilleggTrekk=13,FS334,IF(GRLTilleggTrekk=14,GE334,IF(GRLTilleggTrekk=15,GQ334,0)))))))))))))))","v":0},{"$f":"IF(GRLTilleggTrekk=1,AF334,IF(GRLTilleggTrekk=2,AR334,IF(GRLTilleggTrekk=3,BD334,IF(GRLTilleggTrekk=4,BP334,IF(GRLTilleggTrekk=5,CB334,IF(GRLTilleggTrekk=6,CN334,IF(GRLTilleggTrekk=7,CZ334,IF(GRLTilleggTrekk=8,DL334,IF(GRLTilleggTrekk=9,DX334,IF(GRLTilleggTrekk=10,EJ334,IF(GRLTilleggTrekk=11,EV334,IF(GRLTilleggTrekk=12,FH334,IF(GRLTilleggTrekk=13,FT334,IF(GRLTilleggTrekk=14,GF334,IF(GRLTilleggTrekk=15,GR334,0)))))))))))))))","v":0},{"$f":"IF(GRLTilleggTrekk=1,AG334,IF(GRLTilleggTrekk=2,AS334,IF(GRLTilleggTrekk=3,BE334,IF(GRLTilleggTrekk=4,BQ334,IF(GRLTilleggTrekk=5,CC334,IF(GRLTilleggTrekk=6,CO334,IF(GRLTilleggTrekk=7,DA334,IF(GRLTilleggTrekk=8,DM334,IF(GRLTilleggTrekk=9,DY334,IF(GRLTilleggTrekk=10,EK334,IF(GRLTilleggTrekk=11,EW334,IF(GRLTilleggTrekk=12,FI334,IF(GRLTilleggTrekk=13,FU334,IF(GRLTilleggTrekk=14,GG334,IF(GRLTilleggTrekk=15,GS334,0)))))))))))))))","v":0},{"$f":"IF(GRLTilleggTrekk=1,AH334,IF(GRLTilleggTrekk=2,AT334,IF(GRLTilleggTrekk=3,BF334,IF(GRLTilleggTrekk=4,BR334,IF(GRLTilleggTrekk=5,CD334,IF(GRLTilleggTrekk=6,CP334,IF(GRLTilleggTrekk=7,DB334,IF(GRLTilleggTrekk=8,DN334,IF(GRLTilleggTrekk=9,DZ334,IF(GRLTilleggTrekk=10,EL334,IF(GRLTilleggTrekk=11,EX334,IF(GRLTilleggTrekk=12,FJ334,IF(GRLTilleggTrekk=13,FV334,IF(GRLTilleggTrekk=14,GH334,IF(GRLTilleggTrekk=15,GT334,0)))))))))))))))","v":0},{"$f":"IF(GRLTilleggTrekk=1,AI334,IF(GRLTilleggTrekk=2,AU334,IF(GRLTilleggTrekk=3,BG334,IF(GRLTilleggTrekk=4,BS334,IF(GRLTilleggTrekk=5,CE334,IF(GRLTilleggTrekk=6,CQ334,IF(GRLTilleggTrekk=7,DC334,IF(GRLTilleggTrekk=8,DO334,IF(GRLTilleggTrekk=9,EA334,IF(GRLTilleggTrekk=10,EM334,IF(GRLTilleggTrekk=11,EY334,IF(GRLTilleggTrekk=12,FK334,IF(GRLTilleggTrekk=13,FW334,IF(GRLTilleggTrekk=14,GI334,IF(GRLTilleggTrekk=15,GU334,0)))))))))))))))","v":0},{"$f":"IF(GRLTilleggTrekk=1,AJ334,IF(GRLTilleggTrekk=2,AV334,IF(GRLTilleggTrekk=3,BH334,IF(GRLTilleggTrekk=4,BT334,IF(GRLTilleggTrekk=5,CF334,IF(GRLTilleggTrekk=6,CR334,IF(GRLTilleggTrekk=7,DD334,IF(GRLTilleggTrekk=8,DP334,IF(GRLTilleggTrekk=9,EB334,IF(GRLTilleggTrekk=10,EN334,IF(GRLTilleggTrekk=11,EZ334,IF(GRLTilleggTrekk=12,FL334,IF(GRLTilleggTrekk=13,FX334,IF(GRLTilleggTrekk=14,GJ334,IF(GRLTilleggTrekk=15,GV334,0)))))))))))))))","v":0},{"$f":"IF(GRLTilleggTrekk=1,AK334,IF(GRLTilleggTrekk=2,AW334,IF(GRLTilleggTrekk=3,BI334,IF(GRLTilleggTrekk=4,BU334,IF(GRLTilleggTrekk=5,CG334,IF(GRLTilleggTrekk=6,CS334,IF(GRLTilleggTrekk=7,DE334,IF(GRLTilleggTrekk=8,DQ334,IF(GRLTilleggTrekk=9,EC334,IF(GRLTilleggTrekk=10,EO334,IF(GRLTilleggTrekk=11,FA334,IF(GRLTilleggTrekk=12,FM334,IF(GRLTilleggTrekk=13,FY334,IF(GRLTilleggTrekk=14,GK334,IF(GRLTilleggTrekk=15,GW334,0)))))))))))))))","v":0},{"$f":"IF(GRLTilleggTrekk=1,AL334,IF(GRLTilleggTrekk=2,AX334,IF(GRLTilleggTrekk=3,BJ334,IF(GRLTilleggTrekk=4,BV334,IF(GRLTilleggTrekk=5,CH334,IF(GRLTilleggTrekk=6,CT334,IF(GRLTilleggTrekk=7,DF334,IF(GRLTilleggTrekk=8,DR334,IF(GRLTilleggTrekk=9,ED334,IF(GRLTilleggTrekk=10,EP334,IF(GRLTilleggTrekk=11,FB334,IF(GRLTilleggTrekk=12,FN334,IF(GRLTilleggTrekk=13,FZ334,IF(GRLTilleggTrekk=14,GL334,IF(GRLTilleggTrekk=15,GX334,0)))))))))))))))","v":0},{"$f":"IF(GRLTilleggTrekk=1,AM334,IF(GRLTilleggTrekk=2,AY334,IF(GRLTilleggTrekk=3,BK334,IF(GRLTilleggTrekk=4,BW334,IF(GRLTilleggTrekk=5,CI334,IF(GRLTilleggTrekk=6,CU334,IF(GRLTilleggTrekk=7,DG334,IF(GRLTilleggTrekk=8,DS334,IF(GRLTilleggTrekk=9,EE334,IF(GRLTilleggTrekk=10,EQ334,IF(GRLTilleggTrekk=11,FC334,IF(GRLTilleggTrekk=12,FO334,IF(GRLTilleggTrekk=13,GA334,IF(GRLTilleggTrekk=14,GM334,IF(GRLTilleggTrekk=15,GY334,0)))))))))))))))","v":0},{"$f":"$T$332","v":0},{"$f":"$U$332","v":0},null,0,0,1,6,null,20,null,null,null,null,null,null,null,null,null,3051,null,20,null,null,null,null,null,null,null,null,null,3051]
[5,1,{"$f":"C334+1","v":2},"Vekttillegg",null,null,51002,0,0,0,0,0,0,0,0,0,0,0,0,{"$f":"$T$332","v":0},{"$f":"$U$332","v":0},null,0,0,1,{"$f":"A335+1","v":6},null,20,null,null,null,null,4600,null,null,null,null,3051,null,20,null,null,null,null,4600,null,null,null,null,3051]
[5,1,{"$f":"C335+1","v":3},"Tillegg edelgris",null,null,51003,0,0,0,0,0,0,0,0,0,0,0,0,0,0,null,0,0,1,{"$f":"A336+1","v":6},null,20,null,null,null,null,4600,null,null,null,null,3051,null,20,null,null,null,null,null,null,null,null,null,3051]
[5,1,4,"Stambok tillegg",null,null,51004,0,0,0,0,0,0,0,0,0,0,0,0,0,0,null,0,0,1,6,null,20,null,null,null,null,4600,null,null,null,null,3051,null,20,null,null,null,null,4600,null,null,null,null,3051]
[5,1,5,"Kjøttfetillegg (Lett, tung og Tiroler)",null,null,51005,0,0,0,0,0,0,0,0,0,0,0,0,0,0,null,0,0,1,6,null,20,null,null,null,null,4600,null,null,null,null,3051,null,20,null,null,null,null,4600,null,null,null,null,3051]
[5,1,6,"Start kjøttproduksjon",null,null,51006,0,0,0,0,0,0,0,0,0,0,0,0,0,0,null,0,0,1,6,null,20,null,null,null,null,4600,null,null,null,null,3051,null,20,null,null,null,null,null,null,null,null,null,3051]
[5,1,7,"Puljetillegg",null,null,51007,0,0,0,0,0,0,0,0,0,0,0,0,0,0,null,{"$f":"IF(B340=0,1,0)","v":0},{"$f":"IF(OR(C340=0,MID(C340,2,2)=\"00\"),1,0)","v":0},1,6,null,20,null,null,null,null,4600,null,null,null,null,3051,null,20,null,null,null,null,4600,null,null,null,null,3051]
[5,1,8,"Pristillegg samdyr",null,"Evry type E",51008,0,0,0,0,0,0,0,0,0,0,0,0,0,0,null,0,0,1,6,null,20,null,null,null,null,4600,null,null,null,null,3051,null,20,null,null,null,null,4600,null,null,null,null,3051]
[5,1,9,"Prisjustering region",null,null,51009,0,0,0,0,0,0,0,0,0,0,0,0,0,0,null,0,0,1,6,null,20,null,null,null,null,4600,null,null,null,null,3051,null,20,null,null,null,null,null,null,null,null,null,3051]
[5,1,10,"Prisjustering fôringsdyr",null,null,51010,0,0,0,0,0,0,0,0,0,0,0,0,0,0,null,0,0,1,6,null,20,null,null,null,null,4600,null,null,null,null,3051,null,20,null,null,null,null,4600,null,null,null,null,3051]
[5,1,11,"Tillegg for helse og velverd",null,null,51011,0,0,0,0,0,0,0,0,0,0,0,0,0,0,null,0,0,1,6,null,20,null,null,null,null,4600,null,null,null,null,3051,null,20,null,null,null,null,4600,null,null,null,null,3051]
[5,1,12,"Tillegg purkering",null,null,51012,0,0,0,0,0,0,0,0,0,0,0,0,0,0,null,0,0,1,6,null,20,null,null,null,null,4600,null,null,null,null,3051,null,20,null,null,null,null,null,null,null,null,null,3051]
[5,1,13,"Kompensasjon livdyr",null,"Inseminert/drektig",51013,0,0,0,0,0,0,0,0,0,0,0,0,0,0,null,0,0,1,6,null,20,null,null,null,null,4600,null,null,null,null,3051,null,20,null,null,null,null,4600,null,null,null,null,3051]
[5,1,14,"Kvalitetstillegg",null,null,51014,0,0,0,0,0,0,0,0,0,0,0,0,0,0,null,0,0,1,{"$f":"A347+1","v":6},null,20,null,null,null,null,4600,null,null,null,null,3051,null,20,null,null,null,null,4600,null,null,null,null,3051]
[5,1,15,"Avtaletillegg",null,null,51015,0,0,0,0,0,0,0,0,0,0,0,0,0,0,null,0,0,1,6,null,20,null,null,null,null,4600,null,null,null,null,3051,null,20,null,null,null,null,null,null,null,null,null,3051]
[5,1,16,"Nybrukeravtale",null,null,51016,0,0,0,0,0,0,0,0,0,0,0,0,0,0,null,0,0,1,{"$f":"A349+1","v":6},null,20,null,null,null,null,4600,null,null,null,null,3051,null,20,null,null,null,null,null,null,null,null,null,3051]
[5,1,17,"Andre tillegg (sammenslått)",null,null,51017,0,0,0,0,0,0,0,0,0,0,0,0,0,0,null,{"$f":"IF(B350=0,1,0)","v":0},{"$f":"IF(OR(C350=0,MID(C350,2,2)=\"00\"),1,0)","v":0},1,{"$f":"A350+1","v":6},null,20,null,null,null,null,4600,null,null,null,null,3051,null,20,null,null,null,null,null,null,null,null,null,3051]
[5,1,999,"Andre tillegg",null,null,51999,0,0,0,0,0,0,0,0,0,0,0,0,0,0,null,0,0,1,6,null,20,null,null,null,null,null,null,null,null,null,null,null,20]
[5,2,0,"Trekk",null,null,52000,null,null,null,null,null,null,null,null,null,null,null,null,null,null,null,0,1,1,6]
[5,2,1,"Omsetningskostnader",null,null,52001,{"$f":"IF(GRLTilleggTrekk=1,AB353,IF(GRLTilleggTrekk=2,AN353,IF(GRLTilleggTrekk=3,AZ353,IF(GRLTilleggTrekk=4,BL353,IF(GRLTilleggTrekk=5,BX353,IF(GRLTilleggTrekk=6,CJ353,IF(GRLTilleggTrekk=7,CV353,IF(GRLTilleggTrekk=8,DH353,IF(GRLTilleggTrekk=9,DT353,IF(GRLTilleggTrekk=10,EF353,IF(GRLTilleggTrekk=11,ER353,IF(GRLTilleggTrekk=12,FD353,IF(GRLTilleggTrekk=13,FP353,IF(GRLTilleggTrekk=14,GB353,IF(GRLTilleggTrekk=15,GN353,0)))))))))))))))","v":0},{"$f":"IF(GRLTilleggTrekk=1,AC353,IF(GRLTilleggTrekk=2,AO353,IF(GRLTilleggTrekk=3,BA353,IF(GRLTilleggTrekk=4,BM353,IF(GRLTilleggTrekk=5,BY353,IF(GRLTilleggTrekk=6,CK353,IF(GRLTilleggTrekk=7,CW353,IF(GRLTilleggTrekk=8,DI353,IF(GRLTilleggTrekk=9,DU353,IF(GRLTilleggTrekk=10,EG353,IF(GRLTilleggTrekk=11,ES353,IF(GRLTilleggTrekk=12,FE353,IF(GRLTilleggTrekk=13,FQ353,IF(GRLTilleggTrekk=14,GC353,IF(GRLTilleggTrekk=15,GO353,0)))))))))))))))","v":0},{"$f":"IF(GRLTilleggTrekk=1,AD353,IF(GRLTilleggTrekk=2,AP353,IF(GRLTilleggTrekk=3,BB353,IF(GRLTilleggTrekk=4,BN353,IF(GRLTilleggTrekk=5,BZ353,IF(GRLTilleggTrekk=6,CL353,IF(GRLTilleggTrekk=7,CX353,IF(GRLTilleggTrekk=8,DJ353,IF(GRLTilleggTrekk=9,DV353,IF(GRLTilleggTrekk=10,EH353,IF(GRLTilleggTrekk=11,ET353,IF(GRLTilleggTrekk=12,FF353,IF(GRLTilleggTrekk=13,FR353,IF(GRLTilleggTrekk=14,GD353,IF(GRLTilleggTrekk=15,GP353,0)))))))))))))))","v":0},{"$f":"IF(GRLTilleggTrekk=1,AE353,IF(GRLTilleggTrekk=2,AQ353,IF(GRLTilleggTrekk=3,BC353,IF(GRLTilleggTrekk=4,BO353,IF(GRLTilleggTrekk=5,CA353,IF(GRLTilleggTrekk=6,CM353,IF(GRLTilleggTrekk=7,CY353,IF(GRLTilleggTrekk=8,DK353,IF(GRLTilleggTrekk=9,DW353,IF(GRLTilleggTrekk=10,EI353,IF(GRLTilleggTrekk=11,EU353,IF(GRLTilleggTrekk=12,FG353,IF(GRLTilleggTrekk=13,FS353,IF(GRLTilleggTrekk=14,GE353,IF(GRLTilleggTrekk=15,GQ353,0)))))))))))))))","v":0},{"$f":"IF(GRLTilleggTrekk=1,AF353,IF(GRLTilleggTrekk=2,AR353,IF(GRLTilleggTrekk=3,BD353,IF(GRLTilleggTrekk=4,BP353,IF(GRLTilleggTrekk=5,CB353,IF(GRLTilleggTrekk=6,CN353,IF(GRLTilleggTrekk=7,CZ353,IF(GRLTilleggTrekk=8,DL353,IF(GRLTilleggTrekk=9,DX353,IF(GRLTilleggTrekk=10,EJ353,IF(GRLTilleggTrekk=11,EV353,IF(GRLTilleggTrekk=12,FH353,IF(GRLTilleggTrekk=13,FT353,IF(GRLTilleggTrekk=14,GF353,IF(GRLTilleggTrekk=15,GR353,0)))))))))))))))","v":0},{"$f":"IF(GRLTilleggTrekk=1,AG353,IF(GRLTilleggTrekk=2,AS353,IF(GRLTilleggTrekk=3,BE353,IF(GRLTilleggTrekk=4,BQ353,IF(GRLTilleggTrekk=5,CC353,IF(GRLTilleggTrekk=6,CO353,IF(GRLTilleggTrekk=7,DA353,IF(GRLTilleggTrekk=8,DM353,IF(GRLTilleggTrekk=9,DY353,IF(GRLTilleggTrekk=10,EK353,IF(GRLTilleggTrekk=11,EW353,IF(GRLTilleggTrekk=12,FI353,IF(GRLTilleggTrekk=13,FU353,IF(GRLTilleggTrekk=14,GG353,IF(GRLTilleggTrekk=15,GS353,0)))))))))))))))","v":0},{"$f":"IF(GRLTilleggTrekk=1,AH353,IF(GRLTilleggTrekk=2,AT353,IF(GRLTilleggTrekk=3,BF353,IF(GRLTilleggTrekk=4,BR353,IF(GRLTilleggTrekk=5,CD353,IF(GRLTilleggTrekk=6,CP353,IF(GRLTilleggTrekk=7,DB353,IF(GRLTilleggTrekk=8,DN353,IF(GRLTilleggTrekk=9,DZ353,IF(GRLTilleggTrekk=10,EL353,IF(GRLTilleggTrekk=11,EX353,IF(GRLTilleggTrekk=12,FJ353,IF(GRLTilleggTrekk=13,FV353,IF(GRLTilleggTrekk=14,GH353,IF(GRLTilleggTrekk=15,GT353,0)))))))))))))))","v":0},{"$f":"IF(GRLTilleggTrekk=1,AI353,IF(GRLTilleggTrekk=2,AU353,IF(GRLTilleggTrekk=3,BG353,IF(GRLTilleggTrekk=4,BS353,IF(GRLTilleggTrekk=5,CE353,IF(GRLTilleggTrekk=6,CQ353,IF(GRLTilleggTrekk=7,DC353,IF(GRLTilleggTrekk=8,DO353,IF(GRLTilleggTrekk=9,EA353,IF(GRLTilleggTrekk=10,EM353,IF(GRLTilleggTrekk=11,EY353,IF(GRLTilleggTrekk=12,FK353,IF(GRLTilleggTrekk=13,FW353,IF(GRLTilleggTrekk=14,GI353,IF(GRLTilleggTrekk=15,GU353,0)))))))))))))))","v":0},{"$f":"IF(GRLTilleggTrekk=1,AJ353,IF(GRLTilleggTrekk=2,AV353,IF(GRLTilleggTrekk=3,BH353,IF(GRLTilleggTrekk=4,BT353,IF(GRLTilleggTrekk=5,CF353,IF(GRLTilleggTrekk=6,CR353,IF(GRLTilleggTrekk=7,DD353,IF(GRLTilleggTrekk=8,DP353,IF(GRLTilleggTrekk=9,EB353,IF(GRLTilleggTrekk=10,EN353,IF(GRLTilleggTrekk=11,EZ353,IF(GRLTilleggTrekk=12,FL353,IF(GRLTilleggTrekk=13,FX353,IF(GRLTilleggTrekk=14,GJ353,IF(GRLTilleggTrekk=15,GV353,0)))))))))))))))","v":0},{"$f":"IF(GRLTilleggTrekk=1,AK353,IF(GRLTilleggTrekk=2,AW353,IF(GRLTilleggTrekk=3,BI353,IF(GRLTilleggTrekk=4,BU353,IF(GRLTilleggTrekk=5,CG353,IF(GRLTilleggTrekk=6,CS353,IF(GRLTilleggTrekk=7,DE353,IF(GRLTilleggTrekk=8,DQ353,IF(GRLTilleggTrekk=9,EC353,IF(GRLTilleggTrekk=10,EO353,IF(GRLTilleggTrekk=11,FA353,IF(GRLTilleggTrekk=12,FM353,IF(GRLTilleggTrekk=13,FY353,IF(GRLTilleggTrekk=14,GK353,IF(GRLTilleggTrekk=15,GW353,0)))))))))))))))","v":0},{"$f":"IF(GRLTilleggTrekk=1,AL353,IF(GRLTilleggTrekk=2,AX353,IF(GRLTilleggTrekk=3,BJ353,IF(GRLTilleggTrekk=4,BV353,IF(GRLTilleggTrekk=5,CH353,IF(GRLTilleggTrekk=6,CT353,IF(GRLTilleggTrekk=7,DF353,IF(GRLTilleggTrekk=8,DR353,IF(GRLTilleggTrekk=9,ED353,IF(GRLTilleggTrekk=10,EP353,IF(GRLTilleggTrekk=11,FB353,IF(GRLTilleggTrekk=12,FN353,IF(GRLTilleggTrekk=13,FZ353,IF(GRLTilleggTrekk=14,GL353,IF(GRLTilleggTrekk=15,GX353,0)))))))))))))))","v":0},{"$f":"IF(GRLTilleggTrekk=1,AM353,IF(GRLTilleggTrekk=2,AY353,IF(GRLTilleggTrekk=3,BK353,IF(GRLTilleggTrekk=4,BW353,IF(GRLTilleggTrekk=5,CI353,IF(GRLTilleggTrekk=6,CU353,IF(GRLTilleggTrekk=7,DG353,IF(GRLTilleggTrekk=8,DS353,IF(GRLTilleggTrekk=9,EE353,IF(GRLTilleggTrekk=10,EQ353,IF(GRLTilleggTrekk=11,FC353,IF(GRLTilleggTrekk=12,FO353,IF(GRLTilleggTrekk=13,GA353,IF(GRLTilleggTrekk=14,GM353,IF(GRLTilleggTrekk=15,GY353,0)))))))))))))))","v":0},{"$f":"$T$332","v":0},{"$f":"$U$332","v":0},null,0,0,1,6,null,20,null,null,null,null,4600,null,null,null,null,3051,null,20,null,null,null,null,4600,null,null,null,null,3051]
[5,2,{"$f":"C353+1","v":2},"Prisreduksjon vekt",null,null,52002,0,0,0,0,0,0,0,0,0,0,0,0,{"$f":"$T$332","v":0},{"$f":"$U$332","v":0},null,0,0,1,{"$f":"A354+1","v":6},null,20,null,null,null,null,4600,null,null,null,null,3051,null,20,null,null,null,null,4600,null,null,null,null,3051]
[5,2,{"$f":"C354+1","v":3},"Priskorrigering",null,"Føres på Evry type J for KLF slakterier kode 52012",52003,0,0,0,0,0,0,0,0,0,0,0,0,0,0,null,0,0,1,{"$f":"A355+1","v":6},null,20,null,null,null,null,4600,null,null,null,null,3051,null,20,null,null,null,null,4600,null,null,null,null,3051]
[5,2,{"$f":"C355+1","v":4},"Prisredukksjon rase",null,null,52004,0,0,0,0,0,0,0,0,0,0,0,0,0,0,null,0,0,1,6,null,20,null,null,null,null,4600,null,null,null,null,3051,null,20,null,null,null,null,4600,null,null,null,null,3051]
[5,2,{"$f":"C356+1","v":5},"Prisreduksjon standarddyr",null,null,52005,0,0,0,0,0,0,0,0,0,0,0,0,0,0,null,0,0,1,6,null,20,null,null,null,null,4600,null,null,null,null,3051,null,20,null,null,null,null,4600,null,null,null,null,3051]
[5,2,{"$f":"C357+1","v":6},"Prisreduksjon samdyr",null,null,52006,0,0,0,0,0,0,0,0,0,0,0,0,0,0,null,0,0,1,6,null,20,null,null,null,null,4600,null,null,null,null,3051,null,20,null,null,null,null,4600,null,null,null,null,3051]
[5,2,7,"Stoppsats/Frakt",null,null,52007,0,0,0,0,0,0,0,0,0,0,0,0,0,0,null,0,0,1,6,null,20,null,null,null,null,6100,null,null,null,null,3051,null,20,null,null,null,null,4600,null,null,null,null,3051]
[5,2,8,"KSL trekk",null,null,52008,0,0,0,0,0,0,0,0,0,0,0,0,0,0,null,0,0,1,6,null,20,null,null,null,null,null,null,null,null,null,3051,null,20,null,null,null,null,null,null,null,null,null,3051]
[5,2,9,"Salgslyter",null,null,52009,0,0,0,0,0,0,0,0,0,0,0,0,0,0,null,0,0,1,6,null,20,null,null,null,null,4600,null,null,null,null,3051,null,20,null,null,null,null,4600,null,null,null,null,3051]
[5,2,10,"Uklippt",null,null,52010,0,0,0,0,0,0,0,0,0,0,0,0,0,0,null,0,0,1,{"$f":"A362+1","v":6},null,20,null,null,null,null,4600,null,null,null,null,3051,null,20,null,null,null,null,4600,null,null,null,null,3051]
[5,2,11,"Kvalitetstrekk",null,null,52011,0,0,0,0,0,0,0,0,0,0,0,0,0,0,null,0,0,1,6,null,20,null,null,null,null,4600,null,null,null,null,3051,null,20,null,null,null,null,null,null,null,null,null,3051]
[5,2,12,"Andre trekk (sammenslått)",null,"Trekk som ikke er individuelle",52012,0,0,0,0,0,0,0,0,0,0,0,0,0,0,null,{"$f":"IF(B364=0,1,0)","v":0},{"$f":"IF(OR(C364=0,MID(C364,2,2)=\"00\"),1,0)","v":0},1,{"$f":"A364+1","v":6},null,20,null,null,null,null,4600,null,null,null,null,3051,null,20]
[5,2,13,"Umerket dyr",null,null,52013,0,0,0,0,0,0,0,0,0,0,0,0,0,0,null,{"$f":"IF(B365=0,1,0)","v":0},{"$f":"IF(OR(C365=0,MID(C365,2,2)=\"00\"),1,0)","v":0},1,{"$f":"A365+1","v":6},null,20,null,null,null,null,4600,null,null,null,null,3051,null,20]
[5,2,14,"Trekk for helse og velverd",null,null,52014,0,0,0,0,0,0,0,0,0,0,0,0,0,0,null,{"$f":"IF(B366=0,1,0)","v":0},{"$f":"IF(OR(C366=0,MID(C366,2,2)=\"00\"),1,0)","v":0},1,{"$f":"A366+1","v":6},null,20,null,null,null,null,4600,null,null,null,null,3051,null,20]
[5,2,999,"Andre trekk",null,null,52999,0,0,0,0,0,0,0,0,0,0,0,0,{"$f":"$T$332","v":0},{"$f":"$U$332","v":0},null,0,0,1,6,null,null,null,null,null,null,null,null,null,null,null,null,null,20]
[5,3,0,"Avgifter",null,null,53000,null,null,null,null,null,null,null,null,null,null,null,null,null,null,null,0,1,1,6]
[5,3,1,"Ledig",null,null,53001,{"$f":"IF(GRLTilleggTrekk=1,AB369,IF(GRLTilleggTrekk=2,AN369,IF(GRLTilleggTrekk=3,AZ369,IF(GRLTilleggTrekk=4,BL369,IF(GRLTilleggTrekk=5,BX369,IF(GRLTilleggTrekk=6,CJ369,IF(GRLTilleggTrekk=7,CV369,IF(GRLTilleggTrekk=8,DH369,IF(GRLTilleggTrekk=9,DT369,IF(GRLTilleggTrekk=10,EF369,IF(GRLTilleggTrekk=11,ER369,IF(GRLTilleggTrekk=12,FD369,IF(GRLTilleggTrekk=13,FP369,IF(GRLTilleggTrekk=14,GB369,IF(GRLTilleggTrekk=15,GN369,0)))))))))))))))","v":0},0,0,0,0,0,0,0,0,0,0,0,{"$f":"$T$332","v":0},{"$f":"$U$332","v":0},null,0,0,1,{"$f":"A369+1","v":6}]
[5,3,999,"Andre avgifter",null,null,53999,0,0,0,0,0,0,0,0,0,0,0,0,{"$f":"$T$332","v":0},{"$f":"$U$332","v":0},null,0,0,1,6,null,20,null,null,null,null,null,null,null,null,null,null,null,20]
[5,4,0,"Etterbetalinger, erstatninger og bonuser",null,null,54000,null,null,null,null,null,null,null,null,null,null,null,null,null,null,null,0,1,1,6]
[5,4,1,"Etterbetaling innenfor året",null,"Etterbetaling, tids-/volumavhengige el.l. innenfor kalenderåret. Individnr 00000.",54001,{"$f":"IF(GRLTilleggTrekk=1,AB372,IF(GRLTilleggTrekk=2,AN372,IF(GRLTilleggTrekk=3,AZ372,IF(GRLTilleggTrekk=4,BL372,IF(GRLTilleggTrekk=5,BX372,IF(GRLTilleggTrekk=6,CJ372,IF(GRLTilleggTrekk=7,CV372,IF(GRLTilleggTrekk=8,DH372,IF(GRLTilleggTrekk=9,DT372,IF(GRLTilleggTrekk=10,EF372,IF(GRLTilleggTrekk=11,ER372,IF(GRLTilleggTrekk=12,FD372,IF(GRLTilleggTrekk=13,FP372,IF(GRLTilleggTrekk=14,GB372,IF(GRLTilleggTrekk=15,GN372,0)))))))))))))))","v":0},0,0,0,0,0,0,0,0,0,0,0,{"$f":"$T$332","v":0},{"$f":"$U$332","v":0},null,0,0,1,6,null,20,null,null,null,null,null,null,null,null,null,3051,null,20,null,null,null,null,null,null,null,null,null,3051]
[5,4,{"$f":"C372+1","v":2},"Erstatning purkering",null,null,54002,0,0,0,0,0,0,0,0,0,0,0,0,0,0,null,0,0,1,{"$f":"A373+1","v":6},null,20,null,null,null,null,4600,null,null,null,null,3051,null,20]
[5,4,{"$f":"C373+1","v":3},"Erstatning livdyr",null,"Bl.a. tomtid innsett høner/kylling",54003,0,0,0,0,0,0,0,0,0,0,0,0,0,0,null,0,0,1,{"$f":"A374+1","v":6},null,20,3902,null,null,null,null,null,null,null,null,3051,null,20,3902]
[5,4,{"$f":"C374+1","v":4},"Etterbetaling/bonus år senere enn leveranse",null,"Årsbonus. Etterbetaling/bonus i senere år enn leveransen. Individnr er nuller.",54004,0,0,0,0,0,0,0,0,0,0,0,0,0,0,null,{"$f":"IF(B375=0,1,0)","v":0},{"$f":"IF(OR(C375=0,MID(C375,2,2)=\"00\"),1,0)","v":0},1,{"$f":"A375+1","v":6},null,20,null,null,null,null,4600,null,null,null,null,3051]
[5,4,{"$f":"C375+1","v":5},"Renter, annen",null,"Bl.a. forskudd på oppgjør (flyttet)",54005,0,0,0,0,0,0,0,0,0,0,0,0,0,0,null,{"$f":"IF(B376=0,1,0)","v":0},{"$f":"IF(OR(C376=0,MID(C376,2,2)=\"00\"),1,0)","v":0},1,{"$f":"A376+1","v":6}]
[5,4,999,"Andre etterbetalinger og erstatninger",null,null,54999,0,0,0,0,0,0,0,0,0,0,0,0,0,0,null,0,0,1,6,null,20,null,null,null,null,null,null,null,null,null,null,null,20]
[5,5,0,"Tilskudd",null,null,55000,null,null,null,null,null,null,null,null,null,null,null,null,null,null,null,0,1,1,6]
[5,5,1,"Tilskudd kraftfôrsilo",null,null,{"$f":"VALUE(A379&B379&IF(LEN(C379)=1,\"00\"&C379,IF(LEN(C379)=2,\"0\"&C379,C379)))","v":55001},null,null,null,null,null,null,null,null,null,null,null,null,null,null,null,{"$f":"IF(B379=0,1,0)","v":0},{"$f":"IF(OR(C379=0,MID(C379,2,2)=\"00\"),1,0)","v":0},1,{"$f":"A379+1","v":6},null,20,3281]
[5,5,999,"Andre tilskudd",null,null,55999,{"$f":"IF(GRLTilleggTrekk=1,AB380,IF(GRLTilleggTrekk=2,AN380,IF(GRLTilleggTrekk=3,AZ380,IF(GRLTilleggTrekk=4,BL380,IF(GRLTilleggTrekk=5,BX380,IF(GRLTilleggTrekk=6,CJ380,IF(GRLTilleggTrekk=7,CV380,IF(GRLTilleggTrekk=8,DH380,IF(GRLTilleggTrekk=9,DT380,IF(GRLTilleggTrekk=10,EF380,IF(GRLTilleggTrekk=11,ER380,IF(GRLTilleggTrekk=12,FD380,IF(GRLTilleggTrekk=13,FP380,IF(GRLTilleggTrekk=14,GB380,IF(GRLTilleggTrekk=15,GN380,0)))))))))))))))","v":0},0,0,0,0,0,0,0,0,0,0,0,{"$f":"$T$332","v":0},{"$f":"$U$332","v":0},null,0,0,1,6,null,20,null,null,null,null,null,null,null,null,null,null,null,20]
[5,6,0,"Varer og tjenester",null,null,56000,null,null,null,null,null,null,null,null,null,null,null,null,null,null,null,0,1,1,6]
[5,6,1,"Frakt v/salg av varer",null,"Bruke bare en kode for frakt?",56001,{"$f":"IF(GRLTilleggTrekk=1,AB382,IF(GRLTilleggTrekk=2,AN382,IF(GRLTilleggTrekk=3,AZ382,IF(GRLTilleggTrekk=4,BL382,IF(GRLTilleggTrekk=5,BX382,IF(GRLTilleggTrekk=6,CJ382,IF(GRLTilleggTrekk=7,CV382,IF(GRLTilleggTrekk=8,DH382,IF(GRLTilleggTrekk=9,DT382,IF(GRLTilleggTrekk=10,EF382,IF(GRLTilleggTrekk=11,ER382,IF(GRLTilleggTrekk=12,FD382,IF(GRLTilleggTrekk=13,FP382,IF(GRLTilleggTrekk=14,GB382,IF(GRLTilleggTrekk=15,GN382,0)))))))))))))))","v":0},{"$f":"IF(GRLTilleggTrekk=1,AC382,IF(GRLTilleggTrekk=2,AO382,IF(GRLTilleggTrekk=3,BA382,IF(GRLTilleggTrekk=4,BM382,IF(GRLTilleggTrekk=5,BY382,IF(GRLTilleggTrekk=6,CK382,IF(GRLTilleggTrekk=7,CW382,IF(GRLTilleggTrekk=8,DI382,IF(GRLTilleggTrekk=9,DU382,IF(GRLTilleggTrekk=10,EG382,IF(GRLTilleggTrekk=11,ES382,IF(GRLTilleggTrekk=12,FE382,IF(GRLTilleggTrekk=13,FQ382,IF(GRLTilleggTrekk=14,GC382,IF(GRLTilleggTrekk=15,GO382,0)))))))))))))))","v":0},{"$f":"IF(GRLTilleggTrekk=1,AD382,IF(GRLTilleggTrekk=2,AP382,IF(GRLTilleggTrekk=3,BB382,IF(GRLTilleggTrekk=4,BN382,IF(GRLTilleggTrekk=5,BZ382,IF(GRLTilleggTrekk=6,CL382,IF(GRLTilleggTrekk=7,CX382,IF(GRLTilleggTrekk=8,DJ382,IF(GRLTilleggTrekk=9,DV382,IF(GRLTilleggTrekk=10,EH382,IF(GRLTilleggTrekk=11,ET382,IF(GRLTilleggTrekk=12,FF382,IF(GRLTilleggTrekk=13,FR382,IF(GRLTilleggTrekk=14,GD382,IF(GRLTilleggTrekk=15,GP382,0)))))))))))))))","v":0},{"$f":"IF(GRLTilleggTrekk=1,AE382,IF(GRLTilleggTrekk=2,AQ382,IF(GRLTilleggTrekk=3,BC382,IF(GRLTilleggTrekk=4,BO382,IF(GRLTilleggTrekk=5,CA382,IF(GRLTilleggTrekk=6,CM382,IF(GRLTilleggTrekk=7,CY382,IF(GRLTilleggTrekk=8,DK382,IF(GRLTilleggTrekk=9,DW382,IF(GRLTilleggTrekk=10,EI382,IF(GRLTilleggTrekk=11,EU382,IF(GRLTilleggTrekk=12,FG382,IF(GRLTilleggTrekk=13,FS382,IF(GRLTilleggTrekk=14,GE382,IF(GRLTilleggTrekk=15,GQ382,0)))))))))))))))","v":0},{"$f":"IF(GRLTilleggTrekk=1,AF382,IF(GRLTilleggTrekk=2,AR382,IF(GRLTilleggTrekk=3,BD382,IF(GRLTilleggTrekk=4,BP382,IF(GRLTilleggTrekk=5,CB382,IF(GRLTilleggTrekk=6,CN382,IF(GRLTilleggTrekk=7,CZ382,IF(GRLTilleggTrekk=8,DL382,IF(GRLTilleggTrekk=9,DX382,IF(GRLTilleggTrekk=10,EJ382,IF(GRLTilleggTrekk=11,EV382,IF(GRLTilleggTrekk=12,FH382,IF(GRLTilleggTrekk=13,FT382,IF(GRLTilleggTrekk=14,GF382,IF(GRLTilleggTrekk=15,GR382,0)))))))))))))))","v":0},{"$f":"IF(GRLTilleggTrekk=1,AG382,IF(GRLTilleggTrekk=2,AS382,IF(GRLTilleggTrekk=3,BE382,IF(GRLTilleggTrekk=4,BQ382,IF(GRLTilleggTrekk=5,CC382,IF(GRLTilleggTrekk=6,CO382,IF(GRLTilleggTrekk=7,DA382,IF(GRLTilleggTrekk=8,DM382,IF(GRLTilleggTrekk=9,DY382,IF(GRLTilleggTrekk=10,EK382,IF(GRLTilleggTrekk=11,EW382,IF(GRLTilleggTrekk=12,FI382,IF(GRLTilleggTrekk=13,FU382,IF(GRLTilleggTrekk=14,GG382,IF(GRLTilleggTrekk=15,GS382,0)))))))))))))))","v":0},{"$f":"IF(GRLTilleggTrekk=1,AH382,IF(GRLTilleggTrekk=2,AT382,IF(GRLTilleggTrekk=3,BF382,IF(GRLTilleggTrekk=4,BR382,IF(GRLTilleggTrekk=5,CD382,IF(GRLTilleggTrekk=6,CP382,IF(GRLTilleggTrekk=7,DB382,IF(GRLTilleggTrekk=8,DN382,IF(GRLTilleggTrekk=9,DZ382,IF(GRLTilleggTrekk=10,EL382,IF(GRLTilleggTrekk=11,EX382,IF(GRLTilleggTrekk=12,FJ382,IF(GRLTilleggTrekk=13,FV382,IF(GRLTilleggTrekk=14,GH382,IF(GRLTilleggTrekk=15,GT382,0)))))))))))))))","v":0},{"$f":"IF(GRLTilleggTrekk=1,AI382,IF(GRLTilleggTrekk=2,AU382,IF(GRLTilleggTrekk=3,BG382,IF(GRLTilleggTrekk=4,BS382,IF(GRLTilleggTrekk=5,CE382,IF(GRLTilleggTrekk=6,CQ382,IF(GRLTilleggTrekk=7,DC382,IF(GRLTilleggTrekk=8,DO382,IF(GRLTilleggTrekk=9,EA382,IF(GRLTilleggTrekk=10,EM382,IF(GRLTilleggTrekk=11,EY382,IF(GRLTilleggTrekk=12,FK382,IF(GRLTilleggTrekk=13,FW382,IF(GRLTilleggTrekk=14,GI382,IF(GRLTilleggTrekk=15,GU382,0)))))))))))))))","v":0},{"$f":"IF(GRLTilleggTrekk=1,AJ382,IF(GRLTilleggTrekk=2,AV382,IF(GRLTilleggTrekk=3,BH382,IF(GRLTilleggTrekk=4,BT382,IF(GRLTilleggTrekk=5,CF382,IF(GRLTilleggTrekk=6,CR382,IF(GRLTilleggTrekk=7,DD382,IF(GRLTilleggTrekk=8,DP382,IF(GRLTilleggTrekk=9,EB382,IF(GRLTilleggTrekk=10,EN382,IF(GRLTilleggTrekk=11,EZ382,IF(GRLTilleggTrekk=12,FL382,IF(GRLTilleggTrekk=13,FX382,IF(GRLTilleggTrekk=14,GJ382,IF(GRLTilleggTrekk=15,GV382,0)))))))))))))))","v":0},{"$f":"IF(GRLTilleggTrekk=1,AK382,IF(GRLTilleggTrekk=2,AW382,IF(GRLTilleggTrekk=3,BI382,IF(GRLTilleggTrekk=4,BU382,IF(GRLTilleggTrekk=5,CG382,IF(GRLTilleggTrekk=6,CS382,IF(GRLTilleggTrekk=7,DE382,IF(GRLTilleggTrekk=8,DQ382,IF(GRLTilleggTrekk=9,EC382,IF(GRLTilleggTrekk=10,EO382,IF(GRLTilleggTrekk=11,FA382,IF(GRLTilleggTrekk=12,FM382,IF(GRLTilleggTrekk=13,FY382,IF(GRLTilleggTrekk=14,GK382,IF(GRLTilleggTrekk=15,GW382,0)))))))))))))))","v":0},{"$f":"IF(GRLTilleggTrekk=1,AL382,IF(GRLTilleggTrekk=2,AX382,IF(GRLTilleggTrekk=3,BJ382,IF(GRLTilleggTrekk=4,BV382,IF(GRLTilleggTrekk=5,CH382,IF(GRLTilleggTrekk=6,CT382,IF(GRLTilleggTrekk=7,DF382,IF(GRLTilleggTrekk=8,DR382,IF(GRLTilleggTrekk=9,ED382,IF(GRLTilleggTrekk=10,EP382,IF(GRLTilleggTrekk=11,FB382,IF(GRLTilleggTrekk=12,FN382,IF(GRLTilleggTrekk=13,FZ382,IF(GRLTilleggTrekk=14,GL382,IF(GRLTilleggTrekk=15,GX382,0)))))))))))))))","v":0},{"$f":"IF(GRLTilleggTrekk=1,AM382,IF(GRLTilleggTrekk=2,AY382,IF(GRLTilleggTrekk=3,BK382,IF(GRLTilleggTrekk=4,BW382,IF(GRLTilleggTrekk=5,CI382,IF(GRLTilleggTrekk=6,CU382,IF(GRLTilleggTrekk=7,DG382,IF(GRLTilleggTrekk=8,DS382,IF(GRLTilleggTrekk=9,EE382,IF(GRLTilleggTrekk=10,EQ382,IF(GRLTilleggTrekk=11,FC382,IF(GRLTilleggTrekk=12,FO382,IF(GRLTilleggTrekk=13,GA382,IF(GRLTilleggTrekk=14,GM382,IF(GRLTilleggTrekk=15,GY382,0)))))))))))))))","v":0},{"$f":"$T$332","v":0},{"$f":"$U$332","v":0},null,0,0,1,{"$f":"A382+1","v":6},null,20,null,null,null,null,6100,null,null,null,null,3051,null,20,null,null,null,null,6100]
[5,6,{"$f":"C382+1","v":2},"Frakt v/kjøp av varer",null,"Bruke bare en kode for frakt?",56002,0,0,0,0,0,0,0,0,0,0,0,0,0,0,null,0,0,1,6,null,20,null,null,null,null,6100,null,null,null,null,3051,null,20,null,null,null,null,6100,null,null,null,null,6100]
[5,6,3,"Klipping sau/lam",null,null,56003,0,0,0,0,0,0,0,0,0,0,0,0,0,0,null,0,0,1,6,null,20,null,null,null,null,4533,null,null,null,null,null,null,20,null,null,null,null,4533]
[5,6,4,"Prisavslag og rabatt ved kjøp av livdyr",null,null,56004,0,0,0,0,0,0,0,0,0,0,0,0,0,0,null,0,0,1,6,null,20,null,null,null,null,4600,null,null,null,null,3051,null,20,null,null,null,null,null,null,null,null,null,3051]
[5,6,5,"Leie av dyr",null,null,56005,0,0,0,0,0,0,0,0,0,0,0,0,0,0,null,0,0,1,6,null,20,null,null,null,null,6480,null,null,null,null,3620,null,20,null,null,null,null,6480,null,null,null,null,3620]
[5,6,6,"Plukking",null,"Ikke hos Nortura?",56006,0,0,0,0,0,0,0,0,0,0,0,0,0,0,null,0,0,1,{"$f":"A387+1","v":6},null,20,null,null,null,null,4539,null,null,null,null,null,null,20,null,null,null,null,4539]
[5,6,7,"Lån fra varemottaker",null,null,56007,0,0,0,0,0,0,0,0,0,0,0,0,0,0,null,0,0,1,6,null,10,null,null,null,null,null,null,null,null,null,null,null,10]
[5,6,8,"Veterinærutgifter",null,null,56008,0,0,0,0,0,0,0,0,0,0,0,0,0,0,null,0,0,1,{"$f":"A389+1","v":6},null,20,null,null,null,null,4521,null,null,null,null,null,null,20,null,null,null,null,4521]
[5,6,9,"Medisin",null,null,56009,0,0,0,0,0,0,0,0,0,0,0,0,0,0,null,0,0,1,{"$f":"A390+1","v":6},null,20,null,null,null,null,4420]
[5,6,999,"Andre varer og tjenester",null,null,56999,0,0,0,0,0,0,0,0,0,0,0,0,0,0,null,0,0,1,6,null,20,null,null,null,null,null,null,null,null,null,null,null,20]
[6,0,0,{"$f":"Produkt!E304","v":"Skogbruk og andre næringer"},null,null,60000,null,null,null,null,null,null,null,null,null,null,null,null,{"$f":"IF(GRLTilleggTrekk=1,AE392,IF(GRLTilleggTrekk=2,AQ392,IF(GRLTilleggTrekk=3,BC392,IF(GRLTilleggTrekk=4,BO392,IF(GRLTilleggTrekk=5,CA392,IF(GRLTilleggTrekk=6,CM392,IF(GRLTilleggTrekk=7,CY392,IF(GRLTilleggTrekk=8,DK392,IF(GRLTilleggTrekk=9,DW392,IF(GRLTilleggTrekk=10,EI392,IF(GRLTilleggTrekk=11,EU392,IF(GRLTilleggTrekk=12,FG392,IF(GRLTilleggTrekk=13,FS392,IF(GRLTilleggTrekk=14,GE392,IF(GRLTilleggTrekk=15,GQ392,0)))))))))))))))","v":0},{"$f":"IF(GRLTilleggTrekk=1,AF392,IF(GRLTilleggTrekk=2,AR392,IF(GRLTilleggTrekk=3,BD392,IF(GRLTilleggTrekk=4,BP392,IF(GRLTilleggTrekk=5,CB392,IF(GRLTilleggTrekk=6,CN392,IF(GRLTilleggTrekk=7,CZ392,IF(GRLTilleggTrekk=8,DL392,IF(GRLTilleggTrekk=9,DX392,IF(GRLTilleggTrekk=10,EJ392,IF(GRLTilleggTrekk=11,EV392,IF(GRLTilleggTrekk=12,FH392,IF(GRLTilleggTrekk=13,FT392,IF(GRLTilleggTrekk=14,GF392,IF(GRLTilleggTrekk=15,GR392,0)))))))))))))))","v":0},null,1,1,1,7,null,"Skogbruk",null,"Kode fra/til",6100,6199,null,null,null,null,null,null,null,"Tekst",null,"Kode fra/til",null,null,null,null,null,null,null,null,null,"Tekst",null,"Kode fra/til",null,null,null,null,null,null,null,null,null,"Tekst",null,"Kode fra/til",null,null,null,null,null,null,null,null,null,"Tekst",null,"Kode fra/til",null,null,null,null,null,null,null,null,null,"Tekst",null,"Kode fra/til",null,null,null,null,null,null,null,null,null,"Tekst",null,"Kode fra/til",null,null,null,null,null,null,null,null,null,"Tekst",null,"Kode fra/til",null,null,null,null,null,null,null,null,null,"Tekst",null,"Kode fra/til",null,null,null,null,null,null,null,null,null,"Tekst",null,"Kode fra/til",null,null,null,null,null,null,null,null,null,"Tekst",null,"Kode fra/til",null,null,null,null,null,null,null,null,null,"Tekst",null,"Kode fra/til",null,null,null,null,null,null,null,null,null,"Tekst",null,"Kode fra/til",null,null,null,null,null,null,null,null,null,"Tekst",null,"Kode fra/til",null,null,null,null,null,null,null,null,null,"Tekst",null,"Kode fra/til"]
[6,1,0,"Tillegg",null,null,{"$f":"VALUE(A393&B393&IF(LEN(C393)=1,\"00\"&C393,IF(LEN(C393)=2,\"0\"&C393,C393)))","v":61000},null,null,null,null,null,null,null,null,null,null,null,null,null,null,null,0,1,1,7]
[6,1,1,"Tillegg tynning - Skogbruk",null,null,61001,{"$f":"IF(GRLTilleggTrekk=1,AB394,IF(GRLTilleggTrekk=2,AN394,IF(GRLTilleggTrekk=3,AZ394,IF(GRLTilleggTrekk=4,BL394,IF(GRLTilleggTrekk=5,BX394,IF(GRLTilleggTrekk=6,CJ394,IF(GRLTilleggTrekk=7,CV394,IF(GRLTilleggTrekk=8,DH394,IF(GRLTilleggTrekk=9,DT394,IF(GRLTilleggTrekk=10,EF394,IF(GRLTilleggTrekk=11,ER394,IF(GRLTilleggTrekk=12,FD394,IF(GRLTilleggTrekk=13,FP394,IF(GRLTilleggTrekk=14,GB394,IF(GRLTilleggTrekk=15,GN394,0)))))))))))))))","v":0},{"$f":"IF(GRLTilleggTrekk=1,AC394,IF(GRLTilleggTrekk=2,AO394,IF(GRLTilleggTrekk=3,BA394,IF(GRLTilleggTrekk=4,BM394,IF(GRLTilleggTrekk=5,BY394,IF(GRLTilleggTrekk=6,CK394,IF(GRLTilleggTrekk=7,CW394,IF(GRLTilleggTrekk=8,DI394,IF(GRLTilleggTrekk=9,DU394,IF(GRLTilleggTrekk=10,EG394,IF(GRLTilleggTrekk=11,ES394,IF(GRLTilleggTrekk=12,FE394,IF(GRLTilleggTrekk=13,FQ394,IF(GRLTilleggTrekk=14,GC394,IF(GRLTilleggTrekk=15,GO394,0)))))))))))))))","v":0},{"$f":"IF(GRLTilleggTrekk=1,AD394,IF(GRLTilleggTrekk=2,AP394,IF(GRLTilleggTrekk=3,BB394,IF(GRLTilleggTrekk=4,BN394,IF(GRLTilleggTrekk=5,BZ394,IF(GRLTilleggTrekk=6,CL394,IF(GRLTilleggTrekk=7,CX394,IF(GRLTilleggTrekk=8,DJ394,IF(GRLTilleggTrekk=9,DV394,IF(GRLTilleggTrekk=10,EH394,IF(GRLTilleggTrekk=11,ET394,IF(GRLTilleggTrekk=12,FF394,IF(GRLTilleggTrekk=13,FR394,IF(GRLTilleggTrekk=14,GD394,IF(GRLTilleggTrekk=15,GP394,0)))))))))))))))","v":0},{"$f":"IF(GRLTilleggTrekk=1,AE394,IF(GRLTilleggTrekk=2,AQ394,IF(GRLTilleggTrekk=3,BC394,IF(GRLTilleggTrekk=4,BO394,IF(GRLTilleggTrekk=5,CA394,IF(GRLTilleggTrekk=6,CM394,IF(GRLTilleggTrekk=7,CY394,IF(GRLTilleggTrekk=8,DK394,IF(GRLTilleggTrekk=9,DW394,IF(GRLTilleggTrekk=10,EI394,IF(GRLTilleggTrekk=11,EU394,IF(GRLTilleggTrekk=12,FG394,IF(GRLTilleggTrekk=13,FS394,IF(GRLTilleggTrekk=14,GE394,IF(GRLTilleggTrekk=15,GQ394,0)))))))))))))))","v":0},{"$f":"IF(GRLTilleggTrekk=1,AF394,IF(GRLTilleggTrekk=2,AR394,IF(GRLTilleggTrekk=3,BD394,IF(GRLTilleggTrekk=4,BP394,IF(GRLTilleggTrekk=5,CB394,IF(GRLTilleggTrekk=6,CN394,IF(GRLTilleggTrekk=7,CZ394,IF(GRLTilleggTrekk=8,DL394,IF(GRLTilleggTrekk=9,DX394,IF(GRLTilleggTrekk=10,EJ394,IF(GRLTilleggTrekk=11,EV394,IF(GRLTilleggTrekk=12,FH394,IF(GRLTilleggTrekk=13,FT394,IF(GRLTilleggTrekk=14,GF394,IF(GRLTilleggTrekk=15,GR394,0)))))))))))))))","v":0},{"$f":"IF(GRLTilleggTrekk=1,AG394,IF(GRLTilleggTrekk=2,AS394,IF(GRLTilleggTrekk=3,BE394,IF(GRLTilleggTrekk=4,BQ394,IF(GRLTilleggTrekk=5,CC394,IF(GRLTilleggTrekk=6,CO394,IF(GRLTilleggTrekk=7,DA394,IF(GRLTilleggTrekk=8,DM394,IF(GRLTilleggTrekk=9,DY394,IF(GRLTilleggTrekk=10,EK394,IF(GRLTilleggTrekk=11,EW394,IF(GRLTilleggTrekk=12,FI394,IF(GRLTilleggTrekk=13,FU394,IF(GRLTilleggTrekk=14,GG394,IF(GRLTilleggTrekk=15,GS394,0)))))))))))))))","v":0},{"$f":"IF(GRLTilleggTrekk=1,AH394,IF(GRLTilleggTrekk=2,AT394,IF(GRLTilleggTrekk=3,BF394,IF(GRLTilleggTrekk=4,BR394,IF(GRLTilleggTrekk=5,CD394,IF(GRLTilleggTrekk=6,CP394,IF(GRLTilleggTrekk=7,DB394,IF(GRLTilleggTrekk=8,DN394,IF(GRLTilleggTrekk=9,DZ394,IF(GRLTilleggTrekk=10,EL394,IF(GRLTilleggTrekk=11,EX394,IF(GRLTilleggTrekk=12,FJ394,IF(GRLTilleggTrekk=13,FV394,IF(GRLTilleggTrekk=14,GH394,IF(GRLTilleggTrekk=15,GT394,0)))))))))))))))","v":0},{"$f":"IF(GRLTilleggTrekk=1,AI394,IF(GRLTilleggTrekk=2,AU394,IF(GRLTilleggTrekk=3,BG394,IF(GRLTilleggTrekk=4,BS394,IF(GRLTilleggTrekk=5,CE394,IF(GRLTilleggTrekk=6,CQ394,IF(GRLTilleggTrekk=7,DC394,IF(GRLTilleggTrekk=8,DO394,IF(GRLTilleggTrekk=9,EA394,IF(GRLTilleggTrekk=10,EM394,IF(GRLTilleggTrekk=11,EY394,IF(GRLTilleggTrekk=12,FK394,IF(GRLTilleggTrekk=13,FW394,IF(GRLTilleggTrekk=14,GI394,IF(GRLTilleggTrekk=15,GU394,0)))))))))))))))","v":0},{"$f":"IF(GRLTilleggTrekk=1,AJ394,IF(GRLTilleggTrekk=2,AV394,IF(GRLTilleggTrekk=3,BH394,IF(GRLTilleggTrekk=4,BT394,IF(GRLTilleggTrekk=5,CF394,IF(GRLTilleggTrekk=6,CR394,IF(GRLTilleggTrekk=7,DD394,IF(GRLTilleggTrekk=8,DP394,IF(GRLTilleggTrekk=9,EB394,IF(GRLTilleggTrekk=10,EN394,IF(GRLTilleggTrekk=11,EZ394,IF(GRLTilleggTrekk=12,FL394,IF(GRLTilleggTrekk=13,FX394,IF(GRLTilleggTrekk=14,GJ394,IF(GRLTilleggTrekk=15,GV394,0)))))))))))))))","v":0},{"$f":"IF(GRLTilleggTrekk=1,AK394,IF(GRLTilleggTrekk=2,AW394,IF(GRLTilleggTrekk=3,BI394,IF(GRLTilleggTrekk=4,BU394,IF(GRLTilleggTrekk=5,CG394,IF(GRLTilleggTrekk=6,CS394,IF(GRLTilleggTrekk=7,DE394,IF(GRLTilleggTrekk=8,DQ394,IF(GRLTilleggTrekk=9,EC394,IF(GRLTilleggTrekk=10,EO394,IF(GRLTilleggTrekk=11,FA394,IF(GRLTilleggTrekk=12,FM394,IF(GRLTilleggTrekk=13,FY394,IF(GRLTilleggTrekk=14,GK394,IF(GRLTilleggTrekk=15,GW394,0)))))))))))))))","v":0},{"$f":"IF(GRLTilleggTrekk=1,AL394,IF(GRLTilleggTrekk=2,AX394,IF(GRLTilleggTrekk=3,BJ394,IF(GRLTilleggTrekk=4,BV394,IF(GRLTilleggTrekk=5,CH394,IF(GRLTilleggTrekk=6,CT394,IF(GRLTilleggTrekk=7,DF394,IF(GRLTilleggTrekk=8,DR394,IF(GRLTilleggTrekk=9,ED394,IF(GRLTilleggTrekk=10,EP394,IF(GRLTilleggTrekk=11,FB394,IF(GRLTilleggTrekk=12,FN394,IF(GRLTilleggTrekk=13,FZ394,IF(GRLTilleggTrekk=14,GL394,IF(GRLTilleggTrekk=15,GX394,0)))))))))))))))","v":0},{"$f":"IF(GRLTilleggTrekk=1,AM394,IF(GRLTilleggTrekk=2,AY394,IF(GRLTilleggTrekk=3,BK394,IF(GRLTilleggTrekk=4,BW394,IF(GRLTilleggTrekk=5,CI394,IF(GRLTilleggTrekk=6,CU394,IF(GRLTilleggTrekk=7,DG394,IF(GRLTilleggTrekk=8,DS394,IF(GRLTilleggTrekk=9,EE394,IF(GRLTilleggTrekk=10,EQ394,IF(GRLTilleggTrekk=11,FC394,IF(GRLTilleggTrekk=12,FO394,IF(GRLTilleggTrekk=13,GA394,IF(GRLTilleggTrekk=14,GM394,IF(GRLTilleggTrekk=15,GY394,0)))))))))))))))","v":0},{"$f":"$T$392","v":0},{"$f":"$U$392","v":0},null,0,0,1,7,null,30,null,null,null,null,null,null,null,null,null,3030]
[6,1,{"$f":"C394+1","v":2},"Tillegg lager (bonus) - Skogbruk",null,null,61002,0,0,0,0,0,0,0,0,0,0,0,0,{"$f":"$T$392","v":0},{"$f":"$U$392","v":0},null,0,0,1,7,null,30,null,null,null,null,null,null,null,null,null,3050]
[6,1,{"$f":"C395+1","v":3},"Tillegg terminal - Skogbruk",null,"??",61003,0,0,0,0,0,0,0,0,0,0,0,0,0,0,null,0,0,1,7,null,30]
[6,1,4,"Tillegg manuelt arbeid - Skogbruk",null,null,61004,0,0,0,0,0,0,0,0,0,0,0,0,0,0,null,0,0,1,7,null,30,null,null,null,null,null,null,null,null,null,3050]
[6,1,5,"Andelseiertillegg - Skogbruk",null,"Bonus?",61005,0,0,0,0,0,0,0,0,0,0,0,0,0,0,null,0,0,1,7,null,30,3200,null,null,null,null,null,null,null,null,3050]
[6,1,6,"Tillegg for bratt terreng, gran massevirke",null,null,61006,0,0,0,0,0,0,0,0,0,0,0,0,0,0,null,0,0,1,{"$f":"A399+1","v":7},null,30,null,null,null,null,null,null,null,null,null,3030]
[6,1,7,"Tillegg for bratt terreng, gran sagtømmer",null,null,61007,0,0,0,0,0,0,0,0,0,0,0,0,0,0,null,0,0,1,{"$f":"A400+1","v":7},null,30,null,null,null,null,null,null,null,null,null,3010]
[6,1,8,"Tillegg for bratt terreng, furu sagtømmer",null,null,61008,0,0,0,0,0,0,0,0,0,0,0,0,0,0,null,0,0,1,{"$f":"A401+1","v":7},null,30,null,null,null,null,null,null,null,null,null,3010]
[6,1,999,"Andre tillegg",null,null,61999,0,0,0,0,0,0,0,0,0,0,0,0,0,0,null,0,0,1,7,null,30]
[6,2,0,"Trekk",null,null,62000,null,null,null,null,null,null,null,null,null,null,null,null,null,null,null,0,1,1,7]
[6,2,1,"Skogfond - Skogbruk",null,null,62001,{"$f":"IF(GRLTilleggTrekk=1,AB404,IF(GRLTilleggTrekk=2,AN404,IF(GRLTilleggTrekk=3,AZ404,IF(GRLTilleggTrekk=4,BL404,IF(GRLTilleggTrekk=5,BX404,IF(GRLTilleggTrekk=6,CJ404,IF(GRLTilleggTrekk=7,CV404,IF(GRLTilleggTrekk=8,DH404,IF(GRLTilleggTrekk=9,DT404,IF(GRLTilleggTrekk=10,EF404,IF(GRLTilleggTrekk=11,ER404,IF(GRLTilleggTrekk=12,FD404,IF(GRLTilleggTrekk=13,FP404,IF(GRLTilleggTrekk=14,GB404,IF(GRLTilleggTrekk=15,GN404,0)))))))))))))))","v":0},0,0,0,0,0,0,0,0,0,0,0,0,0,null,0,0,1,7,null,30,null,7761]
[6,2,{"$f":"C404+1","v":2},"Kontingenter - Skogbruk",null,null,62002,0,0,0,0,0,0,0,0,0,0,0,0,0,0,null,0,0,1,7,null,30]
[6,2,{"$f":"C405+1","v":3},"Terminaltrekk - Skogbruk",null,null,62003,0,0,0,0,0,0,0,0,0,0,0,0,0,0,null,0,0,1,7,null,30,null,4510,null,null,4510]
[6,2,{"$f":"C406+1","v":4},"Andelstrekk - Skogbruk",null,null,62004,0,0,0,0,0,0,0,0,0,0,0,0,0,0,null,0,0,1,7,null,10,1355]
[6,2,999,"Andre trekk",null,null,62999,0,0,0,0,0,0,0,0,0,0,0,0,0,0,null,0,0,1,7,null,30]
[6,3,0,"Avgifter",null,null,63000,null,null,null,null,null,null,null,null,null,null,null,null,null,null,null,0,1,1,7]
[6,3,1,"Avvirkningsavgift - Skogbruk",null,null,63001,{"$f":"IF(GRLTilleggTrekk=1,AB410,IF(GRLTilleggTrekk=2,AN410,IF(GRLTilleggTrekk=3,AZ410,IF(GRLTilleggTrekk=4,BL410,IF(GRLTilleggTrekk=5,BX410,IF(GRLTilleggTrekk=6,CJ410,IF(GRLTilleggTrekk=7,CV410,IF(GRLTilleggTrekk=8,DH410,IF(GRLTilleggTrekk=9,DT410,IF(GRLTilleggTrekk=10,EF410,IF(GRLTilleggTrekk=11,ER410,IF(GRLTilleggTrekk=12,FD410,IF(GRLTilleggTrekk=13,FP410,IF(GRLTilleggTrekk=14,GB410,IF(GRLTilleggTrekk=15,GN410,0)))))))))))))))","v":0},0,0,0,0,0,0,0,0,0,0,0,0,0,null,0,0,1,7,null,30,null,7781,null,null,7781]
[6,3,{"$f":"C410+1","v":2},"FOU-avgift - Skogbruk",null,null,63002,0,0,0,0,0,0,0,0,0,0,0,0,0,0,null,{"$f":"IF(B411=0,1,0)","v":0},{"$f":"IF(OR(C411=0,MID(C411,2,2)=\"00\"),1,0)","v":0},1,7,null,30,null,7792]
[6,3,999,"Andre avgifter",null,null,63999,0,0,0,0,0,0,0,0,0,0,0,0,0,0,null,0,0,1,7,null,30]
[6,4,0,"Etterbetalinger, erstatninger og bonuser",null,null,64000,null,null,null,null,null,null,null,null,null,null,null,null,null,null,null,0,1,1,7]
[6,4,1,"Etterbetalinger - Skogbruk",null,null,64001,{"$f":"IF(GRLTilleggTrekk=1,AB414,IF(GRLTilleggTrekk=2,AN414,IF(GRLTilleggTrekk=3,AZ414,IF(GRLTilleggTrekk=4,BL414,IF(GRLTilleggTrekk=5,BX414,IF(GRLTilleggTrekk=6,CJ414,IF(GRLTilleggTrekk=7,CV414,IF(GRLTilleggTrekk=8,DH414,IF(GRLTilleggTrekk=9,DT414,IF(GRLTilleggTrekk=10,EF414,IF(GRLTilleggTrekk=11,ER414,IF(GRLTilleggTrekk=12,FD414,IF(GRLTilleggTrekk=13,FP414,IF(GRLTilleggTrekk=14,GB414,IF(GRLTilleggTrekk=15,GN414,0)))))))))))))))","v":0},{"$f":"IF(GRLTilleggTrekk=1,AC414,IF(GRLTilleggTrekk=2,AO414,IF(GRLTilleggTrekk=3,BA414,IF(GRLTilleggTrekk=4,BM414,IF(GRLTilleggTrekk=5,BY414,IF(GRLTilleggTrekk=6,CK414,IF(GRLTilleggTrekk=7,CW414,IF(GRLTilleggTrekk=8,DI414,IF(GRLTilleggTrekk=9,DU414,IF(GRLTilleggTrekk=10,EG414,IF(GRLTilleggTrekk=11,ES414,IF(GRLTilleggTrekk=12,FE414,IF(GRLTilleggTrekk=13,FQ414,IF(GRLTilleggTrekk=14,GC414,IF(GRLTilleggTrekk=15,GO414,0)))))))))))))))","v":0},{"$f":"IF(GRLTilleggTrekk=1,AD414,IF(GRLTilleggTrekk=2,AP414,IF(GRLTilleggTrekk=3,BB414,IF(GRLTilleggTrekk=4,BN414,IF(GRLTilleggTrekk=5,BZ414,IF(GRLTilleggTrekk=6,CL414,IF(GRLTilleggTrekk=7,CX414,IF(GRLTilleggTrekk=8,DJ414,IF(GRLTilleggTrekk=9,DV414,IF(GRLTilleggTrekk=10,EH414,IF(GRLTilleggTrekk=11,ET414,IF(GRLTilleggTrekk=12,FF414,IF(GRLTilleggTrekk=13,FR414,IF(GRLTilleggTrekk=14,GD414,IF(GRLTilleggTrekk=15,GP414,0)))))))))))))))","v":0},{"$f":"IF(GRLTilleggTrekk=1,AE414,IF(GRLTilleggTrekk=2,AQ414,IF(GRLTilleggTrekk=3,BC414,IF(GRLTilleggTrekk=4,BO414,IF(GRLTilleggTrekk=5,CA414,IF(GRLTilleggTrekk=6,CM414,IF(GRLTilleggTrekk=7,CY414,IF(GRLTilleggTrekk=8,DK414,IF(GRLTilleggTrekk=9,DW414,IF(GRLTilleggTrekk=10,EI414,IF(GRLTilleggTrekk=11,EU414,IF(GRLTilleggTrekk=12,FG414,IF(GRLTilleggTrekk=13,FS414,IF(GRLTilleggTrekk=14,GE414,IF(GRLTilleggTrekk=15,GQ414,0)))))))))))))))","v":0},{"$f":"IF(GRLTilleggTrekk=1,AF414,IF(GRLTilleggTrekk=2,AR414,IF(GRLTilleggTrekk=3,BD414,IF(GRLTilleggTrekk=4,BP414,IF(GRLTilleggTrekk=5,CB414,IF(GRLTilleggTrekk=6,CN414,IF(GRLTilleggTrekk=7,CZ414,IF(GRLTilleggTrekk=8,DL414,IF(GRLTilleggTrekk=9,DX414,IF(GRLTilleggTrekk=10,EJ414,IF(GRLTilleggTrekk=11,EV414,IF(GRLTilleggTrekk=12,FH414,IF(GRLTilleggTrekk=13,FT414,IF(GRLTilleggTrekk=14,GF414,IF(GRLTilleggTrekk=15,GR414,0)))))))))))))))","v":0},{"$f":"IF(GRLTilleggTrekk=1,AG414,IF(GRLTilleggTrekk=2,AS414,IF(GRLTilleggTrekk=3,BE414,IF(GRLTilleggTrekk=4,BQ414,IF(GRLTilleggTrekk=5,CC414,IF(GRLTilleggTrekk=6,CO414,IF(GRLTilleggTrekk=7,DA414,IF(GRLTilleggTrekk=8,DM414,IF(GRLTilleggTrekk=9,DY414,IF(GRLTilleggTrekk=10,EK414,IF(GRLTilleggTrekk=11,EW414,IF(GRLTilleggTrekk=12,FI414,IF(GRLTilleggTrekk=13,FU414,IF(GRLTilleggTrekk=14,GG414,IF(GRLTilleggTrekk=15,GS414,0)))))))))))))))","v":0},{"$f":"IF(GRLTilleggTrekk=1,AH414,IF(GRLTilleggTrekk=2,AT414,IF(GRLTilleggTrekk=3,BF414,IF(GRLTilleggTrekk=4,BR414,IF(GRLTilleggTrekk=5,CD414,IF(GRLTilleggTrekk=6,CP414,IF(GRLTilleggTrekk=7,DB414,IF(GRLTilleggTrekk=8,DN414,IF(GRLTilleggTrekk=9,DZ414,IF(GRLTilleggTrekk=10,EL414,IF(GRLTilleggTrekk=11,EX414,IF(GRLTilleggTrekk=12,FJ414,IF(GRLTilleggTrekk=13,FV414,IF(GRLTilleggTrekk=14,GH414,IF(GRLTilleggTrekk=15,GT414,0)))))))))))))))","v":0},{"$f":"IF(GRLTilleggTrekk=1,AI414,IF(GRLTilleggTrekk=2,AU414,IF(GRLTilleggTrekk=3,BG414,IF(GRLTilleggTrekk=4,BS414,IF(GRLTilleggTrekk=5,CE414,IF(GRLTilleggTrekk=6,CQ414,IF(GRLTilleggTrekk=7,DC414,IF(GRLTilleggTrekk=8,DO414,IF(GRLTilleggTrekk=9,EA414,IF(GRLTilleggTrekk=10,EM414,IF(GRLTilleggTrekk=11,EY414,IF(GRLTilleggTrekk=12,FK414,IF(GRLTilleggTrekk=13,FW414,IF(GRLTilleggTrekk=14,GI414,IF(GRLTilleggTrekk=15,GU414,0)))))))))))))))","v":0},{"$f":"IF(GRLTilleggTrekk=1,AJ414,IF(GRLTilleggTrekk=2,AV414,IF(GRLTilleggTrekk=3,BH414,IF(GRLTilleggTrekk=4,BT414,IF(GRLTilleggTrekk=5,CF414,IF(GRLTilleggTrekk=6,CR414,IF(GRLTilleggTrekk=7,DD414,IF(GRLTilleggTrekk=8,DP414,IF(GRLTilleggTrekk=9,EB414,IF(GRLTilleggTrekk=10,EN414,IF(GRLTilleggTrekk=11,EZ414,IF(GRLTilleggTrekk=12,FL414,IF(GRLTilleggTrekk=13,FX414,IF(GRLTilleggTrekk=14,GJ414,IF(GRLTilleggTrekk=15,GV414,0)))))))))))))))","v":0},{"$f":"IF(GRLTilleggTrekk=1,AK414,IF(GRLTilleggTrekk=2,AW414,IF(GRLTilleggTrekk=3,BI414,IF(GRLTilleggTrekk=4,BU414,IF(GRLTilleggTrekk=5,CG414,IF(GRLTilleggTrekk=6,CS414,IF(GRLTilleggTrekk=7,DE414,IF(GRLTilleggTrekk=8,DQ414,IF(GRLTilleggTrekk=9,EC414,IF(GRLTilleggTrekk=10,EO414,IF(GRLTilleggTrekk=11,FA414,IF(GRLTilleggTrekk=12,FM414,IF(GRLTilleggTrekk=13,FY414,IF(GRLTilleggTrekk=14,GK414,IF(GRLTilleggTrekk=15,GW414,0)))))))))))))))","v":0},{"$f":"IF(GRLTilleggTrekk=1,AL414,IF(GRLTilleggTrekk=2,AX414,IF(GRLTilleggTrekk=3,BJ414,IF(GRLTilleggTrekk=4,BV414,IF(GRLTilleggTrekk=5,CH414,IF(GRLTilleggTrekk=6,CT414,IF(GRLTilleggTrekk=7,DF414,IF(GRLTilleggTrekk=8,DR414,IF(GRLTilleggTrekk=9,ED414,IF(GRLTilleggTrekk=10,EP414,IF(GRLTilleggTrekk=11,FB414,IF(GRLTilleggTrekk=12,FN414,IF(GRLTilleggTrekk=13,FZ414,IF(GRLTilleggTrekk=14,GL414,IF(GRLTilleggTrekk=15,GX414,0)))))))))))))))","v":0},{"$f":"IF(GRLTilleggTrekk=1,AM414,IF(GRLTilleggTrekk=2,AY414,IF(GRLTilleggTrekk=3,BK414,IF(GRLTilleggTrekk=4,BW414,IF(GRLTilleggTrekk=5,CI414,IF(GRLTilleggTrekk=6,CU414,IF(GRLTilleggTrekk=7,DG414,IF(GRLTilleggTrekk=8,DS414,IF(GRLTilleggTrekk=9,EE414,IF(GRLTilleggTrekk=10,EQ414,IF(GRLTilleggTrekk=11,FC414,IF(GRLTilleggTrekk=12,FO414,IF(GRLTilleggTrekk=13,GA414,IF(GRLTilleggTrekk=14,GM414,IF(GRLTilleggTrekk=15,GY414,0)))))))))))))))","v":0},0,0,null,0,0,1,7,null,30,null,null,null,null,null,null,null,null,null,3050]
[6,4,{"$f":"C414+1","v":2},"Rentekompensasjon - Skogbruk",null,null,64002,0,0,0,0,0,0,0,0,0,0,0,0,0,0,null,0,0,1,7,null,30,3905]
[6,4,{"$f":"C415+1","v":3},"Bonus virkessortimenter - Skogbruk",null,null,64003,0,0,0,0,0,0,0,0,0,0,0,0,0,0,null,0,0,1,7,null,30,null,null,null,null,null,null,null,null,null,3050]
[6,4,4,"Bonus andelseier/ny eier/eierskifte - Skogbruk",null,null,64004,0,0,0,0,0,0,0,0,0,0,0,0,0,0,null,0,0,1,7,null,30,null,null,null,null,null,null,null,null,null,3050]
[6,4,5,"Bonus stordrift - Skogbruk",null,null,64005,0,0,0,0,0,0,0,0,0,0,0,0,0,0,null,0,0,1,7,null,30,null,null,null,null,null,null,null,null,null,3050]
[6,4,6,"Bonus langsiktig avtale/kontrakt/total leveranse - Skogbruk",null,null,64006,0,0,0,0,0,0,0,0,0,0,0,0,0,0,null,0,0,1,7,null,30,null,null,null,null,null,null,null,null,null,3050]
[6,4,7,"Etterbetaling gran sagtømmer",null,null,64007,0,0,0,0,0,0,0,0,0,0,0,0,0,0,null,0,0,1,{"$f":"A420+1","v":7},null,30,null,null,null,null,null,null,null,null,null,3050]
[6,4,8,"Etterbetaling furu sagtømmer",null,null,64008,0,0,0,0,0,0,0,0,0,0,0,0,0,0,null,0,0,1,{"$f":"A421+1","v":7},null,30,null,null,null,null,null,null,null,null,null,3050]
[6,4,999,"Andre etterbetalinger, erstatninger og bonuser",null,null,64999,0,0,0,0,0,0,0,0,0,0,0,0,0,0,null,0,0,1,7,null,30]
[6,5,0,"Tilskudd",null,null,65000,null,null,null,null,null,null,null,null,null,null,null,null,null,null,null,0,1,1,7]
[6,5,1,"Miljøtilskudd",null,null,65001,{"$f":"IF(GRLTilleggTrekk=1,AB424,IF(GRLTilleggTrekk=2,AN424,IF(GRLTilleggTrekk=3,AZ424,IF(GRLTilleggTrekk=4,BL424,IF(GRLTilleggTrekk=5,BX424,IF(GRLTilleggTrekk=6,CJ424,IF(GRLTilleggTrekk=7,CV424,IF(GRLTilleggTrekk=8,DH424,IF(GRLTilleggTrekk=9,DT424,IF(GRLTilleggTrekk=10,EF424,IF(GRLTilleggTrekk=11,ER424,IF(GRLTilleggTrekk=12,FD424,IF(GRLTilleggTrekk=13,FP424,IF(GRLTilleggTrekk=14,GB424,IF(GRLTilleggTrekk=15,GN424,0)))))))))))))))","v":0},0,0,0,0,0,0,0,0,0,0,0,0,0,null,0,0,1,{"$f":"A424+1","v":7},null,30,null,null,null,null,null,3430]
[6,5,2,"Ledig",null,null,65002,0,0,0,0,0,0,0,0,0,0,0,0,0,0,null,0,0,1,{"$f":"A425+1","v":7}]
[6,5,999,"Andre tilskudd",null,null,65999,0,0,0,0,0,0,0,0,0,0,0,0,0,0,null,0,0,1,7,null,30]
[6,6,0,"Varer og tjenester",null,null,66000,null,null,null,null,null,null,null,null,null,null,null,null,null,null,null,0,1,1,7]
[6,6,1,"Måleutgifter - Skogbruk",null,null,66001,{"$f":"IF(GRLTilleggTrekk=1,AB428,IF(GRLTilleggTrekk=2,AN428,IF(GRLTilleggTrekk=3,AZ428,IF(GRLTilleggTrekk=4,BL428,IF(GRLTilleggTrekk=5,BX428,IF(GRLTilleggTrekk=6,CJ428,IF(GRLTilleggTrekk=7,CV428,IF(GRLTilleggTrekk=8,DH428,IF(GRLTilleggTrekk=9,DT428,IF(GRLTilleggTrekk=10,EF428,IF(GRLTilleggTrekk=11,ER428,IF(GRLTilleggTrekk=12,FD428,IF(GRLTilleggTrekk=13,FP428,IF(GRLTilleggTrekk=14,GB428,IF(GRLTilleggTrekk=15,GN428,0)))))))))))))))","v":0},0,0,0,0,0,0,0,0,0,0,0,0,0,null,0,0,1,7,null,30,null,7782,null,null,7782]
[6,6,{"$f":"C428+1","v":2},"Kostnad målekvittering - Skogbruk",null,null,66002,0,0,0,0,0,0,0,0,0,0,0,0,0,0,null,0,0,1,7,null,30,null,7782,null,null,7782]
[6,6,3,"Transporttillegg/Kipping",null,null,66003,0,0,0,0,0,0,0,0,0,0,0,0,0,0,null,0,0,1,{"$f":"A430+1","v":7},null,30,null,4510,null,null,4510]
[6,6,4,"Småpartitillegg",null,null,66004,0,0,0,0,0,0,0,0,0,0,0,0,0,0,null,0,0,1,7,null,30,null,4510,null,null,4510]
[6,6,5,"Virke til eget bruk",null,null,66005,0,0,0,0,0,0,0,0,0,0,0,0,0,0,null,0,0,1,7,null,30,null,null,null,null,null,null,3160,null,null,3060]
[6,6,6,"Driftsutgifter",null,null,66006,0,0,0,0,0,0,0,0,0,0,0,0,0,0,null,0,0,1,7,null,30,null,4510,null,null,4510]
[6,6,7,"Forskudd",null,null,66007,0,0,0,0,0,0,0,0,0,0,0,0,0,0,null,0,0,1,7,null,10,2900]
[6,6,999,"Andre varer og tjenester",null,null,66999,0,0,0,0,0,0,0,0,0,0,0,0,0,0,null,0,0,1,7,null,30]
[7,0,0,{"$f":"Produkt!E347","v":"Tilskudd fra/forvaltet av landbruksdirektoratet, annen offentlig etat og finansiering, renter etc."},null,null,70000,null,null,null,null,null,null,null,null,null,null,null,null,{"$f":"IF(GRLTilleggTrekk=1,AE436,IF(GRLTilleggTrekk=2,AQ436,IF(GRLTilleggTrekk=3,BC436,IF(GRLTilleggTrekk=4,BO436,IF(GRLTilleggTrekk=5,CA436,IF(GRLTilleggTrekk=6,CM436,IF(GRLTilleggTrekk=7,CY436,IF(GRLTilleggTrekk=8,DK436,IF(GRLTilleggTrekk=9,DW436,IF(GRLTilleggTrekk=10,EI436,IF(GRLTilleggTrekk=11,EU436,IF(GRLTilleggTrekk=12,FG436,IF(GRLTilleggTrekk=13,FS436,IF(GRLTilleggTrekk=14,GE436,IF(GRLTilleggTrekk=15,GQ436,0)))))))))))))))","v":0},{"$f":"IF(GRLTilleggTrekk=1,AF436,IF(GRLTilleggTrekk=2,AR436,IF(GRLTilleggTrekk=3,BD436,IF(GRLTilleggTrekk=4,BP436,IF(GRLTilleggTrekk=5,CB436,IF(GRLTilleggTrekk=6,CN436,IF(GRLTilleggTrekk=7,CZ436,IF(GRLTilleggTrekk=8,DL436,IF(GRLTilleggTrekk=9,DX436,IF(GRLTilleggTrekk=10,EJ436,IF(GRLTilleggTrekk=11,EV436,IF(GRLTilleggTrekk=12,FH436,IF(GRLTilleggTrekk=13,FT436,IF(GRLTilleggTrekk=14,GF436,IF(GRLTilleggTrekk=15,GR436,0)))))))))))))))","v":0},null,{"$f":"IF(B436=0,1,0)","v":1},{"$f":"IF(OR(C436=0,MID(C436,2,2)=\"00\"),1,0)","v":1},1,{"$f":"A436+1","v":8},null,"Finanser",null,"Kode fra/til",7910,7910,null,null,null,null,null,null,null,"Tilskudd",null,"Kode fra/til",7100,7499,null,null,null,null,null,null,null,"Tekst",null,"Kode fra/til",null,null,null,null,null,null,null,null,null,"Tekst",null,"Kode fra/til",null,null,null,null,null,null,null,null,null,"Tekst",null,"Kode fra/til",null,null,null,null,null,null,null,null,null,"Tekst",null,"Kode fra/til",null,null,null,null,null,null,null,null,null,"Tekst",null,"Kode fra/til",null,null,null,null,null,null,null,null,null,"Tekst",null,"Kode fra/til",null,null,null,null,null,null,null,null,null,"Tekst",null,"Kode fra/til",null,null,null,null,null,null,null,null,null,"Tekst",null,"Kode fra/til",null,null,null,null,null,null,null,null,null,"Tekst",null,"Kode fra/til",null,null,null,null,null,null,null,null,null,"Tekst",null,"Kode fra/til",null,null,null,null,null,null,null,null,null,"Tekst",null,"Kode fra/til",null,null,null,null,null,null,null,null,null,"Tekst",null,"Kode fra/til",null,null,null,null,null,null,null,null,null,"Tekst",null,"Kode fra/til"]
[7,5,0,"Tilskudd",null,null,75000,null,null,null,null,null,null,null,null,null,null,null,null,null,null,null,0,{"$f":"IF(OR(C437=0,MID(C437,2,2)=\"00\"),1,0)","v":1},1,8]
[7,5,1,"Ledig",null,"Foreløpig ikke i bruk",75001,{"$f":"IF(GRLTilleggTrekk=1,AB438,IF(GRLTilleggTrekk=2,AN438,IF(GRLTilleggTrekk=3,AZ438,IF(GRLTilleggTrekk=4,BL438,IF(GRLTilleggTrekk=5,BX438,IF(GRLTilleggTrekk=6,CJ438,IF(GRLTilleggTrekk=7,CV438,IF(GRLTilleggTrekk=8,DH438,IF(GRLTilleggTrekk=9,DT438,IF(GRLTilleggTrekk=10,EF438,IF(GRLTilleggTrekk=11,ER438,IF(GRLTilleggTrekk=12,FD438,IF(GRLTilleggTrekk=13,FP438,IF(GRLTilleggTrekk=14,GB438,IF(GRLTilleggTrekk=15,GN438,0)))))))))))))))","v":0},0,0,0,0,0,0,0,0,0,0,0,{"$f":"$T$436","v":0},{"$f":"$U$436","v":0},null,0,0,1,8]
[7,5,{"$f":"C438+1","v":2},"Ledig",null,null,75002,0,0,0,0,0,0,0,0,0,0,0,0,{"$f":"$T$436","v":0},{"$f":"$U$436","v":0},null,0,0,1,8]
[7,5,{"$f":"C439+1","v":3},"Ledig",null,null,75003,0,0,0,0,0,0,0,0,0,0,0,0,0,0,null,{"$f":"IF(B440=0,1,0)","v":0},{"$f":"IF(OR(C440=0,MID(C440,2,2)=\"00\"),1,0)","v":0},1,{"$f":"A440+1","v":8}]
[7,6,0,"Varer og tjenester",null,null,76000,null,null,null,null,null,null,null,null,null,null,null,null,null,null,null,0,1,1,8]
[7,6,1,"Andelskapital",null,null,76001,{"$f":"IF(GRLTilleggTrekk=1,AB442,IF(GRLTilleggTrekk=2,AN442,IF(GRLTilleggTrekk=3,AZ442,IF(GRLTilleggTrekk=4,BL442,IF(GRLTilleggTrekk=5,BX442,IF(GRLTilleggTrekk=6,CJ442,IF(GRLTilleggTrekk=7,CV442,IF(GRLTilleggTrekk=8,DH442,IF(GRLTilleggTrekk=9,DT442,IF(GRLTilleggTrekk=10,EF442,IF(GRLTilleggTrekk=11,ER442,IF(GRLTilleggTrekk=12,FD442,IF(GRLTilleggTrekk=13,FP442,IF(GRLTilleggTrekk=14,GB442,IF(GRLTilleggTrekk=15,GN442,0)))))))))))))))","v":0},{"$f":"IF(GRLTilleggTrekk=1,AC442,IF(GRLTilleggTrekk=2,AO442,IF(GRLTilleggTrekk=3,BA442,IF(GRLTilleggTrekk=4,BM442,IF(GRLTilleggTrekk=5,BY442,IF(GRLTilleggTrekk=6,CK442,IF(GRLTilleggTrekk=7,CW442,IF(GRLTilleggTrekk=8,DI442,IF(GRLTilleggTrekk=9,DU442,IF(GRLTilleggTrekk=10,EG442,IF(GRLTilleggTrekk=11,ES442,IF(GRLTilleggTrekk=12,FE442,IF(GRLTilleggTrekk=13,FQ442,IF(GRLTilleggTrekk=14,GC442,IF(GRLTilleggTrekk=15,GO442,0)))))))))))))))","v":0},{"$f":"IF(GRLTilleggTrekk=1,AD442,IF(GRLTilleggTrekk=2,AP442,IF(GRLTilleggTrekk=3,BB442,IF(GRLTilleggTrekk=4,BN442,IF(GRLTilleggTrekk=5,BZ442,IF(GRLTilleggTrekk=6,CL442,IF(GRLTilleggTrekk=7,CX442,IF(GRLTilleggTrekk=8,DJ442,IF(GRLTilleggTrekk=9,DV442,IF(GRLTilleggTrekk=10,EH442,IF(GRLTilleggTrekk=11,ET442,IF(GRLTilleggTrekk=12,FF442,IF(GRLTilleggTrekk=13,FR442,IF(GRLTilleggTrekk=14,GD442,IF(GRLTilleggTrekk=15,GP442,0)))))))))))))))","v":0},{"$f":"IF(GRLTilleggTrekk=1,AE442,IF(GRLTilleggTrekk=2,AQ442,IF(GRLTilleggTrekk=3,BC442,IF(GRLTilleggTrekk=4,BO442,IF(GRLTilleggTrekk=5,CA442,IF(GRLTilleggTrekk=6,CM442,IF(GRLTilleggTrekk=7,CY442,IF(GRLTilleggTrekk=8,DK442,IF(GRLTilleggTrekk=9,DW442,IF(GRLTilleggTrekk=10,EI442,IF(GRLTilleggTrekk=11,EU442,IF(GRLTilleggTrekk=12,FG442,IF(GRLTilleggTrekk=13,FS442,IF(GRLTilleggTrekk=14,GE442,IF(GRLTilleggTrekk=15,GQ442,0)))))))))))))))","v":0},{"$f":"IF(GRLTilleggTrekk=1,AF442,IF(GRLTilleggTrekk=2,AR442,IF(GRLTilleggTrekk=3,BD442,IF(GRLTilleggTrekk=4,BP442,IF(GRLTilleggTrekk=5,CB442,IF(GRLTilleggTrekk=6,CN442,IF(GRLTilleggTrekk=7,CZ442,IF(GRLTilleggTrekk=8,DL442,IF(GRLTilleggTrekk=9,DX442,IF(GRLTilleggTrekk=10,EJ442,IF(GRLTilleggTrekk=11,EV442,IF(GRLTilleggTrekk=12,FH442,IF(GRLTilleggTrekk=13,FT442,IF(GRLTilleggTrekk=14,GF442,IF(GRLTilleggTrekk=15,GR442,0)))))))))))))))","v":0},{"$f":"IF(GRLTilleggTrekk=1,AG442,IF(GRLTilleggTrekk=2,AS442,IF(GRLTilleggTrekk=3,BE442,IF(GRLTilleggTrekk=4,BQ442,IF(GRLTilleggTrekk=5,CC442,IF(GRLTilleggTrekk=6,CO442,IF(GRLTilleggTrekk=7,DA442,IF(GRLTilleggTrekk=8,DM442,IF(GRLTilleggTrekk=9,DY442,IF(GRLTilleggTrekk=10,EK442,IF(GRLTilleggTrekk=11,EW442,IF(GRLTilleggTrekk=12,FI442,IF(GRLTilleggTrekk=13,FU442,IF(GRLTilleggTrekk=14,GG442,IF(GRLTilleggTrekk=15,GS442,0)))))))))))))))","v":0},{"$f":"IF(GRLTilleggTrekk=1,AH442,IF(GRLTilleggTrekk=2,AT442,IF(GRLTilleggTrekk=3,BF442,IF(GRLTilleggTrekk=4,BR442,IF(GRLTilleggTrekk=5,CD442,IF(GRLTilleggTrekk=6,CP442,IF(GRLTilleggTrekk=7,DB442,IF(GRLTilleggTrekk=8,DN442,IF(GRLTilleggTrekk=9,DZ442,IF(GRLTilleggTrekk=10,EL442,IF(GRLTilleggTrekk=11,EX442,IF(GRLTilleggTrekk=12,FJ442,IF(GRLTilleggTrekk=13,FV442,IF(GRLTilleggTrekk=14,GH442,IF(GRLTilleggTrekk=15,GT442,0)))))))))))))))","v":0},{"$f":"IF(GRLTilleggTrekk=1,AI442,IF(GRLTilleggTrekk=2,AU442,IF(GRLTilleggTrekk=3,BG442,IF(GRLTilleggTrekk=4,BS442,IF(GRLTilleggTrekk=5,CE442,IF(GRLTilleggTrekk=6,CQ442,IF(GRLTilleggTrekk=7,DC442,IF(GRLTilleggTrekk=8,DO442,IF(GRLTilleggTrekk=9,EA442,IF(GRLTilleggTrekk=10,EM442,IF(GRLTilleggTrekk=11,EY442,IF(GRLTilleggTrekk=12,FK442,IF(GRLTilleggTrekk=13,FW442,IF(GRLTilleggTrekk=14,GI442,IF(GRLTilleggTrekk=15,GU442,0)))))))))))))))","v":0},{"$f":"IF(GRLTilleggTrekk=1,AJ442,IF(GRLTilleggTrekk=2,AV442,IF(GRLTilleggTrekk=3,BH442,IF(GRLTilleggTrekk=4,BT442,IF(GRLTilleggTrekk=5,CF442,IF(GRLTilleggTrekk=6,CR442,IF(GRLTilleggTrekk=7,DD442,IF(GRLTilleggTrekk=8,DP442,IF(GRLTilleggTrekk=9,EB442,IF(GRLTilleggTrekk=10,EN442,IF(GRLTilleggTrekk=11,EZ442,IF(GRLTilleggTrekk=12,FL442,IF(GRLTilleggTrekk=13,FX442,IF(GRLTilleggTrekk=14,GJ442,IF(GRLTilleggTrekk=15,GV442,0)))))))))))))))","v":0},{"$f":"IF(GRLTilleggTrekk=1,AK442,IF(GRLTilleggTrekk=2,AW442,IF(GRLTilleggTrekk=3,BI442,IF(GRLTilleggTrekk=4,BU442,IF(GRLTilleggTrekk=5,CG442,IF(GRLTilleggTrekk=6,CS442,IF(GRLTilleggTrekk=7,DE442,IF(GRLTilleggTrekk=8,DQ442,IF(GRLTilleggTrekk=9,EC442,IF(GRLTilleggTrekk=10,EO442,IF(GRLTilleggTrekk=11,FA442,IF(GRLTilleggTrekk=12,FM442,IF(GRLTilleggTrekk=13,FY442,IF(GRLTilleggTrekk=14,GK442,IF(GRLTilleggTrekk=15,GW442,0)))))))))))))))","v":0},{"$f":"IF(GRLTilleggTrekk=1,AL442,IF(GRLTilleggTrekk=2,AX442,IF(GRLTilleggTrekk=3,BJ442,IF(GRLTilleggTrekk=4,BV442,IF(GRLTilleggTrekk=5,CH442,IF(GRLTilleggTrekk=6,CT442,IF(GRLTilleggTrekk=7,DF442,IF(GRLTilleggTrekk=8,DR442,IF(GRLTilleggTrekk=9,ED442,IF(GRLTilleggTrekk=10,EP442,IF(GRLTilleggTrekk=11,FB442,IF(GRLTilleggTrekk=12,FN442,IF(GRLTilleggTrekk=13,FZ442,IF(GRLTilleggTrekk=14,GL442,IF(GRLTilleggTrekk=15,GX442,0)))))))))))))))","v":0},{"$f":"IF(GRLTilleggTrekk=1,AM442,IF(GRLTilleggTrekk=2,AY442,IF(GRLTilleggTrekk=3,BK442,IF(GRLTilleggTrekk=4,BW442,IF(GRLTilleggTrekk=5,CI442,IF(GRLTilleggTrekk=6,CU442,IF(GRLTilleggTrekk=7,DG442,IF(GRLTilleggTrekk=8,DS442,IF(GRLTilleggTrekk=9,EE442,IF(GRLTilleggTrekk=10,EQ442,IF(GRLTilleggTrekk=11,FC442,IF(GRLTilleggTrekk=12,FO442,IF(GRLTilleggTrekk=13,GA442,IF(GRLTilleggTrekk=14,GM442,IF(GRLTilleggTrekk=15,GY442,0)))))))))))))))","v":0},{"$f":"$T$436","v":0},{"$f":"$U$436","v":0},null,{"$f":"IF(B442=0,1,0)","v":0},{"$f":"IF(OR(C442=0,MID(C442,2,2)=\"00\"),1,0)","v":0},1,{"$f":"A442+1","v":8},null,10,1355]
[7,6,{"$f":"C442+1","v":2},"Kortsiktige fordringer, andre",null,null,76002,0,0,0,0,0,0,0,0,0,0,0,0,{"$f":"$T$436","v":0},{"$f":"$U$436","v":0},null,{"$f":"IF(B443=0,1,0)","v":0},{"$f":"IF(OR(C443=0,MID(C443,2,2)=\"00\"),1,0)","v":0},1,{"$f":"A443+1","v":8},null,10,1579]
[7,6,21,"Langsiktig gjeld, annen",null,null,76021,0,0,0,0,0,0,0,0,0,0,0,0,{"$f":"$T$436","v":0},{"$f":"$U$436","v":0},null,0,0,1,8,null,10,2290]
[7,6,41,"Forskudd fra kunder",null,null,76041,0,0,0,0,0,0,0,0,0,0,0,0,0,0,null,0,0,1,8,null,10,2900]
[7,6,{"$f":"C445+1","v":42},"Kortsiktig gjeld, annen",null,"Kvotelån f.eks.",76042,0,0,0,0,0,0,0,0,0,0,0,0,0,0,null,0,0,1,8,null,10,2990]
[7,6,43,"Forskuddstrekk",null,null,76043,0,0,0,0,0,0,0,0,0,0,0,0,0,0,null,{"$f":"IF(B447=0,1,0)","v":0},{"$f":"IF(OR(C447=0,MID(C447,2,2)=\"00\"),1,0)","v":0},1,{"$f":"A447+1","v":8},null,10,2600]
[7,6,44,"Påleggstrekk",null,null,76044,0,0,0,0,0,0,0,0,0,0,0,0,0,0,null,{"$f":"IF(B448=0,1,0)","v":0},{"$f":"IF(OR(C448=0,MID(C448,2,2)=\"00\"),1,0)","v":0},1,{"$f":"A448+1","v":8},null,10,2610]
[7,6,45,"Bidragstrekk",null,null,76045,0,0,0,0,0,0,0,0,0,0,0,0,0,0,null,{"$f":"IF(B449=0,1,0)","v":0},{"$f":"IF(OR(C449=0,MID(C449,2,2)=\"00\"),1,0)","v":0},1,{"$f":"A449+1","v":8},null,10,2620]
[7,6,46,"Trygdetrekk",null,null,76046,0,0,0,0,0,0,0,0,0,0,0,0,0,0,null,{"$f":"IF(B450=0,1,0)","v":0},{"$f":"IF(OR(C450=0,MID(C450,2,2)=\"00\"),1,0)","v":0},1,{"$f":"A450+1","v":8},null,10,2630]
[7,6,47,"Forsikringstrekk",null,null,76047,0,0,0,0,0,0,0,0,0,0,0,0,0,0,null,{"$f":"IF(B451=0,1,0)","v":0},{"$f":"IF(OR(C451=0,MID(C451,2,2)=\"00\"),1,0)","v":0},1,{"$f":"A451+1","v":8},null,10,2640]
[7,6,48,"Fagforeningskontingent, trukket",null,null,76048,0,0,0,0,0,0,0,0,0,0,0,0,0,0,null,{"$f":"IF(B452=0,1,0)","v":0},{"$f":"IF(OR(C452=0,MID(C452,2,2)=\"00\"),1,0)","v":0},1,{"$f":"A452+1","v":8},null,10,2650]
[7,6,49,"Uspesifisert trekk",null,null,76049,0,0,0,0,0,0,0,0,0,0,0,0,0,0,null,{"$f":"IF(B453=0,1,0)","v":0},{"$f":"IF(OR(C453=0,MID(C453,2,2)=\"00\"),1,0)","v":0},1,{"$f":"A453+1","v":8},null,10,2690]
[7,6,61,"Renteinntekt, kundefordringer (kapitalinntekter)",null,null,76061,0,0,0,0,0,0,0,0,0,0,0,0,0,0,null,0,0,1,8,null,20,3905]
[7,6,62,"Renter av kundefordringer",null,null,76062,0,0,0,0,0,0,0,0,0,0,0,0,0,0,null,0,0,1,8,null,20,3905]
[7,6,63,"Renteinntekt, annen",null,"Mottatt avkastning av medlemskapitalkonto i Felleskjøpet, jfr. Løland: Konteringsnøkler",76063,0,0,0,0,0,0,0,0,0,0,0,0,0,0,null,0,0,1,8,null,10,8059]
[7,6,64,"Utbytte fra samvirkeforetak",null,null,{"$f":"VALUE(A457&B457&IF(LEN(C457)=1,\"00\"&C457,IF(LEN(C457)=2,\"0\"&C457,C457)))","v":76064},0,0,0,0,0,0,0,0,0,0,0,0,0,0,null,0,0,1,8,null,10,8075]
[7,6,65,"Finansinntekt, annen",null,null,76065,0,0,0,0,0,0,0,0,0,0,0,0,0,0,null,0,0,1,8,null,10,8079]
[7,6,81,"Rentekostnad, leverandørgjeld",null,null,76081,0,0,0,0,0,0,0,0,0,0,0,0,0,0,null,0,0,1,8,null,10,null,8155]
[7,6,82,"Rentekostnad, annen (familiegjeld etc.)",null,null,76082,0,0,0,0,0,0,0,0,0,0,0,0,0,0,null,0,0,1,8,null,10,null,8159]
[7,6,83,"Finanskostnad, annen",null,null,76083,0,0,0,0,0,0,0,0,0,0,0,0,0,0,null,0,0,1,8,null,10,null,8179]
[8,0,0,{"$f":"\"1-\"&Produkt!E405","v":"1-Varer og tjenester knyttet til produksjonene"},null,null,80000,null,null,null,null,null,null,null,null,null,null,null,null,{"$f":"IF(GRLTilleggTrekk=1,AE462,IF(GRLTilleggTrekk=2,AQ462,IF(GRLTilleggTrekk=3,BC462,IF(GRLTilleggTrekk=4,BO462,IF(GRLTilleggTrekk=5,CA462,IF(GRLTilleggTrekk=6,CM462,IF(GRLTilleggTrekk=7,CY462,IF(GRLTilleggTrekk=8,DK462,IF(GRLTilleggTrekk=9,DW462,IF(GRLTilleggTrekk=10,EI462,IF(GRLTilleggTrekk=11,EU462,IF(GRLTilleggTrekk=12,FG462,IF(GRLTilleggTrekk=13,FS462,IF(GRLTilleggTrekk=14,GE462,IF(GRLTilleggTrekk=15,GQ462,0)))))))))))))))","v":0},{"$f":"IF(GRLTilleggTrekk=1,AF462,IF(GRLTilleggTrekk=2,AR462,IF(GRLTilleggTrekk=3,BD462,IF(GRLTilleggTrekk=4,BP462,IF(GRLTilleggTrekk=5,CB462,IF(GRLTilleggTrekk=6,CN462,IF(GRLTilleggTrekk=7,CZ462,IF(GRLTilleggTrekk=8,DL462,IF(GRLTilleggTrekk=9,DX462,IF(GRLTilleggTrekk=10,EJ462,IF(GRLTilleggTrekk=11,EV462,IF(GRLTilleggTrekk=12,FH462,IF(GRLTilleggTrekk=13,FT462,IF(GRLTilleggTrekk=14,GF462,IF(GRLTilleggTrekk=15,GR462,0)))))))))))))))","v":0},null,1,1,1,9,null,"Handelsgjødsel (4451)",null,"Kode fra/til",8110,8116,null,null,null,null,null,null,null,"Plantevern (4410)",null,"Kode fra/til",8120,8129,null,null,null,null,null,null,null,"Konserv.middel (4480)",null,"Kode fra/til",8130,8139,null,null,null,null,null,null,null,"Kraftfôr (4020)",null,"Kode fra/til",8200,8219,null,null,null,null,null,null,null,"Tilskuddsfôr (4040)",null,"Kode fra/til",8220,8229,null,null,null,null,null,null,null,"Såvarer i pl.prod (4001)",null,"Kode fra/til",8140,8143,null,null,null,null,null,null,null,"Kalk (4457)",null,"Kode fra/til",8117,8117,null,null,null,null,null,null,null,"Såvare i grøntproduksjon",null,"Kode fra/til",8144,8147,null,null,null,null,null,null,null,"Bladgjødsel/Husdyrgjødsel",null,"Kode fra/til",8118,8119,null,null,null,null,null,null,null,"Andelskap., renter mm",null,"Kode fra/til",8000,8000,null,null,null,null,null,null,null,"Forbruksmateriell (4432)",null,"Kode fra/til",8291,8291,null,null,null,null,null,null,null,"Fôrproduksjon (4444)",null,"Kode fra/til",8191,8191,null,null,null,null,null,null,null,"Tekst",null,"Kode fra/til",null,null,null,null,null,null,null,null,null,"Tekst",null,"Kode fra/til",null,null,null,null,null,null,null,null,null,"Tekst",null,"Kode fra/til"]
[8,1,0,"Tillegg",null,null,81000,null,null,null,null,null,null,null,null,null,null,null,null,null,null,null,0,1,1,9]
[8,1,{"$f":"C463+1","v":1},"Ledig",null,null,81001,{"$f":"IF(GRLTilleggTrekk=1,AB464,IF(GRLTilleggTrekk=2,AN464,IF(GRLTilleggTrekk=3,AZ464,IF(GRLTilleggTrekk=4,BL464,IF(GRLTilleggTrekk=5,BX464,IF(GRLTilleggTrekk=6,CJ464,IF(GRLTilleggTrekk=7,CV464,IF(GRLTilleggTrekk=8,DH464,IF(GRLTilleggTrekk=9,DT464,IF(GRLTilleggTrekk=10,EF464,IF(GRLTilleggTrekk=11,ER464,IF(GRLTilleggTrekk=12,FD464,IF(GRLTilleggTrekk=13,FP464,IF(GRLTilleggTrekk=14,GB464,IF(GRLTilleggTrekk=15,GN464,0)))))))))))))))","v":0},0,0,0,0,0,0,0,0,0,0,0,{"$f":"$T$462","v":0},{"$f":"$U$462","v":0},null,0,0,1,{"$f":"A464+1","v":9}]
[8,1,99,"Andre tillegg",null,null,81099,0,0,0,0,0,0,0,0,0,0,0,0,{"$f":"$T$462","v":0},{"$f":"$U$462","v":0},null,0,0,1,9]
[8,2,0,"Trekk",null,null,82000,null,null,null,null,null,null,null,null,null,null,null,null,null,null,null,0,1,1,9]
[8,2,{"$f":"C466+1","v":1},"Lagertillegg",null,null,82001,{"$f":"IF(GRLTilleggTrekk=1,AB467,IF(GRLTilleggTrekk=2,AN467,IF(GRLTilleggTrekk=3,AZ467,IF(GRLTilleggTrekk=4,BL467,IF(GRLTilleggTrekk=5,BX467,IF(GRLTilleggTrekk=6,CJ467,IF(GRLTilleggTrekk=7,CV467,IF(GRLTilleggTrekk=8,DH467,IF(GRLTilleggTrekk=9,DT467,IF(GRLTilleggTrekk=10,EF467,IF(GRLTilleggTrekk=11,ER467,IF(GRLTilleggTrekk=12,FD467,IF(GRLTilleggTrekk=13,FP467,IF(GRLTilleggTrekk=14,GB467,IF(GRLTilleggTrekk=15,GN467,0)))))))))))))))","v":0},0,0,0,0,0,0,0,0,0,0,0,{"$f":"$T$462","v":0},{"$f":"$U$462","v":0},null,0,0,1,{"$f":"A467+1","v":9},null,20,null,null,null,null,4451,null,null,null,null,null,null,20,null,null,null,null,4410,null,null,null,null,null,null,20,null,null,null,null,4480,null,null,null,null,null,null,20,null,null,null,null,4020,null,null,null,null,null,null,20,null,null,null,null,4040,null,null,null,null,null,null,20,null,null,null,null,4001,null,null,null,null,null,null,20,null,null,null,null,4457,null,null,null,null,null,null,20,null,null,null,null,4010,null,null,null,null,null,null,20,null,null,null,null,4451]
[8,2,{"$f":"C467+1","v":2},"Vakt- og helgetillegg/hastetillegg",null,null,82002,0,0,0,0,0,0,0,0,0,0,0,0,0,0,null,0,0,1,9,null,20,null,null,null,null,4451,null,null,null,null,null,null,20,null,null,null,null,4410,null,null,null,null,null,null,20,null,null,null,null,4480,null,null,null,null,null,null,20,null,null,null,null,4020,null,null,null,null,null,null,20,null,null,null,null,4040,null,null,null,null,null,null,20,null,null,null,null,4001,null,null,null,null,null,null,20,null,null,null,null,4457,null,null,null,null,null,null,20,null,null,null,null,null,null,null,null,null,null,null,20,null,null,null,null,4451]
[8,2,{"$f":"C468+1","v":3},"Miljøvederlag",null,null,82003,0,0,0,0,0,0,0,0,0,0,0,0,0,0,null,0,0,1,9,null,20,null,null,null,null,4451,null,null,null,null,null,null,20,null,null,null,null,4410,null,null,null,null,null,null,20,null,null,null,null,4480,null,null,null,null,null,null,20,null,null,null,null,4020,null,null,null,null,null,null,20,null,null,null,null,4040,null,null,null,null,null,null,20,null,null,null,null,4001,null,null,null,null,null,null,20,null,null,null,null,4457,null,null,null,null,null,null,20,null,null,null,null,4010,null,null,null,null,null,null,20,null,null,null,null,4451]
[8,2,4,"Pant",null,null,82004,0,0,0,0,0,0,0,0,0,0,0,0,0,0,null,0,0,1,9,null,20,null,null,null,null,4451,null,null,null,null,null,null,20,null,null,null,null,4410,null,null,null,null,null,null,20,null,null,null,null,4480,null,null,null,null,null,null,20,null,null,null,null,4020,null,null,null,null,null,null,20,null,null,null,null,4040,null,null,null,null,null,null,20,null,null,null,null,4001,null,null,null,null,null,null,20,null,null,null,null,4457,null,null,null,null,null,null,20,null,null,null,null,4010,null,null,null,null,null,null,20,null,null,null,null,4451,null,null,null,null,null,null,20,null,null,null,null,4441]
[8,2,5,"Beisetillegg mv.",null,null,82005,0,0,0,0,0,0,0,0,0,0,0,0,0,0,null,0,0,1,{"$f":"A471+1","v":9},null,20,null,null,null,null,4451,null,null,null,null,null,null,20,null,null,null,null,4410,null,null,null,null,null,null,20,null,null,null,null,4480,null,null,null,null,null,null,20,null,null,null,null,4020,null,null,null,null,null,null,20,null,null,null,null,4040,null,null,null,null,null,null,20,null,null,null,null,4001,null,null,null,null,null,null,20,null,null,null,null,4457,null,null,null,null,null,null,20,null,null,null,null,4010,null,null,null,null,null,null,20,null,null,null,null,4451]
[8,2,6,"Prisutjevning",null,null,82006,0,0,0,0,0,0,0,0,0,0,0,0,0,0,null,0,0,1,{"$f":"A472+1","v":9},null,20,null,null,null,null,4451,null,null,null,null,null,null,20,null,null,null,null,4410,null,null,null,null,null,null,20,null,null,null,null,4480,null,null,null,null,null,null,20,null,null,null,null,4020,null,null,null,null,null,null,20,null,null,null,null,4040,null,null,null,null,null,null,20,null,null,null,null,4001,null,null,null,null,null,null,20,null,null,null,null,4457,null,null,null,null,null,null,20,null,null,null,null,4010,null,null,null,null,null,null,20,null,null,null,null,4451]
[8,2,99,"Andre trrekk",null,null,82099,0,0,0,0,0,0,0,0,0,0,0,0,0,0,null,0,0,1,9,null,20,null,null,null,null,4451,null,null,null,null,null,null,20,null,null,null,null,4410,null,null,null,null,null,null,20,null,null,null,null,4480,null,null,null,null,null,null,20,null,null,null,null,4020,null,null,null,null,null,null,20,null,null,null,null,4040,null,null,null,null,null,null,20,null,null,null,null,4001,null,null,null,null,null,null,20,null,null,null,null,4457,null,null,null,null,null,null,20,null,null,null,null,4010,null,null,null,null,null,null,20,null,null,null,null,4451]
[8,3,0,"Avgifter",null,null,83000,null,null,null,null,null,null,null,null,null,null,null,null,null,null,null,0,1,1,9]
[8,3,{"$f":"C474+1","v":1},"Forskningsavgift",null,null,83001,{"$f":"IF(GRLTilleggTrekk=1,AB475,IF(GRLTilleggTrekk=2,AN475,IF(GRLTilleggTrekk=3,AZ475,IF(GRLTilleggTrekk=4,BL475,IF(GRLTilleggTrekk=5,BX475,IF(GRLTilleggTrekk=6,CJ475,IF(GRLTilleggTrekk=7,CV475,IF(GRLTilleggTrekk=8,DH475,IF(GRLTilleggTrekk=9,DT475,IF(GRLTilleggTrekk=10,EF475,IF(GRLTilleggTrekk=11,ER475,IF(GRLTilleggTrekk=12,FD475,IF(GRLTilleggTrekk=13,FP475,IF(GRLTilleggTrekk=14,GB475,IF(GRLTilleggTrekk=15,GN475,0)))))))))))))))","v":0},0,0,0,0,0,0,0,0,0,0,0,{"$f":"$T$462","v":0},{"$f":"$U$462","v":0},null,0,0,1,{"$f":"A475+1","v":9},null,20,null,null,null,null,4451,null,null,null,null,null,null,20,null,null,null,null,4410,null,null,null,null,null,null,20,null,null,null,null,4480,null,null,null,null,null,null,20,null,null,null,null,4020,null,null,null,null,null,null,20,null,null,null,null,4040,null,null,null,null,null,null,20,null,null,null,null,4001,null,null,null,null,null,null,20,null,null,null,null,4457,null,null,null,null,null,null,20,null,null,null,null,4010,null,null,null,null,null,null,20,null,null,null,null,4451]
[8,3,{"$f":"C475+1","v":2},"Avgifter",null,null,83002,0,0,0,0,0,0,0,0,0,0,0,0,0,0,null,0,0,1,{"$f":"A476+1","v":9},null,20,null,null,null,null,4451,null,null,null,null,null,null,20,null,null,null,null,4410,null,null,null,null,null,null,20,null,null,null,null,4480,null,null,null,null,null,null,20,null,null,null,null,4020,null,null,null,null,null,null,20,null,null,null,null,4040,null,null,null,null,null,null,20,null,null,null,null,4001,null,null,null,null,null,null,20,null,null,null,null,4457,null,null,null,null,null,null,20,null,null,null,null,4010,null,null,null,null,null,null,20,null,null,null,null,4451]
[8,3,{"$f":"C476+1","v":3},"Kontingent",null,null,83003,0,0,0,0,0,0,0,0,0,0,0,0,0,0,null,0,0,1,9,null,20,null,null,null,null,4451,null,null,null,null,null,null,20,null,null,null,null,4410,null,null,null,null,null,null,20,null,null,null,null,4480,null,null,null,null,null,null,20,null,null,null,null,4020,null,null,null,null,null,null,20,null,null,null,null,4040,null,null,null,null,null,null,20,null,null,null,null,4001,null,null,null,null,null,null,20,null,null,null,null,4457,null,null,null,null,null,null,20,null,null,null,null,4010,null,null,null,null,null,null,20,null,null,null,null,4451]
[8,3,99,"Andre avgifter",null,null,83099,0,0,0,0,0,0,0,0,0,0,0,0,0,0,null,0,0,1,9,null,20,null,null,null,null,4451,null,null,null,null,null,null,20,null,null,null,null,4410,null,null,null,null,null,null,20,null,null,null,null,4480,null,null,null,null,null,null,20,null,null,null,null,4020,null,null,null,null,null,null,20,null,null,null,null,4040,null,null,null,null,null,null,20,null,null,null,null,4001,null,null,null,null,null,null,20,null,null,null,null,4457,null,null,null,null,null,null,20,null,null,null,null,4010,null,null,null,null,null,null,20,null,null,null,null,4451]
[8,4,0,"Etterbetalinger, erstatninger og bonuser",null,null,84000,null,null,null,null,null,null,null,null,null,null,null,null,null,null,null,0,1,1,9]
[8,4,{"$f":"C479+1","v":1},"Renter",null,"Flyttes til 7000-serien",84001,{"$f":"IF(GRLTilleggTrekk=1,AB480,IF(GRLTilleggTrekk=2,AN480,IF(GRLTilleggTrekk=3,AZ480,IF(GRLTilleggTrekk=4,BL480,IF(GRLTilleggTrekk=5,BX480,IF(GRLTilleggTrekk=6,CJ480,IF(GRLTilleggTrekk=7,CV480,IF(GRLTilleggTrekk=8,DH480,IF(GRLTilleggTrekk=9,DT480,IF(GRLTilleggTrekk=10,EF480,IF(GRLTilleggTrekk=11,ER480,IF(GRLTilleggTrekk=12,FD480,IF(GRLTilleggTrekk=13,FP480,IF(GRLTilleggTrekk=14,GB480,IF(GRLTilleggTrekk=15,GN480,0)))))))))))))))","v":0},0,0,0,0,0,0,0,0,0,0,0,{"$f":"$T$462","v":0},{"$f":"$U$462","v":0},null,0,0,1,{"$f":"A480+1","v":9},null,10,8055,8155,null,null,null,null,null,null,null,null,null,10,null,8155,null,null,null,null,null,null,null,null,null,10,null,8155,null,null,null,null,null,null,null,null,null,10,null,8155,null,null,null,null,null,null,null,null,null,10,null,8155,null,null,null,null,null,null,null,null,null,10,null,8155,null,null,null,null,null,null,null,null,null,null,null,null,null,null,null,null,null,null,null,null,null,10,null,8155,null,null,null,null,null,null,null,null,null,null,null,null,null,null,null,null,null,null,null,null,null,10,null,8155]
[8,4,{"$f":"C480+1","v":2},"Avkastning kapital",null,"Flyttes til 7000-serien",84002,0,0,0,0,0,0,0,0,0,0,0,0,0,0,null,0,0,1,9,null,10,8059,null,null,null,null,null,null,null,null,null,null,10,8059,null,null,null,null,null,null,null,null,null,null,10,8059,null,null,null,null,null,null,null,null,null,null,10,8059,null,null,null,null,null,null,null,null,null,null,10,8059,null,null,null,null,null,null,null,null,null,null,10,8059,null,null,null,null,null,null,null,null,null,null,null,null,null,null,null,null,null,null,null,null,null,null,10,8059,null,null,null,null,null,null,null,null,null,null,null,null,null,null,null,null,null,null,null,null,null,null,10,8059]
[8,4,{"$f":"C481+1","v":3},"Bonuser",null,null,84003,0,0,0,0,0,0,0,0,0,0,0,0,0,0,null,0,0,1,9,null,20,null,null,null,null,4451,null,null,null,null,3081,null,20,null,null,null,null,4410,null,null,null,null,3081,null,20,null,null,null,null,4480,null,null,null,null,3081,null,20,null,null,null,null,4020,null,null,null,null,3081,null,20,null,null,null,null,4040,null,null,null,null,3081,null,20,null,null,null,null,4001,null,null,null,null,3081,null,20,null,null,null,null,4457,null,null,null,null,null,null,20,null,null,null,null,4010,null,null,null,null,null,null,20,null,null,null,null,4451,null,null,null,null,null,null,20,3181,4470,null,null,4470]
[8,4,4,"Erstatninger",null,null,84004,0,0,0,0,0,0,0,0,0,0,0,0,0,0,null,0,0,1,9,null,20,3903,null,null,null,null,null,null,null,null,null,null,20,3903,null,null,null,null,null,null,null,null,null,null,20,3903,null,null,null,null,null,null,null,null,null,null,20,3903,null,null,null,null,null,null,null,null,null,null,20,3903,null,null,null,null,null,null,null,null,null,null,20,3903,null,null,null,null,null,null,null,null,null,null,null,null,null,null,null,null,null,null,null,null,null,null,20,3903,null,null,null,null,null,null,null,null,null,null,null,null,null,null,null,null,null,null,null,null,null,null,20,3903,4470,null,null,4470]
[8,4,5,"Årskvantumrabatt",null,null,84005,0,0,0,0,0,0,0,0,0,0,0,0,0,0,null,0,0,1,9,null,20,null,null,null,null,4470,null,null,null,null,null,null,20,null,null,null,null,4470,null,null,null,null,null,null,20,null,null,null,null,4470,null,null,null,null,null,null,20,null,null,null,null,4470,null,null,null,null,null,null,20,null,null,null,null,4470,null,null,null,null,null,null,20,null,null,null,null,4001,null,null,null,null,null,null,20,null,null,null,null,4470,null,null,null,null,null,null,20,null,null,null,null,4010,null,null,null,null,null,null,20,null,null,null,null,4470,null,null,null,null,null,null,20,null,null,null,null,4470]
[8,4,6,"Andre rabatter",null,null,84006,0,0,0,0,0,0,0,0,0,0,0,0,0,0,null,0,0,1,9,null,20,null,null,null,null,4451,null,null,null,null,null,null,20,null,null,null,null,4410,null,null,null,null,null,null,20,null,null,null,null,4480,null,null,null,null,null,null,20,null,null,null,null,4020,null,null,null,null,null,null,20,null,null,null,null,4040,null,null,null,null,null,null,20,null,null,null,null,4001,null,null,null,null,null,null,20,null,null,null,null,4457,null,null,null,null,null,null,20,null,null,null,null,4010,null,null,null,null,null,null,20,null,null,null,null,4451,null,null,null,null,null,null,20,null,null,null,null,4470]
[8,4,99,"Andre etterbetalinger, erstatninger og bonuser",null,null,84099,0,0,0,0,0,0,0,0,0,0,0,0,0,0,null,0,0,1,9,null,20,null,null,null,null,4451,null,null,null,null,null,null,20,null,null,null,null,4410,null,null,null,null,null,null,20,null,null,null,null,4480,null,null,null,null,null,null,20,null,null,null,null,4020,null,null,null,null,null,null,20,null,null,null,null,4040,null,null,null,null,null,null,20,null,null,null,null,4001,null,null,null,null,null,null,20,null,null,null,null,4457,null,null,null,null,null,null,20,null,null,null,null,4010,null,null,null,null,null,null,20,null,null,null,null,4451,null,null,null,null,null,null,20,3903,4470,null,null,4470]
[8,5,0,"Tilskudd",null,null,85000,null,null,null,null,null,null,null,null,null,null,null,null,null,null,null,0,1,1,9]
[8,5,{"$f":"C487+1","v":1},"Stedsfrakttilskudd",null,"Frakttilskudd for kraftfôr",85001,{"$f":"IF(GRLTilleggTrekk=1,AB488,IF(GRLTilleggTrekk=2,AN488,IF(GRLTilleggTrekk=3,AZ488,IF(GRLTilleggTrekk=4,BL488,IF(GRLTilleggTrekk=5,BX488,IF(GRLTilleggTrekk=6,CJ488,IF(GRLTilleggTrekk=7,CV488,IF(GRLTilleggTrekk=8,DH488,IF(GRLTilleggTrekk=9,DT488,IF(GRLTilleggTrekk=10,EF488,IF(GRLTilleggTrekk=11,ER488,IF(GRLTilleggTrekk=12,FD488,IF(GRLTilleggTrekk=13,FP488,IF(GRLTilleggTrekk=14,GB488,IF(GRLTilleggTrekk=15,GN488,0)))))))))))))))","v":0},0,0,0,0,0,0,0,0,0,0,0,{"$f":"$T$462","v":0},{"$f":"$U$462","v":0},null,0,0,1,{"$f":"A488+1","v":9},null,20,null,null,null,null,4451,null,null,null,null,null,null,20,null,null,null,null,4410,null,null,null,null,null,null,20,null,null,null,null,4480,null,null,null,null,null,null,20,null,null,null,null,4020,null,null,null,null,null,null,20,null,null,null,null,4040,null,null,null,null,null,null,20,null,null,null,null,4001,null,null,null,null,null,null,20,null,null,null,null,4457,null,null,null,null,null,null,20,null,null,null,null,4010,null,null,null,null,null,null,20,null,null,null,null,4451]
[8,5,{"$f":"C488+1","v":2},"Andre frakttilskudd",null,null,85002,0,0,0,0,0,0,0,0,0,0,0,0,0,0,null,0,0,1,9,null,20,null,null,null,null,4451,null,null,null,null,null,null,20,null,null,null,null,4410,null,null,null,null,null,null,20,null,null,null,null,4480,null,null,null,null,null,null,20,null,null,null,null,4020,null,null,null,null,null,null,20,null,null,null,null,4040,null,null,null,null,null,null,20,null,null,null,null,4001,null,null,null,null,null,null,20,null,null,null,null,4457,null,null,null,null,null,null,20,null,null,null,null,4010,null,null,null,null,null,null,20,null,null,null,null,4451]
[8,5,{"$f":"C489+1","v":3},"Garantitilskudd",null,null,85003,0,0,0,0,0,0,0,0,0,0,0,0,0,0,null,0,0,1,9,null,20,null,null,null,null,4451,null,null,null,null,null,null,20,null,null,null,null,4410,null,null,null,null,null,null,20,null,null,null,null,4480,null,null,null,null,null,null,20,null,null,null,null,4020,null,null,null,null,null,null,20,null,null,null,null,4040,null,null,null,null,null,null,20,null,null,null,null,4001,null,null,null,null,null,null,20,null,null,null,null,4457,null,null,null,null,null,null,20,null,null,null,null,4010,null,null,null,null,null,null,20,null,null,null,null,4451]
[8,5,{"$f":"C490+1","v":4},"Tilskudd kraftfôrsilo",null,"Utbetaling via EHF faktura",{"$f":"VALUE(A491&B491&IF(LEN(C491)=1,\"00\"&C491,IF(LEN(C491)=2,\"0\"&C491,C491)))","v":85004},{"$f":"IF(GRLTilleggTrekk=1,AB491,IF(GRLTilleggTrekk=2,AN491,IF(GRLTilleggTrekk=3,AZ491,IF(GRLTilleggTrekk=4,BL491,IF(GRLTilleggTrekk=5,BX491,IF(GRLTilleggTrekk=6,CJ491,IF(GRLTilleggTrekk=7,CV491,IF(GRLTilleggTrekk=8,DH491,IF(GRLTilleggTrekk=9,DT491,IF(GRLTilleggTrekk=10,EF491,IF(GRLTilleggTrekk=11,ER491,IF(GRLTilleggTrekk=12,FD491,IF(GRLTilleggTrekk=13,FP491,IF(GRLTilleggTrekk=14,GB491,IF(GRLTilleggTrekk=15,GN491,0)))))))))))))))","v":0},{"$f":"IF(GRLTilleggTrekk=1,AC491,IF(GRLTilleggTrekk=2,AO491,IF(GRLTilleggTrekk=3,BA491,IF(GRLTilleggTrekk=4,BM491,IF(GRLTilleggTrekk=5,BY491,IF(GRLTilleggTrekk=6,CK491,IF(GRLTilleggTrekk=7,CW491,IF(GRLTilleggTrekk=8,DI491,IF(GRLTilleggTrekk=9,DU491,IF(GRLTilleggTrekk=10,EG491,IF(GRLTilleggTrekk=11,ES491,IF(GRLTilleggTrekk=12,FE491,IF(GRLTilleggTrekk=13,FQ491,IF(GRLTilleggTrekk=14,GC491,IF(GRLTilleggTrekk=15,GO491,0)))))))))))))))","v":0},{"$f":"IF(GRLTilleggTrekk=1,AD491,IF(GRLTilleggTrekk=2,AP491,IF(GRLTilleggTrekk=3,BB491,IF(GRLTilleggTrekk=4,BN491,IF(GRLTilleggTrekk=5,BZ491,IF(GRLTilleggTrekk=6,CL491,IF(GRLTilleggTrekk=7,CX491,IF(GRLTilleggTrekk=8,DJ491,IF(GRLTilleggTrekk=9,DV491,IF(GRLTilleggTrekk=10,EH491,IF(GRLTilleggTrekk=11,ET491,IF(GRLTilleggTrekk=12,FF491,IF(GRLTilleggTrekk=13,FR491,IF(GRLTilleggTrekk=14,GD491,IF(GRLTilleggTrekk=15,GP491,0)))))))))))))))","v":0},{"$f":"IF(GRLTilleggTrekk=1,AE491,IF(GRLTilleggTrekk=2,AQ491,IF(GRLTilleggTrekk=3,BC491,IF(GRLTilleggTrekk=4,BO491,IF(GRLTilleggTrekk=5,CA491,IF(GRLTilleggTrekk=6,CM491,IF(GRLTilleggTrekk=7,CY491,IF(GRLTilleggTrekk=8,DK491,IF(GRLTilleggTrekk=9,DW491,IF(GRLTilleggTrekk=10,EI491,IF(GRLTilleggTrekk=11,EU491,IF(GRLTilleggTrekk=12,FG491,IF(GRLTilleggTrekk=13,FS491,IF(GRLTilleggTrekk=14,GE491,IF(GRLTilleggTrekk=15,GQ491,0)))))))))))))))","v":0},{"$f":"IF(GRLTilleggTrekk=1,AF491,IF(GRLTilleggTrekk=2,AR491,IF(GRLTilleggTrekk=3,BD491,IF(GRLTilleggTrekk=4,BP491,IF(GRLTilleggTrekk=5,CB491,IF(GRLTilleggTrekk=6,CN491,IF(GRLTilleggTrekk=7,CZ491,IF(GRLTilleggTrekk=8,DL491,IF(GRLTilleggTrekk=9,DX491,IF(GRLTilleggTrekk=10,EJ491,IF(GRLTilleggTrekk=11,EV491,IF(GRLTilleggTrekk=12,FH491,IF(GRLTilleggTrekk=13,FT491,IF(GRLTilleggTrekk=14,GF491,IF(GRLTilleggTrekk=15,GR491,0)))))))))))))))","v":0},{"$f":"IF(GRLTilleggTrekk=1,AG491,IF(GRLTilleggTrekk=2,AS491,IF(GRLTilleggTrekk=3,BE491,IF(GRLTilleggTrekk=4,BQ491,IF(GRLTilleggTrekk=5,CC491,IF(GRLTilleggTrekk=6,CO491,IF(GRLTilleggTrekk=7,DA491,IF(GRLTilleggTrekk=8,DM491,IF(GRLTilleggTrekk=9,DY491,IF(GRLTilleggTrekk=10,EK491,IF(GRLTilleggTrekk=11,EW491,IF(GRLTilleggTrekk=12,FI491,IF(GRLTilleggTrekk=13,FU491,IF(GRLTilleggTrekk=14,GG491,IF(GRLTilleggTrekk=15,GS491,0)))))))))))))))","v":0},{"$f":"IF(GRLTilleggTrekk=1,AH491,IF(GRLTilleggTrekk=2,AT491,IF(GRLTilleggTrekk=3,BF491,IF(GRLTilleggTrekk=4,BR491,IF(GRLTilleggTrekk=5,CD491,IF(GRLTilleggTrekk=6,CP491,IF(GRLTilleggTrekk=7,DB491,IF(GRLTilleggTrekk=8,DN491,IF(GRLTilleggTrekk=9,DZ491,IF(GRLTilleggTrekk=10,EL491,IF(GRLTilleggTrekk=11,EX491,IF(GRLTilleggTrekk=12,FJ491,IF(GRLTilleggTrekk=13,FV491,IF(GRLTilleggTrekk=14,GH491,IF(GRLTilleggTrekk=15,GT491,0)))))))))))))))","v":0},{"$f":"IF(GRLTilleggTrekk=1,AI491,IF(GRLTilleggTrekk=2,AU491,IF(GRLTilleggTrekk=3,BG491,IF(GRLTilleggTrekk=4,BS491,IF(GRLTilleggTrekk=5,CE491,IF(GRLTilleggTrekk=6,CQ491,IF(GRLTilleggTrekk=7,DC491,IF(GRLTilleggTrekk=8,DO491,IF(GRLTilleggTrekk=9,EA491,IF(GRLTilleggTrekk=10,EM491,IF(GRLTilleggTrekk=11,EY491,IF(GRLTilleggTrekk=12,FK491,IF(GRLTilleggTrekk=13,FW491,IF(GRLTilleggTrekk=14,GI491,IF(GRLTilleggTrekk=15,GU491,0)))))))))))))))","v":0},{"$f":"IF(GRLTilleggTrekk=1,AJ491,IF(GRLTilleggTrekk=2,AV491,IF(GRLTilleggTrekk=3,BH491,IF(GRLTilleggTrekk=4,BT491,IF(GRLTilleggTrekk=5,CF491,IF(GRLTilleggTrekk=6,CR491,IF(GRLTilleggTrekk=7,DD491,IF(GRLTilleggTrekk=8,DP491,IF(GRLTilleggTrekk=9,EB491,IF(GRLTilleggTrekk=10,EN491,IF(GRLTilleggTrekk=11,EZ491,IF(GRLTilleggTrekk=12,FL491,IF(GRLTilleggTrekk=13,FX491,IF(GRLTilleggTrekk=14,GJ491,IF(GRLTilleggTrekk=15,GV491,0)))))))))))))))","v":0},{"$f":"IF(GRLTilleggTrekk=1,AK491,IF(GRLTilleggTrekk=2,AW491,IF(GRLTilleggTrekk=3,BI491,IF(GRLTilleggTrekk=4,BU491,IF(GRLTilleggTrekk=5,CG491,IF(GRLTilleggTrekk=6,CS491,IF(GRLTilleggTrekk=7,DE491,IF(GRLTilleggTrekk=8,DQ491,IF(GRLTilleggTrekk=9,EC491,IF(GRLTilleggTrekk=10,EO491,IF(GRLTilleggTrekk=11,FA491,IF(GRLTilleggTrekk=12,FM491,IF(GRLTilleggTrekk=13,FY491,IF(GRLTilleggTrekk=14,GK491,IF(GRLTilleggTrekk=15,GW491,0)))))))))))))))","v":0},{"$f":"IF(GRLTilleggTrekk=1,AL491,IF(GRLTilleggTrekk=2,AX491,IF(GRLTilleggTrekk=3,BJ491,IF(GRLTilleggTrekk=4,BV491,IF(GRLTilleggTrekk=5,CH491,IF(GRLTilleggTrekk=6,CT491,IF(GRLTilleggTrekk=7,DF491,IF(GRLTilleggTrekk=8,DR491,IF(GRLTilleggTrekk=9,ED491,IF(GRLTilleggTrekk=10,EP491,IF(GRLTilleggTrekk=11,FB491,IF(GRLTilleggTrekk=12,FN491,IF(GRLTilleggTrekk=13,FZ491,IF(GRLTilleggTrekk=14,GL491,IF(GRLTilleggTrekk=15,GX491,0)))))))))))))))","v":0},{"$f":"IF(GRLTilleggTrekk=1,AM491,IF(GRLTilleggTrekk=2,AY491,IF(GRLTilleggTrekk=3,BK491,IF(GRLTilleggTrekk=4,BW491,IF(GRLTilleggTrekk=5,CI491,IF(GRLTilleggTrekk=6,CU491,IF(GRLTilleggTrekk=7,DG491,IF(GRLTilleggTrekk=8,DS491,IF(GRLTilleggTrekk=9,EE491,IF(GRLTilleggTrekk=10,EQ491,IF(GRLTilleggTrekk=11,FC491,IF(GRLTilleggTrekk=12,FO491,IF(GRLTilleggTrekk=13,GA491,IF(GRLTilleggTrekk=14,GM491,IF(GRLTilleggTrekk=15,GY491,0)))))))))))))))","v":0},0,0,null,{"$f":"IF(B491=0,1,0)","v":0},{"$f":"IF(OR(C491=0,MID(C491,2,2)=\"00\"),1,0)","v":0},1,{"$f":"A491+1","v":9},null,null,null,null,null,null,null,null,null,null,null,null,null,null,null,null,null,null,null,null,null,null,null,null,null,null,null,null,null,null,null,null,null,null,null,null,null,20,null,4070,null,null,4070]
[8,5,99,"Andre tilskudd",null,null,85099,0,0,0,0,0,0,0,0,0,0,0,0,0,0,null,0,0,1,9,null,20,null,null,null,null,4451,null,null,null,null,null,null,20,null,null,null,null,4410,null,null,null,null,null,null,20,null,null,null,null,4480,null,null,null,null,null,null,20,null,null,null,null,4020,null,null,null,null,null,null,20,null,null,null,null,4040,null,null,null,null,null,null,20,null,null,null,null,4001,null,null,null,null,null,null,20,null,null,null,null,4457,null,null,null,null,null,null,20,null,null,null,null,4010,null,null,null,null,null,null,20,null,null,null,null,4451,null,null,null,null,null,null,20,null,4470,null,null,4470]
[8,6,0,"Varer og tjenester",null,null,86000,null,null,null,null,null,null,null,null,null,null,null,null,null,null,null,0,1,1,9]
[8,6,{"$f":"C493+1","v":1},"Frakt",null,null,86001,{"$f":"IF(GRLTilleggTrekk=1,AB494,IF(GRLTilleggTrekk=2,AN494,IF(GRLTilleggTrekk=3,AZ494,IF(GRLTilleggTrekk=4,BL494,IF(GRLTilleggTrekk=5,BX494,IF(GRLTilleggTrekk=6,CJ494,IF(GRLTilleggTrekk=7,CV494,IF(GRLTilleggTrekk=8,DH494,IF(GRLTilleggTrekk=9,DT494,IF(GRLTilleggTrekk=10,EF494,IF(GRLTilleggTrekk=11,ER494,IF(GRLTilleggTrekk=12,FD494,IF(GRLTilleggTrekk=13,FP494,IF(GRLTilleggTrekk=14,GB494,IF(GRLTilleggTrekk=15,GN494,0)))))))))))))))","v":0},{"$f":"IF(GRLTilleggTrekk=1,AC494,IF(GRLTilleggTrekk=2,AO494,IF(GRLTilleggTrekk=3,BA494,IF(GRLTilleggTrekk=4,BM494,IF(GRLTilleggTrekk=5,BY494,IF(GRLTilleggTrekk=6,CK494,IF(GRLTilleggTrekk=7,CW494,IF(GRLTilleggTrekk=8,DI494,IF(GRLTilleggTrekk=9,DU494,IF(GRLTilleggTrekk=10,EG494,IF(GRLTilleggTrekk=11,ES494,IF(GRLTilleggTrekk=12,FE494,IF(GRLTilleggTrekk=13,FQ494,IF(GRLTilleggTrekk=14,GC494,IF(GRLTilleggTrekk=15,GO494,0)))))))))))))))","v":0},{"$f":"IF(GRLTilleggTrekk=1,AD494,IF(GRLTilleggTrekk=2,AP494,IF(GRLTilleggTrekk=3,BB494,IF(GRLTilleggTrekk=4,BN494,IF(GRLTilleggTrekk=5,BZ494,IF(GRLTilleggTrekk=6,CL494,IF(GRLTilleggTrekk=7,CX494,IF(GRLTilleggTrekk=8,DJ494,IF(GRLTilleggTrekk=9,DV494,IF(GRLTilleggTrekk=10,EH494,IF(GRLTilleggTrekk=11,ET494,IF(GRLTilleggTrekk=12,FF494,IF(GRLTilleggTrekk=13,FR494,IF(GRLTilleggTrekk=14,GD494,IF(GRLTilleggTrekk=15,GP494,0)))))))))))))))","v":0},{"$f":"IF(GRLTilleggTrekk=1,AE494,IF(GRLTilleggTrekk=2,AQ494,IF(GRLTilleggTrekk=3,BC494,IF(GRLTilleggTrekk=4,BO494,IF(GRLTilleggTrekk=5,CA494,IF(GRLTilleggTrekk=6,CM494,IF(GRLTilleggTrekk=7,CY494,IF(GRLTilleggTrekk=8,DK494,IF(GRLTilleggTrekk=9,DW494,IF(GRLTilleggTrekk=10,EI494,IF(GRLTilleggTrekk=11,EU494,IF(GRLTilleggTrekk=12,FG494,IF(GRLTilleggTrekk=13,FS494,IF(GRLTilleggTrekk=14,GE494,IF(GRLTilleggTrekk=15,GQ494,0)))))))))))))))","v":0},{"$f":"IF(GRLTilleggTrekk=1,AF494,IF(GRLTilleggTrekk=2,AR494,IF(GRLTilleggTrekk=3,BD494,IF(GRLTilleggTrekk=4,BP494,IF(GRLTilleggTrekk=5,CB494,IF(GRLTilleggTrekk=6,CN494,IF(GRLTilleggTrekk=7,CZ494,IF(GRLTilleggTrekk=8,DL494,IF(GRLTilleggTrekk=9,DX494,IF(GRLTilleggTrekk=10,EJ494,IF(GRLTilleggTrekk=11,EV494,IF(GRLTilleggTrekk=12,FH494,IF(GRLTilleggTrekk=13,FT494,IF(GRLTilleggTrekk=14,GF494,IF(GRLTilleggTrekk=15,GR494,0)))))))))))))))","v":0},{"$f":"IF(GRLTilleggTrekk=1,AG494,IF(GRLTilleggTrekk=2,AS494,IF(GRLTilleggTrekk=3,BE494,IF(GRLTilleggTrekk=4,BQ494,IF(GRLTilleggTrekk=5,CC494,IF(GRLTilleggTrekk=6,CO494,IF(GRLTilleggTrekk=7,DA494,IF(GRLTilleggTrekk=8,DM494,IF(GRLTilleggTrekk=9,DY494,IF(GRLTilleggTrekk=10,EK494,IF(GRLTilleggTrekk=11,EW494,IF(GRLTilleggTrekk=12,FI494,IF(GRLTilleggTrekk=13,FU494,IF(GRLTilleggTrekk=14,GG494,IF(GRLTilleggTrekk=15,GS494,0)))))))))))))))","v":0},{"$f":"IF(GRLTilleggTrekk=1,AH494,IF(GRLTilleggTrekk=2,AT494,IF(GRLTilleggTrekk=3,BF494,IF(GRLTilleggTrekk=4,BR494,IF(GRLTilleggTrekk=5,CD494,IF(GRLTilleggTrekk=6,CP494,IF(GRLTilleggTrekk=7,DB494,IF(GRLTilleggTrekk=8,DN494,IF(GRLTilleggTrekk=9,DZ494,IF(GRLTilleggTrekk=10,EL494,IF(GRLTilleggTrekk=11,EX494,IF(GRLTilleggTrekk=12,FJ494,IF(GRLTilleggTrekk=13,FV494,IF(GRLTilleggTrekk=14,GH494,IF(GRLTilleggTrekk=15,GT494,0)))))))))))))))","v":0},{"$f":"IF(GRLTilleggTrekk=1,AI494,IF(GRLTilleggTrekk=2,AU494,IF(GRLTilleggTrekk=3,BG494,IF(GRLTilleggTrekk=4,BS494,IF(GRLTilleggTrekk=5,CE494,IF(GRLTilleggTrekk=6,CQ494,IF(GRLTilleggTrekk=7,DC494,IF(GRLTilleggTrekk=8,DO494,IF(GRLTilleggTrekk=9,EA494,IF(GRLTilleggTrekk=10,EM494,IF(GRLTilleggTrekk=11,EY494,IF(GRLTilleggTrekk=12,FK494,IF(GRLTilleggTrekk=13,FW494,IF(GRLTilleggTrekk=14,GI494,IF(GRLTilleggTrekk=15,GU494,0)))))))))))))))","v":0},{"$f":"IF(GRLTilleggTrekk=1,AJ494,IF(GRLTilleggTrekk=2,AV494,IF(GRLTilleggTrekk=3,BH494,IF(GRLTilleggTrekk=4,BT494,IF(GRLTilleggTrekk=5,CF494,IF(GRLTilleggTrekk=6,CR494,IF(GRLTilleggTrekk=7,DD494,IF(GRLTilleggTrekk=8,DP494,IF(GRLTilleggTrekk=9,EB494,IF(GRLTilleggTrekk=10,EN494,IF(GRLTilleggTrekk=11,EZ494,IF(GRLTilleggTrekk=12,FL494,IF(GRLTilleggTrekk=13,FX494,IF(GRLTilleggTrekk=14,GJ494,IF(GRLTilleggTrekk=15,GV494,0)))))))))))))))","v":0},{"$f":"IF(GRLTilleggTrekk=1,AK494,IF(GRLTilleggTrekk=2,AW494,IF(GRLTilleggTrekk=3,BI494,IF(GRLTilleggTrekk=4,BU494,IF(GRLTilleggTrekk=5,CG494,IF(GRLTilleggTrekk=6,CS494,IF(GRLTilleggTrekk=7,DE494,IF(GRLTilleggTrekk=8,DQ494,IF(GRLTilleggTrekk=9,EC494,IF(GRLTilleggTrekk=10,EO494,IF(GRLTilleggTrekk=11,FA494,IF(GRLTilleggTrekk=12,FM494,IF(GRLTilleggTrekk=13,FY494,IF(GRLTilleggTrekk=14,GK494,IF(GRLTilleggTrekk=15,GW494,0)))))))))))))))","v":0},{"$f":"IF(GRLTilleggTrekk=1,AL494,IF(GRLTilleggTrekk=2,AX494,IF(GRLTilleggTrekk=3,BJ494,IF(GRLTilleggTrekk=4,BV494,IF(GRLTilleggTrekk=5,CH494,IF(GRLTilleggTrekk=6,CT494,IF(GRLTilleggTrekk=7,DF494,IF(GRLTilleggTrekk=8,DR494,IF(GRLTilleggTrekk=9,ED494,IF(GRLTilleggTrekk=10,EP494,IF(GRLTilleggTrekk=11,FB494,IF(GRLTilleggTrekk=12,FN494,IF(GRLTilleggTrekk=13,FZ494,IF(GRLTilleggTrekk=14,GL494,IF(GRLTilleggTrekk=15,GX494,0)))))))))))))))","v":0},{"$f":"IF(GRLTilleggTrekk=1,AM494,IF(GRLTilleggTrekk=2,AY494,IF(GRLTilleggTrekk=3,BK494,IF(GRLTilleggTrekk=4,BW494,IF(GRLTilleggTrekk=5,CI494,IF(GRLTilleggTrekk=6,CU494,IF(GRLTilleggTrekk=7,DG494,IF(GRLTilleggTrekk=8,DS494,IF(GRLTilleggTrekk=9,EE494,IF(GRLTilleggTrekk=10,EQ494,IF(GRLTilleggTrekk=11,FC494,IF(GRLTilleggTrekk=12,FO494,IF(GRLTilleggTrekk=13,GA494,IF(GRLTilleggTrekk=14,GM494,IF(GRLTilleggTrekk=15,GY494,0)))))))))))))))","v":0},{"$f":"$T$462","v":0},{"$f":"$U$462","v":0},null,0,0,1,{"$f":"A494+1","v":9},null,20,null,null,null,null,4451,null,null,null,null,null,null,20,null,null,null,null,4410,null,null,null,null,null,null,20,null,null,null,null,4480,null,null,null,null,null,null,20,null,null,null,null,4020,null,null,null,null,null,null,20,null,null,null,null,4040,null,null,null,null,null,null,20,null,null,null,null,4001,null,null,null,null,null,null,20,null,null,null,null,4457,null,null,null,null,null,null,20,null,null,null,null,4010,null,null,null,null,null,null,20,null,null,null,null,4451,null,null,null,null,null,null,20,null,null,null,null,4460,null,null,null,null,null,null,20,null,null,null,null,4432,null,null,null,null,null,null,20,null,null,null,null,4444]
[8,6,{"$f":"C494+1","v":2},"Leierensing",null,null,86002,0,0,0,0,0,0,0,0,0,0,0,0,0,0,null,0,0,1,9,null,null,null,null,null,null,null,null,null,null,null,null,null,null,null,null,null,null,null,null,null,null,null,null,null,null,null,null,null,null,null,null,null,null,null,null,null,null,null,null,null,null,null,null,null,null,null,null,null,null,null,null,null,null,null,null,null,null,null,null,null,20,null,null,null,null,4541,null,null,null,null,null,null,null,null,null,null,null,null,null,null,null,null,null,null,20,null,null,null,null,4541]
[8,6,{"$f":"C495+1","v":3},"Gebyrer",null,null,86003,0,0,0,0,0,0,0,0,0,0,0,0,0,0,null,0,0,1,{"$f":"A496+1","v":9},null,20,null,null,null,null,4451,null,null,null,null,null,null,20,null,null,null,null,4410,null,null,null,null,null,null,20,null,null,null,null,4480,null,null,null,null,null,null,20,null,null,null,null,4020,null,null,null,null,null,null,20,null,null,null,null,4040,null,null,null,null,null,null,20,null,null,null,null,4001,null,null,null,null,null,null,20,null,null,null,null,4457,null,null,null,null,null,null,20,null,null,null,null,4010,null,null,null,null,null,null,20,null,null,null,null,4451,null,null,null,null,null,null,20,null,null,null,null,7770]
[8,6,{"$f":"C496+1","v":4},"Renter og utsatt betaling",null,"Renter med mva.",86004,0,0,0,0,0,0,0,0,0,0,0,0,0,0,null,0,0,1,9,null,20,null,null,null,null,4451,null,null,null,null,null,null,20,null,null,null,null,4410,null,null,null,null,null,null,20,null,null,null,null,4480,null,null,null,null,null,null,20,null,null,null,null,4020,null,null,null,null,null,null,20,null,null,null,null,4040,null,null,null,null,null,null,20,null,null,null,null,4001,null,null,null,null,null,null,20,null,null,null,null,4457,null,null,null,null,null,null,20,null,null,null,null,null,null,null,null,null,null,null,20,null,null,null,null,4451]
[8,6,5,"Optimeringstjeneste",null,null,86005,0,0,0,0,0,0,0,0,0,0,0,0,0,0,null,0,0,1,9,null,null,null,null,null,null,null,null,null,null,null,null,null,null,null,null,null,null,null,null,null,null,null,null,null,null,null,null,null,null,null,null,null,null,null,null,null,20,null,null,null,null,4020,null,null,null,null,null,null,20,null,null,null,null,4040]
[8,6,6,"Analyser",null,null,86006,0,0,0,0,0,0,0,0,0,0,0,0,0,0,null,0,0,1,{"$f":"A499+1","v":9},null,null,null,null,null,null,null,null,null,null,null,null,null,null,null,null,null,null,null,null,null,null,null,null,null,null,null,null,null,null,null,null,null,null,null,null,null,20,null,null,null,null,4020,null,null,null,null,null,null,20,null,null,null,null,4040]
[8,6,7,"Siloleie (kraftfôr)",null,"Diverse utleie av utstyr",86007,0,0,0,0,0,0,0,0,0,0,0,0,0,0,null,0,0,1,9,null,null,null,null,null,null,null,null,null,null,null,null,null,null,null,null,null,null,null,null,null,null,null,null,null,null,null,null,null,null,null,null,null,null,null,null,null,20,null,null,null,null,6410,null,null,null,null,null,null,20,null,null,null,null,4040]
[8,6,{"$f":"C500+1","v":8},"Abonnement og annonser",null,null,86008,0,0,0,0,0,0,0,0,0,0,0,0,0,0,null,0,0,1,9,null,20,null,null,null,null,4451,null,null,null,null,null,null,20,null,null,null,null,4410,null,null,null,null,null,null,20,null,null,null,null,4480,null,null,null,null,null,null,20,null,null,null,null,4020,null,null,null,null,null,null,20,null,null,null,null,4040,null,null,null,null,null,null,20,null,null,null,null,4001,null,null,null,null,null,null,20,null,null,null,null,4457,null,null,null,null,null,null,20,null,null,null,null,null,null,null,null,null,null,null,20,null,null,null,null,4451]
[8,6,9,"Andelskapital",null,null,86009,0,0,0,0,0,0,0,0,0,0,0,0,0,0,null,{"$f":"IF(B502=0,1,0)","v":0},{"$f":"IF(OR(C502=0,MID(C502,2,2)=\"00\"),1,0)","v":0},1,9,null,10,1355,null,null,null,null,null,null,null,null,null,null,10,1355,null,null,null,null,null,null,null,null,null,null,10,1355,null,null,null,null,null,null,null,null,null,null,10,1355,null,null,null,null,null,null,null,null,null,null,10,1355,null,null,null,null,null,null,null,null,null,null,null,null,null,null,null,null,null,null,null,null,null,null,null,null,null,null,null,null,null,null,null,null,null,null,null,null,null,null,null,null,null,null,null,null,null,null,null,null,null,null,null,null,null,null,null,null,null,null,10,1355]
[8,6,10,"Provisjon",null,null,86010,0,0,0,0,0,0,0,0,0,0,0,0,0,0,null,0,0,1,{"$f":"A503+1","v":9},null,20,null,null,null,null,4451,null,null,null,null,null,null,20,null,null,null,null,4410,null,null,null,null,null,null,20,null,null,null,null,4480,null,null,null,null,null,null,20,null,null,null,null,4020,null,null,null,null,null,null,20,null,null,null,null,4040,null,null,null,null,null,null,20,null,null,null,null,4001,null,null,null,null,null,null,20,null,null,null,null,4457,null,null,null,null,null,null,20,null,null,null,null,null,null,null,null,null,null,null,20,null,null,null,null,4451]
[8,6,11,"Emballasje",null,null,86011,0,0,0,0,0,0,0,0,0,0,0,0,0,0,null,0,0,1,9,null,20,null,null,null,null,4451,null,null,null,null,null,null,20,null,null,null,null,4410,null,null,null,null,null,null,20,null,null,null,null,4480,null,null,null,null,null,null,20,null,null,null,null,4020,null,null,null,null,null,null,20,null,null,null,null,4040,null,null,null,null,null,null,20,null,null,null,null,4001,null,null,null,null,null,null,20,null,null,null,null,4457,null,null,null,null,null,null,20,null,null,null,null,4010,null,null,null,null,null,null,20,null,null,null,null,4451]
[8,6,12,"Utleie",null,null,86012,0,0,0,0,0,0,0,0,0,0,0,0,0,0,null,0,0,1,{"$f":"A505+1","v":9}]
[8,6,99,"Andre varer og tjenester",null,null,86099,0,0,0,0,0,0,0,0,0,0,0,0,0,0,null,0,0,1,9,null,20,null,null,null,null,4451,null,null,null,null,null,null,20,null,null,null,null,4410,null,null,null,null,null,null,20,null,null,null,null,4480,null,null,null,null,null,null,20,null,null,null,null,4020,null,null,null,null,null,null,20,null,null,null,null,4040,null,null,null,null,null,null,20,null,null,null,null,4001,null,null,null,null,null,null,20,null,null,null,null,4457,null,null,null,null,null,null,20,null,null,null,null,null,null,null,null,null,null,null,20,null,null,null,null,4451]
[8,0,100,{"$f":"\"2-\"&Produkt!E405","v":"2-Varer og tjenester knyttet til produksjonene"},null,null,80100,null,null,null,null,null,null,null,null,null,null,null,null,{"$f":"IF(GRLTilleggTrekk=1,AE507,IF(GRLTilleggTrekk=2,AQ507,IF(GRLTilleggTrekk=3,BC507,IF(GRLTilleggTrekk=4,BO507,IF(GRLTilleggTrekk=5,CA507,IF(GRLTilleggTrekk=6,CM507,IF(GRLTilleggTrekk=7,CY507,IF(GRLTilleggTrekk=8,DK507,IF(GRLTilleggTrekk=9,DW507,IF(GRLTilleggTrekk=10,EI507,IF(GRLTilleggTrekk=11,EU507,IF(GRLTilleggTrekk=12,FG507,IF(GRLTilleggTrekk=13,FS507,IF(GRLTilleggTrekk=14,GE507,IF(GRLTilleggTrekk=15,GQ507,0)))))))))))))))","v":0},{"$f":"IF(GRLTilleggTrekk=1,AF507,IF(GRLTilleggTrekk=2,AR507,IF(GRLTilleggTrekk=3,BD507,IF(GRLTilleggTrekk=4,BP507,IF(GRLTilleggTrekk=5,CB507,IF(GRLTilleggTrekk=6,CN507,IF(GRLTilleggTrekk=7,CZ507,IF(GRLTilleggTrekk=8,DL507,IF(GRLTilleggTrekk=9,DX507,IF(GRLTilleggTrekk=10,EJ507,IF(GRLTilleggTrekk=11,EV507,IF(GRLTilleggTrekk=12,FH507,IF(GRLTilleggTrekk=13,FT507,IF(GRLTilleggTrekk=14,GF507,IF(GRLTilleggTrekk=15,GR507,0)))))))))))))))","v":0},null,1,1,1,{"$f":"A507+2","v":10},null,"Tekst",null,"Kode fra/til",null,null,null,null,null,null,null,null,null,"Tekst",null,"Kode fra/til",null,null,null,null,null,null,null,null,null,"Tekst",null,"Kode fra/til",null,null,null,null,null,null,null,null,null,"Tekst",null,"Kode fra/til",null,null,null,null,null,null,null,null,null,"Tekst",null,"Kode fra/til",null,null,null,null,null,null,null,null,null,"Tekst",null,"Kode fra/til",null,null,null,null,null,null,null,null,null,"Tekst",null,"Kode fra/til",null,null,null,null,null,null,null,null,null,"Tekst",null,"Kode fra/til",null,null,null,null,null,null,null,null,null,"Tekst",null,"Kode fra/til",null,null,null,null,null,null,null,null,null,"Tekst",null,"Kode fra/til",null,null,null,null,null,null,null,null,null,"Tekst",null,"Kode fra/til",null,null,null,null,null,null,null,null,null,"Tekst",null,"Kode fra/til",null,null,null,null,null,null,null,null,null,"Tekst",null,"Kode fra/til",null,null,null,null,null,null,null,null,null,"Tekst",null,"Kode fra/til",null,null,null,null,null,null,null,null,null,"Tekst",null,"Kode fra/til"]
[8,1,{"$f":"C507","v":100},"Tillegg",null,null,81100,null,null,null,null,null,null,null,null,null,null,null,null,null,null,null,0,1,1,{"$f":"A508+2","v":10}]
[8,1,{"$f":"C508+1","v":101},"Ledig",null,null,81101,{"$f":"IF(GRLTilleggTrekk=1,AB509,IF(GRLTilleggTrekk=2,AN509,IF(GRLTilleggTrekk=3,AZ509,IF(GRLTilleggTrekk=4,BL509,IF(GRLTilleggTrekk=5,BX509,IF(GRLTilleggTrekk=6,CJ509,IF(GRLTilleggTrekk=7,CV509,IF(GRLTilleggTrekk=8,DH509,IF(GRLTilleggTrekk=9,DT509,IF(GRLTilleggTrekk=10,EF509,IF(GRLTilleggTrekk=11,ER509,IF(GRLTilleggTrekk=12,FD509,IF(GRLTilleggTrekk=13,FP509,IF(GRLTilleggTrekk=14,GB509,IF(GRLTilleggTrekk=15,GN509,0)))))))))))))))","v":0},0,0,0,0,0,0,0,0,0,0,0,{"$f":"$T$507","v":0},{"$f":"$U$507","v":0},null,0,0,1,10]
[8,1,{"$f":"C509+1","v":102},"Ledig",null,null,81102,0,0,0,0,0,0,0,0,0,0,0,0,{"$f":"$T$507","v":0},{"$f":"$U$507","v":0},null,0,0,1,10]
[8,1,{"$f":"C507+99","v":199},"Andre tillegg",null,null,81199,0,0,0,0,0,0,0,0,0,0,0,0,{"$f":"$T$507","v":0},{"$f":"$U$507","v":0},null,0,0,1,10]
[8,2,{"$f":"C507","v":100},"Trekk",null,null,82100,null,null,null,null,null,null,null,null,null,null,null,null,null,null,null,0,1,1,10]
[8,2,{"$f":"C512+1","v":101},"Ledig",null,null,82101,{"$f":"IF(GRLTilleggTrekk=1,AB513,IF(GRLTilleggTrekk=2,AN513,IF(GRLTilleggTrekk=3,AZ513,IF(GRLTilleggTrekk=4,BL513,IF(GRLTilleggTrekk=5,BX513,IF(GRLTilleggTrekk=6,CJ513,IF(GRLTilleggTrekk=7,CV513,IF(GRLTilleggTrekk=8,DH513,IF(GRLTilleggTrekk=9,DT513,IF(GRLTilleggTrekk=10,EF513,IF(GRLTilleggTrekk=11,ER513,IF(GRLTilleggTrekk=12,FD513,IF(GRLTilleggTrekk=13,FP513,IF(GRLTilleggTrekk=14,GB513,IF(GRLTilleggTrekk=15,GN513,0)))))))))))))))","v":0},0,0,0,0,0,0,0,0,0,0,0,0,0,null,0,0,1,10]
[8,2,{"$f":"C513+1","v":102},"Ledig",null,null,82102,0,0,0,0,0,0,0,0,0,0,0,0,0,0,null,0,0,1,10]
[8,2,{"$f":"C507+99","v":199},"Andre trrekk",null,null,82199,0,0,0,0,0,0,0,0,0,0,0,0,0,0,null,0,0,1,10]
[8,3,{"$f":"C507","v":100},"Avgifter",null,null,83100,null,null,null,null,null,null,null,null,null,null,null,null,null,null,null,0,1,1,10]
[8,3,{"$f":"C516+1","v":101},"Ledig",null,null,83101,{"$f":"IF(GRLTilleggTrekk=1,AB517,IF(GRLTilleggTrekk=2,AN517,IF(GRLTilleggTrekk=3,AZ517,IF(GRLTilleggTrekk=4,BL517,IF(GRLTilleggTrekk=5,BX517,IF(GRLTilleggTrekk=6,CJ517,IF(GRLTilleggTrekk=7,CV517,IF(GRLTilleggTrekk=8,DH517,IF(GRLTilleggTrekk=9,DT517,IF(GRLTilleggTrekk=10,EF517,IF(GRLTilleggTrekk=11,ER517,IF(GRLTilleggTrekk=12,FD517,IF(GRLTilleggTrekk=13,FP517,IF(GRLTilleggTrekk=14,GB517,IF(GRLTilleggTrekk=15,GN517,0)))))))))))))))","v":0},0,0,0,0,0,0,0,0,0,0,0,0,0,null,0,0,1,10]
[8,3,{"$f":"C517+1","v":102},"Ledig",null,null,83102,0,0,0,0,0,0,0,0,0,0,0,0,0,0,null,0,0,1,10]
[8,3,{"$f":"C507+99","v":199},"Andre avgifter",null,null,83199,0,0,0,0,0,0,0,0,0,0,0,0,0,0,null,0,0,1,10]
[8,4,{"$f":"C507","v":100},"Etterbetalinger, erstatninger og bonuser",null,null,84100,null,null,null,null,null,null,null,null,null,null,null,null,null,null,null,0,1,1,10]
[8,4,{"$f":"C520+1","v":101},"Ledig",null,null,84101,{"$f":"IF(GRLTilleggTrekk=1,AB521,IF(GRLTilleggTrekk=2,AN521,IF(GRLTilleggTrekk=3,AZ521,IF(GRLTilleggTrekk=4,BL521,IF(GRLTilleggTrekk=5,BX521,IF(GRLTilleggTrekk=6,CJ521,IF(GRLTilleggTrekk=7,CV521,IF(GRLTilleggTrekk=8,DH521,IF(GRLTilleggTrekk=9,DT521,IF(GRLTilleggTrekk=10,EF521,IF(GRLTilleggTrekk=11,ER521,IF(GRLTilleggTrekk=12,FD521,IF(GRLTilleggTrekk=13,FP521,IF(GRLTilleggTrekk=14,GB521,IF(GRLTilleggTrekk=15,GN521,0)))))))))))))))","v":0},0,0,0,0,0,0,0,0,0,0,0,0,0,null,0,0,1,10]
[8,4,{"$f":"C521+1","v":102},"Ledig",null,null,{"$f":"VALUE(A522&B522&IF(LEN(C522)=1,\"00\"&C522,IF(LEN(C522)=2,\"0\"&C522,C522)))","v":84102},0,0,0,0,0,0,0,0,0,0,0,0,0,0,null,0,0,1,10]
[8,4,{"$f":"C507+99","v":199},"Andre etterbetalinger, erstatninger og bonuser",null,null,84199,0,0,0,0,0,0,0,0,0,0,0,0,0,0,null,0,0,1,10]
[8,5,{"$f":"C507","v":100},"Tilskudd",null,null,85100,null,null,null,null,null,null,null,null,null,null,null,null,null,null,null,0,1,1,10]
[8,5,{"$f":"C524+1","v":101},"Ledig",null,"Frakttilskudd for kraftfôr",85101,{"$f":"IF(GRLTilleggTrekk=1,AB525,IF(GRLTilleggTrekk=2,AN525,IF(GRLTilleggTrekk=3,AZ525,IF(GRLTilleggTrekk=4,BL525,IF(GRLTilleggTrekk=5,BX525,IF(GRLTilleggTrekk=6,CJ525,IF(GRLTilleggTrekk=7,CV525,IF(GRLTilleggTrekk=8,DH525,IF(GRLTilleggTrekk=9,DT525,IF(GRLTilleggTrekk=10,EF525,IF(GRLTilleggTrekk=11,ER525,IF(GRLTilleggTrekk=12,FD525,IF(GRLTilleggTrekk=13,FP525,IF(GRLTilleggTrekk=14,GB525,IF(GRLTilleggTrekk=15,GN525,0)))))))))))))))","v":0},0,0,0,0,0,0,0,0,0,0,0,0,0,null,0,0,1,10]
[8,5,{"$f":"C525+1","v":102},"Ledig",null,null,85102,0,0,0,0,0,0,0,0,0,0,0,0,0,0,null,0,0,1,10]
[8,5,{"$f":"C507+99","v":199},"Andre tilskudd",null,null,85199,0,0,0,0,0,0,0,0,0,0,0,0,0,0,null,0,0,1,10]
[8,6,{"$f":"C507","v":100},"Varer og tjenester",null,null,86100,null,null,null,null,null,null,null,null,null,null,null,null,null,null,null,0,1,1,10]
[8,6,{"$f":"C528+1","v":101},"Ledig",null,null,86101,{"$f":"IF(GRLTilleggTrekk=1,AB529,IF(GRLTilleggTrekk=2,AN529,IF(GRLTilleggTrekk=3,AZ529,IF(GRLTilleggTrekk=4,BL529,IF(GRLTilleggTrekk=5,BX529,IF(GRLTilleggTrekk=6,CJ529,IF(GRLTilleggTrekk=7,CV529,IF(GRLTilleggTrekk=8,DH529,IF(GRLTilleggTrekk=9,DT529,IF(GRLTilleggTrekk=10,EF529,IF(GRLTilleggTrekk=11,ER529,IF(GRLTilleggTrekk=12,FD529,IF(GRLTilleggTrekk=13,FP529,IF(GRLTilleggTrekk=14,GB529,IF(GRLTilleggTrekk=15,GN529,0)))))))))))))))","v":0},0,0,0,0,0,0,0,0,0,0,0,0,0,null,0,0,1,10]
[8,6,{"$f":"C529+1","v":102},"Ledig",null,null,86102,0,0,0,0,0,0,0,0,0,0,0,0,0,0,null,0,0,1,10]
[8,6,{"$f":"C507+99","v":199},"Andre varer og tjenester",null,null,86199,0,0,0,0,0,0,0,0,0,0,0,0,0,0,null,0,0,1,10]
[8,0,200,{"$f":"\"3-\"&Produkt!E405","v":"3-Varer og tjenester knyttet til produksjonene"},null,null,80200,null,null,null,null,null,null,null,null,null,null,null,null,{"$f":"IF(GRLTilleggTrekk=1,AE532,IF(GRLTilleggTrekk=2,AQ532,IF(GRLTilleggTrekk=3,BC532,IF(GRLTilleggTrekk=4,BO532,IF(GRLTilleggTrekk=5,CA532,IF(GRLTilleggTrekk=6,CM532,IF(GRLTilleggTrekk=7,CY532,IF(GRLTilleggTrekk=8,DK532,IF(GRLTilleggTrekk=9,DW532,IF(GRLTilleggTrekk=10,EI532,IF(GRLTilleggTrekk=11,EU532,IF(GRLTilleggTrekk=12,FG532,IF(GRLTilleggTrekk=13,FS532,IF(GRLTilleggTrekk=14,GE532,IF(GRLTilleggTrekk=15,GQ532,0)))))))))))))))","v":0},{"$f":"IF(GRLTilleggTrekk=1,AF532,IF(GRLTilleggTrekk=2,AR532,IF(GRLTilleggTrekk=3,BD532,IF(GRLTilleggTrekk=4,BP532,IF(GRLTilleggTrekk=5,CB532,IF(GRLTilleggTrekk=6,CN532,IF(GRLTilleggTrekk=7,CZ532,IF(GRLTilleggTrekk=8,DL532,IF(GRLTilleggTrekk=9,DX532,IF(GRLTilleggTrekk=10,EJ532,IF(GRLTilleggTrekk=11,EV532,IF(GRLTilleggTrekk=12,FH532,IF(GRLTilleggTrekk=13,FT532,IF(GRLTilleggTrekk=14,GF532,IF(GRLTilleggTrekk=15,GR532,0)))))))))))))))","v":0},null,1,1,1,{"$f":"A532+3","v":11},null,"Tekst",null,"Kode fra/til",null,null,null,null,null,null,null,null,null,"Tekst",null,"Kode fra/til",null,null,null,null,null,null,null,null,null,"Tekst",null,"Kode fra/til",null,null,null,null,null,null,null,null,null,"Tekst",null,"Kode fra/til",null,null,null,null,null,null,null,null,null,"Tekst",null,"Kode fra/til",null,null,null,null,null,null,null,null,null,"Tekst",null,"Kode fra/til",null,null,null,null,null,null,null,null,null,"Tekst",null,"Kode fra/til",null,null,null,null,null,null,null,null,null,"Tekst",null,"Kode fra/til",null,null,null,null,null,null,null,null,null,"Tekst",null,"Kode fra/til",null,null,null,null,null,null,null,null,null,"Tekst",null,"Kode fra/til",null,null,null,null,null,null,null,null,null,"Tekst",null,"Kode fra/til",null,null,null,null,null,null,null,null,null,"Tekst",null,"Kode fra/til",null,null,null,null,null,null,null,null,null,"Tekst",null,"Kode fra/til",null,null,null,null,null,null,null,null,null,"Tekst",null,"Kode fra/til",null,null,null,null,null,null,null,null,null,"Tekst",null,"Kode fra/til"]
[8,1,{"$f":"C532","v":200},"Tillegg",null,null,81200,null,null,null,null,null,null,null,null,null,null,null,null,null,null,null,0,1,1,{"$f":"A533+3","v":11}]
[8,1,{"$f":"C533+1","v":201},"Ledig",null,null,81201,{"$f":"IF(GRLTilleggTrekk=1,AB534,IF(GRLTilleggTrekk=2,AN534,IF(GRLTilleggTrekk=3,AZ534,IF(GRLTilleggTrekk=4,BL534,IF(GRLTilleggTrekk=5,BX534,IF(GRLTilleggTrekk=6,CJ534,IF(GRLTilleggTrekk=7,CV534,IF(GRLTilleggTrekk=8,DH534,IF(GRLTilleggTrekk=9,DT534,IF(GRLTilleggTrekk=10,EF534,IF(GRLTilleggTrekk=11,ER534,IF(GRLTilleggTrekk=12,FD534,IF(GRLTilleggTrekk=13,FP534,IF(GRLTilleggTrekk=14,GB534,IF(GRLTilleggTrekk=15,GN534,0)))))))))))))))","v":0},0,0,0,0,0,0,0,0,0,0,0,{"$f":"$T$532","v":0},{"$f":"$U$532","v":0},null,0,0,1,11]
[8,1,{"$f":"C534+1","v":202},"Ledig",null,null,81202,0,0,0,0,0,0,0,0,0,0,0,0,{"$f":"$T$532","v":0},{"$f":"$U$532","v":0},null,0,0,1,11]
[8,1,{"$f":"C532+99","v":299},"Andre tillegg",null,null,81299,0,0,0,0,0,0,0,0,0,0,0,0,{"$f":"$T$532","v":0},{"$f":"$U$532","v":0},null,0,0,1,11]
[8,2,{"$f":"C532","v":200},"Trekk",null,null,82200,null,null,null,null,null,null,null,null,null,null,null,null,null,null,null,0,1,1,11]
[8,2,{"$f":"C537+1","v":201},"Ledig",null,null,82201,{"$f":"IF(GRLTilleggTrekk=1,AB538,IF(GRLTilleggTrekk=2,AN538,IF(GRLTilleggTrekk=3,AZ538,IF(GRLTilleggTrekk=4,BL538,IF(GRLTilleggTrekk=5,BX538,IF(GRLTilleggTrekk=6,CJ538,IF(GRLTilleggTrekk=7,CV538,IF(GRLTilleggTrekk=8,DH538,IF(GRLTilleggTrekk=9,DT538,IF(GRLTilleggTrekk=10,EF538,IF(GRLTilleggTrekk=11,ER538,IF(GRLTilleggTrekk=12,FD538,IF(GRLTilleggTrekk=13,FP538,IF(GRLTilleggTrekk=14,GB538,IF(GRLTilleggTrekk=15,GN538,0)))))))))))))))","v":0},0,0,0,0,0,0,0,0,0,0,0,0,0,null,0,0,1,11]
[8,2,{"$f":"C538+1","v":202},"Ledig",null,null,82202,0,0,0,0,0,0,0,0,0,0,0,0,0,0,null,0,0,1,11]
[8,2,{"$f":"C532+99","v":299},"Andre trrekk",null,null,82299,0,0,0,0,0,0,0,0,0,0,0,0,0,0,null,0,0,1,11]
[8,3,{"$f":"C532","v":200},"Avgifter",null,null,83200,null,null,null,null,null,null,null,null,null,null,null,null,null,null,null,0,1,1,11]
[8,3,{"$f":"C541+1","v":201},"Ledig",null,null,83201,{"$f":"IF(GRLTilleggTrekk=1,AB542,IF(GRLTilleggTrekk=2,AN542,IF(GRLTilleggTrekk=3,AZ542,IF(GRLTilleggTrekk=4,BL542,IF(GRLTilleggTrekk=5,BX542,IF(GRLTilleggTrekk=6,CJ542,IF(GRLTilleggTrekk=7,CV542,IF(GRLTilleggTrekk=8,DH542,IF(GRLTilleggTrekk=9,DT542,IF(GRLTilleggTrekk=10,EF542,IF(GRLTilleggTrekk=11,ER542,IF(GRLTilleggTrekk=12,FD542,IF(GRLTilleggTrekk=13,FP542,IF(GRLTilleggTrekk=14,GB542,IF(GRLTilleggTrekk=15,GN542,0)))))))))))))))","v":0},0,0,0,0,0,0,0,0,0,0,0,0,0,null,0,0,1,11]
[8,3,{"$f":"C542+1","v":202},"Ledig",null,null,83202,0,0,0,0,0,0,0,0,0,0,0,0,0,0,null,0,0,1,11]
[8,3,{"$f":"C532+99","v":299},"Andre avgifter",null,null,83299,0,0,0,0,0,0,0,0,0,0,0,0,0,0,null,0,0,1,11]
[8,4,{"$f":"C532","v":200},"Etterbetalinger, erstatninger og bonuser",null,null,84200,null,null,null,null,null,null,null,null,null,null,null,null,null,null,null,0,1,1,11]
[8,4,{"$f":"C545+1","v":201},"Ledig",null,null,84201,{"$f":"IF(GRLTilleggTrekk=1,AB546,IF(GRLTilleggTrekk=2,AN546,IF(GRLTilleggTrekk=3,AZ546,IF(GRLTilleggTrekk=4,BL546,IF(GRLTilleggTrekk=5,BX546,IF(GRLTilleggTrekk=6,CJ546,IF(GRLTilleggTrekk=7,CV546,IF(GRLTilleggTrekk=8,DH546,IF(GRLTilleggTrekk=9,DT546,IF(GRLTilleggTrekk=10,EF546,IF(GRLTilleggTrekk=11,ER546,IF(GRLTilleggTrekk=12,FD546,IF(GRLTilleggTrekk=13,FP546,IF(GRLTilleggTrekk=14,GB546,IF(GRLTilleggTrekk=15,GN546,0)))))))))))))))","v":0},0,0,0,0,0,0,0,0,0,0,0,0,0,null,0,0,1,11]
[8,4,{"$f":"C546+1","v":202},"Ledig",null,null,84202,0,0,0,0,0,0,0,0,0,0,0,0,0,0,null,0,0,1,11]
[8,4,{"$f":"C532+99","v":299},"Andre etterbetalinger, erstatninger og bonuser",null,null,84299,0,0,0,0,0,0,0,0,0,0,0,0,0,0,null,0,0,1,11]
[8,5,{"$f":"C532","v":200},"Tilskudd",null,null,85200,null,null,null,null,null,null,null,null,null,null,null,null,null,null,null,0,1,1,11]
[8,5,{"$f":"C549+1","v":201},"Ledig",null,"Frakttilskudd for kraftfôr",85201,{"$f":"IF(GRLTilleggTrekk=1,AB550,IF(GRLTilleggTrekk=2,AN550,IF(GRLTilleggTrekk=3,AZ550,IF(GRLTilleggTrekk=4,BL550,IF(GRLTilleggTrekk=5,BX550,IF(GRLTilleggTrekk=6,CJ550,IF(GRLTilleggTrekk=7,CV550,IF(GRLTilleggTrekk=8,DH550,IF(GRLTilleggTrekk=9,DT550,IF(GRLTilleggTrekk=10,EF550,IF(GRLTilleggTrekk=11,ER550,IF(GRLTilleggTrekk=12,FD550,IF(GRLTilleggTrekk=13,FP550,IF(GRLTilleggTrekk=14,GB550,IF(GRLTilleggTrekk=15,GN550,0)))))))))))))))","v":0},0,0,0,0,0,0,0,0,0,0,0,0,0,null,0,0,1,11]
[8,5,{"$f":"C550+1","v":202},"Ledig",null,null,85202,0,0,0,0,0,0,0,0,0,0,0,0,0,0,null,0,0,1,11]
[8,5,{"$f":"C532+99","v":299},"Andre tilskudd",null,null,85299,0,0,0,0,0,0,0,0,0,0,0,0,0,0,null,0,0,1,11]
[8,6,{"$f":"C532","v":200},"Varer og tjenester",null,null,86200,null,null,null,null,null,null,null,null,null,null,null,null,null,null,null,0,1,1,11]
[8,6,{"$f":"C553+1","v":201},"Ledig",null,null,86201,{"$f":"IF(GRLTilleggTrekk=1,AB554,IF(GRLTilleggTrekk=2,AN554,IF(GRLTilleggTrekk=3,AZ554,IF(GRLTilleggTrekk=4,BL554,IF(GRLTilleggTrekk=5,BX554,IF(GRLTilleggTrekk=6,CJ554,IF(GRLTilleggTrekk=7,CV554,IF(GRLTilleggTrekk=8,DH554,IF(GRLTilleggTrekk=9,DT554,IF(GRLTilleggTrekk=10,EF554,IF(GRLTilleggTrekk=11,ER554,IF(GRLTilleggTrekk=12,FD554,IF(GRLTilleggTrekk=13,FP554,IF(GRLTilleggTrekk=14,GB554,IF(GRLTilleggTrekk=15,GN554,0)))))))))))))))","v":0},0,0,0,0,0,0,0,0,0,0,0,0,{"$f":"$U$532","v":0},null,0,0,1,11]
[8,6,{"$f":"C554+1","v":202},"Ledig",null,null,86202,0,0,0,0,0,0,0,0,0,0,0,0,0,0,null,0,0,1,11]
[8,6,{"$f":"C532+99","v":299},"Andre varer og tjenester",null,null,86299,0,0,0,0,0,0,0,0,0,0,0,0,0,0,null,0,0,1,11]
[8,0,300,{"$f":"\"4-\"&Produkt!E405","v":"4-Varer og tjenester knyttet til produksjonene"},null,null,80300,null,null,null,null,null,null,null,null,null,null,null,null,{"$f":"IF(GRLTilleggTrekk=1,AE557,IF(GRLTilleggTrekk=2,AQ557,IF(GRLTilleggTrekk=3,BC557,IF(GRLTilleggTrekk=4,BO557,IF(GRLTilleggTrekk=5,CA557,IF(GRLTilleggTrekk=6,CM557,IF(GRLTilleggTrekk=7,CY557,IF(GRLTilleggTrekk=8,DK557,IF(GRLTilleggTrekk=9,DW557,IF(GRLTilleggTrekk=10,EI557,IF(GRLTilleggTrekk=11,EU557,IF(GRLTilleggTrekk=12,FG557,IF(GRLTilleggTrekk=13,FS557,IF(GRLTilleggTrekk=14,GE557,IF(GRLTilleggTrekk=15,GQ557,0)))))))))))))))","v":0},{"$f":"IF(GRLTilleggTrekk=1,AF557,IF(GRLTilleggTrekk=2,AR557,IF(GRLTilleggTrekk=3,BD557,IF(GRLTilleggTrekk=4,BP557,IF(GRLTilleggTrekk=5,CB557,IF(GRLTilleggTrekk=6,CN557,IF(GRLTilleggTrekk=7,CZ557,IF(GRLTilleggTrekk=8,DL557,IF(GRLTilleggTrekk=9,DX557,IF(GRLTilleggTrekk=10,EJ557,IF(GRLTilleggTrekk=11,EV557,IF(GRLTilleggTrekk=12,FH557,IF(GRLTilleggTrekk=13,FT557,IF(GRLTilleggTrekk=14,GF557,IF(GRLTilleggTrekk=15,GR557,0)))))))))))))))","v":0},null,1,1,1,{"$f":"A557+4","v":12},null,"Tekst",null,"Kode fra/til",null,null,null,null,null,null,null,null,null,"Tekst",null,"Kode fra/til",null,null,null,null,null,null,null,null,null,"Tekst",null,"Kode fra/til",null,null,null,null,null,null,null,null,null,"Tekst",null,"Kode fra/til",null,null,null,null,null,null,null,null,null,"Tekst",null,"Kode fra/til",null,null,null,null,null,null,null,null,null,"Tekst",null,"Kode fra/til",null,null,null,null,null,null,null,null,null,"Tekst",null,"Kode fra/til",null,null,null,null,null,null,null,null,null,"Tekst",null,"Kode fra/til",null,null,null,null,null,null,null,null,null,"Tekst",null,"Kode fra/til",null,null,null,null,null,null,null,null,null,"Tekst",null,"Kode fra/til",null,null,null,null,null,null,null,null,null,"Tekst",null,"Kode fra/til",null,null,null,null,null,null,null,null,null,"Tekst",null,"Kode fra/til",null,null,null,null,null,null,null,null,null,"Tekst",null,"Kode fra/til",null,null,null,null,null,null,null,null,null,"Tekst",null,"Kode fra/til",null,null,null,null,null,null,null,null,null,"Tekst",null,"Kode fra/til"]
[8,1,{"$f":"C557","v":300},"Tillegg",null,null,81300,null,null,null,null,null,null,null,null,null,null,null,null,null,null,null,0,1,1,{"$f":"A558+4","v":12}]
[8,1,{"$f":"C558+1","v":301},"Ledig",null,null,81301,{"$f":"IF(GRLTilleggTrekk=1,AB559,IF(GRLTilleggTrekk=2,AN559,IF(GRLTilleggTrekk=3,AZ559,IF(GRLTilleggTrekk=4,BL559,IF(GRLTilleggTrekk=5,BX559,IF(GRLTilleggTrekk=6,CJ559,IF(GRLTilleggTrekk=7,CV559,IF(GRLTilleggTrekk=8,DH559,IF(GRLTilleggTrekk=9,DT559,IF(GRLTilleggTrekk=10,EF559,IF(GRLTilleggTrekk=11,ER559,IF(GRLTilleggTrekk=12,FD559,IF(GRLTilleggTrekk=13,FP559,IF(GRLTilleggTrekk=14,GB559,IF(GRLTilleggTrekk=15,GN559,0)))))))))))))))","v":0},0,0,0,0,0,0,0,0,0,0,0,{"$f":"$T$557","v":0},{"$f":"$U$557","v":0},null,0,0,1,12]
[8,1,{"$f":"C559+1","v":302},"Ledig",null,null,81302,0,0,0,0,0,0,0,0,0,0,0,0,{"$f":"$T$557","v":0},{"$f":"$U$557","v":0},null,0,0,1,12]
[8,1,{"$f":"C557+99","v":399},"Andre tillegg",null,null,81399,0,0,0,0,0,0,0,0,0,0,0,0,{"$f":"$T$557","v":0},{"$f":"$U$557","v":0},null,0,0,1,12]
[8,2,{"$f":"C557","v":300},"Trekk",null,null,82300,null,null,null,null,null,null,null,null,null,null,null,null,null,null,null,0,1,1,12]
[8,2,{"$f":"C562+1","v":301},"Ledig",null,null,82301,{"$f":"IF(GRLTilleggTrekk=1,AB563,IF(GRLTilleggTrekk=2,AN563,IF(GRLTilleggTrekk=3,AZ563,IF(GRLTilleggTrekk=4,BL563,IF(GRLTilleggTrekk=5,BX563,IF(GRLTilleggTrekk=6,CJ563,IF(GRLTilleggTrekk=7,CV563,IF(GRLTilleggTrekk=8,DH563,IF(GRLTilleggTrekk=9,DT563,IF(GRLTilleggTrekk=10,EF563,IF(GRLTilleggTrekk=11,ER563,IF(GRLTilleggTrekk=12,FD563,IF(GRLTilleggTrekk=13,FP563,IF(GRLTilleggTrekk=14,GB563,IF(GRLTilleggTrekk=15,GN563,0)))))))))))))))","v":0},0,0,0,0,0,0,0,0,0,0,0,0,0,null,0,0,1,12]
[8,2,{"$f":"C563+1","v":302},"Ledig",null,null,82302,0,0,0,0,0,0,0,0,0,0,0,0,0,0,null,0,0,1,12]
[8,2,{"$f":"C557+99","v":399},"Andre trrekk",null,null,82399,0,0,0,0,0,0,0,0,0,0,0,0,0,0,null,0,0,1,12]
[8,3,{"$f":"C557","v":300},"Avgifter",null,null,83300,null,null,null,null,null,null,null,null,null,null,null,null,null,null,null,{"$f":"IF(B566=0,1,0)","v":0},{"$f":"IF(OR(C566=0,MID(C566,2,2)=\"00\"),1,0)","v":1},1,12]
[8,3,{"$f":"C566+1","v":301},"Ledig",null,null,83301,{"$f":"IF(GRLTilleggTrekk=1,AB567,IF(GRLTilleggTrekk=2,AN567,IF(GRLTilleggTrekk=3,AZ567,IF(GRLTilleggTrekk=4,BL567,IF(GRLTilleggTrekk=5,BX567,IF(GRLTilleggTrekk=6,CJ567,IF(GRLTilleggTrekk=7,CV567,IF(GRLTilleggTrekk=8,DH567,IF(GRLTilleggTrekk=9,DT567,IF(GRLTilleggTrekk=10,EF567,IF(GRLTilleggTrekk=11,ER567,IF(GRLTilleggTrekk=12,FD567,IF(GRLTilleggTrekk=13,FP567,IF(GRLTilleggTrekk=14,GB567,IF(GRLTilleggTrekk=15,GN567,0)))))))))))))))","v":0},0,0,0,0,0,0,0,0,0,0,0,0,0,null,0,0,1,12]
[8,3,{"$f":"C567+1","v":302},"Ledig",null,null,83302,0,0,0,0,0,0,0,0,0,0,0,0,0,0,null,0,0,1,12]
[8,3,{"$f":"C557+99","v":399},"Andre avgifter",null,null,83399,0,0,0,0,0,0,0,0,0,0,0,0,0,0,null,0,0,1,12]
[8,4,{"$f":"C557","v":300},"Etterbetalinger, erstatninger og bonuser",null,null,84300,null,null,null,null,null,null,null,null,null,null,null,null,null,null,null,0,1,1,12]
[8,4,{"$f":"C570+1","v":301},"Ledig",null,null,84301,{"$f":"IF(GRLTilleggTrekk=1,AB571,IF(GRLTilleggTrekk=2,AN571,IF(GRLTilleggTrekk=3,AZ571,IF(GRLTilleggTrekk=4,BL571,IF(GRLTilleggTrekk=5,BX571,IF(GRLTilleggTrekk=6,CJ571,IF(GRLTilleggTrekk=7,CV571,IF(GRLTilleggTrekk=8,DH571,IF(GRLTilleggTrekk=9,DT571,IF(GRLTilleggTrekk=10,EF571,IF(GRLTilleggTrekk=11,ER571,IF(GRLTilleggTrekk=12,FD571,IF(GRLTilleggTrekk=13,FP571,IF(GRLTilleggTrekk=14,GB571,IF(GRLTilleggTrekk=15,GN571,0)))))))))))))))","v":0},0,0,0,0,0,0,0,0,0,0,0,0,0,null,0,0,1,12]
[8,4,{"$f":"C571+1","v":302},"Ledig",null,null,84302,0,0,0,0,0,0,0,0,0,0,0,0,0,0,null,0,0,1,12]
[8,4,{"$f":"C557+99","v":399},"Andre etterbetalinger, erstatninger og bonuser",null,null,84399,0,0,0,0,0,0,0,0,0,0,0,0,0,0,null,0,0,1,12]
[8,5,{"$f":"C557","v":300},"Tilskudd",null,null,85300,null,null,null,null,null,null,null,null,null,null,null,null,null,null,null,0,1,1,12]
[8,5,{"$f":"C574+1","v":301},"Ledig",null,"Frakttilskudd for kraftfôr",85301,{"$f":"IF(GRLTilleggTrekk=1,AB575,IF(GRLTilleggTrekk=2,AN575,IF(GRLTilleggTrekk=3,AZ575,IF(GRLTilleggTrekk=4,BL575,IF(GRLTilleggTrekk=5,BX575,IF(GRLTilleggTrekk=6,CJ575,IF(GRLTilleggTrekk=7,CV575,IF(GRLTilleggTrekk=8,DH575,IF(GRLTilleggTrekk=9,DT575,IF(GRLTilleggTrekk=10,EF575,IF(GRLTilleggTrekk=11,ER575,IF(GRLTilleggTrekk=12,FD575,IF(GRLTilleggTrekk=13,FP575,IF(GRLTilleggTrekk=14,GB575,IF(GRLTilleggTrekk=15,GN575,0)))))))))))))))","v":0},0,0,0,0,0,0,0,0,0,0,0,0,0,null,0,0,1,12]
[8,5,{"$f":"C575+1","v":302},"Ledig",null,null,85302,0,0,0,0,0,0,0,0,0,0,0,0,0,0,null,0,0,1,12]
[8,5,{"$f":"C557+99","v":399},"Andre tilskudd",null,null,85399,0,0,0,0,0,0,0,0,0,0,0,0,0,0,null,0,0,1,12]
[8,6,{"$f":"C557","v":300},"Varer og tjenester",null,null,86300,null,null,null,null,null,null,null,null,null,null,null,null,null,null,null,0,1,1,12]
[8,6,{"$f":"C578+1","v":301},"Ledig",null,null,86301,{"$f":"IF(GRLTilleggTrekk=1,AB579,IF(GRLTilleggTrekk=2,AN579,IF(GRLTilleggTrekk=3,AZ579,IF(GRLTilleggTrekk=4,BL579,IF(GRLTilleggTrekk=5,BX579,IF(GRLTilleggTrekk=6,CJ579,IF(GRLTilleggTrekk=7,CV579,IF(GRLTilleggTrekk=8,DH579,IF(GRLTilleggTrekk=9,DT579,IF(GRLTilleggTrekk=10,EF579,IF(GRLTilleggTrekk=11,ER579,IF(GRLTilleggTrekk=12,FD579,IF(GRLTilleggTrekk=13,FP579,IF(GRLTilleggTrekk=14,GB579,IF(GRLTilleggTrekk=15,GN579,0)))))))))))))))","v":0},0,0,0,0,0,0,0,0,0,0,0,0,0,null,0,0,1,12]
[8,6,{"$f":"C579+1","v":302},"Ledig",null,null,86302,0,0,0,0,0,0,0,0,0,0,0,0,0,0,null,0,0,1,12]
[8,6,{"$f":"C557+99","v":399},"Andre varer og tjenester",null,null,86399,0,0,0,0,0,0,0,0,0,0,0,0,0,0,null,0,0,1,12]
[8,0,400,{"$f":"\"5-\"&Produkt!E405","v":"5-Varer og tjenester knyttet til produksjonene"},null,null,80400,null,null,null,null,null,null,null,null,null,null,null,null,{"$f":"IF(GRLTilleggTrekk=1,AE582,IF(GRLTilleggTrekk=2,AQ582,IF(GRLTilleggTrekk=3,BC582,IF(GRLTilleggTrekk=4,BO582,IF(GRLTilleggTrekk=5,CA582,IF(GRLTilleggTrekk=6,CM582,IF(GRLTilleggTrekk=7,CY582,IF(GRLTilleggTrekk=8,DK582,IF(GRLTilleggTrekk=9,DW582,IF(GRLTilleggTrekk=10,EI582,IF(GRLTilleggTrekk=11,EU582,IF(GRLTilleggTrekk=12,FG582,IF(GRLTilleggTrekk=13,FS582,IF(GRLTilleggTrekk=14,GE582,IF(GRLTilleggTrekk=15,GQ582,0)))))))))))))))","v":0},{"$f":"IF(GRLTilleggTrekk=1,AF582,IF(GRLTilleggTrekk=2,AR582,IF(GRLTilleggTrekk=3,BD582,IF(GRLTilleggTrekk=4,BP582,IF(GRLTilleggTrekk=5,CB582,IF(GRLTilleggTrekk=6,CN582,IF(GRLTilleggTrekk=7,CZ582,IF(GRLTilleggTrekk=8,DL582,IF(GRLTilleggTrekk=9,DX582,IF(GRLTilleggTrekk=10,EJ582,IF(GRLTilleggTrekk=11,EV582,IF(GRLTilleggTrekk=12,FH582,IF(GRLTilleggTrekk=13,FT582,IF(GRLTilleggTrekk=14,GF582,IF(GRLTilleggTrekk=15,GR582,0)))))))))))))))","v":0},null,1,1,1,{"$f":"A582+5","v":13},null,"Tekst",null,"Kode fra/til",null,null,null,null,null,null,null,null,null,"Tekst",null,"Kode fra/til",null,null,null,null,null,null,null,null,null,"Tekst",null,"Kode fra/til",null,null,null,null,null,null,null,null,null,"Tekst",null,"Kode fra/til",null,null,null,null,null,null,null,null,null,"Tekst",null,"Kode fra/til",null,null,null,null,null,null,null,null,null,"Tekst",null,"Kode fra/til",null,null,null,null,null,null,null,null,null,"Tekst",null,"Kode fra/til",null,null,null,null,null,null,null,null,null,"Tekst",null,"Kode fra/til",null,null,null,null,null,null,null,null,null,"Tekst",null,"Kode fra/til",null,null,null,null,null,null,null,null,null,"Tekst",null,"Kode fra/til",null,null,null,null,null,null,null,null,null,"Tekst",null,"Kode fra/til",null,null,null,null,null,null,null,null,null,"Tekst",null,"Kode fra/til",null,null,null,null,null,null,null,null,null,"Tekst",null,"Kode fra/til",null,null,null,null,null,null,null,null,null,"Tekst",null,"Kode fra/til",null,null,null,null,null,null,null,null,null,"Tekst",null,"Kode fra/til"]
[8,1,{"$f":"C582","v":400},"Tillegg",null,null,81400,null,null,null,null,null,null,null,null,null,null,null,null,null,null,null,0,1,1,{"$f":"A583+5","v":13}]
[8,1,{"$f":"C583+1","v":401},"Ledig",null,null,81401,{"$f":"IF(GRLTilleggTrekk=1,AB584,IF(GRLTilleggTrekk=2,AN584,IF(GRLTilleggTrekk=3,AZ584,IF(GRLTilleggTrekk=4,BL584,IF(GRLTilleggTrekk=5,BX584,IF(GRLTilleggTrekk=6,CJ584,IF(GRLTilleggTrekk=7,CV584,IF(GRLTilleggTrekk=8,DH584,IF(GRLTilleggTrekk=9,DT584,IF(GRLTilleggTrekk=10,EF584,IF(GRLTilleggTrekk=11,ER584,IF(GRLTilleggTrekk=12,FD584,IF(GRLTilleggTrekk=13,FP584,IF(GRLTilleggTrekk=14,GB584,IF(GRLTilleggTrekk=15,GN584,0)))))))))))))))","v":0},0,0,0,0,0,0,0,0,0,0,0,{"$f":"$T$582","v":0},{"$f":"$U$582","v":0},null,0,0,1,13]
[8,1,{"$f":"C584+1","v":402},"Ledig",null,null,81402,0,0,0,0,0,0,0,0,0,0,0,0,{"$f":"$T$582","v":0},{"$f":"$U$582","v":0},null,0,0,1,13]
[8,1,{"$f":"C582+99","v":499},"Andre tillegg",null,null,{"$f":"VALUE(A586&B586&IF(LEN(C586)=1,\"00\"&C586,IF(LEN(C586)=2,\"0\"&C586,C586)))","v":81499},0,0,0,0,0,0,0,0,0,0,0,0,{"$f":"$T$582","v":0},{"$f":"$U$582","v":0},null,0,0,1,13]
[8,2,{"$f":"C582","v":400},"Trekk",null,null,82400,null,null,null,null,null,null,null,null,null,null,null,null,null,null,null,0,1,1,13]
[8,2,{"$f":"C587+1","v":401},"Ledig",null,null,82401,{"$f":"IF(GRLTilleggTrekk=1,AB588,IF(GRLTilleggTrekk=2,AN588,IF(GRLTilleggTrekk=3,AZ588,IF(GRLTilleggTrekk=4,BL588,IF(GRLTilleggTrekk=5,BX588,IF(GRLTilleggTrekk=6,CJ588,IF(GRLTilleggTrekk=7,CV588,IF(GRLTilleggTrekk=8,DH588,IF(GRLTilleggTrekk=9,DT588,IF(GRLTilleggTrekk=10,EF588,IF(GRLTilleggTrekk=11,ER588,IF(GRLTilleggTrekk=12,FD588,IF(GRLTilleggTrekk=13,FP588,IF(GRLTilleggTrekk=14,GB588,IF(GRLTilleggTrekk=15,GN588,0)))))))))))))))","v":0},0,0,0,0,0,0,0,0,0,0,0,0,0,null,0,0,1,13]
[8,2,{"$f":"C588+1","v":402},"Ledig",null,null,82402,0,0,0,0,0,0,0,0,0,0,0,0,0,0,null,0,0,1,13]
[8,2,{"$f":"C582+99","v":499},"Andre trrekk",null,null,82499,0,0,0,0,0,0,0,0,0,0,0,0,0,0,null,0,0,1,13]
[8,3,{"$f":"C582","v":400},"Avgifter",null,null,83400,null,null,null,null,null,null,null,null,null,null,null,null,null,null,null,0,1,1,13]
[8,3,{"$f":"C591+1","v":401},"Ledig",null,null,83401,{"$f":"IF(GRLTilleggTrekk=1,AB592,IF(GRLTilleggTrekk=2,AN592,IF(GRLTilleggTrekk=3,AZ592,IF(GRLTilleggTrekk=4,BL592,IF(GRLTilleggTrekk=5,BX592,IF(GRLTilleggTrekk=6,CJ592,IF(GRLTilleggTrekk=7,CV592,IF(GRLTilleggTrekk=8,DH592,IF(GRLTilleggTrekk=9,DT592,IF(GRLTilleggTrekk=10,EF592,IF(GRLTilleggTrekk=11,ER592,IF(GRLTilleggTrekk=12,FD592,IF(GRLTilleggTrekk=13,FP592,IF(GRLTilleggTrekk=14,GB592,IF(GRLTilleggTrekk=15,GN592,0)))))))))))))))","v":0},0,0,0,0,0,0,0,0,0,0,0,0,0,null,0,0,1,13]
[8,3,{"$f":"C592+1","v":402},"Ledig",null,null,83402,0,0,0,0,0,0,0,0,0,0,0,0,0,0,null,0,0,1,13]
[8,3,{"$f":"C582+99","v":499},"Andre avgifter",null,null,83499,0,0,0,0,0,0,0,0,0,0,0,0,0,0,null,0,0,1,13]
[8,4,{"$f":"C582","v":400},"Etterbetalinger, erstatninger og bonuser",null,null,84400,null,null,null,null,null,null,null,null,null,null,null,null,null,null,null,0,1,1,13]
[8,4,{"$f":"C595+1","v":401},"Ledig",null,null,84401,{"$f":"IF(GRLTilleggTrekk=1,AB596,IF(GRLTilleggTrekk=2,AN596,IF(GRLTilleggTrekk=3,AZ596,IF(GRLTilleggTrekk=4,BL596,IF(GRLTilleggTrekk=5,BX596,IF(GRLTilleggTrekk=6,CJ596,IF(GRLTilleggTrekk=7,CV596,IF(GRLTilleggTrekk=8,DH596,IF(GRLTilleggTrekk=9,DT596,IF(GRLTilleggTrekk=10,EF596,IF(GRLTilleggTrekk=11,ER596,IF(GRLTilleggTrekk=12,FD596,IF(GRLTilleggTrekk=13,FP596,IF(GRLTilleggTrekk=14,GB596,IF(GRLTilleggTrekk=15,GN596,0)))))))))))))))","v":0},0,0,0,0,0,0,0,0,0,0,0,0,0,null,0,0,1,13]
[8,4,{"$f":"C596+1","v":402},"Ledig",null,null,84402,0,0,0,0,0,0,0,0,0,0,0,0,0,0,null,0,0,1,13]
[8,4,{"$f":"C582+99","v":499},"Andre etterbetalinger, erstatninger og bonuser",null,null,84499,0,0,0,0,0,0,0,0,0,0,0,0,0,0,null,0,0,1,13]
[8,5,{"$f":"C582","v":400},"Tilskudd",null,null,85400,null,null,null,null,null,null,null,null,null,null,null,null,null,null,null,0,1,1,13]
[8,5,{"$f":"C599+1","v":401},"Ledig",null,"Frakttilskudd for kraftfôr",85401,{"$f":"IF(GRLTilleggTrekk=1,AB600,IF(GRLTilleggTrekk=2,AN600,IF(GRLTilleggTrekk=3,AZ600,IF(GRLTilleggTrekk=4,BL600,IF(GRLTilleggTrekk=5,BX600,IF(GRLTilleggTrekk=6,CJ600,IF(GRLTilleggTrekk=7,CV600,IF(GRLTilleggTrekk=8,DH600,IF(GRLTilleggTrekk=9,DT600,IF(GRLTilleggTrekk=10,EF600,IF(GRLTilleggTrekk=11,ER600,IF(GRLTilleggTrekk=12,FD600,IF(GRLTilleggTrekk=13,FP600,IF(GRLTilleggTrekk=14,GB600,IF(GRLTilleggTrekk=15,GN600,0)))))))))))))))","v":0},0,0,0,0,0,0,0,0,0,0,0,0,0,null,0,0,1,13]
[8,5,{"$f":"C600+1","v":402},"Ledig",null,null,85402,0,0,0,0,0,0,0,0,0,0,0,0,0,0,null,0,0,1,13]
[8,5,{"$f":"C582+99","v":499},"Andre tilskudd",null,null,85499,0,0,0,0,0,0,0,0,0,0,0,0,0,0,null,0,0,1,13]
[8,6,{"$f":"C582","v":400},"Varer og tjenester",null,null,86400,null,null,null,null,null,null,null,null,null,null,null,null,null,null,null,0,1,1,13]
[8,6,{"$f":"C603+1","v":401},"Ledig",null,null,86401,{"$f":"IF(GRLTilleggTrekk=1,AB604,IF(GRLTilleggTrekk=2,AN604,IF(GRLTilleggTrekk=3,AZ604,IF(GRLTilleggTrekk=4,BL604,IF(GRLTilleggTrekk=5,BX604,IF(GRLTilleggTrekk=6,CJ604,IF(GRLTilleggTrekk=7,CV604,IF(GRLTilleggTrekk=8,DH604,IF(GRLTilleggTrekk=9,DT604,IF(GRLTilleggTrekk=10,EF604,IF(GRLTilleggTrekk=11,ER604,IF(GRLTilleggTrekk=12,FD604,IF(GRLTilleggTrekk=13,FP604,IF(GRLTilleggTrekk=14,GB604,IF(GRLTilleggTrekk=15,GN604,0)))))))))))))))","v":0},0,0,0,0,0,0,0,0,0,0,0,0,0,null,0,0,1,13]
[8,6,{"$f":"C604+1","v":402},"Ledig",null,null,86402,0,0,0,0,0,0,0,0,0,0,0,0,0,0,null,0,0,1,13]
[8,6,{"$f":"C582+99","v":499},"Andre varer og tjenester",null,null,86499,0,0,0,0,0,0,0,0,0,0,0,0,0,0,null,0,0,1,13]
["Nye linjer må settes inn over denne linja"]
[]
[null,null,null,null,null,"Grupper",3,4,5,6,7,8,9,10,11,12,13,14,15,16,17]
[null,null,null,null,1,"Alle grupper",{"$f":"G611&\"—\"&G612&\"—\"&G613&\"—\"&G614&\"—\"&G615&\"—\"&G616&\"—\"&G617&\"—\"&G618&\"—\"&G619&\"—\"&G620&\"—\"&G621&\"—\"&G622","v":"10 Korn og frø—20 Poteter—30 Melk—40 Slakt husdyr—50 Livdyr husdyr—60 Skogbruk—70 Finanser—80/1 Handelsgjødsel (4451)—80/2 Tekst—80/3 Tekst—80/4 Tekst—80/5 Tekst"},{"$f":"H611&\"—\"&H612&\"—\"&H613&\"—\"&H614&\"—\"&H615&\"—\"&H616&\"—\"&H617&\"—\"&H618&\"—\"&H619&\"—\"&H620&\"—\"&H621&\"—\"&H622","v":"10 Grovfôr—20 Grønnsaker—30 Egg og bier—40 Slakt andre husdyr—50 Livdyr andre husdyr—60 Tekst—70 Tilskudd—80/1 Plantevern (4410)—80/2 Tekst—80/3 Tekst—80/4 Tekst—80/5 Tekst"},"10 Tekst—20 Frukt—30 Ull og skinn—40 Slakt pelsdyr—50 Livdyr pelsdyr—60 Tekst—70 Tekst—80/1 Konserv.middel (4480)—80/2 Tekst—80/3 Tekst—80/4 Tekst—80/5 Tekst","10 Tekst—20 Bær—30 Andre husdyrprod.—40 Tekst—50 Tekst—60 Tekst—70 Tekst—80/1 Kraftfôr (4020)—80/2 Tekst—80/3 Tekst—80/4 Tekst—80/5 Tekst","10 Tekst—20 2000-serien—30 Pelsdyr—40 Tekst—50 Tekst—60 Tekst—70 Tekst—80/1 Tilskuddsfôr (4040)—80/2 Tekst—80/3 Tekst—80/4 Tekst—80/5 Tekst","10 Tekst—20 Tekst—30 Tekst—40 Tekst—50 Tekst—60 Tekst—70 Tekst—80/1 Såvarer i pl.prod (4001)—80/2 Tekst—80/3 Tekst—80/4 Tekst—80/5 Tekst","10 Tekst—20 Tekst—30 Tekst—40 Tekst—50 Tekst—60 Tekst—70 Tekst—80/1 Kalk (4457)—80/2 Tekst—80/3 Tekst—80/4 Tekst—80/5 Tekst","10 Tekst—20 Tekst—30 Tekst—40 Tekst—50 Tekst—60 Tekst—70 Tekst—80/1 Såvare i grøntproduksjon—80/2 Tekst—80/3 Tekst—80/4 Tekst—80/5 Tekst","10 Tekst—20 Tekst—30 Tekst—40 Tekst—50 Tekst—60 Tekst—70 Tekst—80/1 Bladgjødsel/Husdyrgjødsel—80/2 Tekst—80/3 Tekst—80/4 Tekst—80/5 Tekst","10 Tekst—20 Tekst—30 Tekst—40 Tekst—50 Tekst—60 Tekst—70 Tekst—80/1 Andelskap., renter mm—80/2 Tekst—80/3 Tekst—80/4 Tekst—80/5 Tekst","10 Tekst—20 Tekst—30 Tekst—40 Tekst—50 Tekst—60 Tekst—70 Tekst—80/1 Forbruksmateriell (4432)—80/2 Tekst—80/3 Tekst—80/4 Tekst—80/5 Tekst","10 Tekst—20 Tekst—30 Tekst—40 Tekst—50 Tekst—60 Tekst—70 Tekst—80/1 Fôrproduksjon (4444)—80/2 Tekst—80/3 Tekst—80/4 Tekst—80/5 Tekst","10 Tekst—20 Tekst—30 Tekst—40 Tekst—50 Tekst—60 Tekst—70 Tekst—80/1 Tekst—80/2 Tekst—80/3 Tekst—80/4 Tekst—80/5 Tekst","10 Tekst—20 Tekst—30 Tekst—40 Tekst—50 Tekst—60 Tekst—70 Tekst—80/1 Tekst—80/2 Tekst—80/3 Tekst—80/4 Tekst—80/5 Tekst","10 Tekst—20 Tekst—30 Tekst—40 Tekst—50 Tekst—60 Tekst—70 Tekst—80/1 Tekst—80/2 Tekst—80/3 Tekst—80/4 Tekst—80/5 Tekst"]
[null,null,null,null,2,{"$f":"\"10 \"&D4","v":"10 Korn, frø og grovfôr"},{"$f":"\"10 \"&AB4","v":"10 Korn og frø"},{"$f":"\"10 \"&AN4","v":"10 Grovfôr"},{"$f":"\"10 \"&AZ4","v":"10 Tekst"},{"$f":"\"10 \"&BL4","v":"10 Tekst"},{"$f":"\"10 \"&BX4","v":"10 Tekst"},{"$f":"\"10 \"&CJ4","v":"10 Tekst"},{"$f":"\"10 \"&CV4","v":"10 Tekst"},{"$f":"\"10 \"&DH4","v":"10 Tekst"},{"$f":"\"10 \"&DT4","v":"10 Tekst"},{"$f":"\"10 \"&EF4","v":"10 Tekst"},{"$f":"\"10 \"&ER4","v":"10 Tekst"},{"$f":"\"10 \"&FD4","v":"10 Tekst"},{"$f":"\"10 \"&FP4","v":"10 Tekst"},{"$f":"\"10 \"&GB4","v":"10 Tekst"},{"$f":"\"10 \"&GN4","v":"10 Tekst"}]
[null,null,null,null,3,{"$f":"\"20 \"&D75","v":"20 Poteter, grønnsaker, frukt, bær, blomster og hagebruksvekster"},{"$f":"\"20 \"&AB75","v":"20 Poteter"},{"$f":"\"20 \"&AN75","v":"20 Grønnsaker"},{"$f":"\"20 \"&AZ75","v":"20 Frukt"},{"$f":"\"20 \"&BL75","v":"20 Bær"},{"$f":"\"20 \"&BX75","v":"20 2000-serien"},{"$f":"\"20 \"&CJ75","v":"20 Tekst"},{"$f":"\"20 \"&CV75","v":"20 Tekst"},{"$f":"\"20 \"&DH75","v":"20 Tekst"},{"$f":"\"20 \"&DT75","v":"20 Tekst"},{"$f":"\"20 \"&EF75","v":"20 Tekst"},{"$f":"\"20 \"&ER75","v":"20 Tekst"},{"$f":"\"20 \"&FD75","v":"20 Tekst"},{"$f":"\"20 \"&FP75","v":"20 Tekst"},{"$f":"\"20 \"&GB75","v":"20 Tekst"},{"$f":"\"20 \"&GN75","v":"20 Tekst"}]
[null,null,null,null,4,{"$f":"\"30 \"&D158","v":"30 Husdyrprodukter"},{"$f":"\"30 \"&AB158","v":"30 Melk"},{"$f":"\"30 \"&AN158","v":"30 Egg og bier"},{"$f":"\"30 \"&AZ158","v":"30 Ull og skinn"},{"$f":"\"30 \"&BL158","v":"30 Andre husdyrprod."},{"$f":"\"30 \"&BX158","v":"30 Pelsdyr"},{"$f":"\"30 \"&CJ158","v":"30 Tekst"},{"$f":"\"30 \"&CV158","v":"30 Tekst"},{"$f":"\"30 \"&DH158","v":"30 Tekst"},{"$f":"\"30 \"&DT158","v":"30 Tekst"},{"$f":"\"30 \"&EF158","v":"30 Tekst"},{"$f":"\"30 \"&ER158","v":"30 Tekst"},{"$f":"\"30 \"&FD158","v":"30 Tekst"},{"$f":"\"30 \"&FP158","v":"30 Tekst"},{"$f":"\"30 \"&GB158","v":"30 Tekst"},{"$f":"\"30 \"&GN158","v":"30 Tekst"}]
[null,null,null,null,5,{"$f":"\"40 \"&D254","v":"40 Husdyr, slakt og skrotter"},{"$f":"\"40 \"&AB254","v":"40 Slakt husdyr"},{"$f":"\"40 \"&AN254","v":"40 Slakt andre husdyr"},{"$f":"\"40 \"&AZ254","v":"40 Slakt pelsdyr"},{"$f":"\"40 \"&BL254","v":"40 Tekst"},{"$f":"\"40 \"&BX254","v":"40 Tekst"},{"$f":"\"40 \"&CJ254","v":"40 Tekst"},{"$f":"\"40 \"&CV254","v":"40 Tekst"},{"$f":"\"40 \"&DH254","v":"40 Tekst"},{"$f":"\"40 \"&DT254","v":"40 Tekst"},{"$f":"\"40 \"&EF254","v":"40 Tekst"},{"$f":"\"40 \"&ER254","v":"40 Tekst"},{"$f":"\"40 \"&FD254","v":"40 Tekst"},{"$f":"\"40 \"&FP254","v":"40 Tekst"},{"$f":"\"40 \"&GB254","v":"40 Tekst"},{"$f":"\"40 \"&GN254","v":"40 Tekst"}]
[null,null,null,null,6,{"$f":"\"50 \"&D332","v":"50 Husdyr, livdyr, fôringsdyr, produksjonsdyr og balanse"},{"$f":"\"50 \"&AB332","v":"50 Livdyr husdyr"},{"$f":"\"50 \"&AN332","v":"50 Livdyr andre husdyr"},{"$f":"\"50 \"&AZ332","v":"50 Livdyr pelsdyr"},{"$f":"\"50 \"&BL332","v":"50 Tekst"},{"$f":"\"50 \"&BX332","v":"50 Tekst"},{"$f":"\"50 \"&CJ332","v":"50 Tekst"},{"$f":"\"50 \"&CV332","v":"50 Tekst"},{"$f":"\"50 \"&DH332","v":"50 Tekst"},{"$f":"\"50 \"&DT332","v":"50 Tekst"},{"$f":"\"50 \"&EF332","v":"50 Tekst"},{"$f":"\"50 \"&ER332","v":"50 Tekst"},{"$f":"\"50 \"&FD332","v":"50 Tekst"},{"$f":"\"50 \"&FP332","v":"50 Tekst"},{"$f":"\"50 \"&GB332","v":"50 Tekst"},{"$f":"\"50 \"&GN332","v":"50 Tekst"}]
[null,null,null,null,7,{"$f":"\"60 \"&D392","v":"60 Skogbruk og andre næringer"},{"$f":"\"60 \"&AB392","v":"60 Skogbruk"},{"$f":"\"60 \"&AN392","v":"60 Tekst"},{"$f":"\"60 \"&AZ392","v":"60 Tekst"},{"$f":"\"60 \"&BL392","v":"60 Tekst"},{"$f":"\"60 \"&BX392","v":"60 Tekst"},{"$f":"\"60 \"&CJ392","v":"60 Tekst"},{"$f":"\"60 \"&CV392","v":"60 Tekst"},{"$f":"\"60 \"&DH392","v":"60 Tekst"},{"$f":"\"60 \"&DT392","v":"60 Tekst"},{"$f":"\"60 \"&EF392","v":"60 Tekst"},{"$f":"\"60 \"&ER392","v":"60 Tekst"},{"$f":"\"60 \"&FD392","v":"60 Tekst"},{"$f":"\"60 \"&FP392","v":"60 Tekst"},{"$f":"\"60 \"&GB392","v":"60 Tekst"},{"$f":"\"60 \"&GN392","v":"60 Tekst"}]
[null,null,null,null,8,"70 Finans (utenom tilskudd)",{"$f":"\"70 \"&AB436","v":"70 Finanser"},{"$f":"\"70 \"&AN436","v":"70 Tilskudd"},{"$f":"\"70 \"&AZ436","v":"70 Tekst"},{"$f":"\"70 \"&BL436","v":"70 Tekst"},{"$f":"\"70 \"&BX436","v":"70 Tekst"},{"$f":"\"70 \"&CJ436","v":"70 Tekst"},{"$f":"\"70 \"&CV436","v":"70 Tekst"},{"$f":"\"70 \"&DH436","v":"70 Tekst"},{"$f":"\"70 \"&DT436","v":"70 Tekst"},{"$f":"\"70 \"&EF436","v":"70 Tekst"},{"$f":"\"70 \"&ER436","v":"70 Tekst"},{"$f":"\"70 \"&FD436","v":"70 Tekst"},{"$f":"\"70 \"&FP436","v":"70 Tekst"},{"$f":"\"70 \"&GB436","v":"70 Tekst"},{"$f":"\"70 \"&GN436","v":"70 Tekst"}]
[null,null,null,null,9,{"$f":"\"80/\"&D462","v":"80/1-Varer og tjenester knyttet til produksjonene"},{"$f":"\"80/1 \"&AB462","v":"80/1 Handelsgjødsel (4451)"},{"$f":"\"80/1 \"&AN462","v":"80/1 Plantevern (4410)"},{"$f":"\"80/1 \"&AZ462","v":"80/1 Konserv.middel (4480)"},{"$f":"\"80/1 \"&BL462","v":"80/1 Kraftfôr (4020)"},{"$f":"\"80/1 \"&BX462","v":"80/1 Tilskuddsfôr (4040)"},{"$f":"\"80/1 \"&CJ462","v":"80/1 Såvarer i pl.prod (4001)"},{"$f":"\"80/1 \"&CV462","v":"80/1 Kalk (4457)"},{"$f":"\"80/1 \"&DH462","v":"80/1 Såvare i grøntproduksjon"},{"$f":"\"80/1 \"&DT462","v":"80/1 Bladgjødsel/Husdyrgjødsel"},{"$f":"\"80/1 \"&EF462","v":"80/1 Andelskap., renter mm"},{"$f":"\"80/1 \"&ER462","v":"80/1 Forbruksmateriell (4432)"},{"$f":"\"80/1 \"&FD462","v":"80/1 Fôrproduksjon (4444)"},{"$f":"\"80/1 \"&FP462","v":"80/1 Tekst"},{"$f":"\"80/1 \"&GB462","v":"80/1 Tekst"},{"$f":"\"80/1 \"&GN462","v":"80/1 Tekst"}]
[null,null,null,null,10,{"$f":"\"80/\"&D507","v":"80/2-Varer og tjenester knyttet til produksjonene"},{"$f":"\"80/2 \"&AB507","v":"80/2 Tekst"},{"$f":"\"80/2 \"&AN507","v":"80/2 Tekst"},{"$f":"\"80/2 \"&AZ507","v":"80/2 Tekst"},{"$f":"\"80/2 \"&BL507","v":"80/2 Tekst"},{"$f":"\"80/2 \"&BX507","v":"80/2 Tekst"},{"$f":"\"80/2 \"&CJ507","v":"80/2 Tekst"},{"$f":"\"80/2 \"&CV507","v":"80/2 Tekst"},{"$f":"\"80/2 \"&DH507","v":"80/2 Tekst"},{"$f":"\"80/2 \"&DT507","v":"80/2 Tekst"},{"$f":"\"80/2 \"&EF507","v":"80/2 Tekst"},{"$f":"\"80/2 \"&ER507","v":"80/2 Tekst"},{"$f":"\"80/2 \"&FD507","v":"80/2 Tekst"},{"$f":"\"80/2 \"&FP507","v":"80/2 Tekst"},{"$f":"\"80/2 \"&GB507","v":"80/2 Tekst"},{"$f":"\"80/2 \"&GN507","v":"80/2 Tekst"}]
[null,null,null,null,11,{"$f":"\"80/\"&D532","v":"80/3-Varer og tjenester knyttet til produksjonene"},{"$f":"\"80/3 \"&AB532","v":"80/3 Tekst"},{"$f":"\"80/3 \"&AN532","v":"80/3 Tekst"},{"$f":"\"80/3 \"&AZ532","v":"80/3 Tekst"},{"$f":"\"80/3 \"&BL532","v":"80/3 Tekst"},{"$f":"\"80/3 \"&BX532","v":"80/3 Tekst"},{"$f":"\"80/3 \"&CJ532","v":"80/3 Tekst"},{"$f":"\"80/3 \"&CV532","v":"80/3 Tekst"},{"$f":"\"80/3 \"&DH532","v":"80/3 Tekst"},{"$f":"\"80/3 \"&DT532","v":"80/3 Tekst"},{"$f":"\"80/3 \"&EF532","v":"80/3 Tekst"},{"$f":"\"80/3 \"&ER532","v":"80/3 Tekst"},{"$f":"\"80/3 \"&FD532","v":"80/3 Tekst"},{"$f":"\"80/3 \"&FP532","v":"80/3 Tekst"},{"$f":"\"80/3 \"&GB532","v":"80/3 Tekst"},{"$f":"\"80/3 \"&GN532","v":"80/3 Tekst"}]
[null,null,null,null,12,{"$f":"\"80/\"&D557","v":"80/4-Varer og tjenester knyttet til produksjonene"},{"$f":"\"80/4 \"&AB557","v":"80/4 Tekst"},{"$f":"\"80/4 \"&AN557","v":"80/4 Tekst"},{"$f":"\"80/4 \"&AZ557","v":"80/4 Tekst"},{"$f":"\"80/4 \"&BL557","v":"80/4 Tekst"},{"$f":"\"80/4 \"&BX557","v":"80/4 Tekst"},{"$f":"\"80/4 \"&CJ557","v":"80/4 Tekst"},{"$f":"\"80/4 \"&CV557","v":"80/4 Tekst"},{"$f":"\"80/4 \"&DH557","v":"80/4 Tekst"},{"$f":"\"80/4 \"&DT557","v":"80/4 Tekst"},{"$f":"\"80/4 \"&EF557","v":"80/4 Tekst"},{"$f":"\"80/4 \"&ER557","v":"80/4 Tekst"},{"$f":"\"80/4 \"&FD557","v":"80/4 Tekst"},{"$f":"\"80/4 \"&FP557","v":"80/4 Tekst"},{"$f":"\"80/4 \"&GB557","v":"80/4 Tekst"},{"$f":"\"80/4 \"&GN557","v":"80/4 Tekst"}]
[null,null,null,null,13,{"$f":"\"80/\"&D582","v":"80/5-Varer og tjenester knyttet til produksjonene"},{"$f":"\"80/5 \"&AB582","v":"80/5 Tekst"},{"$f":"\"80/5 \"&AN582","v":"80/5 Tekst"},{"$f":"\"80/5 \"&AZ582","v":"80/5 Tekst"},{"$f":"\"80/5 \"&BL582","v":"80/5 Tekst"},{"$f":"\"80/5 \"&BX582","v":"80/5 Tekst"},{"$f":"\"80/5 \"&CJ582","v":"80/5 Tekst"},{"$f":"\"80/5 \"&CV582","v":"80/5 Tekst"},{"$f":"\"80/5 \"&DH582","v":"80/5 Tekst"},{"$f":"\"80/5 \"&DT582","v":"80/5 Tekst"},{"$f":"\"80/5 \"&EF582","v":"80/5 Tekst"},{"$f":"\"80/5 \"&ER582","v":"80/5 Tekst"},{"$f":"\"80/5 \"&FD582","v":"80/5 Tekst"},{"$f":"\"80/5 \"&FP582","v":"80/5 Tekst"},{"$f":"\"80/5 \"&GB582","v":"80/5 Tekst"},{"$f":"\"80/5 \"&GN582","v":"80/5 Tekst"}]
[]
[]
[]
[null,null,null,null,1,"Alle"]
[null,null,null,null,2,{"$f":"\"10 - (1) \" &AB4&\" - (2) \"&AN4&\" - (3) \"&AZ4&\" - (4) \"&BL4&\" - (5) \"&BX4&\" - (6) \"&CJ4&\" - (7) \"&CV4&\" - (8) \"&DH4&\" - (9) \"&DT4&\"- (10) \"&EF4&\" - (11) \"&ER4&\" - (12) \"&FD4&\" - (13) \"&FP4&\" - (14) \"&GB4&\" - (15) \"&GN4","v":"10 - (1) Korn og frø - (2) Grovfôr - (3) Tekst - (4) Tekst - (5) Tekst - (6) Tekst - (7) Tekst - (8) Tekst - (9) Tekst- (10) Tekst - (11) Tekst - (12) Tekst - (13) Tekst - (14) Tekst - (15) Tekst"}]
[null,null,null,null,3,{"$f":"\"20 - (1) \" &AB75&\" - (2) \"&AN75&\" - (3) \"&AZ75&\" - (4) \"&BL75&\" - (5) \"&BX75&\" - (6) \"&CJ75&\" - (7) \"&CV75&\" - (8) \"&DH75&\" - (9) \"&DT75&\"- (10) \"&EF75&\" - (11) \"&ER75&\" - (12) \"&FD75&\" - (13) \"&FP75&\" - (14) \"&GB75&\" - (15) \"&GN75","v":"20 - (1) Poteter - (2) Grønnsaker - (3) Frukt - (4) Bær - (5) 2000-serien - (6) Tekst - (7) Tekst - (8) Tekst - (9) Tekst- (10) Tekst - (11) Tekst - (12) Tekst - (13) Tekst - (14) Tekst - (15) Tekst"}]
[null,null,null,null,4,{"$f":"\"30 - (1) \" &AB158&\" - (2) \"&AN158&\" - (3) \"&AZ158&\" - (4) \"&BL158&\" - (5) \"&BX158&\" - (6) \"&CJ158&\" - (7) \"&CV158&\" - (8) \"&DH158&\" - (9) \"&DT158&\"- (10) \"&EF158&\" - (11) \"&ER158&\" - (12) \"&FD158&\" - (13) \"&FP158&\" - (14) \"&GB158&\" - (15) \"&GN158","v":"30 - (1) Melk - (2) Egg og bier - (3) Ull og skinn - (4) Andre husdyrprod. - (5) Pelsdyr - (6) Tekst - (7) Tekst - (8) Tekst - (9) Tekst- (10) Tekst - (11) Tekst - (12) Tekst - (13) Tekst - (14) Tekst - (15) Tekst"}]
[null,null,null,null,5,{"$f":"\"40 - (1) \" &AB254&\" - (2) \"&AN254&\" - (3) \"&AZ254&\" - (4) \"&BL254&\" - (5) \"&BX254&\" - (6) \"&CJ254&\" - (7) \"&CV254&\" - (8) \"&DH254&\" - (9) \"&DT254&\"- (10) \"&EF254&\" - (11) \"&ER254&\" - (12) \"&FD254&\" - (13) \"&FP254&\" - (14) \"&GB254&\" - (15) \"&GN254","v":"40 - (1) Slakt husdyr - (2) Slakt andre husdyr - (3) Slakt pelsdyr - (4) Tekst - (5) Tekst - (6) Tekst - (7) Tekst - (8) Tekst - (9) Tekst- (10) Tekst - (11) Tekst - (12) Tekst - (13) Tekst - (14) Tekst - (15) Tekst"}]
[null,null,null,null,6,{"$f":"\"50 - (1) \" &AB332&\" - (2) \"&AN332&\" - (3) \"&AZ332&\" - (4) \"&BL332&\" - (5) \"&BX332&\" - (6) \"&CJ332&\" - (7) \"&CV332&\" - (8) \"&DH332&\" - (9) \"&DT332&\"- (10) \"&EF332&\" - (11) \"&ER332&\" - (12) \"&FD332&\" - (13) \"&FP332&\" - (14) \"&GB332&\" - (15) \"&GN332","v":"50 - (1) Livdyr husdyr - (2) Livdyr andre husdyr - (3) Livdyr pelsdyr - (4) Tekst - (5) Tekst - (6) Tekst - (7) Tekst - (8) Tekst - (9) Tekst- (10) Tekst - (11) Tekst - (12) Tekst - (13) Tekst - (14) Tekst - (15) Tekst"}]
[null,null,null,null,7,{"$f":"\"60 - (1) \" &AB392&\" - (2) \"&AN392&\" - (3) \"&AZ392&\" - (4) \"&BL392&\" - (5) \"&BX392&\" - (6) \"&CJ392&\" - (7) \"&CV392&\" - (8) \"&DH392&\" - (9) \"&DT392&\"- (10) \"&EF392&\" - (11) \"&ER392&\" - (12) \"&FD392&\" - (13) \"&FP392&\" - (14) \"&GB392&\" - (15) \"&GN392","v":"60 - (1) Skogbruk - (2) Tekst - (3) Tekst - (4) Tekst - (5) Tekst - (6) Tekst - (7) Tekst - (8) Tekst - (9) Tekst- (10) Tekst - (11) Tekst - (12) Tekst - (13) Tekst - (14) Tekst - (15) Tekst"}]
[null,null,null,null,8,{"$f":"\"70 - (1) \" &AB436&\" - (2) \"&AN436&\" - (3) \"&AZ436&\" - (4) \"&BL436&\" - (5) \"&BX436&\" - (6) \"&CJ436&\" - (7) \"&CV436&\" - (8) \"&DH436&\" - (9) \"&DT436&\"- (10) \"&EF436&\" - (11) \"&ER436&\" - (12) \"&FD436&\" - (13) \"&FP436&\" - (14) \"&GB436&\" - (15) \"&GN436","v":"70 - (1) Finanser - (2) Tilskudd - (3) Tekst - (4) Tekst - (5) Tekst - (6) Tekst - (7) Tekst - (8) Tekst - (9) Tekst- (10) Tekst - (11) Tekst - (12) Tekst - (13) Tekst - (14) Tekst - (15) Tekst"}]
[null,null,null,null,9,{"$f":"\"80/1 - (1) \" &AB462&\" - (2) \"&AN462&\" - (3) \"&AZ462&\" - (4) \"&BL462&\" - (5) \"&BX462&\" - (6) \"&CJ462&\" - (7) \"&CV462&\" - (8) \"&DH462&\" - (9) \"&DT462&\"- (10) \"&EF462&\" - (11) \"&ER462&\" - (12) \"&FD462&\" - (13) \"&FP462&\" - (14) \"&GB462&\" - (15) \"&GN462","v":"80/1 - (1) Handelsgjødsel (4451) - (2) Plantevern (4410) - (3) Konserv.middel (4480) - (4) Kraftfôr (4020) - (5) Tilskuddsfôr (4040) - (6) Såvarer i pl.prod (4001) - (7) Kalk (4457) - (8) Såvare i grøntproduksjon - (9) Bladgjødsel/Husdyrgjødsel- (10) Andelskap., renter mm - (11) Forbruksmateriell (4432) - (12) Fôrproduksjon (4444) - (13) Tekst - (14) Tekst - (15) Tekst"}]
[null,null,null,null,10,{"$f":"\"80/2 - (1) \" &AB507&\" - (2) \"&AN507&\" - (3) \"&AZ507&\" - (4) \"&BL507&\" - (5) \"&BX507&\" - (6) \"&CJ507&\" - (7) \"&CV507&\" - (8) \"&DH507&\" - (9) \"&DT507&\"- (10) \"&EF507&\" - (11) \"&ER507&\" - (12) \"&FD507&\" - (13) \"&FP507&\" - (14) \"&GB507&\" - (15) \"&GN507","v":"80/2 - (1) Tekst - (2) Tekst - (3) Tekst - (4) Tekst - (5) Tekst - (6) Tekst - (7) Tekst - (8) Tekst - (9) Tekst- (10) Tekst - (11) Tekst - (12) Tekst - (13) Tekst - (14) Tekst - (15) Tekst"}]
[null,null,null,null,11,{"$f":"\"80/3 - (1) \" &AB532&\" - (2) \"&AN532&\" - (3) \"&AZ532&\" - (4) \"&BL532&\" - (5) \"&BX532&\" - (6) \"&CJ532&\" - (7) \"&CV532&\" - (8) \"&DH532&\" - (9) \"&DT532&\"- (10) \"&EF532&\" - (11) \"&ER532&\" - (12) \"&FD532&\" - (13) \"&FP532&\" - (14) \"&GB532&\" - (15) \"&GN532","v":"80/3 - (1) Tekst - (2) Tekst - (3) Tekst - (4) Tekst - (5) Tekst - (6) Tekst - (7) Tekst - (8) Tekst - (9) Tekst- (10) Tekst - (11) Tekst - (12) Tekst - (13) Tekst - (14) Tekst - (15) Tekst"}]
[null,null,null,null,12,{"$f":"\"80/4 - (1) \" &AB557&\" - (2) \"&AN557&\" - (3) \"&AZ557&\" - (4) \"&BL557&\" - (5) \"&BX557&\" - (6) \"&CJ557&\" - (7) \"&CV557&\" - (8) \"&DH557&\" - (9) \"&DT557&\"- (10) \"&EF557&\" - (11) \"&ER557&\" - (12) \"&FD557&\" - (13) \"&FP557&\" - (14) \"&GB557&\" - (15) \"&GN557","v":"80/4 - (1) Tekst - (2) Tekst - (3) Tekst - (4) Tekst - (5) Tekst - (6) Tekst - (7) Tekst - (8) Tekst - (9) Tekst- (10) Tekst - (11) Tekst - (12) Tekst - (13) Tekst - (14) Tekst - (15) Tekst"}]
[null,null,null,null,13,{"$f":"\"80/5 - (1) \" &AB582&\" - (2) \"&AN582&\" - (3) \"&AZ582&\" - (4) \"&BL582&\" - (5) \"&BX582&\" - (6) \"&CJ582&\" - (7) \"&CV582&\" - (8) \"&DH582&\" - (9) \"&DT582&\"- (10) \"&EF582&\" - (11) \"&ER582&\" - (12) \"&FD582&\" - (13) \"&FP582&\" - (14) \"&GB582&\" - (15) \"&GN582","v":"80/5 - (1) Tekst - (2) Tekst - (3) Tekst - (4) Tekst - (5) Tekst - (6) Tekst - (7) Tekst - (8) Tekst - (9) Tekst- (10) Tekst - (11) Tekst - (12) Tekst - (13) Tekst - (14) Tekst - (15) Tekst"}]

{"sheet":"Produktinfo","index":5,"n_rows":107,"n_cols":8,"rows_kept":107,"cut":false,"hidden":false,"merged":[[0,0,0,3],[12,0,12,2],[48,0,48,2]]}
["Tilleggsinformasjon om produktet",null,null,null,{"$f":"Admin!D1","v":"1.3.6"},null,"Startlinje",{"$f":"ROW(A3)","v":3}]
["Løpenr","Tekst forklaring","Variabelnavn i XML","Variabeltype","Eksempel/Kommentar",null,"Sluttlinje",12]
[1,"Økologisk Kan følge alle produkt","ProduktinfoOkologisk","Streng","Ja eller blank"]
[{"$f":"A3+1","v":2},"DyreID Følger husdyr (storfe)","ProduktinfoDyreID","Streng","1060633"]
[{"$f":"A4+1","v":3},"RegnrID Følger registrerte kjøretøy","ProduktinfoRegnrID","Streng","VF 48793"]
[{"$f":"A5+1","v":4},"ChassisnrID Følger kjøretøy og maskiner","ProduktinfoChassisnrID","Streng","YS3DF55C522037836"]
[{"$f":"A6+1","v":5},"Fødselsdato Følger husdyr (storfe)","ProduktinfoFodtDato","Dato","2015-03-14"]
[6,"Kjønn Følger husdyr","ProduktinfoKjonn","Streng","Han/Hun"]
[{"$f":"A8+1","v":7},"Rasekode Følger husdyr","ProduktinfoRase","Streng","24242424 24242424  01010101 01010101"]
[{"$f":"A9+1","v":8},"Type (maskin) Følger maskinkjøp","ProduktinfoType","Streng","Type og merke"]
[{"$f":"A10+1","v":9},"SertifiseringskodeSkog Følger avvirkningskontrakter","ProduktinfoSkog","Streng","Ja eller blank"]
[{"$f":"A11+1","v":10},"Globalt varenummer (varens \"personnummer\")","ProduktinfoGTIN","Streng","Global Trade Item Number (tidligere EAN)"]
["Produktinfo som kan følge med på fakturaer og avregninger, men som ikke skal tas inn i regnskapene"]
[101,"Energinnhold","ProduktinfoEnergi","Streng","Enhet f.eks. fôrenhet per kg"]
[{"$f":"A14+1","v":102},"Tørrstoff","ProduktinfoTorrstoff","Streng","Enhet vektprosent (av kraftfôret \"as is\")"]
[{"$f":"A15+1","v":103},"Råprotein","ProduktinfoProtein","Streng","Enhet vektprosent (av kraftfôret \"as is\")"]
[{"$f":"A16+1","v":104},"Råfett (HCl)","ProduktinfoFett","Streng","Enhet vektprosent (av kraftfôret \"as is\")"]
[105,"Råaske","ProduktinfoAske","Streng","Enhet vektprosent (av kraftfôret \"as is\")"]
[106,"Stivelse","ProduktinfoStivelse","Streng","Enhet vektprosent (av kraftfôret \"as is\")"]
[107,"Fiber (NDF)","ProduktinfoFiber","Streng","Enhet vektprosent (av kraftfôret \"as is\")"]
[108,"Nitrogen","ProduktinfoNitrogen","Streng","Enhet vektprosent"]
[109,"Kalium","ProduktinfoKalium","Streng","Enhet vektprosent"]
[110,"Calsium","ProduktinfoCalsium","Streng","Enhet vektprosent (av kraftfôret \"as is\")"]
[111,"Fosfor","ProduktinfoFosfor","Streng","Enhet vektprosent (av kraftfôret \"as is\")"]
[112,"Magnesium","ProduktinfoMagnesium","Streng","Enhet vektprosent (av kraftfôret \"as is\")"]
[113,"Natrium","ProduktinfoNatrium","Streng","Enhet vektprosent (av kraftfôret \"as is\")"]
[114,"Kobber","ProduktinfoKobber","Streng","Enhet mg/kg"]
[115,"Selen","ProduktinfoSelen","Streng","Enhet mg/kg"]
[116,"CO2 ekv","ProduktinfoCO2Ekv","Streng","Enhet g/kg"]
[117,"Tilsetningstoff","ProduktinfoTilsetning","Streng","Ja/Nei"]
[118,"AAT","ProduktinfoAAT","Streng","Enhet FEm/kg"]
[119,"PBV","ProduktinfoPBV","Streng","Enhet FEm/kg"]
[120,"E-vit","ProduktinfoVitaE","Streng","Enhet mg/kg"]
[121,"Jern","ProduktinfoJern","Streng","Enhet mg/kg"]
[122,"Mangan","ProduktinfoMangan","Streng","Enhet mg/kg"]
[123,"Zink","ProduktinfoZink","Streng","Enhet mg/kg"]
[124,"Kobolt","ProduktinfoKobolt","Streng","Enhet mg/kg"]
[125,"Jod","ProduktinfoJod","Streng","Enhet mg/kg"]
[126,"Vanninnhold","ProduktinfoVann","Streng","Enhet vektprosent"]
[127,"Hektolitervekt","ProduktinfoHektolitervekt","Streng","Enhet kg/hektoliter"]
[128,"Avrens","ProduktinfoAvrens","Streng","Enhet vektprosent"]
[129,"Falltall","ProduktinfoFalltall","Streng","Enhet Sekunder"]
[130,"1000-kornvekt","ProduktinfoTusenkorn","Streng","Enhet gram per 1000 korn"]
[131,"DON","ProduktinfoDON","Streng","Enhet µg/kg"]
[132,"Innblanding andre sorter","ProduktinfoInnblanding","Streng","Enhet vektprosent"]
[133,"Floghavre","ProduktinfoFloghavre","Streng","Kjerner per kg"]
[134,"Agolin Ruminant / Annen tilsetning","Produktinfoxxxx","Streng","Enhet vektprosent"]
[201,"\"Norfor-kode\" (varekode)","ProduktinfoNorfor","Streng","Ikke avklart om skal tas inn"]
["Definisjoner av enheter som kan knyttes til Produktinfo"]
[2001,"Angir attributt for enheter i tillegg i kontostreng","@","Streng","Faste definerte enheter i kontostreng"]
[{"$f":"A50+1","v":2002},"Enhet energi fôr, gris (Felleskjøpet)","@FEnPerKg","Streng","Fôrenheter gris"]
[{"$f":"A51+1","v":2003},"Enhet energi fôr, gris (Norgesfôr/Fiskå)","@FEgPerKg","Streng","Fôrenheter gris"]
[2004,"Enhet energi fôr, melk","@FEmPerKg","Streng","Fôrenheter melk"]
[{"$f":"A53+1","v":2005},"Enhet energi fôr, generell","@MJPerKg","Streng","Megajoule per kg. Brukes i stedet for forenhet"]
[2006,"Hektolitervekt","@KgPerHl","Streng","Kilogram per hektoliter"]
[2007,"Sekunder","@Sek","Streng","Sekunder (Falltall)"]
[2008,"Vektprosent","@Vekt%","Streng","Prosent regnet av vekten"]
[2009,"Mikrogram kg","@µgPerKg","Streng","Mikrogram per kg"]
[2010,"Milligram per kg","@mgPerKg","Streng","Milligram per kg"]
[2011,"Tusenkornvekt","@gPerTusen","Streng","Gram per 1000 kornkjerner"]
[2012,"Gram per kg","@gPerKg","Streng","Gram per kg"]
[2013,"Kjerner per kg","@KjernerPerKg","Streng","Kjerner per kg"]
[2014]
[]
[null,"Brukes på avregning og faktura ved livdyromsetning",null,"Forslag til tilleggsinformasjon"]
[null,"Rasekoder (Animalia 207S Storfe raser 3.mai 2018)",null,"Maskinmerker"]
[null,"1. Mjølke- og kombinasjonsfe",null,"John Deer"]
[null,"01 NRF",null,"New Holland"]
[null,"02 Jersey",null,"Massey Ferguson"]
[null,"03 Sidet trønder- og Nordlandsfe",null,"Case"]
[null,"04 Telemarkfe",null,"Fendt"]
[null,"05 Dølafe",null,"Ford"]
[null,"06 Raukolle",null,"Claas"]
[null,"07 Sør- og Vestlandsfe",null,"Valtra"]
[null,"08 Vestlandsfe",null,"Deutz"]
[null,"09 Holsteinsfe",null,"Fiat"]
[null,"10 Rødbroget dansk fe",null,"Andre …."]
[null,"11 Brown Swiss",null,"  :"]
[null,"12 Jarlsbergfe",null,"  :"]
[null,"13 Simmental Melk"]
[null,"14 Canadisk Ayrshire"]
[null,"15 Montbeliarde"]
[null,"16 Mørefe"]
[null,"17 Normande"]
[null,"2. Kjøttfe raser"]
[null,"21 Hereford"]
[null,"22 Charolais"]
[null,"23 Aberdeen Angus"]
[null,"24 Limousine"]
[null,"25 Simmentaler"]
[null,"26 Blonde d'Aquitaine"]
[null,"27 Scottish Highland"]
[null,"28 Tiroler Grauvieh"]
[null,"29 Dexter"]
[null,"30 Piemontese"]
[null,"31 Galloway"]
[null,"32 Salers"]
[null,"33 Chianina"]
[null,"34 Belgisk Blått fe"]
[null,"35 Mini Hereford"]
[null,"39 Wagyu"]
[null,"40 Jak (Bos Grunniens)"]
[null,"3. Krysninger/Ukjent"]
[null,"90 Krysning kjøttfe"]
[null,"91 Krysning mjølkefe"]
[null,"98 Krysninger"]
[null,"99 Ukjent"]

{"sheet":"Driftsgrein","index":6,"n_rows":383,"n_cols":20,"rows_kept":383,"cut":false,"hidden":false,"merged":[[2,0,2,3]]}
[{"$f":"\"Driftsgreinkoder  ( nivå  \"&N1&\" )\"","v":"Driftsgreinkoder  ( nivå  3 )"},null,null,null,null,null,null,null,{"$f":"Admin!D1","v":"1.3.6"},null,null,null,null,3,1,null,"Startlinje",{"$f":"ROW(A4)","v":4},"Sluttlinje",{"$f":"ROW(A374)-1","v":373}]
["Anbefalt bruk",null,null,null,"Mulig bruk",null,null," Anbefalt/Mulig bruk av driftsgreiner. Resten av kodene brukes til spesielle behov"]
["Gruppenivå =>",null,null,null,null,null,null,null,"Merknad",null,"Nivå 1","Nivå 2","Nivå 3","Nivå 4","Vis gruppe"]
[1,0,0,0,"Planteproduksjon jordbruk",null,null,null,null,null,{"$f":"IF(E4<>\"\",1,0)","v":1},{"$f":"IF(F4<>\"\",1,0)+K4","v":1},1,1,{"$f":"A4+1","v":2}]
[1,1,0,0,null,"Kornproduksjon til mat og fôrkorn",null,null,null,null,{"$f":"IF(E5<>\"\",1,0)","v":0},1,1,1,{"$f":"A5+1","v":2}]
[1,1,1,0,null,null,"Hveteproduksjon",null,null,null,{"$f":"IF(E6<>\"\",1,0)","v":0},0,1,1,2]
[1,1,1,1,null,null,null,"Vårhveteproduksjon",null,null,0,0,0,1,2]
[1,1,1,2,null,null,null,"Høsthveteproduksjon",null,null,0,0,0,1,2]
[1,1,2,0,null,null,"Byggproduksjon",null,null,null,0,0,1,1,2]
[1,1,3,0,null,null,"Havreproduksjon",null,null,null,0,0,1,1,2]
[1,1,4,0,null,null,"Rugproduksjon",null,null,null,0,0,1,1,2]
[1,1,5,0,null,null,"Rughveteproduksjon",null,null,null,0,0,1,1,2]
[1,1,9,0,null,null,"Annen kornproduksjon",null,null,null,{"$f":"IF(E13<>\"\",1,0)","v":0},{"$f":"IF(F13<>\"\",1,0)+K13","v":0},{"$f":"IF(G13<>\"\",1,0)+L13","v":1},{"$f":"IF(H13<>\"\",1,0)+M13","v":1},2]
[1,2,0,0,null,"Såkornproduksjon",null,null,null,null,0,1,1,1,2]
[1,2,1,0,null,null,"Hvete, såkornproduksjon",null,null,null,0,0,1,1,2]
[1,2,1,1,null,null,null,"Vårhvete, såkornproduksjon",null,null,0,0,0,1,2]
[1,2,1,2,null,null,null,"Høsthvete, såkornproduksjon",null,null,0,0,0,1,2]
[1,2,2,0,null,null,"Bygg, såkornproduksjon",null,null,null,0,0,1,1,2]
[1,2,3,0,null,null,"Havre, såkornproduksjon",null,null,null,0,0,1,1,2]
[1,2,4,0,null,null,"Rug, såkornproduksjon",null,null,null,0,{"$f":"IF(F20<>\"\",1,0)+K20","v":0},1,1,2]
[1,2,5,0,null,null,"Rughvete, såkornproduksjon",null,null,null,0,0,1,1,2]
[1,2,9,0,null,null,"Annen såkornproduksjon",null,null,null,{"$f":"IF(E22<>\"\",1,0)","v":0},{"$f":"IF(F22<>\"\",1,0)+K22","v":0},{"$f":"IF(G22<>\"\",1,0)+L22","v":1},{"$f":"IF(H22<>\"\",1,0)+M22","v":1},2]
[1,3,0,0,null,"Oljefrø- og belgvekstproduksjon",null,null,null,null,0,1,1,1,2]
[1,3,1,0,null,null,"Oljefrøproduksjon",null,null,null,0,0,1,1,2]
[1,3,1,1,null,null,null,"Oljefrøproduksjon til industri",null,null,0,0,0,1,2]
[1,3,1,2,null,null,null,"Såvareproduksjon",null,null,0,0,0,1,2]
[1,3,2,0,null,null,"Erteproduksjon",null,null,null,0,0,1,1,2]
[1,3,3,0,null,null,"Bønneproduksjon",null,null,null,0,0,1,1,2]
[1,3,4,0,null,null,"Vikkeproduksjon",null,null,null,0,0,1,1,2]
[1,3,9,0,null,null,"Annen oljefrø- og belgvekstproduksjon",null,null,null,{"$f":"IF(E30<>\"\",1,0)","v":0},{"$f":"IF(F30<>\"\",1,0)+K30","v":0},{"$f":"IF(G30<>\"\",1,0)+L30","v":1},{"$f":"IF(H30<>\"\",1,0)+M30","v":1},2]
[1,4,0,0,null,"Gras- og kløverfrøproduksjon",null,null,null,null,0,1,1,1,2]
[1,4,1,0,null,null,"Grasfrøproduksjon",null,"Endret tilsvarende produktkode nivå 3",null,0,0,1,1,2]
[1,4,1,1,null,null,null,"Timoteifrøproduksjon",null,null,0,0,0,1,2]
[1,4,1,2,null,null,null,"Svingelfrøproduksjon",null,null,0,0,0,1,2]
[1,4,1,3,null,null,null,"Strandrørfrøproduksjon",null,null,0,0,0,1,2]
[1,4,1,4,null,null,null,"Kveinfrøproduksjon",null,null,0,0,0,1,2]
[1,4,1,5,null,null,null,"Hundegrasfrøproduksjon",null,null,0,0,0,1,2]
[1,4,1,6,null,null,null,"Bladfaksfrøproduksjon",null,null,0,0,0,1,2]
[1,4,1,7,null,null,null,"Rappfrøproduksjon",null,null,0,0,0,1,2]
[1,4,1,8,null,null,null,"Raigrasfrøproduksjon",null,null,0,0,0,1,2]
[1,4,1,9,null,null,null,"Annen grasfrøproduksjon",null,null,{"$f":"IF(E41<>\"\",1,0)","v":0},{"$f":"IF(F41<>\"\",1,0)+K41","v":0},{"$f":"IF(G41<>\"\",1,0)+L41","v":0},{"$f":"IF(H41<>\"\",1,0)+M41","v":1},2]
[1,4,5,0,null,null,"Kløverfrøproduksjon",null,null,null,0,0,1,1,2]
[1,4,5,1,null,null,null,"Rødkløverfrøproduksjon",null,null,0,0,0,1,2]
[1,4,5,2,null,null,null,"Kvitkløverfrøproduksjon",null,null,0,0,0,1,2]
[1,4,5,3,null,null,null,"Alsikekløverfrøproduksjon",null,null,0,0,0,1,2]
[1,4,5,9,null,null,null,"Annen kløverfrøproduksjon",null,null,0,0,0,1,2]
[1,4,9,0,null,null,"Annen gras- og kløverproduksjon",null,null,null,{"$f":"IF(E47<>\"\",1,0)","v":0},{"$f":"IF(F47<>\"\",1,0)+K47","v":0},{"$f":"IF(G47<>\"\",1,0)+L47","v":1},{"$f":"IF(H47<>\"\",1,0)+M47","v":1},2]
[1,5,0,0,null,"Grovfôrproduksjon (samlekode for EK)",null,null,null,null,0,1,1,1,2]
[1,5,1,0,null,null,"Høyproduksjon",null,null,null,0,0,1,1,2]
[1,5,1,1,null,null,null,"Høy, produksjon av løshøy",null,null,0,0,0,1,2]
[1,5,1,2,null,null,null,"Høy, produksjon av presset høy",null,null,0,0,0,1,2]
[1,5,1,3,null,null,null,"Høy, ensilasjeproduksjon",null,null,0,0,0,1,2]
[1,5,2,0,null,null,"Grønnfôr- og silovekster, produksjon",null,null,null,0,0,1,1,2]
[1,5,2,1,null,null,null,"Grønnfôrproduksjon",null,null,0,0,0,1,2]
[1,5,2,2,null,null,null,"Surfôrproduksjon, silo",null,null,0,0,0,1,2]
[1,5,2,3,null,null,null,"Surfôrproduksjon, rundballer",null,null,0,0,0,1,2]
[1,5,3,0,null,null,"Potet- og rotvekstproduksjon til fôr",null,null,null,0,0,1,1,2]
[1,5,3,1,null,null,null,"Fôrbeteproduksjon",null,null,0,0,0,1,2]
[1,5,3,2,null,null,null,"Fôrkålrotproduksjon",null,null,0,0,0,1,2]
[1,5,3,3,null,null,null,"Nepeproduksjon til grønnfôr",null,null,0,0,0,1,2]
[1,5,3,4,null,null,null,"Nepeproduksjon til fôr",null,null,0,0,0,1,2]
[1,5,3,5,null,null,null,"Potetproduksjon til fôr",null,null,0,0,0,1,2]
[1,5,4,0,null,null,"Halmberging, produksjon",null,null,null,0,0,1,1,2]
[1,5,5,0,null,null,"Beite, produksjon",null,null,null,0,0,1,1,2]
[1,5,5,1,null,null,null,"Innmarksbeite, produksjon",null,null,0,0,0,1,2]
[1,5,5,2,null,null,null,"Utmarksbeite, produksjon",null,null,0,0,0,1,2]
[1,5,9,0,null,null,"Annen grovfôrproduksjon",null,null,null,{"$f":"IF(E67<>\"\",1,0)","v":0},0,1,1,2]
[1,9,0,0,null,"Annen planteproduksjon i jordbruket",null,null,null,null,{"$f":"IF(E68<>\"\",1,0)","v":0},1,1,1,2]
[2,0,0,0,"Potet- og grønnsakproduksjon",null,null,null,"http://www.frukt.no/leksikon/",null,1,1,1,1,3]
[2,1,0,0,null,"Potetproduksjon",null,null,null,null,0,1,1,1,3]
[2,1,1,0,null,null,"Potetproduksjon til konsum",null,null,null,0,0,1,1,{"$f":"A71+1","v":3}]
[2,1,1,1,null,null,null,"Potetproduksjon til tidlig konsum",null,null,0,0,0,1,3]
[2,1,1,2,null,null,null,"Potetproduksjon til konsum",null,null,0,0,0,1,3]
[2,1,1,3,null,null,null,"Småpoteter, produksjon til konsum",null,null,0,0,0,1,3]
[2,1,2,0,null,null,"Potetproduksjon til fabrikk",null,null,null,0,0,1,1,3]
[2,1,2,1,null,null,null,"Potetproduksjon til chips",null,null,0,0,0,1,3]
[2,1,2,2,null,null,null,"Potetproduksjon til pommes frites",null,null,0,0,0,1,3]
[2,1,2,3,null,null,null,"Potetproduksjon til skrelling",null,null,0,0,0,1,3]
[2,1,3,0,null,null,"Settepotetproduksjon",null,null,null,{"$f":"IF(E79<>\"\",1,0)","v":0},0,1,1,3]
[2,2,0,0,null,"Kålvekstproduksjoner",null,null,null,null,0,1,1,1,3]
[2,2,1,0,null,null,"Blomkålproduksjon",null,null,null,0,0,1,1,3]
[2,2,1,1,null,null,null,"Blomkålproduksjon til konsum",null,null,0,0,0,1,3]
[2,2,1,2,null,null,null,"Blomkålproduksjon til industri",null,null,0,0,0,1,3]
[2,2,1,3,null,null,null,"Blomkålproduksjon, enkel klimaregulering tidlig",null,null,0,0,0,1,3]
[2,2,2,0,null,null,"Brokkoliproduksjon",null,null,null,0,0,1,1,3]
[2,2,2,1,null,null,null,"Brokkoliproduksjon til konsum",null,null,0,0,0,1,3]
[2,2,2,2,null,null,null,"Brokkoliproduksjon til industri",null,null,0,0,0,1,3]
[2,2,2,3,null,null,null,"Brokkoliproduksjon, enkel klimaregulering tidlig",null,null,0,0,0,1,3]
[2,2,3,0,null,null,"Romanescoproduksjon",null,null,null,0,0,1,1,3]
[2,2,4,0,null,null,"Hodekålproduksjon",null,null,null,0,0,1,1,3]
[2,2,4,1,null,null,null,"Hodekålproduksjon tidlig",null,null,0,0,0,1,3]
[2,2,4,2,null,null,null,"Hodekålproduksjon sein",null,null,0,0,0,1,3]
[2,2,4,3,null,null,null,"Hodekålproduksjon til fabikk",null,null,0,{"$f":"IF(F93<>\"\",1,0)+K93","v":0},0,1,3]
[2,2,5,0,null,null,"Grønnkålproduksjon",null,null,null,0,0,1,1,3]
[2,2,6,0,null,null,"Kinakålproduksjon",null,null,null,0,0,1,1,3]
[2,2,7,0,null,null,"Rosenkålproduksjon",null,null,null,0,0,1,1,3]
[2,2,7,1,null,null,null,"Rosenkålproduksjon til konsum",null,null,0,0,0,1,3]
[2,2,7,2,null,null,null,"Rosenkålproduksjon til industri",null,null,0,0,0,1,3]
[2,2,8,0,null,null,"Matkålrotproduksjon",null,null,null,0,0,1,1,3]
[2,2,8,1,null,null,null,"Matkålrotproduksjon, sådd",null,null,{"$f":"IF(E100<>\"\",1,0)","v":0},{"$f":"IF(F100<>\"\",1,0)+K100","v":0},{"$f":"IF(G100<>\"\",1,0)+L100","v":0},{"$f":"IF(H100<>\"\",1,0)+M100","v":1},3]
[2,2,8,2,null,null,null,"Matkålrotproduksjon, plantet",null,null,0,0,0,1,3]
[2,2,9,0,null,null,"Knutekålproduksjon",null,null,null,0,0,1,1,3]
[2,3,1,0,null,null,"Pak choyproduksjon",null,null,null,0,0,1,1,3]
[2,4,9,0,null,null,"Annnen kålvekstproduksjon",null,null,null,0,0,1,1,3]
[2,5,0,0,null,"Gulrotproduksjon (rotvekst)",null,null,null,null,0,1,1,1,3]
[2,5,1,0,null,null,"Gulrotproduksjon til konsum",null,null,null,0,0,1,1,3]
[2,5,1,1,null,null,null,"Gulrotproduksjon, høsting for hånd",null,null,0,0,0,1,3]
[2,5,1,2,null,null,null,"Gulrotproduksjon, maskinell høsting",null,null,0,0,0,1,3]
[2,5,2,0,null,null,"Gulrotproduksjon til industri",null,null,null,0,0,1,1,3]
[2,5,3,0,null,null,"Gulrotproduksjon, enkel klimaregulering tidlig",null,null,null,0,0,1,1,3]
[2,5,4,0,null,null,"Smaksgulrot produksjon",null,null,null,0,0,1,1,3]
[2,5,5,0,null,null,"Snackgulrot produksjon",null,null,null,0,0,1,1,3]
[2,5,9,0,null,null,"Andre gulrotproduksjoner",null,null,null,0,0,1,1,3]
[2,6,0,0,null,"Andre rotvekstproduksjoner",null,null,null,null,0,1,1,1,3]
[2,6,1,0,null,null,"Nepeproduksjon",null,null,null,0,0,1,1,3]
[2,6,2,0,null,null,"Jordskokkproduksjon",null,null,null,0,0,1,1,3]
[2,6,3,0,null,null,"Pastinakkproduksjon",null,null,null,0,0,1,1,3]
[2,6,4,0,null,null,"Pepperrotproduksjon",null,null,null,0,0,1,1,3]
[2,6,5,0,null,null,"Persillerotproduksjon",null,null,null,0,0,1,1,3]
[2,6,6,0,null,null,"Sellerirotproduksjon",null,null,null,0,0,1,1,3]
[2,6,7,0,null,null,"Reddikproduksjon",null,null,null,0,0,1,1,3]
[2,6,8,0,null,null,"Rødbeteproduksjon",null,null,null,0,0,1,1,3]
[2,6,8,1,null,null,null,"Rødbeteproduksjon til konsum",null,null,0,0,0,1,3]
[2,6,8,2,null,null,null,"Rødbeteproduksjon til industri",null,null,0,0,0,1,3]
[2,7,9,0,null,null,"Andre rotvekstproduksjoner",null,null,null,0,0,1,1,3]
[2,8,0,0,null,"Salat- og bladgrønnsakproduksjoner",null,null,null,null,0,1,1,1,3]
[2,8,1,0,null,null,"Isbergsalatproduksjon",null,null,null,0,0,1,1,3]
[2,8,2,0,null,null,"Hjertesalatproduksjon",null,null,null,0,0,1,1,3]
[2,8,3,0,null,null,"Bladsalatproduksjon i veksthus (rapid og crispy)",null,null,null,0,0,1,1,3]
[2,8,4,0,null,null,"Spesialsalatproduksjoner på friland",null,null,null,0,0,1,1,3]
[2,8,5,0,null,null,"Ruccula- og spinatproduksjon",null,null,null,0,0,1,1,3]
[2,8,6,0,null,null,"Baby-leaf produksjon",null,null,null,0,0,1,1,3]
[2,9,9,0,null,null,"Produksjon av andre salat- og bladgrønnsaker",null,null,null,{"$f":"IF(E133<>\"\",1,0)","v":0},{"$f":"IF(F133<>\"\",1,0)+K133","v":0},{"$f":"IF(G133<>\"\",1,0)+L133","v":1},{"$f":"IF(H133<>\"\",1,0)+M133","v":1},3]
[3,1,0,0,null,"Løk- og purrevekstproduksjoner",null,null,null,null,0,1,1,1,{"$f":"A134","v":3}]
[3,1,1,0,null,null,"Kepaløkproduksjon",null,null,null,0,0,1,1,{"$f":"A135","v":3}]
[3,1,1,1,null,null,null,"Kepaløkproduksjon, sådd",null,null,0,{"$f":"IF(F136<>\"\",1,0)+K136","v":0},{"$f":"IF(G136<>\"\",1,0)+L136","v":0},{"$f":"IF(H136<>\"\",1,0)+M136","v":1},3]
[3,1,1,2,null,null,null,"Kepaløkproduksjon, satt",null,null,0,0,0,1,3]
[3,1,2,0,null,null,"Rødløkproduksjon",null,null,null,0,0,1,1,3]
[3,1,3,0,null,null,"Sjalottløkproduksjon",null,null,null,0,0,1,1,3]
[3,1,4,0,null,null,"Vårløkproduksjon",null,null,null,0,0,1,1,3]
[3,1,5,0,null,null,"Purreproduksjon",null,null,null,0,0,1,1,3]
[3,1,6,0,null,null,"Hvitløkproduksjon",null,null,null,0,0,1,1,3]
[3,1,9,0,null,null,"Produksjon av andre løkvekster",null,null,null,0,0,1,1,3]
[3,2,0,0,null,"Stengelvekstproduksjoner",null,null,null,null,0,1,1,1,3]
[3,2,1,0,null,null,"Aspargesproduksjon, grønn",null,null,null,0,0,1,1,3]
[3,2,2,0,null,null,"Stilk- og stangselleriproduksjon",null,null,null,{"$f":"IF(E146<>\"\",1,0)","v":0},0,1,1,3]
[3,2,3,0,null,null,"Rabarbraproduksjon",null,null,null,0,0,1,1,3]
[3,2,9,0,null,null,"Produksjon av andre stengelvekster",null,null,null,0,0,1,1,3]
[3,3,0,0,null,"Agurkproduksjon (grønnsaksfrukt)",null,null,null,null,0,1,1,1,3]
[3,3,1,0,null,null,"Slangeagurkproduksjon",null,null,null,0,0,1,1,3]
[3,3,1,1,null,null,null,"Slangeagurkproduksjon med lys",null,null,0,0,0,1,3]
[3,3,1,2,null,null,null,"Slangeagurkproduksjon uten lys med nedfiring",null,null,0,0,0,1,3]
[3,3,1,3,null,null,null,"Slangeagurkproduksjon uten lys med paraply",null,null,0,0,0,1,3]
[3,3,2,0,null,null,"Sylteagurkproduksjon",null,null,null,0,0,1,1,3]
[3,3,3,0,null,null,"Snackagurkproduksjon",null,null,null,0,0,1,1,3]
[3,4,0,0,null,"Tomat- og annen grønnsaksproduksjon",null,null,null,null,0,1,1,1,3]
[3,4,1,0,null,null,"Produksjon av vanlig tomat",null,null,null,0,0,1,1,3]
[3,4,1,1,null,null,null,"Produksjon av vanlig tomat, lys og løsplukk",null,null,0,0,0,1,3]
[3,4,1,2,null,null,null,"Produksjon av vanlig tomat, lys og klase",null,null,0,0,0,1,3]
[3,4,1,3,null,null,null,"Produksjon av vanlig tomat, uten lys og løsplukk",null,null,0,{"$f":"IF(F160<>\"\",1,0)+K160","v":0},0,1,3]
[3,4,1,4,null,null,null,"Produksjon av vanlig tomat, uten lys og klase",null,null,0,0,0,1,3]
[3,4,2,0,null,null,"Bifftomatproduksjon",null,null,null,0,0,1,1,3]
[3,4,3,0,null,null,"Cherrytomatproduksjon",null,null,null,0,0,1,1,3]
[3,4,4,0,null,null,"Coctailtomatproduksjon",null,null,null,0,0,1,1,3]
[3,4,5,0,null,null,"Tomatproduksjon, grønn",null,null,null,0,0,1,1,3]
[3,4,6,0,null,null,"Plommetomatproduksjon",null,null,null,0,0,1,1,3]
[3,4,7,0,null,null,"Annen tomatproduksjon",null,null,null,0,0,1,1,3]
[3,4,9,0,null,null,"Andre grønnsaksfrukter (paprika)",null,"Endret fra 3590 til 3490, 02.03.2017",null,0,0,1,1,3]
[3,6,0,0,null,"Frø- og belgvekstproduksjon",null,null,null,null,0,1,1,1,3]
[3,6,1,0,null,null,"Bønneproduksjon",null,null,null,0,0,1,1,3]
[3,6,2,0,null,null,"Sukkerertproduksjon",null,null,null,0,0,1,1,3]
[3,6,3,0,null,null,"Maisproduksjon",null,null,null,0,0,1,1,3]
[3,6,9,0,null,null,"Produksjon av andre frø- og belgvekster",null,null,null,0,0,1,1,3]
[3,7,0,0,null,"Urteproduksjon",null,null,null,null,0,1,1,1,3]
[3,7,1,0,null,null,"Kruspersilleproduksjon",null,null,null,0,0,1,1,3]
[3,7,2,0,null,null,"Gressløkproduksjon",null,null,null,0,0,1,1,3]
[3,7,9,0,null,null,"Annnen urteproduksjon",null,null,null,0,0,1,1,3]
[3,8,0,0,null,"Sopproduksjon",null,null,null,null,0,1,1,1,3]
[4,0,0,0,"Frukt- og bærproduksjon",null,null,null,"http://www.frukt.no/leksikon/",null,1,1,1,1,4]
[4,1,0,0,null,"Fruktproduksjon",null,null,null,null,{"$f":"IF(E180<>\"\",1,0)","v":0},{"$f":"IF(F180<>\"\",1,0)+K180","v":1},{"$f":"IF(G180<>\"\",1,0)+L180","v":1},{"$f":"IF(H180<>\"\",1,0)+M180","v":1},4]
[4,1,1,0,null,null,"Epleproduksjon",null,null,null,0,0,1,1,4]
[4,1,1,1,null,null,null,"Sommerepleproduksjon",null,null,0,0,0,1,4]
[4,1,1,2,null,null,null,"Høstepleproduksjon",null,null,0,0,0,1,4]
[4,1,1,3,null,null,null,"Vinterepleproduksjon (lagring)",null,null,0,0,0,1,4]
[4,1,1,4,null,null,null,"Produksjon av epler til fabrikk",null,null,0,0,0,1,4]
[4,1,2,0,null,null,"Pæreproduksjon",null,null,null,0,0,1,1,4]
[4,1,2,1,null,null,null,"Sommerpæreproduksjon",null,null,0,0,0,1,4]
[4,1,2,2,null,null,null,"Høstpæreproduksjon",null,null,0,0,0,1,4]
[4,1,2,3,null,null,null,"Vinterpæreproduksjon (lagring)",null,null,0,0,0,1,4]
[4,1,2,4,null,null,null,"Produksjon av pærer til fabrikk",null,null,0,0,0,1,4]
[4,1,3,0,null,null,"Plommeproduksjon",null,null,null,0,0,1,1,4]
[4,1,3,1,null,null,null,"Plommer, tidlig produksjon",null,null,0,0,0,1,4]
[4,1,3,2,null,null,null,"Plommer, sein produksjon",null,null,0,0,0,1,4]
[4,1,3,3,null,null,null,"Plommer, produksjon til fabrikk",null,null,0,0,0,1,4]
[4,1,4,0,null,null,"Morellproduksjon",null,null,null,0,0,1,1,4]
[4,1,4,1,null,null,null,"Moreller, tidlig produksjon",null,null,0,0,0,1,4]
[4,1,4,2,null,null,null,"Kjøttmorellproduksjon",null,null,0,0,0,1,4]
[4,1,4,3,null,null,null,"Moreller, produksjon til fabrikk",null,null,0,0,0,1,4]
[4,1,5,0,null,null,"Kirsebærproduksjon",null,null,null,0,0,1,1,{"$f":"A199","v":4}]
[4,4,9,0,null,null,"Annen fruktproduksjon",null,null,null,{"$f":"IF(E200<>\"\",1,0)","v":0},0,1,1,4]
[4,5,0,0,null,"Bærproduksjon",null,null,null,null,{"$f":"IF(E201<>\"\",1,0)","v":0},1,1,1,4]
[4,5,1,0,null,null,"Jordbærproduksjon",null,null,null,0,0,1,1,4]
[4,5,1,1,null,null,null,"Jordbærproduksjon på friland, mattekultur",null,null,0,0,0,1,4]
[4,5,1,2,null,null,null,"Jordbærproduksjon på friland, plastdekke enkeltrad",null,null,0,0,0,1,4]
[4,5,1,3,null,null,null,"Jordbærproduksjon på friland, plastdekke dobbelrad",null,null,0,0,0,1,4]
[4,5,1,4,null,null,null,"Jordbærproduksjon, klimaregulering",null,null,0,0,0,1,4]
[4,5,2,0,null,null,"Bringebærproduksjon",null,null,null,0,0,1,1,4]
[4,5,2,1,null,null,null,"Bringebærproduksjon på friland, konsum",null,null,0,0,0,1,4]
[4,5,2,2,null,null,null,"Bringebærproduksjon på friland, fabrikk",null,null,0,0,0,1,4]
[4,5,2,3,null,null,null,"Bringebærproduksjon, klimaregulering",null,null,0,0,0,1,4]
[4,5,3,0,null,null,"Solbærproduksjon",null,null,null,0,0,1,1,4]
[4,5,3,1,null,null,null,"Solbærproduksjon til konsum",null,null,0,0,0,1,4]
[4,5,3,2,null,null,null,"Solbærproduksjon til fabrikk",null,null,{"$f":"IF(E213<>\"\",1,0)","v":0},0,0,1,4]
[4,5,4,0,null,null,"Ripsbærproduksjon",null,null,null,0,0,1,1,4]
[4,5,4,1,null,null,null,"Ripsbærproduksjon til konsum",null,null,0,0,0,1,4]
[4,5,4,2,null,null,null,"Ripsbærproduksjon til fabrikk",null,null,0,0,0,1,4]
[4,5,5,0,null,null,"Stikkelsbærproduksjon",null,null,null,0,0,1,1,4]
[4,5,6,0,null,null,"Bjørnebærproduksjon",null,null,null,0,0,1,1,4]
[4,5,7,0,null,null,"Boysenbærproduksjon",null,null,null,0,0,1,1,4]
[4,5,8,0,null,null,"Hageblåbærproduksjon",null,null,null,0,0,1,1,4]
[4,9,9,0,null,null,"Annen bærproduksjon",null,null,null,0,0,1,1,4]
[5,0,0,0,"Blomsterproduksjon",null,null,null,"http://www.obp.no/no/",null,1,1,1,1,5]
[5,1,0,0,null,"Produksjon av potteplanter",null,null,null,null,0,1,1,1,5]
[5,3,0,0,null,"Produksjon av snittblomster",null,null,null,null,0,1,1,1,5]
[5,5,0,0,null,"Produksjon av sommerplanter - Utplantingsplanter (1. årige)",null,null,null,null,0,1,1,1,5]
[5,7,0,0,null,"Produksjon av planteskolevarer",null,null,null,null,0,1,1,1,5]
[5,7,1,0,null,null,"Produksjon av stauder",null,null,null,0,{"$f":"IF(F227<>\"\",1,0)+K227","v":0},1,1,5]
[5,7,2,0,null,null,"Produksjon av busker",null,null,null,0,0,1,1,5]
[5,7,3,0,null,null,"Produksjon av trær",null,null,null,0,0,1,1,5]
[6,0,0,0,"Husdyrproduksjon",null,null,null,null,null,1,1,1,1,6]
[6,1,0,0,null,"Storfeproduksjon",null,null,null,null,0,1,1,1,6]
[6,1,1,0,null,null,"Melkeproduksjon storfe",null,null,null,0,0,1,1,6]
[6,1,1,1,null,null,null,"Melkeproduksjon u/oppdrett storfe",null,null,0,0,0,1,6]
[6,1,1,2,null,null,null,"Melkeproduksjon m/kvigeoppdrett og kjøttproduksjon okse",null,null,0,0,0,1,6]
[6,1,1,3,null,null,null,"Melkeproduksjon m/kvigeoppdrett",null,null,0,0,0,1,6]
[6,1,2,0,null,null,"Kjøttproduksjon, storfe",null,null,null,0,0,1,1,6]
[6,1,2,1,null,null,null,"Oksekjøttproduksjon, egne og innkjøpte kalver",null,null,0,0,0,1,6]
[6,1,2,2,null,null,null,"Kjøttproduksjon på kvige",null,null,0,0,0,1,6]
[6,1,2,3,null,null,null,"Kjøttproduksjon på kastrater",null,null,0,0,0,1,6]
[6,1,2,4,null,null,null,"Kjøttproduksjon på kvalitetskalv",null,null,0,0,0,1,6]
[6,1,3,0,null,null,"Ammekuproduksjon",null,null,null,0,0,1,1,6]
[6,1,3,1,null,null,null,"Ammkuproduksjon m/salg av oksekalv",null,null,0,0,0,1,6]
[6,1,3,2,null,null,null,"Ammekuproduksjon m/full framfôring",null,null,0,0,0,1,6]
[6,1,4,0,null,null,"Oppdrett, produksjon av livdyr storfe",null,null,null,0,0,1,1,6]
[6,1,4,1,null,null,null,"Kvigeoppdrett mjølkeproduksjon",null,null,0,0,0,1,6]
[6,1,4,2,null,null,null,"Kalveoppdrett produksjon kvige",null,null,0,0,0,1,6]
[6,1,4,3,null,null,null,"Kalveoppdrett produksjon okse",null,null,0,0,0,1,6]
[6,1,9,0,null,null,"Annen storfeproduksjon",null,null,null,{"$f":"IF(E248<>\"\",1,0)","v":0},{"$f":"IF(F248<>\"\",1,0)+K248","v":0},{"$f":"IF(G248<>\"\",1,0)+L248","v":1},{"$f":"IF(H248<>\"\",1,0)+M248","v":1},6]
[6,2,0,0,null,"Griseproduksjon",null,null,null,null,0,1,1,1,6]
[6,2,1,0,null,null,"Kombinert smågris- og slaktegrisproduksjon",null,null,null,0,0,1,1,6]
[6,2,2,0,null,null,"Slaktegrisproduksjon",null,null,null,0,0,1,1,6]
[6,2,4,0,null,null,"Oppdrett, livdyrproduksjon gris",null,null,null,0,0,1,1,6]
[6,2,4,1,null,null,null,"Avlsdyrproduksjon gris",null,null,0,0,0,1,6]
[6,2,4,2,null,null,null,"Smågrisproduksjon",null,null,0,0,0,1,6]
[6,2,9,0,null,null,"Annen griseproduksjon",null,null,null,{"$f":"IF(E255<>\"\",1,0)","v":0},{"$f":"IF(F255<>\"\",1,0)+K255","v":0},{"$f":"IF(G255<>\"\",1,0)+L255","v":1},{"$f":"IF(H255<>\"\",1,0)+M255","v":1},6]
[6,3,0,0,null,"Saueproduksjon",null,null,null,null,0,1,1,1,6]
[6,3,1,0,null,null,"Melkeproduksjon sau",null,null,null,0,0,1,1,6]
[6,3,2,0,null,null,"Kjøttproduksjon sau",null,null,null,0,0,1,1,6]
[6,3,3,0,null,null,"Ullproduksjon sau",null,null,null,0,0,1,1,6]
[6,3,4,0,null,null,"Skinnproduksjon sau",null,null,null,0,0,1,1,6]
[6,3,9,0,null,null,"Annen saueproduksjon",null,null,null,{"$f":"IF(E261<>\"\",1,0)","v":0},{"$f":"IF(F261<>\"\",1,0)+K261","v":0},{"$f":"IF(G261<>\"\",1,0)+L261","v":1},{"$f":"IF(H261<>\"\",1,0)+M261","v":1},6]
[6,4,0,0,null,"Geiteproduksjon",null,null,null,null,0,1,1,1,6]
[6,4,1,0,null,null,"Melkeproduksjon geit",null,null,null,0,0,1,1,{"$f":"A263","v":6}]
[6,4,1,1,null,null,null,"Melkeproduksjon m/påsett geit",null,null,0,0,0,1,6]
[6,4,1,9,null,null,null,"Melkeproduksjon annet geit",null,null,0,0,0,1,6]
[6,4,2,0,null,null,"Kjøttproduksjon geit",null,null,null,0,0,1,1,6]
[6,4,2,1,null,null,null,"Ammegeit",null,null,0,0,0,1,6]
[6,4,2,9,null,null,null,"Kjøttproduksjon annet geit",null,null,0,0,0,1,6]
[6,4,9,0,null,null,"Annen geiteproduksjon",null,null,null,0,0,1,1,6]
[6,5,0,0,null,"Fjørfeproduksjon",null,null,null,null,0,1,1,1,6]
[6,5,1,0,null,null,"Kjøttproduksjon",null,null,null,0,0,1,1,6]
[6,5,1,1,null,null,null,"Slaktekyllingproduksjon",null,null,0,0,0,1,6]
[6,5,1,2,null,null,null,"Kjøttproduksjon kalkun",null,null,0,0,0,1,6]
[6,5,1,3,null,null,null,"Kjøttproduksjon gås",null,null,0,0,0,1,6]
[6,5,1,4,null,null,null,"Kjøttproduksjon and",null,null,0,0,0,1,6]
[6,5,1,9,null,null,null,"Kjøttproduksjon annet fjørfe",null,null,0,0,0,1,6]
[6,5,2,0,null,null,"Oppdrett-, livdyrproduksjon",null,null,null,0,0,1,1,6]
[6,5,2,1,null,null,null,"Livkyllingproduksjon > 20 uker",null,null,0,0,0,1,6]
[6,5,2,2,null,null,null,"Livkyllingproduksjon < 20 uker",null,null,0,0,0,1,6]
[6,5,2,9,null,null,null,"Livdyrproduksjon fjørfe annet",null,null,{"$f":"IF(E280<>\"\",1,0)","v":0},0,0,1,6]
[6,5,3,0,null,null,"Eggproduksjon",null,null,null,0,0,1,1,6]
[6,5,3,1,null,null,null,"Produksjon av egg til konsum",null,null,0,0,0,1,6]
[6,5,3,2,null,null,null,"Produksjon av rugeegg",null,null,0,0,0,1,6]
[6,5,9,0,null,null,"Annen fjørfeproduksjon",null,null,null,0,0,1,1,6]
[6,9,0,0,null,"Annnen husdyrproduksjon",null,null,null,null,0,1,1,1,6]
[6,9,1,0,null,null,"Hest, husdyrproduksjon",null,null,null,0,0,1,1,6]
[6,9,2,0,null,null,"Hjort, husdyrproduksjon",null,null,null,0,0,1,1,6]
[6,9,3,0,null,null,"Bier, husdyrproduksjon",null,null,null,0,0,1,1,6]
[6,9,9,0,null,null,"Produksjon andre dyreslag",null,null,null,{"$f":"IF(E289<>\"\",1,0)","v":0},{"$f":"IF(F289<>\"\",1,0)+K289","v":0},{"$f":"IF(G289<>\"\",1,0)+L289","v":1},{"$f":"IF(H289<>\"\",1,0)+M289","v":1},6]
[7,0,0,0,"Skogbruksproduksjon",null,null,null,null,null,1,1,1,1,7]
[7,1,0,0,null,"Avvirkning",null,null,null,null,0,1,1,1,7]
[7,1,1,0,null,null,"Slutthogst",null,null,null,0,0,1,1,7]
[7,1,2,0,null,null,"Tynning",null,null,null,0,0,1,1,7]
[7,1,3,0,null,null,"Annen hogst",null,null,null,0,{"$f":"IF(F294<>\"\",1,0)+K294","v":0},1,1,7]
[7,2,0,0,null,"Skogkultur",null,null,null,null,0,1,1,1,7]
[7,2,1,0,null,null,"Markberedning",null,null,null,0,0,1,1,7]
[7,2,2,0,null,null,"Planting",null,null,null,0,0,1,1,7]
[7,2,4,0,null,null,"Ungskogpleie",null,null,null,0,0,1,1,7]
[7,2,5,0,null,null,"Andre produkter vedr. skogkultur",null,null,null,0,0,1,1,7]
[7,3,0,0,null,"Andre aktiviteter skog",null,null,null,null,0,1,1,1,7]
[7,3,1,0,null,null,"Linjerydding",null,null,null,0,0,1,1,7]
[7,3,2,0,null,null,"Juletrehogst",null,null,null,0,0,1,1,7]
[7,3,3,0,null,null,"Pyntegrønt- og kongleproduksjon",null,null,null,0,0,1,1,7]
[8,0,0,0,"Tilleggsnæring og annen næring",null,null,null,null,null,1,1,1,1,8]
[8,1,0,0,null,"Utleie",null,null,null,null,0,1,1,1,8]
[8,1,1,0,null,null,"Utleie av areal",null,null,null,0,0,1,1,8]
[8,1,1,1,null,null,null,"Årlige erstatninger, festeavgifter",null,null,0,0,0,1,8]
[8,1,2,0,null,null,"Utleie av bygninger",null,null,null,0,0,1,1,8]
[8,1,2,1,null,null,null,"Utleie av driftsbygninger",null,null,0,0,0,1,8]
[8,1,2,2,null,null,null,"Utleie av våningshus og kårbolig",null,null,0,0,0,1,8]
[8,1,2,3,null,null,null,"Utleie av hytter",null,null,0,0,0,1,8]
[8,1,9,0,null,null,"Annet",null,null,null,0,0,1,1,8]
[8,2,0,0,null,"Maskinkjøring",null,null,null,null,0,1,1,1,8]
[8,2,1,0,null,null,"Leiekjøring for landbruket",null,null,null,0,0,1,1,8]
[8,2,2,0,null,null,"Leiekjøring for annen nær., snøbr./strøing",null,null,null,0,0,1,1,8]
[8,2,9,0,null,null,"Annet",null,null,null,0,0,1,1,8]
[8,3,0,0,null,"Foredling/vareproduksjon",null,null,null,null,0,1,1,1,8]
[8,3,1,0,null,null,"Foredling av melk og salg av melkeprod.",null,null,null,0,0,1,1,8]
[8,3,2,0,null,null,"Foredling av kjøtt og salg av kjøttprod.",null,null,null,0,0,1,1,8]
[8,3,3,0,null,null,"Foredling av frukt og grønt",null,null,null,0,0,1,1,8]
[8,3,4,0,null,null,"Produkter fra skogen",null,null,null,0,0,1,1,8]
[8,3,4,1,null,null,null,"Bioenergi utenom ved",null,null,0,0,0,1,8]
[8,3,4,2,null,null,null,"Produksjon og salg av ved",null,null,0,0,0,1,8]
[8,3,4,3,null,null,null,"Juletre og pyntegrønt",null,null,0,0,0,1,8]
[8,3,4,9,null,null,null,"Annet",null,null,0,0,0,1,8]
[8,3,5,0,null,null,"Gårdssag",null,null,null,0,0,1,1,8]
[8,3,9,0,null,null,"Annet",null,null,null,0,0,1,1,{"$f":"A327","v":8}]
[8,4,0,0,null,"Utmarksnæring",null,null,null,null,0,1,1,1,8]
[8,4,1,0,null,null,"Utleie og guiding av jakt og fiske",null,null,null,0,0,1,1,8]
[8,4,2,0,null,null,"Salg av grus, sand og stein",null,null,null,0,0,1,1,8]
[8,4,3,0,null,null,"Salg av tomter",null,null,null,0,0,1,1,8]
[8,4,4,0,null,null,"El-produksjon (småkraftverk)",null,null,null,0,0,1,1,8]
[8,4,9,0,null,null,"Annet",null,null,null,0,0,1,1,8]
[8,5,0,0,null,"Landbruksrelatert reiseliv (turisme)",null,null,null,null,0,1,1,1,8]
[8,5,1,0,null,null,"Gardsturisme",null,null,null,0,0,1,1,8]
[8,5,2,0,null,null,"Seterturisme",null,null,null,0,0,1,1,8]
[8,5,9,0,null,null,"Annet",null,null,null,0,0,1,1,8]
[8,6,0,0,null,"Annen tjenesteyting",null,null,null,null,0,1,1,1,8]
[8,6,1,0,null,null,"Inn på tunet og grønn omsorg",null,null,null,0,0,1,1,8]
[8,6,2,0,null,null,"Hest",null,null,null,0,0,1,1,8]
[8,6,3,0,null,null,"Hund",null,null,null,0,0,1,1,8]
[8,6,4,0,null,null,"Landbruksrelaterte tjenester",null,null,null,0,0,1,1,8]
[8,6,5,0,null,null,"Gårdsbutikk/gårdsutsalg",null,null,null,0,0,1,1,8]
[8,6,9,0,null,null,"Annet",null,null,null,{"$f":"IF(E344<>\"\",1,0)","v":0},0,1,1,8]
[8,7,0,0,null,"Annen biologisk produksjon",null,null,null,null,0,1,1,1,8]
[8,7,1,0,null,null,"Fisk",null,null,null,0,{"$f":"IF(F346<>\"\",1,0)+K346","v":0},1,1,8]
[8,7,2,0,null,null,"Andre dyr",null,null,null,0,0,1,1,8]
[8,7,3,0,null,null,"Planteproduksjon",null,null,null,0,0,1,1,8]
[8,7,9,0,null,null,"Annet",null,null,null,0,0,1,1,8]
[8,8,0,0,null,"Annen næring",null,null,null,null,0,1,1,1,8]
[8,8,1,0,null,null,"Regnskapsføring og konsulentvirksomhet",null,null,null,0,0,1,1,8]
[8,8,2,0,null,null,"Anleggsvirksomhet og transport",null,null,null,0,0,1,1,8]
[8,8,3,0,null,null,"Vareproduksjon og foredling",null,null,null,0,0,1,1,8]
[8,8,3,1,null,null,null,"Husflid og småindustri",null,null,0,0,0,1,8]
[8,8,4,0,null,null,"Byggevirksomhet, snekkering",null,null,null,0,0,1,1,8]
[8,8,5,0,null,null,"Annen tjenesteyting",null,null,null,0,0,1,1,8]
[8,8,5,1,null,null,null,"Jordbruksarbeid for andre",null,null,0,0,0,1,8]
[8,8,6,0,null,null,"Utleie av fast eiendom og kapitalinntekter",null,null,null,0,0,1,1,8]
[8,8,7,0,null,null,"Handelsvirksomhet",null,null,null,0,0,1,1,8]
[9,0,0,0,"Andre produksjoner",null,null,null,null,null,1,1,1,1,9]
[9,1,0,0,null,"Pelsdyr",null,null,null,null,0,1,1,1,9]
[9,1,1,0,null,null,"Skinnproduksjon",null,null,null,0,0,1,1,9]
[9,1,1,1,null,null,null,"Mink",null,null,0,0,0,1,9]
[9,1,1,2,null,null,null,"Sølvrev",null,null,0,0,0,1,9]
[9,1,1,3,null,null,null,"Blårev",null,null,0,0,0,1,9]
[9,1,1,4,null,null,null,"Annet",null,null,0,0,0,1,9]
[9,1,1,5,null,null,"Oppdrett, livdyr",null,null,null,0,0,1,1,9]
[9,1,2,0,null,null,null,"Mink",null,null,0,0,0,1,9]
[9,1,2,1,null,null,null,"Sølvrev",null,null,0,0,0,1,9]
[9,1,2,2,null,null,null,"Blårev",null,null,0,0,0,1,9]
[9,1,2,3,null,null,null,"Ilder",null,null,0,0,0,1,9]
[9,1,2,4,null,null,null,"Chinchilla",null,null,0,0,0,1,9]
[9,1,9,0,null,null,"Annen pelsdyrproduksjon",null,null,null,0,0,1,1,9]
["Nye linjer må settes inn over denne linja"]
[null,null,null,null,null,null,null,1,"Vis alle"]
[null,null,null,null,null,null,null,2,{"$f":"A4&B4&C4&D4&\"  \"&E4","v":"1000  Planteproduksjon jordbruk"}]
[null,null,null,null,null,null,null,3,{"$f":"A69&B69&C69&D69&\"  \"&E69","v":"2000  Potet- og grønnsakproduksjon"}]
[null,null,null,null,null,null,null,4,{"$f":"A179&B179&C179&D179&\"  \"&E179","v":"4000  Frukt- og bærproduksjon"}]
[null,null,null,null,null,null,null,5,{"$f":"A222&B222&C222&D222&\"  \"&E222","v":"5000  Blomsterproduksjon"}]
[null,null,null,null,null,null,null,6,{"$f":"A230&B230&C230&D230&\"  \"&E230","v":"6000  Husdyrproduksjon"}]
[null,null,null,null,null,null,null,7,{"$f":"A290&B290&C290&D290&\"  \"&E290","v":"7000  Skogbruksproduksjon"}]
[null,null,null,null,null,null,null,8,{"$f":"A304&B304&C304&D304&\"  \"&E304","v":"8000  Tilleggsnæring og annen næring"}]
[null,null,null,null,null,null,null,9,{"$f":"A360&B360&C360&D360&\"  \"&E360","v":"9000  Andre produksjoner"}]

{"sheet":"Kontoplan","index":7,"n_rows":2475,"n_cols":13,"rows_kept":2475,"cut":false,"hidden":false,"merged":[]}
["Kontoplan",null,null,{"$f":"Admin!D1","v":"1.3.6"},"Endringsdato 13.01.2022",3,1,1,"Startlinje",{"$f":"ROW(A3)","v":3},"Sluttlinje",{"$f":"ROW(A2464)-1","v":2463},"Siste linje"]
["Avd","Konto","Mva-\nkode","Tekst","Merknad","Avdeling","Klasse","Underklasse"]
[10,"Overordnet",null,"Finans",null,10,0,1]
[10,13,null,"Finansielle anleggsmidler",null,10,1,1]
[10,1350,null,"Aksjer og andeler (langsiktige)",null,10,1]
[10,1351,null,"Aksjer, norske (langsiktige)",null,10,1]
[10,1355,null,"Andeler, norske (langsiktige)",null,10,1]
[10,1356,null,"Aksje, utenlandske (langsiktige)",null,10,1]
[10,1358,null,"Andeler, utenlandske (langsiktige)",null,10,1]
[10,1360,null,"Obligasjoner (langsiktige)",null,10,1]
[10,1370,null,"Langsiktige fordringer på eiere (ANS/DA)",null,10,1]
[10,1380,null,"Langsiktige fordringer på ansatte",null,10,1]
[10,1390,null,"Langsiktige fordringer, andre",null,10,1]
[10,1397,null,"Forskuddsleasing",null,10,1]
[10,1399,null,"Langsiktige fordringer, andre",null,10,1]
[10,14,null,"Lagerbeholdning",null,10,1,1]
[10,1480,null,"Forskuddsbetaling til leverandører (varekontrakter/prosjekter)",null,10,1]
[10,15,null,"Kortsiktige fordringer",null,10,1,1]
[10,1500,null,"Kundefordringer",null,10,1]
[10,1530,null,"Opptjent, ikke fakturert driftsinntekt",null,10,1]
[10,1570,null,"Kortsiktige fordringer andre",null,10,1]
[10,1571,null,"Reiseforskudd",null,10,1]
[10,1572,null,"Lønnsforskudd",null,10,1]
[10,1573,null,"Kortsiktig lån til ansatte (ikke lønnsforskudd)",null,10,1]
[10,1574,null,"Kortsiktig lån deltaker i ANS/DA",null,10,1]
[10,1575,null,"Mellomregning deltaker i ANS/DA",null,10,1]
[10,1579,null,"Kortsiktige fordringer, andre",null,10,1]
[10,1580,null,"Avsetning tap på fordringer",null,10,1]
[10,1581,null,"Avsetning tap på kundefordringer",null,10,1]
[10,1585,null,"Avsetning tap på andre fordringer",null,10,1]
[10,16,null,"Merverdiavgift og opptjente offentlige tilskudd",null,10,1,1]
[10,1640,null,"Merverdiavgift, oppgjørskonto (til gode)",null,10,1]
[10,1641,null,"Merverdiavgift, oppgjørskonto (primærnæring)",null,10,1]
[10,1642,null,"Merverdiavgift, oppgjørskonto (terminoppgave)",null,10,1]
[10,1643,null,"Merverdiavgift, oppgjørskonto (årsoppgave)",null,10,1]
[10,1670,null,"Krav på offentlig tilskudd",null,10,1]
[10,17,null,"Forskuddsbetalt kostnad, påløpt inntekt",null,10,1,1]
[10,1700,null,"Forskuddsbetalt leiekostnad",null,10,1]
[10,1710,null,"Forskuddsbetalt rentekostnad",null,10,1]
[10,1720,null,"Depositum",null,10,1]
[10,1740,null,"Forskuddsbetalte driftskostnader",null,10,1]
[10,1741,null,"Forskuddsbetalt, ikke påløpt lønn",null,10,1]
[10,1742,null,"Forskuddsbetalt strøm, varme",null,10,1]
[10,1743,null,"Forskuddsbetalt forsikring",null,10,1]
[10,1744,null,"Forskuddsbetalt leasingleie (kostnadsfordelt)",null,10,1]
[10,1749,null,"Forskuddsbetalt driftskostnad, annen",null,10,1]
[10,1750,null,"Påløpt leieinntekt",null,10,1]
[10,1760,null,"Påløpt renteinntekt",null,10,1]
[10,1780,null,"Krav på innbetaling av ny selskapskapital (ANS/DA)",null,10,1]
[10,18,null,"Kortsiktige finansinvesteringer",null,10,1,1]
[10,1810,null,"Aksjer børsnoterte aksjer)",null,10,1]
[10,1811,null,"Aksjer, børsnoterte, norske",null,10,1]
[10,1815,null,"Aksjer, børsnoterte, utenlandske",null,10,1]
[10,1820,null,"Aksjer, ikke børsnoterte",null,10,1]
[10,1821,null,"Aksjer, ikke børsnoterte, norske",null,10,1]
[10,1825,null,"Aksjer, ikke børsnoterte, utenlandske",null,10,1]
[10,1830,null,"Obligasjoner, markedsbaserte",null,10,1]
[10,1831,null,"Obligasjoner, markedsbaserte, norske",null,10,1]
[10,1835,null,"Obligasjoner, markedsbaserte, utenlandske",null,10,1]
[10,1840,null,"Obligasjoner, ikke markedsbaserte",null,10,1]
[10,1841,null,"Obligasjoner, ikke markedsbaserte, norske",null,10,1]
[10,1845,null,"Obligasjoner, ikke markedsbaserte, utenlandske",null,10,1]
[10,1870,null,"Finansielle instrumenter, andre markedsbaserte",null,10,1]
[10,1880,null,"Finansielle instrumenter, andre",null,10,1]
[10,1890,null,"Andeler",null,10,1]
[10,1895,null,"Andeler i deltakerlignet selskap",null,10,1]
[10,1899,null,"Andre andeler",null,10,1]
[10,19,null,"Bankinnskudd, kontanter o.l.",null,10,1,1]
[10,1900,null,"Kontanter",null,10,1]
[10,1920,null,"Bankinnskudd, Norge",null,10,1]
[10,1950,null,"Bankkonto for skattetrekk",null,10,1]
[10,1960,null,"Bankinnskudd, utland",null,10,1]
[10,20,null,"Egenkapital",null,10,2,1]
[10,2050,null,"Egenkapital",null,10,2]
[10,2051,null,"Representasjonskostnader, ikke fradragsberettiget",null,10,2]
[10,2052,null,"Kontingenter/gaver, ikke fradragsberettiget",null,10,2]
[10,2053,null,"Andre ikke fradragsberettiget kostnader",null,10,2]
[10,2054,null,"Skattefrie inntekter",null,10,2]
[10,2055,null,"Innskudd kontanter fra privat",null,10,2]
[10,2056,null,"Innskudd eiendeler fra privat",null,10,2]
[10,2057,null,"Bruk av privat bil i næring (fradragsført etter sats)",null,10,2]
[10,2058,null,"Positive egenkapitalkorreksjoner",null,10,2]
[10,2059,null,"Negative egenkapitalkorreksjoner",null,10,2]
[10,2060,null,"Privatkonto",null,10,2]
[10,2061,null,"Uttak av kontanter til privat",null,10,2]
[10,2063,null,"Uttak av anleggsmidler til privat",null,10,2]
[10,2064,null,"Uttak av varer og tjenester til privat",null,10,2]
[10,2067,null,"Lys og varme, privat",null,10,2]
[10,2068,null,"Telefon m.m. privat",null,10,2]
[10,2069,null,"Private utgifter, diverse andre",null,10,2]
[10,2070,null,"Skatter og lignende",null,10,2]
[10,2071,null,"Forskuddskatt",null,10,2]
[10,2072,null,"Tilleggsforskudd/restskatt",null,10,2]
[10,2075,null,"Privat bruk av næringsbil",null,10,2]
[10,2077,null,"Premie til egen syke- og ulykkesforsikring",null,10,2]
[10,2078,null,"Premie til egen tilleggstrygd for sykepenger",null,10,2]
[10,2080,null,"Udekket tap",null,10,2]
[10,21,null,"Avsetning for forpliktelser",null,10,2,1]
[10,2180,null,"Avsetning for forpliktelser",null,10,2]
[10,22,null,"Lagsiktig gjeld",null,10,2,1]
[10,2200,null,"Konvertible lån",null,10,2]
[10,2210,null,"Obligasjonslån",null,10,2]
[10,2220,null,"Gjeld til kredittinstitusjoner",null,10,2]
[10,2240,null,"Pantelån",null,10,2]
[10,2250,null,"Gjeld til ansatte og eiere. langsiktig",null,10,2]
[10,2251,null,"Gjeld til ansatte, langsiktig",null,10,2]
[10,2255,null,"Gjeld til eiere (gjelder ANS/DA), langsiktig",null,10,2]
[10,2270,null,"Valutalån",null,10,2]
[10,2290,null,"Langsiktig gjeld, annen",null,10,2]
[10,23,null,"Driftskreditt/kassakreditt/annen korts. gjeld",null,10,2,1]
[10,2360,null,"Byggelån",null,10,2]
[10,2380,null,"Kassakreditt",null,10,2]
[10,2390,null,"Driftskreditt",null,10,2]
[10,24,null,"Leverandørgjeld",null,10,2,1]
[10,2400,null,"Leverandørgjeld",null,10,2]
[10,26,null,"Skattetrekk og andre trekk",null,10,2,1]
[10,2600,null,"Forskuddstrekk",null,10,2]
[10,2610,null,"Påleggstrekk",null,10,2]
[10,2620,null,"Bidragstrekk",null,10,2]
[10,2630,null,"Trygdetrekk",null,10,2]
[10,2640,null,"Forsikringstrekk",null,10,2]
[10,2650,null,"Fagforeningskontingent, trukket",null,10,2]
[10,2690,null,"Trekk, andre",null,10,2]
[10,27,null,"Skyldige offentlige avgifter",null,10,2,1]
[10,2740,null,"Merverdiavgift, oppgjørskonto",null,10,2]
[10,2741,null,"Merverdiavgift, oppgjørskonto (primærnæring)",null,10,2]
[10,2742,null,"Merverdiavgift, oppgjørskonto (årstermin)",null,10,2]
[10,2743,null,"Merverdiavgift, oppgjørskonto (terminoppgave)",null,10,2]
[10,2770,null,"Arbeidsgiveravgift; skyldig",null,10,2]
[10,2780,null,"Påløpt arbeidsgiveravgift",null,10,2]
[10,2781,null,"Påløpt arbeidsgiveravgift på påløpt lønn",null,10,2]
[10,2785,null,"Påløpt arbeidsgiveravgift på ferielønn",null,10,2]
[10,2789,null,"Påløpt arbeidsgiveravgift på honorarer m.m.",null,10,2]
[10,2790,null,"Offentlige avgifter, andre",null,10,2]
[10,29,null,"Kortsiktig gjeld, diverse",null,10,2,1]
[10,2900,null,"Forskudd fra kunder",null,10,2,""]
[10,2910,null,"Gjeld til ansatte og eiere, kortsiktig",null,10,2,""]
[10,2911,null,"Gjeld til ansatte, kortsiktig",null,10,2,""]
[10,2915,null,"Gjeld til eiere (gjelder ANS/DA) (kortsiktig)",null,10,2,""]
[10,2930,null,"Skyldig lønn",null,10,2,""]
[10,2940,null,"Skyldige feriepenger",null,10,2,""]
[10,2941,null,"Skyldige feriepenger",null,10,2,""]
[10,2945,null,"Utbetalte feriepenger",null,10,2,""]
[10,2950,null,"Påløpt rente",null,10,2,""]
[10,2960,null,"Påløpt kostnad og forskuddsbetalt inntekt",null,10,2,""]
[10,2961,null,"Påløpt kostnad, diverse",null,10,2,""]
[10,2965,null,"Forskuddsbetalt inntekt",null,10,2,""]
[10,2990,null,"Kortsiktig gjeld, annen",null,10,2,""]
[10,80,null,"Finansinntekter",null,10,8,1]
[10,8040,null,"Renteinntekt, skattefri",null,10,8,""]
[10,8050,null,"Renteinntekt, skattepliktig",null,10,8,""]
[10,8051,null,"Renteinntekt, bankinnskudd (finansieringsinstitusjon)",null,10,8,""]
[10,8055,null,"Renteinntekt, kundefordringer (kapitalinntekter)",null,10,8,""]
[10,8059,null,"Renteinntekt, annen",null,10,8,""]
[10,8060,null,"Valutagevinst (agio)",null,10,8,""]
[10,8070,null,"Finansinntekt, annen",null,10,8,""]
[10,8071,null,"Aksjeutbytte",null,10,8,""]
[10,8075,null,"Utbytte fra samvirkeforetak",null,10,8,""]
[10,8077,null,"Gevinst ved realisasjon av aksjer",null,10,8,""]
[10,8079,null,"Finansinntekt, annen",null,10,8,""]
[10,81,null,"Finanskostnader",null,10,8,1]
[10,8140,null,"Rentekostnad, ikke fradragsberettiget",null,10,8,""]
[10,8141,null,"Rentekostnad, restskatt",null,10,8,""]
[10,8149,null,"Rentekostnad, annen ikke fradragsberettiget",null,10,8,""]
[10,8150,null,"Rentekostnad",null,10,8,""]
[10,8151,null,"Rentekostnad banklån(finansieringsinstitusjon)",null,10,8,""]
[10,8153,null,"Rentekostnad/provisjon driftskreditt",null,10,8,""]
[10,8154,null,"Rentekostnad/provisjon kassakreditt",null,10,8,""]
[10,8155,null,"Rentekostnad, leverandørgjeld",null,10,8,""]
[10,8159,null,"Rentekostnad, annen (familiegjeld etc.)",null,10,8,""]
[10,8160,null,"Valutatap (disagio)",null,10,8,""]
[10,8170,null,"Finanskostnad, annen",null,10,8,""]
[10,8177,null,"Tap ved realisasjon av aksjer og andeler",null,10,8,""]
[10,8179,null,"Finanskostnad, annen",null,10,8,""]
[10,8400,null,"Ekstraordinær inntekt",null,10,8,""]
[10,8500,null,"Ekstraordinær kostnad",null,10,8,""]
[10,88,null,"Årsresultat",null,10,8,1]
[10,8800,null,"Årsresultat, finans",null,10,8,""]
[10,89,null,"Avsetninger, feilkonto, differanse",null,10,8,1]
[10,8980,null,"Risikoavsetning",null,10,8,""]
[10,8981,null,"Avsetninger til investeringer og større vedlikehold",null,10,8,""]
[10,8982,null,"Egenkapitalavkastning/pensjonsavsetning/utbytte",null,10,8,""]
[10,8999,null,"Feilkonto, differanse",null,10,8,""]
[20,"Overordnet",null,"Jordbruk",null,20,0,1]
[20,10,null,"Immaterielle eiendeler",null,20,1,1]
[20,1010,null,"Melkekvote, kjøpt",null,20,1,""]
[20,1011,null,"Melkekvote, kjøpt fra staten",null,20,1]
[20,1012,null,"Melkekvote, kjøpt på det private marked",null,20,1]
[20,1020,null,"Melkekvote, beregnet ved kjøp av gårdsbruk",null,20,1,""]
[20,11,null,"Bygninger, jord og annen fast eiendom",null,20,1,1]
[20,1100,null,"Bygninger (saldogruppe H)",null,20,1,""]
[20,1110,null,"Bygninger, (saldogruppe H)",null,20,1,""]
[20,1120,null,"Bygningsmessige anlegg, (saldogruppe H)",null,20,1,""]
[20,1123,null,"Vannanlegg, (saldogruppe H)",null,20,1,""]
[20,1124,null,"Grøfter, gamle som er balanseført, (saldogruppe H)",null,20,1]
[20,1125,null,"Bygninger med avskrivningstid < 20 år, (saldogruppe H)",null,20,1]
[20,1130,null,"Anlegg under oppføring",null,20,1]
[20,1140,null,"Jordbrukseiendom",null,20,1]
[20,1141,null,"Jord, veier",null,20,1]
[20,1142,null,"Leplantinger",null,20,1]
[20,1143,null,"Vegetasjonssoner",null,20,1]
[20,1144,null,"Fangdammer og våtmarker",null,20,1]
[20,1150,null,"Tomter og andre grunnarealer",null,20,1]
[20,1160,null,"Bolighus",null,20,1]
[20,1161,null,"Våningshus",null,20,1]
[20,1165,null,"Kårbolig",null,20,1]
[20,1167,null,"Utleiehytter (utleid på åremål o.l.)",null,20,1]
[20,1169,null,"Bolighus, andre",null,20,1]
[20,1170,null,"Bolighus – nybygging og ombygging",null,20,1]
[20,1171,null,"Våningshus (pågående nybygg, til- og ombygging)",null,20,1]
[20,1175,null,"Kårbolig (pågående nybygg, til- og ombygging)",null,20,1]
[20,1177,null,"Utleiehytter (pågående nybygg, til- og ombygging)",null,20,1]
[20,1179,null,"Bolighus, andre (pågående nybygg, til- og ombygging))",null,20,1]
[20,1180,null,"Faste tekniske installasjoner i bygg (Saldogruppe J)",null,20,1]
[20,1190,null,"Anleggsmidler som avskrives utenom saldosystemet",null,20,1]
[20,1191,null,"Bakkeplanering",null,20,1]
[20,1192,null,"Frukttrær",null,20,1,""]
[20,12,null,"Transportmidler, inventar og maskiner",null,20,1,1]
[20,1200,null,"Maskiner og redskap (saldogruppe D)",null,20,1,""]
[20,1201,null,"Traktorer",null,20,1,""]
[20,1203,null,"Gravemaskiner",null,20,1,""]
[20,1205,null,"Skurtreskere",null,20,1,""]
[20,1209,null,"Maskiner og redskaper, andre",null,20,1,""]
[20,1210,null,"Maskiner og anlegg under arbeid",null,20,1,""]
[20,1230,null,"Vare- og lastebiler (saldogruppe C)",null,20,1,""]
[20,1235,null,"Varebiler, nye",null,20,1]
[20,1236,null,"Varebiler, brukte",null,20,1]
[20,1237,null,"Lastebiler, nye",null,20,1]
[20,1238,null,"Lastebiler, brukte",null,20,1]
[20,1240,null,"Transportmidler, andre (saldogruppe D)",null,20,1]
[20,1241,null,"Personbiler",null,20,1]
[20,1243,null,"Snøscootere",null,20,1]
[20,1244,null,"Båter",null,20,1]
[20,1249,null,"Transportmidler, andre",null,20,1]
[20,1250,null,"Inventar (kontor) (saldogruppe D)",null,20,1]
[20,1260,null,"Tekniske installasjoner og fast bygningsinventar i bygninger",null,20,1]
[20,1261,null,"Fast bygningsinventar, eget bygg med annen avskrivningstid enn bygninger (saldogruppe D)",null,20,1]
[20,1265,null,"Fast bygningsinventar, leide lokaler med annen avskrivningstid enn bygninger (saldogruppe D)",null,20,1]
[20,1270,null,"Verktøy o.l. (saldogruppe D)",null,20,1]
[20,1280,null,"Kontormaskiner (saldogruppe A)",null,20,1,""]
[20,1290,null,"Driftsmidler utenom saldosystemet",null,20,1,""]
[20,1291,null,"Verktøy som kostnadsfordeles",null,20,1,""]
[20,1292,null,"Flergangsemballasje",null,20,1,""]
[20,1299,null,"Negativ gevinst- og tapskonto",null,20,1,""]
[20,13,null,"Finansielle anleggsmidler",null,20,1,1]
[20,1390,null,"Andre fordringer",null,20,1,""]
[20,1397,null,"Forskuddsleasing",{"$f":"LEN(D247)","v":16},20,1,""]
[20,14,null,"Lagerbeholdning",null,20,1,1]
[20,1400,null,"Lagerbeholdning av innkjøpte råvarer",null,20,1,""]
[20,1401,null,"Lagerbeholdning av innkjøpte såvarer",null,20,1,""]
[20,1402,null,"Lagerbeholdning av innkjøpte settepoteter",null,20,1,""]
[20,1403,null,"Lagerbeholdning av innkjøpt kraftfôr",null,20,1,""]
[20,1404,null,"Lagerbeholdning av innkjøpt stråfôr",null,20,1,""]
[20,1405,null,"Lagerbeholdning av annet innkjøpt fôr",null,20,1,""]
[20,1409,null,"Lagerbeholdning av andre innkjøpte råvarer",null,20,1,""]
[20,1410,null,"Lagerbeholdning av innkjøpt hjelpemateriell",null,20,1,""]
[20,1411,null,"Lagerbeholdning av plantevernmidler",null,20,1,""]
[20,1413,null,"Lagerbeholdning av forbruksmateriell",null,20,1,""]
[20,1414,null,"Lagerbeholdning av innkjøpt emballasjemateriell",null,20,1,""]
[20,1415,null,"Lagerbeholdning av innkjøpt handelsgjødsel",null,20,1,""]
[20,1416,null,"Lagerbeholdning av kalk",null,20,1,""]
[20,1418,null,"Lagerbeholdning av konserveringsmidler",null,20,1,""]
[20,1419,null,"Lagerbeholdning av annet innkjøpt hjelpemateriell",null,20,1,""]
[20,1420,null,"Lagerbeholdning av varer under tilvirkning",null,20,1,""]
[20,1421,null,"Lagerbeholdning av planter i veksthus",null,20,1,""]
[20,1422,null,"Lagerbeholdning av planter på friland",null,20,1,""]
[20,1425,null,"Lagerbeholdning av juletrær i vekst",null,20,1,""]
[20,1430,null,"Lagerbeholdning av bygnings- og grøftemateriell o.l.",null,20,1,""]
[20,1431,null,"Lagerbeholdning av bygningsmateriell til drifta",null,20,1,""]
[20,1432,null,"Lagerbeholdning av grøftemateriell",null,20,1,""]
[20,1437,null,"Lagerbeholdning av bygningsmateriell til kårbolig",null,20,1]
[20,1438,null,"Lagerbeholdning av bygningsmateriell til andre boliger",null,20,1,""]
[20,1440,null,"Lagerbeholdning av ferdige egentilvirkede varer for salg",null,20,1,""]
[20,1441,null,"Lagerbeholdning av egentilvirket korn for salg",null,20,1,""]
[20,1442,null,"Lagerbeholdning av egentilvirket potet for salg",null,20,1,""]
[20,1443,null,"Lagerbeholdning av egentilvirket grønnsaker for salg",null,20,1,""]
[20,1444,null,"Lagerbeholdning ev egentilvirket frukt/bær for salg",null,20,1,""]
[20,1445,null,"Lagerbeholdning av egentilvirket blomster/planter for salg",null,20,1,""]
[20,1449,null,"Lagerbeholdning av andre egentilvirkede varer for salg",null,20,1,""]
[20,1450,null,"Lagerbeholdning av buskap",null,20,1,""]
[20,1460,null,"Lagerbeholdning av innkjøpte varer for videresalg",null,20,1,""]
[20,1470,null,"Lagerbeholdning av innkjøpt drivstoff og brensel",null,20,1,""]
[20,1471,null,"Lagerbeholdning av drivstoff og fyringsolje",null,20,1,""]
[20,1472,null,"Lagerbeholdning av annet innkjøpt brensel",null,20,1,""]
[20,1475,null,"Lagerbeholdning av drivstoff til biler",null,20,1,""]
[20,1490,null,"Lagerbeholdning av egentilvirkede varer til eget bruk",null,20,1,""]
[20,15,null,"Kortsiktige fordringer",null,20,1,1]
[20,1500,null,"Kundefordringer",null,20,1,""]
[20,1580,null,"Avsetning tap på fordringer",null,20,1,""]
[20,1581,null,"Avsetning tap på kundefordringer",null,20,1,""]
[20,1585,null,"Avsetning tap på andre fordringer",null,20,1,""]
[20,17,null,"Forskuddsbetalt kostnad, påløpt inntekt og lignende",null,20,1,1]
[20,1740,null,"Forskuddsbetalt kostnad",null,20,1,""]
[20,1744,null,"Forskuddsbetalt leasingleie (kostnadsfordeles)",null,20,1,""]
[20,20,null,"Egenkapital",null,20,2,1]
[20,2050,null,"Egenkapital",null,20,2,""]
[20,2090,null,"Diverse skattemessige disposisjoner",null,20,2,""]
[20,2094,null,"Gevinst- og tapskonto ved realisasjon av tomt (kapitalinntekt)",null,20,2]
[20,2095,null,"Negativ saldo",null,20,2]
[20,2096,null,"Positiv gevinst- og tapskonto",null,20,2,""]
[20,2097,null,"Betinget avsatt gevinst (Skatteloven § 14-70)",null,20,2,""]
[20,24,null,"Leverandørgjeld",null,20,2,1]
[20,2400,null,"Leverandørgjeld",null,20,2,""]
[20,27,null,"Merverdiavgift",null,20,2,1]
[20,2700,null,"Merverdiavgift, utgående",null,20,2,""]
[20,2710,null,"Merverdiavgift, inngående",null,20,2]
[20,29,null,"Kortsiktig gjeld, diverse",null,20,2,1]
[20,2900,null,"Forskudd fra kunder",null,20,2,""]
[20,30,null,"Salgsinntekt, avgiftspliktig",null,20,3,1]
[20,3000,null,"Salgsinntekt, korn, frø, stråfôr (avgiftspliktig)",null,20,3,""]
[20,3001,null,"Korn, frø mv.",null,20,3,""]
[20,3005,null,"Stråfôr og annet grovfôr",null,20,3]
[20,3010,null,"Salgsinntekt, poteter, grønnsaker og urter (avgiftspliktig)",null,20,3]
[20,3011,null,"Poteter (middels mva-sats)",null,20,3]
[20,3014,null,"Poteter (høy mva-sats)",null,20,3]
[20,3015,null,"Grønnsaker og urter (middels mva-sats)",null,20,3]
[20,3019,null,"Grønnsaker og urter (høy mva-sats)",null,20,3]
[20,3020,null,"Salgsinntekt, frukt og bær (avgiftspliktig)",null,20,3]
[20,3021,null,"Frukt (middels mva-sats)",null,20,3]
[20,3024,null,"Frukt (høy mva-sats)",null,20,3]
[20,3025,null,"Bær (middels mva-sats)",null,20,3]
[20,3029,null,"Bær(høy mva-sats)",null,20,3]
[20,3030,null,"Salgsinntekt, blomster/planter (avgiftspliktig)",null,20,3]
[20,3031,null,"Blomster og planter (høy mva-sats)",null,20,3]
[20,3040,null,"Salgsinntekt slakt (avgiftspliktig)",null,20,3]
[20,3041,null,"Slakt (høy mva-sats)","Ny 05.01.2022",20,3]
[20,3047,null,"Distriktstilskudd slakt",null,20,3]
[20,3048,null,"Offentlige tilskudd utbetalt via varemottaker",null,20,3]
[20,3049,null,"Slakt (middels mva-sats)",null,20,3]
[20,3050,null,"Salgsinntekt livdyr (avgiftspliktig)",null,20,3]
[20,3051,null,"Livdyr (høy mva-sats)","Ny 05.01.2022",20,3]
[20,3060,null,"Uttak av innkjøpte varer og tjenester (avgiftspliktig)",null,20,3]
[20,3061,null,"Uttak av innkjøpte varer og tjenester (høy mva-sats)",null,20,3]
[20,3062,null,"Uttak av drivstoff og innkjøpt brensel (høy mva-sats)",null,20,3]
[20,3070,null,"Salgsinntekt, andre husdyrprodukter (avgiftspliktig)",null,20,3]
[20,3071,null,"Melk (høy mva-sats)",null,20,3]
[20,3073,null,"Distriktstilskudd melk",null,20,3]
[20,3074,null,"Offentlige tilskudd utbetalt via varemottaker",null,20,3]
[20,3075,null,"Salgsinntekt andre husdyrprodukter (middels mva-sats)",null,20,3]
[20,3076,null,"Salgsinntekt andre husdyrprodukter (høy mva-sats)",null,20,3]
[20,3077,null,"Distriktstilskudd andre husdyrprodukter (middels mva-sats)",null,20,3]
[20,3078,null,"Distriktstilskudd andre husdyrprodukter (høy mva-sats)",null,20,3]
[20,3079,null,"Ull og garvede skinn (høy mva-sats)",null,20,3]
[20,3080,null,"Rabatt og annen salgsinntektsreduksjon (avgiftspliktig salg)",null,20,3]
[20,3081,null,"Rabatt og annen salgsinntektsreduksjon (høy mva-sats)",null,20,3]
[20,3082,null,"Rabatt og annen salgsinntektsreduksjon (middels mva-sats)",null,20,3]
[20,3090,null,"Salgsinntekt, annen (avgiftspliktig)",null,20,3]
[20,3091,null,"Kjøreinntekt",null,20,3]
[20,3092,null,"Salg av ikke aktiverte driftsmidler",null,20,3]
[20,3093,null,"Grus og sand",null,20,3]
[20,3094,null,"Skogsvirke fra ikke særskilt lignet skog",null,20,3,""]
[20,3095,null,"Salgsinntekt mat (middels mva-sats)",null,20,3,""]
[20,3096,null,"Salgsinntekt mat (høy mva-sats)",null,20,3,""]
[20,3097,null,"Inntekt fra ikke særskilt lignet fiske",null,20,3,""]
[20,3099,null,"Arbeidsinntekt, avgiftspliktig",null,20,3,""]
[20,31,null,"Salgsinntekt, avgiftsfri (innenfor avgiftsområdet)",null,20,3,1]
[20,3100,null,"Salgsinntekt, varer og tjenester",null,20,3,""]
[20,3101,null,"Kjøreinntekt",null,20,3,""]
[20,3160,null,"Uttak av varer til privat bruk (avgiftsfritt)",null,20,3,""]
[20,3161,null,"Uttak av planteprodukter til privat bruk",null,20,3,""]
[20,3162,null,"Uttak av slakt til privat bruk",null,20,3,""]
[20,3163,null,"Uttak av diverse husdyrprodukter til privat bruk",null,20,3,""]
[20,3164,null,"Uttak av virke fra ikke særskilt lignet skog til privat bruk",null,20,3]
[20,3165,null,"Uttak av egenprodusert varmeenergi til privat bruk",null,20,3]
[20,3166,null,"Uttak til privat hest (hobbyhest)",null,20,3]
[20,3167,null,"Uttak av jakt til privat bruk",null,20,3]
[20,3168,null,"Uttak av fiske til eget bruk",null,20,3]
[20,3169,null,"Uttak av andre produkter til privat bruk",null,20,3]
[20,3170,null,"Uttak av varer til kår (avgiftsfritt)",null,20,3]
[20,3171,null,"Uttak av planteprodukter til kår",null,20,3]
[20,3172,null,"Uttak av slakt til kår",null,20,3]
[20,3173,null,"Uttak av husdyrprodukter, diverse til kår",null,20,3]
[20,3174,null,"Uttak av virke fra ikke særskilt lignet skog til kår",null,20,3]
[20,3175,null,"Uttak av egenprodusert varmeenergi til kår",null,20,3]
[20,3179,null,"Uttak av andre produkter til kår",null,20,3,""]
[20,3180,null,"Rabatt og annen salgsinntektsreduksjon (avgiftsfritt salg)",null,20,3,""]
[20,3181,null,"Bonus fra innkjøpslag m.m.. (avgiftsfritt salg)",null,20,3,""]
[20,3183,null,"Returemballasje, tilbakebetaling av pant",null,20,3,""]
[20,32,null,"Salgsinntekt utenfor avgiftsområdet",null,20,3,1]
[20,3200,null,"Salgsinntekt, utenfor avgiftsområdet",null,20,3,""]
[20,3260,null,"Uttak av varer utenfor avgiftsområdet",null,20,3,""]
[20,3280,null,"Rabatt og annen salgsinntektsreduksjon utenfor avgiftsområdet",null,20,3,""]
[20,3281,null,"Rabatt og annen salgsinntektsreduksjon","Ny 05.01.2022",20,3]
[20,3282,null,"Returemballasje, retur av flergangspaller",null,20,3,""]
[20,3285,null,"Allmenningsrabatt",null,20,3,""]
[20,3286,null,"Allmenningstilskudd",null,20,3,""]
[20,34,null,"Offentlig tilskudd/ refusjon",null,20,3,1]
[20,3400,null,"Tilskudd vedrørende tilvirkede/solgte varer",null,20,3,""]
[20,3410,null,"Tilskudd vedrørende planteproduksjonen",null,20,3,""]
[20,3413,null,"Kulturlandskapstilskudd",null,20,3,""]
[20,3420,null,"Tilskudd vedrørende grøntsektoren",null,20,3,""]
[20,3430,null,"Tilskudd vedrørende fôrproduksjonen",null,20,3]
[20,3440,null,"Tilskudd til avløser",null,20,3]
[20,3441,null,"Tilskudd til avløser, ferie og fritid",null,20,3]
[20,3442,null,"Tilskudd til avløser, sykdom",null,20,3]
[20,3450,null,"Tilskudd vedrørende husdyrproduksjonen",null,20,3]
[20,3455,null,"Driftstillegg melk",null,20,3]
[20,3456,null,"Driftstillegg ammeku",null,20,3]
[20,3457,null,"Tilskudd dyr på utmarksbeite",null,20,3,""]
[20,3460,null,"Tilskudd vedrørende miljø",null,20,3,""]
[20,3470,null,"Tilskudd vedrørende utbedring og vedlikehold",null,20,3,""]
[20,3490,null,"Tilskudd, annet",null,20,3,""]
[20,3499,null,"Tilskudd, bunnfradrag (negativt)",null,20,3,""]
[20,36,null,"Leieinntekt",null,20,3,1]
[20,3600,null,"Leieinntekt fast eiendom",null,20,3,""]
[20,3602,null,"Leieinntekt bolighus",null,20,3,""]
[20,3603,null,"Leieinntekt driftsbygninger",null,20,3,""]
[20,3604,null,"Leieinntekt utleiehytter (utenfor avgiftsområdet)",null,20,3,""]
[20,3605,null,"Forpaktningsavgift (utenfor avgiftsområdet)",null,20,3,""]
[20,3606,null,"Leieinntekt jord, beite (avgiftspliktig)",null,20,3,""]
[20,3607,null,"Leieinntekt utleiehytter (lav mva.-sats)",null,20,3,""]
[20,3610,null,"Leieinntekt maskiner m.m. (avgiftspliktig)",null,20,3,""]
[20,3620,null,"Leieinntekt husdyr",null,20,3,""]
[20,3630,null,"Leieinntekt utmark",null,20,3,""]
[20,3631,null,"Leieinntekt jakt",null,20,3,""]
[20,3632,null,"Leieinntekt fiske",null,20,3,""]
[20,3635,null,"Utbytte fra utmarkslag",null,20,3,""]
[20,3640,null,"Leieinntekt maskiner m.m. (avgiftsfri)",null,20,3,""]
[20,3641,null,"Leieinntekt, brukt traktor i særskilt lignet skog",null,20,3,""]
[20,3650,null,"Bortleie av rettigheter, avgiftsfrie",null,20,3,""]
[20,3660,null,"Festeinntekter",null,20,3,""]
[20,3670,null,"Bortleie av kvoter",null,20,3,""]
[20,3675,null,"Bortleie av melkekvote",null,20,3]
[20,37,null,"Provisjonsinntekter",null,20,3,1]
[20,3700,null,"Provisjonsinntekter",null,20,3,""]
[20,38,null,"Gevinst ved avgang anleggsmidler",null,20,3,1]
[20,3800,null,"Vederlag ved avgang driftsmidleri saldogruppe a, c og d direkte til inntekt",null,20,3,""]
[20,3890,null,"Negativ saldo",null,20,3,""]
[20,3895,null,"Negativ saldo, inntektsføring",null,20,3,""]
[20,3896,null,"Inntektsføring av negativ saldo ved opphør av næring",null,20,3,""]
[20,39,null,"Annen driftsrelatert inntekt",null,20,3,1]
[20,3900,null,"Driftsrelaterte inntekter, andre",null,20,3,""]
[20,3901,null,"Avlingsskadeerstatning og lignende",null,20,3,""]
[20,3902,null,"Erstatning for tap av dyr",null,20,3,""]
[20,3903,null,"Erstatning for andre tapte inntekter",null,20,3,""]
[20,3905,null,"Renter av kundefordringer",null,20,3]
[20,3908,null,"Korrigert IB fra Tine Effektivitetskontroll",null,20,3,""]
[20,3909,null,"Øreavrunding ved fakturering",null,20,3,""]
[20,3980,null,"Reguleringsinntekter o.l.",null,20,3,""]
[20,3990,null,"Særlige poster",null,20,3,""]
[20,3991,null,"Gevinst ved salg av melkekvote som ikke føres på G/T-konto",null,20,3,""]
[20,3992,null,"Gevinst ved salg av eiendeler i (saldogruppe H)",null,20,3,""]
[20,3993,null,"Gevinst ved salg ikke-avskrivbare driftsmidler",null,20,3,""]
[20,3995,null,"Ikke reinvestert gevinst ved ufrivillig realisasjon",null,20,3,""]
[20,40,null,"Forbruk av råvarer og innkjøpte halvfabrikata",null,20,4,1]
[20,4000,null,"Kjøp av råvarer",null,20,4,""]
[20,4001,null,"Kjøp av såvarer i planteproduksjon",null,20,4]
[20,4010,null,"Kjøp av såvarer og settepoteter i grøntproduksjonen",null,20,4,""]
[20,4020,null,"Kjøp av kraftfôr",null,20,4]
[20,4030,null,"Kjøp av stråfôr",null,20,4]
[20,4040,null,"Kjøp av fôr, annet",null,20,4]
[20,4060,null,"Frakt, toll og spedisjon",null,20,4]
[20,4070,null,"Innkjøpsprisreduksjon (rabatter o.l.)",null,20,4]
[20,4090,null,"Beholdningsendring av innkjøpte råvarer",null,20,4]
[20,4091,null,"Beholdningsendring av innkjøpte såvarer",null,20,4]
[20,4092,null,"Beholdningsendring av innkjøpte settepoteter",null,20,4]
[20,4093,null,"Beholdningsendring av innkjøpt kraftfôr",null,20,4]
[20,4094,null,"Beholdningsendring av innkjøpt stråfôr",null,20,4,""]
[20,4095,null,"Beholdningsendring av innkjøpt fôr, annet",null,20,4,""]
[20,4099,null,"Beholdningsendring av innkjøpte råvarer, andre",null,20,4,""]
[20,41,null,"Forbruk av varer under tilvirkning",null,20,4,1]
[20,4100,null,"Kjøp av planter for produksjon i veksthus",null,20,4,""]
[20,4110,null,"Kjøp av planter for frilandsproduksjon",null,20,4,""]
[20,4150,null,"Kjøp av frukttrær til vedlikeholdsplanting",null,20,4,""]
[20,4160,null,"Frakt, toll og spedisjon",null,20,4,""]
[20,4170,null,"Innkjøpsprisreduksjon (rabatter o.l.)",null,20,4,""]
[20,4190,null,"Beholdningsendring av planter for produksjon i veksthus",null,20,4,""]
[20,4191,null,"Beholdningsendring av planter for produksjon på friland",null,20,4,""]
[20,4195,null,"Beholdningsendring av juletrær i vekst",null,20,4,""]
[20,42,null,"Forbruk av ferdig tilvirkede varer",null,20,4,1]
[20,4200,null,"Forbruk av egentilvirkede produkter",null,20,4,""]
[20,4290,null,"Beholdningsendring av egentilvirkede produkter",null,20,4,""]
[20,4291,null,"Beholdningsendring egentilvirket korn for salg",null,20,4]
[20,4292,null,"Beholdningsendring egentilvirket potet for salg",null,20,4,""]
[20,4293,null,"Beholdningsendring egentilvirkede grønnsaker for salg",null,20,4,""]
[20,4294,null,"Beholdningsendring egentilvirket frukt/bær for salg",null,20,4,""]
[20,4295,null,"Beholdningsendring av egentilvirkede blomster/planter for salg",null,20,4,""]
[20,4299,null,"Beholdningsendring av andre egentilvirkede varer for salg",null,20,4,""]
[20,43,null,"Forbruk av innkjøpte varer for videresalg",null,20,4,1]
[20,4300,null,"Kjøp av varer for videresalg",null,20,4,""]
[20,4360,null,"Frakt, toll og spedisjon",null,20,4,""]
[20,4370,null,"Innkjøpsprisreduksjon",null,20,4,""]
[20,4390,null,"Beholdningsendring av innkjøpte varer for videresalg",null,20,4,""]
[20,44,null,"Forbruk av hjelpemateriell",null,20,4,1]
[20,4410,null,"Kjøp av plantevernmidler",null,20,4,""]
[20,4420,null,"Kjøp av medisin til dyr",null,20,4,""]
[20,4430,null,"Kjøp av forbruksmateriell",null,20,4,""]
[20,4431,null,"Kjøp av forbruksmateriell i plante- og fôrproduksjon",null,20,4,""]
[20,4432,null,"Kjøp av forbruksmateriell i husdyrproduksjon",null,20,4,""]
[20,4433,null,"Kjøp av forbruksmateriell i grøntproduksjonen",null,20,4,""]
[20,4440,null,"Kjøp og leie av embalasjemateriell",null,20,4,""]
[20,4441,null,"Leie av lagerkasser (pro/kontra) (høy sats)",null,20,4,""]
[20,4442,null,"Ifco pant, avgiftsfritt (pro/kontra)",null,20,4,""]
[20,4443,null,"Pant paller, avgiftsfritt (pro/kontra)",null,20,4,""]
[20,4444,null,"Kjøp av embalasjemateriell (høy mva-sats)","Ny 05.01.2022",20,4]
[20,4450,null,"Kjøp av handelsgjødsel og kalk",null,20,4,""]
[20,4451,null,"Kjøp av handelsgjødsel",null,20,4,""]
[20,4457,null,"Kjøp av kalk",null,20,4,""]
[20,4460,null,"Frakt, toll og spedisjon",null,20,4,""]
[20,4470,null,"Innkjøpsprisreduksjon (rabatter o.l.)",null,20,4,""]
[20,4480,null,"Kjøp av konserveringsmidler",null,20,4,""]
[20,4490,null,"Beholdningsendring av hjelpemateriell",null,20,4]
[20,4491,null,"Beholdningsendring av plantevernmidler",null,20,4]
[20,4493,null,"Beholdningsendring av forbruksmateriell",null,20,4,""]
[20,4494,null,"Beholdningsendring av emballasjemateriell",null,20,4,""]
[20,4495,null,"Beholdningsendring av handelsgjødsel",null,20,4,""]
[20,4496,null,"Beholdningsendring av kalk",null,20,4,""]
[20,4498,null,"Beholdningsendring konserveringsmidler",null,20,4,""]
[20,45,null,"Fremmedytelser i produksjonen",null,20,4,1]
[20,4500,null,"Fremmedytelse og underentreprise",null,20,4,""]
[20,4510,null,"Tjenester og trekk i grøntproduksjonen",null,20,4]
[20,4511,null,"Tjenester og trekk i grøntproduksjonen (høy mva-sats)",null,20,4]
[20,4512,null,"Tjenester og trekk i grøntproduksjonen (middels mva-sats)",null,20,4,""]
[20,4518,null,"Tjenester og trekk i grøntproduksjonen (avgiftsfri)",null,20,4,""]
[20,4520,null,"Veterinærtjenester inkl. inseminering",null,20,4]
[20,4521,null,"Veterinærtjenester",null,20,4]
[20,4522,null,"Inseminasjon, sædavgift, springpenger",null,20,4]
[20,4530,null,"Tjenester og trekk i husdyrproduksjonen",null,20,4]
[20,4531,null,"Husdyrkontroll",null,20,4]
[20,4532,null,"Frakt av beitedyr",null,20,4]
[20,4533,null,"Klipping av husdyr",null,20,4]
[20,4539,null,"Tjenester i husdyrproduksjonen, diverse",null,20,4]
[20,4540,null,"Tjenester og trekk i plante- og fôrproduksjonen",null,20,4]
[20,4541,null,"Rensing/beising av såkorn",null,20,4]
[20,4542,null,"Frøkontroll/spireprøver",null,20,4]
[20,4543,null,"Tørking",null,20,4]
[20,4548,null,"Trekk i planteproduksjonen (avgiftsfri)",null,20,4]
[20,4549,null,"Tjenester og trekk i planteproduksjonen (høy mva-sats)",null,20,4,""]
[20,4550,null,"Maskinleie, variabel kostnad",null,20,4,""]
[20,4551,null,"Rundballepressing",null,20,4,""]
[20,4552,null,"Skurtresking",null,20,4,""]
[20,4553,null,"Jordbearbeiding",null,20,4,""]
[20,4558,null,"Maskinleie grønt",null,20,4,""]
[20,4559,null,"Maskinleie, diverse",null,20,4,""]
[20,4560,null,"Tjenester, diverse",null,20,4,""]
[20,4561,null,"Jordanalyser",null,20,4,""]
[20,4569,null,"Andre tjenester, diverse",null,20,4,""]
[20,4570,null,"Avløserring",null,20,4,""]
[20,4580,null,"Landbruksvikar",null,20,4,""]
[20,46,null,"Kjøp av husdyr",null,20,4,1]
[20,4600,null,"Kjøp av buskap",null,20,4,""]
[20,4690,null,"Beholdningsendring buskap",null,20,4,""]
[20,49,null,"Annen periodisering",null,20,4,1]
[20,4990,null,"Beholdningsendring egentilvirkede varer til eget bruk",null,20,4,""]
[20,50,null,"Lønn til ansatte",null,20,5,1]
[20,5000,null,"Lønn til ansatte",null,20,5,""]
[20,5010,null,"Feriepenger",null,20,5,""]
[20,5020,null,"Sykepenger",null,20,5,""]
[20,5090,null,"Periodiseringskonto lønn",null,20,5,""]
[20,5091,null,"Påløpt, ikke utbetalt lønn",null,20,5,""]
[20,5092,null,"Påløpte feriepenger av ikke utbetalt lønn",null,20,5,""]
[20,5099,null,"Lønnsposteringer, andre",null,20,5,""]
[20,52,null,"Fordel i arbeidsforhold",null,20,5,1]
[20,5200,null,"Fri bil",null,20,5,""]
[20,5210,null,"Fri telefon",null,20,5,""]
[20,5220,null,"Fri avis",null,20,5,""]
[20,5230,null,"Fri kost og losji",null,20,5,""]
[20,5240,null,"Rentefordel",null,20,5,""]
[20,5250,null,"Fri forsikring",null,20,5,""]
[20,5260,null,"Fri strøm",null,20,5,""]
[20,5270,null,"Fri brensel",null,20,5,""]
[20,5280,null,"Fordel i arbeidsforhold, annen",null,20,5,""]
[20,5290,null,"Motkonto for kontogruppe 52",null,20,5,""]
[20,53,null,"Oppgavepliktig godtgjørelse, annen",null,20,5,1]
[20,5390,null,"Oppgavepliktig godtgjørelse, annen",null,20,5,""]
[20,54,null,"Arbeidsgiveravgift og pensjonskostnad",null,20,5,1]
[20,5400,null,"Arbeidsgiveravgift",null,20,5,""]
[20,5410,null,"Arbeidsgiveravgift av påløpte feriepenger",null,20,5,""]
[20,5420,null,"Innberetningspliktig pensjonskostnad",null,20,5,""]
[20,55,null,"Kostnadsgodtgjørelse, annen",null,20,5,1]
[20,5500,null,"Kostnadsgodtgjørelse, annen",null,20,5,""]
[20,5510,null,"Trekkpliktig godtgjørelse til kost og losji",null,20,5,""]
[20,56,null,"Arbeidsgodtgjørelse til eiere o.l",null,20,5,1]
[20,5600,null,"Arbeidsgodtgjørelse til eiere i ANS/DA",null,20,5,""]
[20,5650,null,"Stipulert egen arbeidsgodtgjøring til eiere i enkeltpersonforetak",null,20,5,""]
[20,57,null,"Offentlig tilskudd vedrørende arbeidskraft",null,20,5,1]
[20,5700,null,"Lærling-/praktikanttilskudd",null,20,5,""]
[20,5720,null,"Lønnstilskudd, annet",null,20,5,""]
[20,58,null,"Offentlig refusjon vedrørende arbeidskraft",null,20,5,1]
[20,5800,null,"Refusjon av sykepenger",null,20,5,""]
[20,5820,null,"Refusjon av arbeidsgiveravgift",null,20,5,""]
[20,5830,null,"Refusjon av arbeidsmarkedstiltak",null,20,5,""]
[20,5890,null,"Refusjon, annen",null,20,5,""]
[20,59,null,"Personalkostnad, annen",null,20,5,1]
[20,5900,null,"Gaver til ansatte, fradragsberettiget",null,20,5,""]
[20,5920,null,"Yrkesskadeforsikring, ansatte",null,20,5,""]
[20,5921,null,"Yrkesskadeforsikring, ulønnet",null,20,5,""]
[20,5930,null,"Forsikring, annen ikke arbeidsgiveravgiftspliktig",null,20,5,""]
[20,5940,null,"Pensjonsordninger",null,20,5,""]
[20,5945,null,"Pensjonsforsikring for ansatte",null,20,5,""]
[20,5950,null,"Egen pensjonsordning",null,20,5,""]
[20,5990,null,"Personalkostnad, annen",null,20,5,""]
[20,60,null,"Av- og nedskrivning kostnadsfordeling",null,20,6,1]
[20,6000,null,"Avskrivning på bygninger og annen fast eiendom (inkludert saldogruppe J)",null,20,6,""]
[20,6005,null,"Avskriving grøfter og vannanlegg",null,20,6,""]
[20,6010,null,"Avskriv. på transportmidler, maskiner og inventar",null,20,6,""]
[20,6011,null,"Avskrivning på transportmidler",null,20,6,""]
[20,6015,null,"Avskrivning på maskiner",null,20,6,""]
[20,6017,null,"Avskrivning på inventar",null,20,6,""]
[20,6090,null,"Kostnadsfordeling og nedskrivning",null,20,6]
[20,6091,null,"Bakkeplanering (kostnadsfordeling)",null,20,6]
[20,6092,null,"Frukttrær (nedskrivning)",null,20,6,""]
[20,6099,null,"Annen kostnadsfordeling",null,20,6,""]
[20,61,null,"Frakt, transportkostnad vedrørende salg",null,20,6,1]
[20,6100,null,"Frakt- og transportkostnader og forsikring ved vareforsendelse",null,20,6,""]
[20,6110,null,"Toll- og spedisjonskostnader ved vareforsendelse",null,20,6,""]
[20,6190,null,"Frakt- og transportkostnader ved annet salg",null,20,6,""]
[20,62,null,"Energi, brensel og vann vedrørende produksjonen",null,20,6,1]
[20,6200,null,"Elektrisitet vedrørende produksjon",null,20,6,""]
[20,6201,null,"Strømstøtte","Ny 10.04.2024"]
[20,6210,null,"Gass vedrørende produksjon","Ny 05.01.2022",20,6]
[20,6220,null,"Fyringsolje vedrørende produksjon",null,20,6,""]
[20,6240,null,"Ved vedrørende produksjon",null,20,6,""]
[20,6250,null,"Drivstoff vedr. produksjon",null,20,6,""]
[20,6259,null,"Beholdningsendring av drivstoff vedrørende produksjon",null,20,6,""]
[20,6260,null,"Vann vedrørende produksjon",null,20,6,""]
[20,6261,null,"Vannavgift vedrørende. produksjon",null,20,6,""]
[20,6262,null,"Vann til overflatevanning vedrørende produksjon",null,20,6,""]
[20,6290,null,"Brensel, annet vedrørende produksjon",null,20,6,""]
[20,63,null,"Kostnad lokaler",null,20,6,1]
[20,6300,null,"Leie av lokaler/bygninger",null,20,6,""]
[20,6320,null,"Renovasjon, vann, avløp o.l., lokaler",null,20,6,""]
[20,6330,null,"Renovasjon, vann, avløp og lignende kårbolig (kapitalkostnad)",null,20,6,""]
[20,6340,null,"Lys, varme, lokaler",null,20,6,""]
[20,6360,null,"Renhold, lokaler",null,20,6,""]
[20,6390,null,"Kostnad lokaler, annen",null,20,6,""]
[20,64,null,"Leie/leasing av driftsmidler, forpaktningsavgift mv",null,20,6,1]
[20,6400,null,"Leie/leasing av maskiner uten fører",null,20,6,""]
[20,6401,null,"Leie/lesing av traktor",null,20,6,""]
[20,6404,null,"Leie/leasing av andre maskiner/redskaper",null,20,6,""]
[20,6410,null,"Leie/leasing av inventar",null,20,6,""]
[20,6420,null,"Leie/leasing av datasystemer",null,20,6]
[20,6430,null,"Leie/leasing av kontormaskiner",null,20,6]
[20,6440,null,"Leie/leasing av bil",null,20,6,""]
[20,6441,null,"Leie/leasing av bil (avgiftspliktig)",null,20,6,""]
[20,6442,null,"Leie/leasing av bil (avgiftsfritt)",null,20,6,""]
[20,6450,null,"Brukt traktor m.m. fra annen egen næring",null,20,6,""]
[20,6451,null,"Brukt traktor fra eget skogbruk",null,20,6,""]
[20,6452,null,"Brukt hest fra eget skogbruk",null,20,6,""]
[20,6453,null,"Brukt yrkesbil fra eget skogbruk",null,20,6,""]
[20,6460,null,"Leie av veirett (årsavgift, bompenger etc.)",null,20,6,""]
[20,6470,null,"Leie av jord, beite, forpaktningsavgift, melkekvote",null,20,6,""]
[20,6471,null,"Jordleie og beiteleie (avgiftsfri)",null,20,6,""]
[20,6472,null,"Forpaktningsavgift (avgiftspliktig)",null,20,6,""]
[20,6475,null,"Melkekvote, leie av",null,20,6,""]
[20,6480,null,"Leie av dyr",null,20,6,""]
[20,6490,null,"Festeavgift og andre leiekostnader",null,20,6,""]
[20,65,null,"Verktøy, inventar under aktiveringsgrensen",null,20,6,1]
[20,6500,null,"Motordrevet verktøy",null,20,6,""]
[20,6510,null,"Håndverktøy",null,20,6,""]
[20,6520,null,"Redskap under aktiveringsgrensen",null,20,6]
[20,6540,null,"Inventar",null,20,6]
[20,6541,null,"Inventar, driftsbygninger",null,20,6]
[20,6545,null,"Inventar, kontor",null,20,6]
[20,6550,null,"Driftsmateriell, annet",null,20,6]
[20,6551,null,"Datautstyr",null,20,6]
[20,6560,null,"Rekvisita",null,20,6]
[20,6561,null,"Rekvisita, driftsbygninger m.m.",null,20,6,""]
[20,6562,null,"Rekvisita, planteproduksjon",null,20,6,""]
[20,6563,null,"Rekvisita, husdyrproduksjon",null,20,6,""]
[20,6569,null,"Rekvisita, annet",null,20,6,""]
[20,6570,null,"Arbeidsklær og verneutstyr",null,20,6,""]
[20,6571,null,"Arbeidsklær",null,20,6,""]
[20,6572,null,"Verneutstyr",null,20,6,""]
[20,66,null,"Vedlikehold og reparasjoner",null,20,6,1]
[20,6600,null,"Vedlikehold av driftsbygninger og anlegg",null,20,6,""]
[20,6601,null,"Vedlikehold av driftsbygninger",null,20,6,""]
[20,6602,null,"Vedlikehold av driftsbygninger, brukt allmenningsvirke",null,20,6,""]
[20,6603,null,"Vedlikehold av vannanlegg",null,20,6,""]
[20,6604,null,"Vedlikehold av gjerder",null,20,6,""]
[20,6609,null,"Beholdningsendring bygningsmateriell til driftsbygning og anlegg",null,20,6]
[20,6620,null,"Vedlikehold av utstyr",null,20,6]
[20,6621,null,"Vedlikehold av traktor",null,20,6]
[20,6622,null,"Vedlikehold av skurtresker",null,20,6]
[20,6629,null,"Vedlikehold av andre maskiner o.l.",null,20,6]
[20,6640,null,"Vedlikehold av teknisk utstyr i driftsbygninger",null,20,6]
[20,6650,null,"Vedlikehold av jordbrukseiendom",null,20,6]
[20,6651,null,"Vedlikehold av jord og veier",null,20,6]
[20,6652,null,"Nydyrking, materiell og arbeid",null,20,6]
[20,6653,null,"Vedlikehold og nyanlegg av grøfter",null,20,6]
[20,6659,null,"Beholdningsendring grøftemateriell",null,20,6]
[20,6660,null,"Vedlikehold av bolighus og utleiehytter",null,20,6]
[20,6661,null,"Vedlikehold av utleiehytter",null,20,6]
[20,6662,null,"Vedlikehold av andre bolighus",null,20,6]
[20,6663,null,"Vedlikehold av kårbolig (kapitalkostnad)",null,20,6,""]
[20,6669,null,"Beholdningsendring bygningsmateriell til boliger",null,20,6,""]
[20,6670,null,"Uttatt virke fra egen skog til vedlikehold",null,20,6,""]
[20,6671,null,"Uttatt virke fra egen skog til vedlikehold av driftsbygning",null,20,6,""]
[20,6672,null,"Uttatt virke fra egen skog til vedlikehold av bolighus",null,20,6,""]
[20,6679,null,"Uttatt virke fra egen skog til annet vedlikehold",null,20,6,""]
[20,6690,null,"Vedlikehold, annet",null,20,6,""]
[20,67,null,"Fremmede tjenester",null,20,6,1]
[20,6700,null,"Revisjons- og regnskapshonorar",null,20,6,""]
[20,6701,null,"Revisjonshonorar",null,20,6,""]
[20,6705,null,"Regnskapshonorar",null,20,6,""]
[20,6720,null,"Honorar for økonomisk og juridisk bistand",null,20,6,""]
[20,6721,null,"Honorar for økonomisk rådgivning",null,20,6,""]
[20,6722,null,"Honorar for juridisk bistand",null,20,6,""]
[20,6790,null,"Fremmede tjenester, andre",null,20,6,""]
[20,68,null,"Kontorkostnad, trykksak o l",null,20,6,1]
[20,6800,null,"Kontorrekvisita",null,20,6,""]
[20,6810,null,"Edb-kostnad",null,20,6,""]
[20,6820,null,"Trykksaker",null,20,6,""]
[20,6840,null,"Aviser, tidsskrifter, bøker o.l.",null,20,6,""]
[20,6860,null,"Møter, kurs, oppdatering o.l.",null,20,6,""]
[20,6890,null,"Kontorkostnad, annen",null,20,6,""]
[20,69,null,"Telefon, porto o l",null,20,6,1]
[20,6900,null,"Telefon m.m.",null,20,6,""]
[20,6940,null,"Porto",null,20,6,""]
[20,6999,null,"Privat bruk av elektronisk kommunikasjon",null,20,6,""]
[20,70,null,"Kostnad transportmidler",null,20,7,1]
[20,7000,null,"Drivstoff til bil",null,20,7,""]
[20,7001,null,"Drivstoff, personbil",null,20,7,""]
[20,7003,null,"Drivstoff, varebil",null,20,7,""]
[20,7005,null,"Drivstoff, lastebil",null,20,7,""]
[20,7009,null,"Beholdningsendring, drivstoff, bil",null,20,7,""]
[20,7020,null,"Vedlikehold, olje og rekvisita, bil",null,20,7,""]
[20,7021,null,"Vedlikehold, olje og rekvisita, personbil",null,20,7,""]
[20,7023,null,"Vedlikehold. olje og rekvisita, varebil",null,20,7,""]
[20,7025,null,"Vedlikehold, olje og rekvisita, lastebil",null,20,7,""]
[20,7040,null,"Forsikring og årsavgift, bil",null,20,7,""]
[20,7041,null,"Forsikring og årsavgift, personbil",null,20,7,""]
[20,7043,null,"Forsikring og årsavgift, varebil",null,20,7,""]
[20,7045,null,"Forsikring og årsavgift, lastebil",null,20,7,""]
[20,7080,null,"Bruk av privat bil i næring",null,20,7,""]
[20,7090,null,"Transportmidler, annen kostnad",null,20,7,""]
[20,7099,null,"Privat bruk av næringsbil (inntektsføres)",null,20,7,""]
[20,71,null,"Kostnad/ godtgj. reise, diett, bil o.l.",null,20,7,1]
[20,7100,null,"Bilgodtgjørelse, oppgavepliktig",null,20,7,""]
[20,7130,null,"Reisekostnad, oppgavepliktig",null,20,7,""]
[20,7140,null,"Reisekostnad, ikke oppgavepliktig","Mangler kto. for persontransport",20,7,""]
[20,7150,null,"Diettkostnad, oppgavepliktig",null,20,7,""]
[20,7160,null,"Diettkostnad, ikke oppgavepliktig",null,20,7,""]
[20,7190,null,"Kostnadsgodtgjørelse, annen",null,20,7,""]
[20,72,null,"Provisjonskostnad",null,20,7,1]
[20,7200,null,"Provisjonskostnad, oppgavepliktig",null,20,7,""]
[20,7210,null,"Provisjonskostnad, ikke oppgavepliktig",null,20,7,""]
[20,73,null,"Salgs-, reklame- og representasjonskostnad",null,20,7,1]
[20,7300,null,"Salgskostnad",null,20,7,""]
[20,7320,null,"Reklamekostnad",null,20,7,""]
[20,7350,null,"Representasjon, fradragsberettiget",null,20,7,""]
[20,7390,null,"Salgskostnad, annen",null,20,7,""]
[20,74,null,"Kontingent og gave",null,20,7,1]
[20,7400,null,"Kontingent, fradragsberettige",null,20,7,""]
[20,7401,null,"Kontingent, fradragsberettiget, mva-pliktig",null,20,7,""]
[20,7402,null,"Kontingent, fradragsberettiget, mva-fri",null,20,7,""]
[20,7420,null,"Gave, fradragsberettiget",null,20,7,""]
[20,75,null,"Forsikringspremie",null,20,7,1]
[20,7500,null,"Forsikringspremie drifta",null,20,7,""]
[20,7501,null,"Forsikringspremie bygninger og driftsløsøre",null,20,7,""]
[20,7502,null,"Forsikringspremie husdyr",null,20,7,""]
[20,7503,null,"Forsikringspremie og årsavgift maskiner",null,20,7,""]
[20,7504,null,"Forsikringspremie avling",null,20,7,""]
[20,7508,null,"Forsikringspremie kårbolig",null,20,7,""]
[20,7509,null,"Forsikring av annet til drifta",null,20,7,""]
[20,77,null,"Kostnad, annen",null,20,7,1]
[20,7700,null,"Kostnad annen (avgiftsfri)","Omsetningsråd",20,7,""]
[20,7740,null,"Øredifferanser",null,20,7,""]
[20,7750,null,"Eiendomsskatt",null,20,7,""]
[20,7770,null,"Bank- og kortgebyr",null,20,7,""]
[20,7790,null,"Kostnad, annen",null,20,7,""]
[20,7791,null,"Kostnad, annen, fradragsberettiget (avgiftspliktig)",null,20,7]
[20,7795,null,"Gevinst ved realisasjon av hel buskap ved opphør av driftsgrein","Brukes ikke av Agro",20,7,""]
[20,78,null,"Tap o.l.",null,20,7,1]
[20,7800,null,"Tap ved avgang driftsmidler",null,20,7,""]
[20,7820,null,"Innkommet på tidligere nedskrevne fordringer",null,20,7,""]
[20,7830,null,"Konstaterte tap på fordringer",null,20,7,""]
[20,7831,null,"Endring i avsetning tap på fordringer",null,20,7,""]
[20,7860,null,"Andre konstaterte tap",null,20,7,""]
[20,7861,null,"Tap på kontrakter",null,20,7,""]
[20,80,null,"Finansinntekt",null,20,7,1]
[20,8060,null,"Valutagevinst (agio)",null,20,8]
[20,8070,null,"Finansinntekt, annen",null,20,8,""]
[20,8077,null,"Gevinst ved realisasjon av aksjer og andeler",null,20,8,""]
[20,8078,null,"Rentestøtte fra Innovasjon Norge",null,20,8,""]
[20,8079,null,"Finansinntekt, annen",null,20,8,""]
[20,81,null,"Finanskostnad",null,20,8,1]
[20,8160,null,"Valutatap (disagio)",null,20,8,""]
[20,8170,null,"Finanskostnad, annen",null,20,8,""]
[20,8177,null,"Tap ved realisasjon av aksjer og andeler",null,20,8,""]
[20,8179,null,"Finanskostnad, annen",null,20,8,""]
[20,8180,null,"Kårytelser, uspesifisert",null,20,8,""]
[20,8181,null,"Kårytelser, leieverdi kårbolig",null,20,8,""]
[20,8182,null,"Kårytelser, uttak av naturalia, jordbruk",null,20,8,""]
[20,8183,null,"Kårytelser, uttak av naturalia, skogbruk",null,20,8,""]
[20,8184,null,"Kårytelser, fri strøm og kontantkår",null,20,8,""]
[20,82,null,"Overfør fra gevinst og tapskonto",null,20,8,1]
[20,8280,null,"Overføringer fra gevinst- og tapskonto",null,20,8,""]
[20,8285,null,"Inntektsføring fra positiv gevinst- og tapskonto",null,20,8,""]
[20,8286,null,"Fradragsføring fra negativ gevinst- og tapskonto",null,20,8,""]
[20,8480,null,"Inntekt biomasse (ved) overført fra skogbruket",null,20,8,""]
[20,88,null,"Årsresultat",null,20,8,1]
[20,8800,null,"Årsresultat, jordbruk",null,20,8,""]
[30,"Overordnet",null,"Skogbruk",null,30,0,1]
[30,11,null,"Bygninger, skog og annen fast eiendom",null,30,1,1]
[30,1100,null,"Bygninger, (saldogruppe H)",null,30,1,""]
[30,1110,null,"Bygninger, (saldogruppe H)",null,30,1,""]
[30,1120,null,"Bygningsmessige anlegg, (saldogruppe H)",null,30,1,""]
[30,1123,null,"Vannanlegg, (saldogruppe H)",null,30,1,""]
[30,1124,null,"Grøfter",null,30,1,""]
[30,1125,null,"Bygninger med avskrivningstid < 20 år, (saldogruppe H)",null,30,1,""]
[30,1130,null,"Anlegg under oppføring",null,30,1,""]
[30,1140,null,"Skog- og jordbrukseiendom",null,30,1,""]
[30,1141,null,"Jordbrukseiendom",null,30,1,""]
[30,1145,null,"Skogbrukseiendom",null,30,1,""]
[30,1150,null,"Tomter og andre grunnarealer",null,30,1,""]
[30,1160,null,"Bolighus",null,30,1,""]
[30,1165,null,"Kårbolig",null,30,1,""]
[30,1167,null,"Utleiehytter (utleid på åremål o.l.)",null,30,1,""]
[30,1169,null,"Bolighus, andre",null,30,1,""]
[30,1170,null,"Bolighus – nybygging og ombygging",null,30,1,""]
[30,1171,null,"Våningshus (pågående nybygg, til- og ombygging)",null,30,1,""]
[30,1175,null,"Kårbolig (pågående nybygg, til- og ombygging)",null,30,1,""]
[30,1177,null,"Utleiehytter (pågående nybygg, til- og ombygging)",null,30,1,""]
[30,1179,null,"Bolighus, andre (pågående nybygg, til- og ombygging))",null,30,1,""]
[30,1180,null,"Faste tekniske installasjoner i bygg (Saldogruppe J)",null,30,1,""]
[30,1190,null,"Anleggsmidler som avskrives utenom saldosystemet",null,30,1,""]
[30,1195,null,"Skogsveier bygd før 1983",null,30,1,""]
[30,1196,null,"Skogsveier varige",null,30,1,""]
[30,12,null,"Transportmidler, inventar og maskiner",null,30,1,1]
[30,1200,null,"Maskiner og redskap (saldogruppe D)",null,30,1,""]
[30,1201,null,"Traktorer",null,30,1,""]
[30,1203,null,"Gravemaskiner",null,30,1,""]
[30,1209,null,"Maskiner og redskaper, andre",null,30,1,""]
[30,1210,null,"Maskiner og anlegg under arbeid",null,30,1,""]
[30,1230,null,"Vare- og lastebiler (saldogruppe C)",null,30,1,""]
[30,1235,null,"Varebiler, nye",null,30,1,""]
[30,1236,null,"Varebiler, brukte",null,30,1,""]
[30,1237,null,"Lastebiler, nye",null,30,1,""]
[30,1238,null,"Lastebiler, brukte",null,30,1,""]
[30,1240,null,"Transportmidler, andre (saldogruppe D)",null,30,1,""]
[30,1241,null,"Personbiler",null,30,1,""]
[30,1243,null,"Snøscootere",null,30,1,""]
[30,1244,null,"Båter",null,30,1,""]
[30,1249,null,"Transportmidler, andre",null,30,1,""]
[30,1250,null,"Inventar (kontor) (saldogruppe D)",null,30,1,""]
[30,1260,null,"Tekniske installasjoner og fast bygningsinventar i bygninger",null,30,1,""]
[30,1261,null,"Fast bygningsinventar, eget bygg med annen avskrivningstid enn bygninger (saldogruppe D)",null,30,1,""]
[30,1265,null,"Fast bygningsinventar, leide lokaler med annen avskrivningstid enn bygninger (saldogruppe D)",null,30,1,""]
[30,1270,null,"Verktøy o.l. (saldogruppe D)",null,30,1,""]
[30,1280,null,"Kontormaskiner (saldogruppe A)",null,30,1,""]
[30,1290,null,"Driftsmidler utenom saldosystemet",null,30,1,""]
[30,1291,null,"Verktøy som kostnadsfordeles",null,30,1,""]
[30,1292,null,"Flergangsemballasje",null,30,1,""]
[30,1295,null,"Skogbruksplan (driftsplan)",null,30,1,""]
[30,1299,null,"Negativ gevinst- og tapskonto",null,30,1,""]
[30,13,null,"Finansielle anleggsmidler",null,30,1,1]
[30,1390,null,"Andre fordringer",null,30,1,""]
[30,1397,null,"Forskuddsleasing",null,30,1,""]
[30,14,null,"Lagerbeholdning",null,30,1,1]
[30,1400,null,"Lagerbeholdning av innkjøpte varer",null,30,1,""]
[30,1401,null,"Lagerbeholdning av innkjøpte skogsplanter",null,30,1,""]
[30,1402,null,"Lagerbeholdning av skogsfrø",null,30,1,""]
[30,1409,null,"Lagerbeholdning av andre innkjøpte varer",null,30,1,""]
[30,1410,null,"Lagerbeholdning av innkjøpt hjelpemateriell",null,30,1,""]
[30,1411,null,"Lagerbeholdning av plantevernmidler",null,30,1,""]
[30,1414,null,"Lagerbeholdning av innkjøpt emballasjemateriell",null,30,1,""]
[30,1415,null,"Lagerbeholdning av innkjøpt handelsgjødsel",null,30,1,""]
[30,1416,null,"Lagerbeholdning av innkjøpt kalk",null,30,1,""]
[30,1419,null,"Lagerbeholdning av annet innkjøpt hjelpemateriell",null,30,1,""]
[30,1420,null,"Lagerholdning av varer under tilvirkning",null,30,1,""]
[30,1425,null,"Lagerbeholdning av juletrær i vekst",null,30,1,""]
[30,1430,null,"Lagerbeholdning av bygnings- og grøftemateriell o.l.",null,30,1,""]
[30,1431,null,"Lagerbeholdning av bygningsmateriell til drifta",null,30,1,""]
[30,1432,null,"Lagerbeholdning av grøftemateriell",null,30,1,""]
[30,1437,null,"Lagerbeholdning av bygningsmateriell til bolighus",null,30,1,""]
[30,1440,null,"Lagerbeholdning av ferdige egentilvirkete varer for salg",null,30,1,""]
[30,1441,null,"Lagerbeholdning av bartrevirke",null,30,1,""]
[30,1442,null,"Lagerbeholdning av lauvtrevirke",null,30,1,""]
[30,1443,null,"Lagerbeholdning av ved til brensel (salg)",null,30,1,""]
[30,1444,null,"Lagerbeholdning av ved til privat bruk",null,30,1,""]
[30,1445,null,"Lagerbeholdning av biomasse",null,30,1,""]
[30,1448,null,"Lagerbeholdning av andre egenproduserte varer",null,30,1,""]
[30,1450,null,"Lagerbeholdning av hester",null,30,1,""]
[30,1458,null,"Lagerbeholdning av hester",null,30,1,""]
[30,1460,null,"Lagerbeholdning av innkjøpte varer for videresalg",null,30,1,""]
[30,1470,null,"Lagerbeholdning av innkjøpt drivstoff og brensel vedrørende produksjonen",null,30,1,""]
[30,1471,null,"Lagerbeholdning av drivstoff og fyringsolje",null,30,1,""]
[30,1472,null,"Lagerbeholdning av annet innkjøpt brensel",null,30,1,""]
[30,1475,null,"Lagerbeholdning av drivstoff til transportmidler",null,30,1,""]
[30,1490,null,"Lagerbeholdning av egentilvirkete varer til eget bruk",null,30,1,""]
[30,15,null,"Kortsiktige fordringer",null,30,1,1]
[30,1500,null,"Kundefordringer",null,30,1,""]
[30,1580,null,"Avsetning tap på fordringer",null,30,1,""]
[30,1581,null,"Avsetning tap på kundefordringer",null,30,1,""]
[30,1585,null,"Avsetning tap på andre fordringer",null,30,1,""]
[30,1590,null,"Skogfondskonto (ikke skattepliktig formue, motkonto 1599)",null,30,1,""]
[30,1599,null,"Skogfond (motkonto 1590)",null,30,1,""]
[30,17,null,"Forskuddsbetalt kostnad, påløpt inntekt og lignende",null,30,1,1]
[30,1740,null,"Forskuddsbetalt kostnad",null,30,1,""]
[30,1744,null,"Forskuddsbetalt leasingleie (kostnadsfordeles)",null,30,1,""]
[30,20,null,"Egenkapital",null,30,2,1]
[30,2050,null,"Egenkapitalkorreksjoner vedrørende skattefri del av skogavgift",null,30,2,""]
[30,2054,null,"Skogfond, skattefri del",null,30,2,""]
[30,2055,null,"Skogfond, tilbakeføring av tidligere skattefri del",null,30,2,""]
[30,2090,null,"Diverse skattemessige disposisjoner",null,30,2,""]
[30,2094,null,"Gevinst- og tapskonto ved realisasjon av tomt (kapitalinntekt)",null,30,2,""]
[30,2095,null,"Negativ saldo",null,30,2,""]
[30,2096,null,"Positiv gevinst- og tapskonto",null,30,2,""]
[30,2097,null,"Betinget avsatt gevinst (Skl. § 14-70)",null,30,2,""]
[30,2098,null,"Naturkatastrofe, inntektsfordeling",null,30,2,""]
[30,24,null,"Leverandørgjeld",null,30,2,1]
[30,2400,null,"Leverandørgjeld",null,30,2,""]
[30,27,null,"Merverdiavgift",null,30,2,1]
[30,2700,null,"Merverdiavgift, utgående",null,30,2,""]
[30,2710,null,"Merverdiavgift, inngående",null,30,2,""]
[30,29,null,"Kortsiktig gjeld, diverse",null,30,2,1]
[30,2900,null,"Forskudd fra kunder",null,30,2,""]
[30,30,null,"Salgsinntekt, avgiftspliktig",null,30,3,1]
[30,3000,null,"Salgsinntekt, spesialtømmer, (avgiftspliktig)",null,30,3,""]
[30,3001,null,"Gran, spesialtømmer",null,30,3,""]
[30,3002,null,"Furu, spesialtømmer",null,30,3,""]
[30,3003,null,"Lauv, spesialtømmer",null,30,3,""]
[30,3010,null,"Salgsinntekt, skurtømmer, (avgiftspliktig)",null,30,3,""]
[30,3011,null,"Gran, skurtømmer",null,30,3,""]
[30,3012,null,"Furu, skurtømmer",null,30,3,""]
[30,3013,null,"Lauv, skurtømmer",null,30,3,""]
[30,3020,null,"Salgsinntekt, sams virke, (avgiftspliktig)",null,30,3,""]
[30,3021,null,"Gran, sams virke",null,30,3,""]
[30,3022,null,"Furu, sams virke",null,30,3,""]
[30,3023,null,"Lauv, sams virke",null,30,3,""]
[30,3025,null,"Annet rundvirke",null,30,3]
[30,3030,null,"Salgsinntekt, massevirke (avgiftspliktig)",null,30,3,""]
[30,3031,null,"Gran, massevirke",null,30,3,""]
[30,3032,null,"Furu, massevirke",null,30,3,""]
[30,3033,null,"Lauv, massevirke",null,30,3,""]
[30,3040,null,"Salgsinntekt, ved for salg (avgiftspliktig)",null,30,3,""]
[30,3041,null,"Gran, ved for salg",null,30,3,""]
[30,3042,null,"Furu, ved for salg",null,30,3,""]
[30,3043,null,"Lauv, ved for salg",null,30,3,""]
[30,3045,null,"Biomasse, bearbeidet (også ved for salg), alle treslag",null,30,3,""]
[30,3046,null,"Ved, rundvirke (tømmer)",null,30,3]
[30,3050,null,"Etterbetaling og lignende skogsvirke m.m.",null,30,3,""]
[30,3060,null,"Uttak av varer til egen foredling o.l. (avgiftspliktig)",null,30,3,""]
[30,3061,null,"Gran, uttak til egen foredling",null,30,3,""]
[30,3062,null,"Furu, uttak til egen foredling",null,30,3,""]
[30,3063,null,"Lauv, uttak til egen foredling",null,30,3,""]
[30,3069,null,"Uttak av andre varer",null,30,3,""]
[30,3070,null,"Rotsalg (avgiftspliktig)",null,30,3,""]
[30,3071,null,"Gran, rotsalg",null,30,3,""]
[30,3072,null,"Furu, rotsalg",null,30,3,""]
[30,3073,null,"Lauv, rotsalg",null,30,3,""]
[30,3080,null,"Rabatt og annen salgsinntektsred. (avgiftspliktig salg)",null,30,3,""]
[30,3081,null,"Rabatt og annen salgsinntektsreduksjon (avgiftspliktig salg)",null,30,3,""]
[30,3090,null,"Salgsinntekt, annen",null,30,3,""]
[30,3091,null,"Kjøreinntekt",null,30,3,""]
[30,3092,null,"Salg av ikke aktiverte driftsmidler",null,30,3,""]
[30,3093,null,"Grus og sand",null,30,3,""]
[30,3094,null,"Juletrær, pyntegrønt, kongler m.m.",null,30,3,""]
[30,3095,null,"Salgsinntekt mat (middels mva.-sats)",null,30,3,""]
[30,3099,null,"Arbeidsinntekt, avgiftspliktig",null,30,3,""]
[30,31,null,"Salgsinntekt, avgiftsfri (innenfor avgiftsområdet)",null,30,3,1]
[30,3100,null,"Salgsinntekt, varer og tjenester (avgiftsfritt)",null,30,3,""]
[30,3101,null,"Kjøreinntekt (avgiftsfri)",null,30,3,""]
[30,3150,null,"Uttak av skogsvirke til eget jordbruk (avgiftsfritt)",null,30,3,""]
[30,3152,null,"Uttak av skogsvirke til kårbolig",null,30,3,""]
[30,3153,null,"Uttak av skogsvirke til andre bolighus",null,30,3,""]
[30,3154,null,"Uttak av skogsvirke til driftsbygning",null,30,3,""]
[30,3155,null,"Uttak av staur o. l.",null,30,3,""]
[30,3160,null,"Uttak av varer til privat bruk (avgiftsfritt)",null,30,3,""]
[30,3161,null,"Uttak av ved til privat bruk",null,30,3,""]
[30,3162,null,"Uttak av skogsvirke til våningshus eller annen privat bruk",null,30,3,""]
[30,3165,null,"Uttak av egenprodusert varmeenergi til privat bruk",null,30,3,""]
[30,3167,null,"Uttak av jakt til privat bruk",null,30,3,""]
[30,3168,null,"Uttak av fiske til eget bruk",null,30,3,""]
[30,3169,null,"Uttak av andre produkter til privat bruk",null,30,3,""]
[30,3170,null,"Uttak av varer til kår (avgiftsfritt)",null,30,3,""]
[30,3171,null,"Uttak av ved til kår",null,30,3,""]
[30,3175,null,"Uttak av egenprodusert varmeenergi til kår",null,30,3,""]
[30,3179,null,"Uttak av andre produkter til kår",null,30,3,""]
[30,3180,null,"Rabatt og annen salgsinntektsreduksjon (avgiftsfritt salg)",null,30,3,""]
[30,3181,null,"Bonus fra innkjøpslag m.m.. (avgiftsfritt salg)",null,30,3,""]
[30,3183,null,"Returemballasje, tilbakebetaling av pant",null,30,3,""]
[30,32,null,"Salgsinntekt utenfor avgiftsområdet",null,30,3,1]
[30,3200,null,"Salgsinntekt, utenfor avgiftsområdet",null,30,3,""]
[30,3260,null,"Uttak av varer utenfor avgiftsområdet",null,30,3,""]
[30,3280,null,"Rabatt og annen salgsinntektsreduksjon utenfor avgiftsområdet",null,30,3,""]
[30,3282,null,"Returemballasje, retur av flergangspaller",null,30,3,""]
[30,3285,null,"Allmenningsrabatt",null,30,3,""]
[30,3286,null,"Allmenningstilskudd",null,30,3,""]
[30,34,null,"Offentlig tilskudd/ refusjon",null,30,3,1]
[30,3410,null,"Tilskudd innbetalt på skogfondskonto vedrørende investeringer med skattefordel",null,30,3,""]
[30,3415,null,"Tilskudd innbet. på skogfondskonto vedrørende investeringer uten skattefordel",null,30,3,""]
[30,3416,null,"Tilskudd til skogkultur",null,30,3,""]
[30,3417,null,"Tilskudd til ikke aktiverte veier",null,30,3,""]
[30,3418,null,"Tilskudd til driftsplan",null,30,3,""]
[30,3420,null,"Tilskudd innbet. på skogfondskonto vedrørende formål med skattefordel tidligere år",null,30,3,""]
[30,3430,null,"Tilskudd som ikke skal inn på skogfondskontoen",null,30,3,""]
[30,36,null,"Leieinntekt",null,30,3,1]
[30,3600,null,"Leieinntekt fast eiendom",null,30,3,""]
[30,3602,null,"Leieinntekt bolighus",null,30,3,""]
[30,3603,null,"Leieinntekt driftsbygninger",null,30,3,""]
[30,3604,null,"Leieinntekt utleiehytter, skogshusvær (utenfor avgiftsområdet)",null,30,3,""]
[30,3605,null,"Forpaktningsavgift (utenfor avgiftsområdet)",null,30,3,""]
[30,3606,null,"Leieinntekt jord, beite (avgiftspliktig)",null,30,3,""]
[30,3607,null,"Leieinntekt utleiehytter, skogshusvær (lav sats)",null,30,3,""]
[30,3610,null,"Leieinntekt maskiner m.m. (avgiftspliktig)",null,30,3,""]
[30,3630,null,"Leieinntekt utmark",null,30,3,""]
[30,3631,null,"Leieinntekt jakt",null,30,3,""]
[30,3632,null,"Leieinntekt fiske",null,30,3,""]
[30,3635,null,"Utbytte fra utmarkslag",null,30,3,""]
[30,3640,null,"Leieinntekt maskiner m.m. (avgiftsfri)",null,30,3,""]
[30,3641,null,"Leieinntekt, brukt traktor i jordbruket",null,30,3,""]
[30,3650,null,"Bortleie av rettigheter, avgiftsfrie",null,30,3,""]
[30,3660,null,"Festeinntekter",null,30,3,""]
[30,37,null,"Provisjonsinntekter",null,30,3,1]
[30,3700,null,"Provisjonsinntekter",null,30,3,""]
[30,38,null,"Gevinst ved avgang anleggsmidler, negativ saldo",null,30,3,1]
[30,3800,null,"Vederlag ved avgang driftsmidleri saldogruppe a, c og d direkte til inntekt",null,30,3,""]
[30,3890,null,"Negativ saldo",null,30,3,""]
[30,3895,null,"Negativ saldo, inntektsføring fra",null,30,3,""]
[30,3896,null,"Inntektsføring av negativ saldo ved opphør av næring",null,30,3,""]
[30,39,null,"Annen driftsrelatert inntekt",null,30,3,1]
[30,3900,null,"Driftsrelaterte inntekter, andre",null,30,3,""]
[30,3903,null,"Erstatning for andre tapte inntekter",null,30,3,""]
[30,3905,null,"Renter av kundefordringer",null,30,3,""]
[30,3909,null,"Øreavrunding ved fakturering",null,30,3,""]
[30,3910,null,"Skogfond frigitt",null,30,3,""]
[30,3911,null,"Skogfond frigitt til formål med skattefordel",null,30,3,""]
[30,3912,null,"Skogfond frigitt til formål uten skattefordel",null,30,3,""]
[30,3913,null,"Skogfond, skattefri del (føres til debet)",null,30,3,""]
[30,3914,null,"Skogfond, tilbakeføring av skattefri del i år",null,30,3,""]
[30,3915,null,"Skogfond, tilbakeføring av tidligere skattefri del.",null,30,3,""]
[30,3980,null,"Reguleringsinntekter og lignende",null,30,3,""]
[30,3990,null,"Særlige poster",null,30,3,""]
[30,3992,null,"Gevinst ved salg av eiendeler i (saldogruppe H)",null,30,3,""]
[30,3993,null,"Gevinst ved salg ikke-avskrivbare driftsmidler",null,30,3,""]
[30,3995,null,"Ikke reinvestert gevinst ved ufrivillig realisasjon",null,30,3,""]
[30,3996,null,"Naturkatastrofe, år/tidligere års inntekt",null,30,3,""]
[30,40,null,"Forbruk av råvarer og innkjøpte halvfabrikata",null,30,4,1]
[30,4000,null,"Kjøp av skogsfrø",null,30,4,""]
[30,4010,null,"Kjøp av skogsplanter",null,30,4,""]
[30,4060,null,"Frakt, toll og spedisjon",null,30,4,""]
[30,4070,null,"Innkjøpsprisreduksjon (rabatter o.l.)",null,30,4,""]
[30,4090,null,"Beholdningsendring av innkjøpte varer",null,30,4,""]
[30,4091,null,"Beholdningsendring av innkjøpte skogplanter",null,30,4,""]
[30,4092,null,"Beholdningsendring av innkjøpt skogfrø",null,30,4,""]
[30,4099,null,"Beholdningsendring av andre innkjøpte varer",null,30,4,""]
[30,41,null,"Forbruk av varer under tilvirkning",null,30,4,1]
[30,4150,null,"Kjøp av juletrær/pyntegrønt",null,30,4,""]
[30,4160,null,"Frakt, toll og spedisjon",null,30,4,""]
[30,4170,null,"Innkjøpsprisreduksjon (rabatter o.l.)",null,30,4,""]
[30,4190,null,"Beholdningsendring av varer under tilvirkning",null,30,4,""]
[30,4195,null,"Beholdningsendring av juletrær i vekst",null,30,4,""]
[30,42,null,"Forbruk av ferdig tilvirkete varer",null,30,4,1]
[30,4200,null,"Forbruk av egentilvirkete produkter",null,30,4,""]
[30,4290,null,"Beholdningsendring av avvirket skogsvirke",null,30,4,""]
[30,4291,null,"Beholdningsendring av bartrevirke",null,30,4,""]
[30,4292,null,"Beholdningsendring av lauvtrevirke",null,30,4,""]
[30,4293,null,"Beholdningsendring av ved til brensel (salg)",null,30,4,""]
[30,4294,null,"Beholdningsendring av ved til privat bruk",null,30,4,""]
[30,4295,null,"Beholdningsendring av biomasse",null,30,4,""]
[30,4298,null,"Beholdningsendring av andre egenproduserte varer",null,30,4,""]
[30,43,null,"Forbruk av innkjøpte varer for videresalg",null,30,4,1]
[30,4300,null,"Kjøp av varer for videresalg",null,30,4,""]
[30,4360,null,"Frakt, toll og spedisjon",null,30,4,""]
[30,4370,null,"Innkjøpsprisreduksjon",null,30,4,""]
[30,4390,null,"Beholdningsendring av innkjøpte varer for videresalg",null,30,4,""]
[30,44,null,"Forbruk av hjelpemateriell",null,30,4,1]
[30,4410,null,"Kjøp av plantevernmidler",null,30,4,""]
[30,4440,null,"Kjøp av emballasjemateriell",null,30,4,""]
[30,4450,null,"Kjøp av handelsgjødsel og kalk",null,30,4,""]
[30,4451,null,"Kjøp av handelsgjødsel",null,30,4,""]
[30,4457,null,"Kjøp av kalk",null,30,4,""]
[30,4460,null,"Frakt, toll og spedisjon",null,30,4,""]
[30,4470,null,"Innkjøpsprisreduksjon (rabatter o.l.)",null,30,4,""]
[30,4490,null,"Beholdningsendring av hjelpemateriell",null,30,4,""]
[30,4491,null,"Beholdningsendring av plantevernmidler",null,30,4,""]
[30,4494,null,"Beholdningsendring av emballasjemateriell",null,30,4,""]
[30,4495,null,"Beholdningsendring av handelsgjødsel og kalk",null,30,4,""]
[30,45,null,"Fremmedytelser i produksjonen",null,30,4,1]
[30,4500,null,"Fremmedytelse og underentreprise",null,30,4,""]
[30,4501,null,"Trukne driftsutgifter ved rotsalg",null,30,4,""]
[30,4510,null,"Avvirkning, kjøp av tjenester",null,30,4,""]
[30,4520,null,"Skogkultur, kjøp av tjenester",null,30,4,""]
[30,4530,null,"Veivedlikehold, kjøp av tjenester",null,30,4,""]
[30,4550,null,"Maskinleie med fører",null,30,4,""]
[30,4551,null,"Virkestransport",null,30,4,""]
[30,4552,null,"Markberedning",null,30,4,""]
[30,4553,null,"Grøfting",null,30,4,""]
[30,4559,null,"Maskinleie, diverse",null,30,4,""]
[30,4560,null,"Tjenester, diverse",null,30,4,""]
[30,4570,null,"Skogring",null,30,4,""]
[30,46,null,"Kjøp av hest",null,30,4,1]
[30,4680,null,"Kjøp av hest",null,30,4,""]
[30,4690,null,"Beholdningsendring hest",null,30,4,""]
[30,4990,null,"Beholdningsendring av egentilvirkede varer til eget bruk",null,30,4,""]
[30,50,null,"Lønn til ansatte",null,30,5,1]
[30,5000,null,"Lønn til ansatte",null,30,5,""]
[30,5010,null,"Feriepenger",null,30,5,""]
[30,5020,null,"Sykepenger",null,30,5,""]
[30,5090,null,"Periodiseringskonto lønn",null,30,5,""]
[30,5091,null,"Påløpt, ikke utbetalt lønn",null,30,5,""]
[30,5092,null,"Påløpte feriepenger av ikke utbetalt lønn",null,30,5,""]
[30,5099,null,"Lønnsposteringer, andre",null,30,5,""]
[30,52,null,"Fordel i arbeidsforhold",null,30,5,1]
[30,5200,null,"Fri bil",null,30,5,""]
[30,5210,null,"Fri telefon",null,30,5,""]
[30,5220,null,"Fri avis",null,30,5,""]
[30,5230,null,"Fri kost og losji",null,30,5,""]
[30,5240,null,"Rentefordel",null,30,5,""]
[30,5250,null,"Fri forsikring",null,30,5,""]
[30,5260,null,"Fri strøm",null,30,5,""]
[30,5270,null,"Fri brensel",null,30,5,""]
[30,5280,null,"Fordel i arbeidsforhold, annen",null,30,5,""]
[30,5290,null,"Motkonto for kontogruppe 52",null,30,5,""]
[30,53,null,"Oppgavepliktig godtgjørelse, annen",null,30,5,1]
[30,5390,null,"Oppgavepliktig godtgjørelse, annen",null,30,5,""]
[30,54,null,"Arbeidsgiveravgift og pensjonskostnad",null,30,5,1]
[30,5400,null,"Arbeidsgiveravgift",null,30,5,""]
[30,5410,null,"Arbeidsgiveravgift av påløpte feriepenger",null,30,5,""]
[30,5420,null,"Innberetningspliktig pensjonskostnad",null,30,5,""]
[30,55,null,"Kostnadsgodtgjørelse, annen",null,30,5,1]
[30,5500,null,"Kostnadsgodtgjørelse, annen",null,30,5,""]
[30,5509,null,"Motorsaggodtgjørelse og lignende",null,30,5,""]
[30,5510,null,"Trekkpliktig godtgjørelse til kost og losji",null,30,5,""]
[30,56,null,"Arbeidsgodtgjørelse til eiere o.l",null,30,5,1]
[30,5600,null,"Arbeidsgodtgjørelse til eiere i ANS/DA",null,30,5,""]
[30,57,null,"Offentlig tilskudd vedrørende arbeidskraft",null,30,5,1]
[30,5700,null,"Lærling-/praktikanttilskudd",null,30,5,""]
[30,5720,null,"Lønnstilskudd, annet",null,30,5,""]
[30,58,null,"Offentlig refusjon vedrørende arbeidskraft",null,30,5,1]
[30,5800,null,"Refusjon av sykepenger",null,30,5,""]
[30,5820,null,"Refusjon av arbeidsgiveravgift",null,30,5,""]
[30,5830,null,"Refusjon av arbeidsmarkedstiltak",null,30,5,""]
[30,5890,null,"Refusjon, annen",null,30,5,""]
[30,59,null,"Personalkostnad, annen",null,30,5,1]
[30,5900,null,"Gaver til ansatte, fradragsberettiget",null,30,5,""]
[30,5920,null,"Yrkesskadeforsikring, ansatte",null,30,5,""]
[30,5930,null,"Forsikring, annen ikke arbeidsgiveravgiftspliktig",null,30,5,""]
[30,5940,null,"Pensjonsordninger",null,30,5,""]
[30,5945,null,"Pensjonsforsikring for ansatte",null,30,5,""]
[30,5950,null,"Egen pensjonsordning",null,30,5,""]
[30,5990,null,"Personalkostnad, annen",null,30,5,""]
[30,60,null,"Av- og nedskrivning kostnadsfordeling",null,30,6,1]
[30,6000,null,"Avskrivning på bygninger og annen fast eiendom (inkludert saldogruppe J)",null,30,6,""]
[30,6010,null,"Avskriv. på transportmidler, maskiner og inventar",null,30,6,""]
[30,6011,null,"Avskrivning på transportmidler",null,30,6,""]
[30,6015,null,"Avskrivning på maskiner",null,30,6,""]
[30,6017,null,"Avskrivning på inventar",null,30,6,""]
[30,6090,null,"Lineær avskrivning, kostnadsfordeling og nedskrivning",null,30,6,""]
[30,6095,null,"Skogsveier bygd før 1983 (lineær avskrivning)",null,30,6,""]
[30,6096,null,"Skogbruksplaner (kostnadsfordeling)",null,30,6,""]
[30,6099,null,"Annen kostnadsfordeling",null,30,6,""]
[30,61,null,"Frakt, transportkostnad vedrørende salg",null,30,6,1]
[30,6100,null,"Frakt- og transportkostnader og forsikring ved vareforsendelse",null,30,6,""]
[30,6110,null,"Toll- og spedisjonskostnader ved vareforsendelse",null,30,6,""]
[30,6190,null,"Frakt- og transportkostnader ved annet salg",null,30,6,""]
[30,62,null,"Energi, brensel og vann vedrørende produksjonen",null,30,6,1]
[30,6200,null,"Elektrisitet vedrørende produksjon",null,30,6,""]
[30,6210,null,"Gass vedrørende produksjon",null,30,6,""]
[30,6220,null,"Fyringsolje vedrørende produksjon",null,30,6,""]
[30,6240,null,"Ved vedrørende produksjon",null,30,6,""]
[30,6250,null,"Drivstoff vedrørende produksjon",null,30,6,""]
[30,6259,null,"Beholdningsendring av drivstoff vedrørende produksjon",null,30,6,""]
[30,6260,null,"Vann vedrørende produksjon",null,30,6,""]
[30,6290,null,"Brensel, annet vedrørende produksjon",null,30,6,""]
[30,63,null,"Kostnad lokaler",null,30,6,1]
[30,6300,null,"Leie av lokaler/bygninger",null,30,6,""]
[30,6320,null,"Renovasjon, vann, avløp o.l., lokaler",null,30,6,""]
[30,6340,null,"Lys, varme, lokaler",null,30,6,""]
[30,6360,null,"Renhold, lokaler",null,30,6,""]
[30,6390,null,"Kostnad lokaler, annen",null,30,6,""]
[30,64,null,"Leie/leasing av driftsmidler, mv",null,30,6,1]
[30,6400,null,"Leie av maskiner uten fører",null,30,6,""]
[30,6401,null,"Leie av traktor",null,30,6,""]
[30,6403,null,"Leie av hest",null,30,6,""]
[30,6404,null,"Leie av andre redskaper/maskiner",null,30,6,""]
[30,6410,null,"Leie av inventar",null,30,6,""]
[30,6420,null,"Leie av datasystemer",null,30,6,""]
[30,6430,null,"Leie av kontormaskiner",null,30,6,""]
[30,6440,null,"Leie av bil",null,30,6,""]
[30,6441,null,"Leie av bil (avgiftspliktig)",null,30,6,""]
[30,6442,null,"Leie av bil (avgiftsfritt)",null,30,6,""]
[30,6450,null,"Brukt traktor m.m. fra annen egen næring",null,30,6,""]
[30,6451,null,"Brukt traktor fra eget jordbruk",null,30,6,""]
[30,6452,null,"Brukt hest fra eget jordbruk",null,30,6,""]
[30,6453,null,"Brukt yrkesbil fra eget jordbruk",null,30,6,""]
[30,6460,null,"Leie av veirett (årsavgift, bompenger etc.)",null,30,6,""]
[30,65,null,"Verktøy, inventar under aktiveringsgrensen",null,30,6,1]
[30,6500,null,"Motordrevet verktøy",null,30,6,""]
[30,6510,null,"Håndverktøy",null,30,6,""]
[30,6520,null,"Redskap under aktiveringsgrensen",null,30,6,""]
[30,6540,null,"Inventar",null,30,6,""]
[30,6541,null,"Inventar, driftsbygninger",null,30,6,""]
[30,6545,null,"Inventar, kontor",null,30,6,""]
[30,6550,null,"Driftsmateriell, annet",null,30,6,""]
[30,6551,null,"Datautstyr",null,30,6,""]
[30,6560,null,"Rekvisita",null,30,6,""]
[30,6561,null,"Rekvisita, driftsbygninger m.m.",null,30,6,""]
[30,6569,null,"Rekvisita, annet",null,30,6,""]
[30,6570,null,"Arbeidsklær og verneutstyr",null,30,6,""]
[30,6571,null,"Arbeidsklær",null,30,6,""]
[30,6572,null,"Verneutstyr",null,30,6,""]
[30,66,null,"Vedlikehold og reparasjoner",null,30,6,1]
[30,6600,null,"Vedlikehold av driftsbygninger og anlegg",null,30,6,""]
[30,6601,null,"Vedlikehold av driftsbygninger",null,30,6,""]
[30,6602,null,"Vedlikehold av driftsbygninger, brukt allmenningsvirke",null,30,6,""]
[30,6604,null,"Vedlikehold av gjerder",null,30,6,""]
[30,6609,null,"Beholdningsendring bygningsmateriell til driftsbygning og anlegg",null,30,6,""]
[30,6620,null,"Vedlikehold av utstyr",null,30,6,""]
[30,6621,null,"Vedlikehold av traktor",null,30,6,""]
[30,6629,null,"Vedlikehold av andre maskiner o.l.",null,30,6,""]
[30,6640,null,"Vedlikehold av teknisk utstyr i driftsbygninger",null,30,6,""]
[30,6650,null,"Vedlikehold av skogbrukseiendom",null,30,6,""]
[30,6651,null,"Vedlikehold av veier",null,30,6,""]
[30,6654,null,"Nyanlegg (driftsmessig) av veier",null,30,6,""]
[30,6659,null,"Beholdningsendring materiell til veger",null,30,6,""]
[30,6660,null,"Vedlikehold av bolighus og utleiehytter",null,30,6,""]
[30,6661,null,"Vedlikehold av utleiehytter",null,30,6,""]
[30,6662,null,"Vedlikehold av andre bolighus",null,30,6,""]
[30,6669,null,"Beholdningsendring bygningsmateriell til boliger",null,30,6,""]
[30,6690,null,"Vedlikehold, annet",null,30,6,""]
[30,67,null,"Fremmede tjenester",null,30,6,1]
[30,6700,null,"Revisjons- og regnskapshonorar",null,30,6,""]
[30,6701,null,"Revisjonshonorar",null,30,6,""]
[30,6705,null,"Regnskapshonorar",null,30,6,""]
[30,6720,null,"Honorar for økonomisk og juridisk bistand",null,30,6,""]
[30,6721,null,"Honorar for økonomisk rådgivning",null,30,6,""]
[30,6722,null,"Honorar for juridisk bistand",null,30,6,""]
[30,6760,null,"Skogbruksplan (kostnad mindre enn kr 15 000)",null,30,6,""]
[30,6790,null,"Fremmede tjenester, andre",null,30,6,""]
[30,68,null,"Kontorkostnad, trykksak o l",null,30,6,1]
[30,6800,null,"Kontorrekvisita",null,30,6,""]
[30,6810,null,"Edb-kostnad",null,30,6,""]
[30,6820,null,"Trykksaker",null,30,6,""]
[30,6840,null,"Aviser, tidsskrifter, bøker o.l.",null,30,6,""]
[30,6841,null,"Faglitteratur, håndbøker",null,30,6,""]
[30,6842,null,"Fagtidsskrifter",null,30,6,""]
[30,6843,null,"Aviser",null,30,6,""]
[30,6860,null,"Møter, kurs, oppdatering o.l.",null,30,6,""]
[30,6890,null,"Kontorkostnad, annen",null,30,6,""]
[30,69,null,"Telefon, porto o l",null,30,6,1]
[30,6900,null,"Telefon m.m.",null,30,6,""]
[30,6940,null,"Porto",null,30,6,""]
[30,6999,null,"Privat bruk av elektronisk kommunikasjon",null,30,6,""]
[30,70,null,"Kostnad transportmidler",null,30,7,1]
[30,7000,null,"Drivstoff til bil",null,30,7,""]
[30,7001,null,"Drivstoff, personbil",null,30,7,""]
[30,7003,null,"Drivstoff, varebil",null,30,7,""]
[30,7005,null,"Drivstoff, lastebil",null,30,7,""]
[30,7009,null,"Beholdningsendring drivstoff,  bil",null,30,7,""]
[30,7020,null,"Vedlikehold, olje og rekvisita, bil",null,30,7,""]
[30,7021,null,"Vedlikehold, olje og rekvisita, personbil",null,30,7,""]
[30,7023,null,"Vedlikehold, olje og rekvisita, varebil",null,30,7,""]
[30,7025,null,"Vedlikehold, olje og rekvisita, lastebil",null,30,7,""]
[30,7040,null,"Forsikring og årsavgift, bil",null,30,7,""]
[30,7041,null,"Forsikring og årsavgift, personbil",null,30,7,""]
[30,7043,null,"Forsikring og årsavgift, varebil",null,30,7,""]
[30,7045,null,"Forsikring og årsavgift, lastebil",null,30,7,""]
[30,7080,null,"Bruk av privat bil i næring",null,30,7,""]
[30,7090,null,"Transportmidler, annen kostnad",null,30,7,""]
[30,7099,null,"Privat bruk av næringsbil (inntektsføres)",null,30,7,""]
[30,71,null,"Kostnad/ godtgj. reise, diett, bil o.l.",null,30,7,1]
[30,7100,null,"Bilgodtgjørelse, oppgavepliktig",null,30,7,""]
[30,7130,null,"Reisekostnad, oppgavepliktig",null,30,7,""]
[30,7140,null,"Reisekostnad, ikke oppgavepliktig",null,30,7,""]
[30,7150,null,"Diettkostnad, oppgavepliktig",null,30,7,""]
[30,7160,null,"Diettkostnad, ikke oppgavepliktig",null,30,7,""]
[30,7190,null,"Kostnadsgodtgjørelse, annen",null,30,7,""]
[30,72,null,"Provisjonskostnad",null,30,7,1]
[30,7200,null,"Provisjonskostnad, oppgavepliktig",null,30,7,""]
[30,7210,null,"Provisjonskostnad, ikke oppgavepliktig",null,30,7,""]
[30,73,null,"Salgs-, reklame- og representasjonskostnad",null,30,7,1]
[30,7300,null,"Salgskostnad",null,30,7,""]
[30,7320,null,"Reklamekostnad",null,30,7,""]
[30,7350,null,"Representasjon, fradragsberettiget",null,30,7,""]
[30,7390,null,"Salgskostnad, annen",null,30,7,""]
[30,74,null,"Kontingent og gave",null,30,7,1]
[30,7400,null,"Kontingent, fradragsberettige",null,30,7,""]
[30,7401,null,"Kontingent, fradragsberettiget, mva-pliktig",null,30,7,""]
[30,7402,null,"Kontingent, fradragsberettiget, mva-fri",null,30,7,""]
[30,7420,null,"Gave, fradragsberettiget",null,30,7,""]
[30,75,null,"Forsikringspremie",null,30,7,1]
[30,7500,null,"Forsikringspremie drifta",null,30,7,""]
[30,7501,null,"Forsikringspremie bygninger og driftsløsøre",null,30,7,""]
[30,7505,null,"Forsikringspremie skogforsikring",null,30,7,""]
[30,7503,null,"Forsikringspremie og årsavgift maskiner",null,30,7,""]
[30,7509,null,"Forsikring av annet til drifta",null,30,7,""]
[30,77,null,"Kostnad, annen",null,30,7,1]
[30,7740,null,"Øredifferanser",null,30,7,""]
[30,7750,null,"Eiendomsskatt",null,30,7,""]
[30,7760,null,"Skogfond, tilskudd m.m., innbetalt på skogfondskonto",null,30,7,""]
[30,7761,null,"Skogfond, trukket (innbetalt på skogfondskonto)",null,30,7,""]
[30,7762,null,"Tilskudd innbetalt på skogfondskonto vedrørende tiltak med skattefordel",null,30,7,""]
[30,7763,null,"Tilskudd innbetalt på skogfondskonto vedrør. tiltak med skattefordel tidligere år",null,30,7,""]
[30,7770,null,"Bank- og kortgebyr",null,30,7,""]
[30,7780,null,"Avvirkningsavgift og måleavgift",null,30,7,""]
[30,7781,null,"Avvirkningsavgift",null,30,7,""]
[30,7782,null,"Måleavgift",null,30,7,""]
[30,7790,null,"Kostnad, annen",null,30,7,""]
[30,7791,null,"Kostnad, annen, fradragsberettiget (avgiftspliktig)",null,30,7,""]
[30,7792,null,"Kostnad, annen, fradragsberettiget (avgiftsfri)",null,30,7,""]
[30,7793,null,"Skogsvei, kostnader ved anlegg",null,30,7,""]
[30,7796,null,"Naturkatastrofe, årets overskudd",null,30,7,""]
[30,78,null,"Tap o.l.",null,30,7,1]
[30,7800,null,"Tap ved avgang driftsmidler",null,30,7,""]
[30,7820,null,"Innkommet på tidligere nedskrevne fordringer",null,30,7,""]
[30,7830,null,"Konstaterte tap på fordringer",null,30,7,""]
[30,7831,null,"Endring i avsetning tap på fordringer",null,30,7,""]
[30,80,null,"Finansinntekt",null,30,8,1]
[30,8060,null,"Valutagevinst (agio)",null,30,8,""]
[30,8070,null,"Finansinntekt, annen",null,30,8,""]
[30,8077,null,"Gevinst ved realisasjon av aksjer og andeler",null,30,8,""]
[30,8078,null,"Rentestøtte fra Innovasjon Norge",null,30,8,""]
[30,8079,null,"Finansinntekt, annen",null,30,8,""]
[30,81,null,"Finanskostnad",null,30,8,1]
[30,8160,null,"Valutatap (disagio)",null,30,8,""]
[30,8170,null,"Finanskostnad, annen",null,30,8,""]
[30,8177,null,"Tap ved realisasjon av aksjer og andeler",null,30,8,""]
[30,8179,null,"Finanskostnad, annen",null,30,8,""]
[30,8180,null,"Kårytelser, uspesifisert",null,30,8,""]
[30,8181,null,"Kårytelser, leieverdi kårbolig",null,30,8,""]
[30,8183,null,"Kårytelser, uttak av naturalia, skogbruk",null,30,8,""]
[30,8184,null,"Kårytelser, fri strøm og kontantkår",null,30,8,""]
[30,82,null,"Overfør fra gevinst og tapskonto",null,30,8,1]
[30,8280,null,"Overføringer fra gevinst- og tapskonto",null,30,8,""]
[30,8285,null,"Inntektsføring fra positiv gevinst- og tapskonto",null,30,8,""]
[30,8286,null,"Fradragsføring fra negativ gevinst- og tapskonto",null,30,8,""]
[30,8580,null,"Biomasse, inntekt overført jordbruket",null,30,8,""]
[30,88,null,"Årsresultat",null,30,8,1]
[30,8800,null,"Årsresultat, skogbruk",null,30,8,""]
[50,"Overordnet",null,"Pelsdyr",null,50,0,1]
[50,11,null,"Bygninger og annen fast eiendom",null,50,1,1]
[50,1100,null,"Bygninger, (saldogruppe H)",null,50,1,""]
[50,1110,null,"Bygninger, (saldogruppe H)",null,50,1,""]
[50,1120,null,"Bygningsmessige anlegg, (saldogruppe H)",null,50,1,""]
[50,1125,null,"Pelsdyrgård med avskrivningstid < 20 år, (saldogruppe H)",null,50,1,""]
[50,1130,null,"Anlegg under oppføring",null,50,1,""]
[50,1150,null,"Tomter og andre grunnarealer",null,50,1,""]
[50,1160,null,"Bolighus",null,50,1,""]
[50,1170,null,"Bolighus - nybygging og ombygging",null,50,1,""]
[50,1180,null,"Faste tekniske installasjoner i bygg (Saldogruppe J)",null,50,1,""]
[50,1190,null,"Anleggsmidler som avskrives utenom saldosystemet",null,50,1,""]
[50,12,null,"Transportmidler, inventar og maskiner",null,50,1,1]
[50,1200,null,"Maskiner og redskap (saldogruppe D)",null,50,1,""]
[50,1201,null,"Traktorer",null,50,1,""]
[50,1209,null,"Maskiner og redskaper, andre",null,50,1,""]
[50,1210,null,"Maskiner og anlegg under arbeid",null,50,1,""]
[50,1230,null,"Vare- og lastebiler (saldogruppe C)",null,50,1,""]
[50,1235,null,"Varebiler, nye",null,50,1,""]
[50,1236,null,"Varebiler, brukte",null,50,1,""]
[50,1237,null,"Lastebiler, nye",null,50,1,""]
[50,1240,null,"Transportmidler, andre (saldogruppe D)",null,50,1,""]
[50,1241,null,"Personbiler",null,50,1,""]
[50,1249,null,"Transportmidler, andre",null,50,1,""]
[50,1250,null,"Inventar (kontor) (saldogruppe D)",null,50,1,""]
[50,1260,null,"Tekniske installasjoner og fast bygningsinventar i bygninger",null,50,1,""]
[50,1261,null,"Fast bygningsinventar, eget bygg med annen avskrivningstid enn bygninger (saldogruppe D)",null,50,1,""]
[50,1265,null,"Fast bygningsinventar, leide lokaler med annen avskrivningstid enn bygninger (saldogruppe D)",null,50,1,""]
[50,1270,null,"Verktøy o.l. (saldogruppe D)",null,50,1,""]
[50,1280,null,"Kontormaskiner (saldogruppe A)",null,50,1,""]
[50,1290,null,"Driftsmidler utenom saldosystemet",null,50,1,""]
[50,1291,null,"Verktøy som kostnadsfordeles",null,50,1,""]
[50,1292,null,"Flergangsemballasje",null,50,1,""]
[50,1299,null,"Negativ gevinst- og tapskonto",null,50,1,""]
[50,13,null,"Finansielle anleggsmidler",null,50,1,1]
[50,1390,null,"Fondsavsetninger, pelsdyr, leasing",null,50,1,""]
[50,1391,null,"Oslo skinnauksjoners bonusfond",null,50,1,""]
[50,1392,null,"Markedsutjevningsfond, mink",null,50,1,""]
[50,1393,null,"Markedsutjevningsfond, rev",null,50,1,""]
[50,1397,null,"Forskuddsleasing",null,50,1,""]
[50,14,null,"Lagerbeholdning",null,50,1,1]
[50,1400,null,"Lagerbeholdning av innkjøpte råvarer",null,50,1,""]
[50,1402,null,"Lagerbeholdning av ferdig fôr til pelsdyr",null,50,1,""]
[50,1404,null,"Lagerbeholdning av annet fôr til pelsdyr",null,50,1,""]
[50,1409,null,"Lagerbeholdning av andre innkjøpte råvarer",null,50,1,""]
[50,1410,null,"Lagerbeholdning av innkjøpt hjelpemateriell",null,50,1,""]
[50,1413,null,"Lagerbeholdning av forbruksmateriell i pelsdyrholdet",null,50,1,""]
[50,1414,null,"Lagerbeholdning av innkjøpt emballasjemateriell",null,50,1,""]
[50,1419,null,"Lagerbeholdning av annet innkjøpt hjelpemateriell",null,50,1,""]
[50,1420,null,"Lagerholdning av varer under tilvirkning",null,50,1,""]
[50,1430,null,"Lagerbeholdning av bygningsmateriell o.l.",null,50,1,""]
[50,1431,null,"Lagerbeholdning av bygningsmateriell til drifta",null,50,1,""]
[50,1440,null,"Lagerbeholdning av ferdige egentilvirkete skinn",null,50,1,""]
[50,1441,null,"Lagerbeholdning av skinn som er markedsført siste år",null,50,1,""]
[50,1442,null,"Lagerbeholdning av skinn som er markedsført tidligere år",null,50,1,""]
[50,1443,null,"Lagerbeholdning av skinn av som ligger på lager hjemme",null,50,1,""]
[50,1450,null,"Lagerbeholdning av pelsdyr",null,50,1,""]
[50,1455,null,"Livdyr, kostnadsfordeles 20..",null,50,1,""]
[50,1456,null,"Livdyr, kostnadsfordeles 20..",null,50,1,""]
[50,1457,null,"Livdyr, kostnadsfordeles 20..",null,50,1,""]
[50,1458,null,"Livdyr, kostnadsfordeles 20..",null,50,1,""]
[50,1459,null,"Livdyr, kostnadsfordeles 20..",null,50,1,""]
[50,1460,null,"Lagerbeholdning av innkjøpte varer for videresalg",null,50,1,""]
[50,1470,null,"Lagerbeholdning av innkjøpt drivstoff og brensel vedrørende produksjonen",null,50,1,""]
[50,1471,null,"Lagerbeholdning av drivstoff og fyringsolje",null,50,1,""]
[50,1472,null,"Lagerbeholdning av annet innkjøpt brensel",null,50,1,""]
[50,1475,null,"Lagerbeholdning av drivstoff til biler",null,50,1,""]
[50,1490,null,"Lagerbeholdning av egentilvirkete varer til eget bruk",null,50,1,""]
[50,15,null,"Kortsiktige fordringer",null,50,1,1]
[50,1500,null,"Kundefordringer",null,50,1,""]
[50,1580,null,"Avsetning tap på fordringer",null,50,1,""]
[50,1581,null,"Avsetning tap på kundefordringer",null,50,1,""]
[50,1585,null,"Avsetning tap på andre fordringer",null,50,1,""]
[50,17,null,"Forskuddsbetalt kostnad, påløpt inntekt og lignende",null,50,1,1]
[50,1740,null,"Forskuddsbetalt kostnad",null,50,1,""]
[50,1744,null,"Forskuddsbetalt leasingleie (kostnadsfordeles))",null,50,1,""]
[50,20,null,"Egenkapital",null,50,2,1]
[50,2090,null,"Diverse skattemessige disposisjoner",null,50,2,""]
[50,2094,null,"Gevinst- og tapskonto ved realisasjon av tomt (kapitalinntekt)",null,50,2,""]
[50,2095,null,"Negativ saldo",null,50,2,""]
[50,2096,null,"Positiv gevinst- og tapskonto",null,50,2,""]
[50,2097,null,"Betinget avsatt gevinst (Skatteloven § 14-70)",null,50,2,""]
[50,2099,null,"Fondsavsetning pelsdyr (motkonto til 1391, 1392 og 1393)",null,50,2,""]
[50,24,null,"Leverandørgjeld",null,50,2,1]
[50,2400,null,2408,null,50,2,""]
[50,27,null,"Merverdiavgift",null,50,2,1]
[50,2700,null,"Merverdiavgift, utgående",null,50,2,""]
[50,2710,null,"Merverdiavgift, inngående",null,50,2,""]
[50,29,null,"Kortsiktig gjeld, diverse",null,50,2,1]
[50,2900,null,"Forskudd fra kunder",null,50,2,""]
[50,30,null,"Salgsinntekt, avgiftspliktig",null,50,3,1]
[50,3000,null,"Salgsinntekt, skinn (avgiftspliktig)",null,50,3,""]
[50,3001,null,"Skinn, markedsført siste år",null,50,3,""]
[50,3002,null,"Skinn, markedsført tidligere år",null,50,3,""]
[50,3010,null,"Skinn, etterbetaling (avgiftspliktig)",null,50,3,""]
[50,3040,null,"Salgsinntekt skrotter, pelsdyr, (avgiftspliktig)",null,50,3,""]
[50,3050,null,"Salgsinntekt livdyr, pelsdyr (avgiftspliktig)",null,50,3,""]
[50,3060,null,"Uttak av innkjøpte varer og tjenester (avgiftspliktig)",null,50,3,""]
[50,3061,null,"Uttak av drivstoff og innkjøpt brensel",null,50,3]
[50,3062,null,"Uttak av innkjøpte varer og tjenester",null,50,3,""]
[50,3080,null,"Rabatt og annen salgsinntektsred. (avgiftspliktig salg)",null,50,3,""]
[50,3081,null,"Rabatt og annen salgsinntektsreduksjon (avgiftspliktig salg)",null,50,3,""]
[50,3090,null,"Salgsinntekt, annen",null,50,3,""]
[50,3091,null,"Kjøreinntekt",null,50,3,""]
[50,3092,null,"Salg av ikke aktiverte driftsmidler",null,50,3,""]
[50,3099,null,"Arbeidsinntekt, avgiftspliktig",null,50,3,""]
[50,31,null,"Salgsinntekt, avgiftsfri (innenfor avgiftsområdet)",null,50,3,1]
[50,3100,null,"Salgsinntekt, varer og tjenester (avgiftsfritt)",null,50,3,""]
[50,3101,null,"Kjøreinntekt (avgiftsfri)",null,50,3,""]
[50,3160,null,"Uttak av varer til privat bruk (avgiftsfritt)",null,50,3,""]
[50,3161,null,"Uttak av skinn til privat bruk (avgiftsfritt)",null,50,3,""]
[50,3169,null,"Uttak av andre produkter til privat bruk",null,50,3,""]
[50,3180,null,"Rabatt og annen salgsinntektsreduksjon (avgiftsfritt salg)",null,50,3,""]
[50,3181,null,"Bonus fra innkjøpslag m.m.. (avgiftsfritt salg)",null,50,3,""]
[50,3183,null,"Returemballasje, tilbakebetaling av pant",null,50,3,""]
[50,32,null,"Salgsinntekt utenfor avgiftsområdet",null,50,3,1]
[50,3200,null,"Salgsinntekt, utenfor avgiftsområdet",null,50,3,""]
[50,3210,null,"Utbetalt av bonusfond fra Oslo skinnauksjoner",null,50,3,""]
[50,3220,null,"Utbetalt fra Pelsdyrnæringens markedsutjevningsfond",null,50,3,""]
[50,3260,null,"Uttak av varer utenfor avgiftsområdet",null,50,3,""]
[50,3280,null,"Rabatt og annen salgsinntektsreduksjon utenfor avgiftsområdet",null,50,3,""]
[50,3282,null,"Returemballasje, retur av flergangspaller",null,50,3,""]
[50,34,null,"Offentlig tilskudd/ refusjon",null,50,3,1]
[50,3400,null,"Tilskudd vedrørende tilvirkete/solgte varer",null,50,3,""]
[50,3440,null,"Tilskudd til avløser",null,50,3,""]
[50,3441,null,"Tilskudd til avløser, ferie og fritid",null,50,3,""]
[50,3442,null,"Tilskudd til avløser, sykdom",null,50,3,""]
[50,3450,null,"Tilskudd vedrørende pelsdyrproduksjonen",null,50,3,""]
[50,3460,null,"Tilskudd vedrørende miljø",null,50,3,""]
[50,3470,null,"Tilskudd vedrørende utbedring og vedlikehold",null,50,3,""]
[50,3490,null,"Tilskudd, annet",null,50,3,""]
[50,36,null,"Leieinntekt",null,50,3,1]
[50,3600,null,"Leieinntekt fast eiendom",null,50,3,""]
[50,3602,null,"Leieinntekt bolighus",null,50,3,""]
[50,3603,null,"Leieinntekt driftsbygninger",null,50,3,""]
[50,3605,null,"Forpaktningsavgift (utenfor avgiftsområdet)",null,50,3,""]
[50,3606,null,"Leieinntekt jord, beite (avgiftspliktig)",null,50,3,""]
[50,3610,null,"Leieinntekt maskiner m.m. (avgiftspliktig)",null,50,3,""]
[50,3620,null,"Leieinntekt pelsdyr",null,50,3,""]
[50,3640,null,"Leieinntekt maskiner m.m. (avgiftsfri)",null,50,3,""]
[50,3650,null,"Bortleie av rettigheter, avgiftsfrie",null,50,3,""]
[50,3660,null,"Festeinntekter",null,50,3,""]
[50,37,null,"Provisjonsinntekter",null,50,3,1]
[50,3700,null,"Provisjonsinntekter",null,50,3,""]
[50,38,null,"Gevinst ved avgang anleggsmidler, negativ saldo",null,50,3,1]
[50,3800,null,"Vederlag ved avgang driftsmidleri saldogruppe a, c og d direkte til inntekt",null,50,3,""]
[50,3890,null,"Negativ saldo",null,50,3,""]
[50,3895,null,"Negativ saldo, inntektsføring fra",null,50,3,""]
[50,3896,null,"Inntektsføring av negativ saldo ved opphør av næring",null,50,3,""]
[50,39,null,"Annen driftsrelatert inntekt",null,50,3,1]
[50,3900,null,"Driftsrelaterte inntekter, andre",null,50,3,""]
[50,3902,null,"Erstatning for tap av dyr",null,50,3,""]
[50,3903,null,"Erstatning for andre tapte inntekter",null,50,3,""]
[50,3905,null,"Renter av kundefordringer",null,50,3,""]
[50,3909,null,"Øreavrunding ved fakturering",null,50,3,""]
[50,3980,null,"Reguleringsinntekter o.l.",null,50,3,""]
[50,3990,null,"Særlige poster",null,50,3,""]
[50,3992,null,"Gevinst ved salg av eiendeler i (saldogruppe H)",null,50,3,""]
[50,3993,null,"Gevinst ved salg ikke-avskrivbare driftsmidler",null,50,3,""]
[50,3995,null,"Ikke reinvestert gevinst ved ufrivillig realisasjon",null,50,3,""]
[50,40,null,"Forbruk av innkjøpte råvarer",null,50,4,1]
[50,4020,null,"Kjøp av ferdig fôr til pelsdyr",null,50,4,""]
[50,4040,null,"Kjøp av andre fôrmidler til pelsdyr",null,50,4,""]
[50,4060,null,"Frakt, toll og spedisjon",null,50,4,""]
[50,4070,null,"Innkjøpsprisreduksjon (rabatter o.l.)",null,50,4,""]
[50,4090,null,"Beholdningsendring av innkjøpte råvarer",null,50,4,""]
[50,4092,null,"Beholdningsendring av ferdig fôr til pelsdyr",null,50,4,""]
[50,4094,null,"Beholdningsendring av andre fôrmidler til pelsdyr",null,50,4,""]
[50,41,null,"Forbruk av varer under tilvirkning",null,50,4,1]
[50,4110,null,"Kjøp av varer for tilvirkning",null,50,4,""]
[50,4160,null,"Frakt, toll og spedisjon",null,50,4,""]
[50,4170,null,"Innkjøpsprisreduksjon (rabatter o.l.)",null,50,4,""]
[50,4190,null,"Beholdningsendring av varer under tilvirkning",null,50,4,""]
[50,42,null,"Forbruk av ferdig tilvirkete varer",null,50,4,1]
[50,4200,null,"Forbruk av egentilvirkete produkter",null,50,4,""]
[50,4290,null,"Beholdnings endring av skinn",null,50,4,""]
[50,4291,null,"Beholdningsendring av skinn som er markedsført siste år",null,50,4,""]
[50,4292,null,"Beholdningsendring skinn som er markedsført tidligere år",null,50,4,""]
[50,4293,null,"Beholdningsendring skinn som ligger på lager hjemme",null,50,4,""]
[50,43,null,"Forbruk av innkjøpte varer for videresalg",null,50,4,1]
[50,4300,null,"Kjøp av varer for videresalg",null,50,4,""]
[50,4360,null,"Frakt, toll og spedisjon",null,50,4,""]
[50,4370,null,"Innkjøpsprisreduksjon",null,50,4,""]
[50,4390,null,"Beholdningsendring av innkjøpte varer for videresalg",null,50,4,""]
[50,44,null,"Forbruk av hjelpemateriell",null,50,4,1]
[50,4420,null,"Kjøp av medisin til dyr",null,50,4,""]
[50,4430,null,"Kjøp av forbruksmateriell i pelsdyrproduksjonen",null,50,4,""]
[50,4440,null,"Kjøp av emballasjemateriell",null,50,4,""]
[50,4460,null,"Frakt, toll og spedisjon",null,50,4,""]
[50,4470,null,"Innkjøpsprisreduksjon (rabatter o.l.)",null,50,4,""]
[50,4490,null,"Beholdningsendring av hjelpemateriell",null,50,4,""]
[50,4493,null,"Beholdningsendring av forbruksmateriell i pelsdyrproduksjonen",null,50,4,""]
[50,4494,null,"Beholdningsendring av emballasjemateriell",null,50,4,""]
[50,45,null,"Fremmedytelser i produksjonen",null,50,4,1]
[50,4500,null,"Fremmedytelse og underentreprise",null,50,4,""]
[50,4510,null,"Tjenester i fôrproduksjonen",null,50,4,""]
[50,4520,null,"Veterinærtjenester",null,50,4,""]
[50,4521,null,"Veterinærtjenester",null,50,4,""]
[50,4522,null,"Inseminasjon, sædavgift, springpenger",null,50,4,""]
[50,4530,null,"Tjenester i pelsdyrproduksjonen",null,50,4,""]
[50,4531,null,"Pelsdyrkontroll",null,50,4,""]
[50,4532,null,"Frakt av pelsdyr",null,50,4,""]
[50,4533,null,"Pelsingsutgifter (ved pelsingssentral o.l.)",null,50,4,""]
[50,4539,null,"Tjenester i pelsdyrproduksjonen, diverse",null,50,4,""]
[50,4550,null,"Maskinleie med fører",null,50,4,""]
[50,4560,null,"Tjenester, diverse",null,50,4,""]
[50,4570,null,"Avløserring",null,50,4,""]
[50,4580,null,"Landbruksvikar",null,50,4,""]
[50,46,null,"Kjøp av husdyr",null,50,4,1]
[50,4600,null,"Kjøp av pelsdyr",null,50,4,""]
[50,4690,null,"Kostnadsfordeling pelsdyr",null,50,4,""]
[50,50,null,"Lønn til ansatte",null,50,5,1]
[50,5000,null,"Lønn til ansatte",null,50,5,""]
[50,5010,null,"Feriepenger",null,50,5,""]
[50,5020,null,"Sykepenger",null,50,5,""]
[50,5090,null,"Periodiseringskonto lønn",null,50,5,""]
[50,5091,null,"Påløpt, ikke utbetalt lønn",null,50,5,""]
[50,5092,null,"Påløpte feriepenger av ikke utbetalt lønn",null,50,5,""]
[50,5099,null,"Lønnsposteringer, andre",null,50,5,""]
[50,52,null,"Fordel i arbeidsforhold",null,50,5,1]
[50,5200,null,"Fri bil",null,50,5,""]
[50,5210,null,"Fri telefon",null,50,5,""]
[50,5220,null,"Fri avis",null,50,5,""]
[50,5230,null,"Fri kost og losji",null,50,5,""]
[50,5240,null,"Rentefordel",null,50,5,""]
[50,5250,null,"Fri forsikring",null,50,5,""]
[50,5260,null,"Fri strøm",null,50,5,""]
[50,5270,null,"Fri brensel",null,50,5,""]
[50,5280,null,"Fordel i arbeidsforhold, annen",null,50,5,""]
[50,5290,null,"Motkonto for kontogruppe 52",null,50,5,""]
[50,53,null,"Oppgavepliktig godtgjørelse, annen",null,50,5,1]
[50,5390,null,"Oppgavepliktig godtgjørelse, annen",null,50,5,""]
[50,54,null,"Arbeidsgiveravgift og pensjonskostnad",null,50,5,1]
[50,5400,null,"Arbeidsgiveravgift",null,50,5,""]
[50,5410,null,"Arbeidsgiveravgift av påløpte feriepenger",null,50,5,""]
[50,5420,null,"Innberetningspliktig pensjonskostnad",null,50,5,""]
[50,55,null,"Kostnadsgodtgjørelse, annen",null,50,5,1]
[50,5500,null,"Kostnadsgodtgjørelse, annen",null,50,5,""]
[50,5510,null,"Trekkpliktig godtgjørelse til kost og losji",null,50,5,""]
[50,56,null,"Arbeidsgodtgjørelse til eiere o.l",null,50,5,1]
[50,5600,null,"Arbeidsgodtgjørelse til eiere i ANS/DA",null,50,5,""]
[50,57,null,"Offentlig tilskudd vedrørende arbeidskraft",null,50,5,1]
[50,5700,null,"Lærling-/praktikanttilskudd",null,50,5,""]
[50,5720,null,"Lønnstilskudd, annet",null,50,5,""]
[50,58,null,"Offentlig refusjon vedrørende arbeidskraft",null,50,5,1]
[50,5800,null,"Refusjon av sykepenger",null,50,5,""]
[50,5820,null,"Refusjon av arbeidsgiveravgift",null,50,5,""]
[50,5830,null,"Refusjon av arbeidsmarkedstiltak",null,50,5,""]
[50,5890,null,"Refusjon, annen",null,50,5,""]
[50,59,null,"Personalkostnad, annen",null,50,5,1]
[50,5900,null,"Gaver til ansatte, fradragsberettiget",null,50,5,""]
[50,5920,null,"Yrkesskadeforsikring, ansatte",null,50,5,""]
[50,5930,null,"Forsikring, annen ikke arbeidsgiveravgiftspliktig",null,50,5,""]
[50,5940,null,"Pensjonsordninger",null,50,5,""]
[50,5945,null,"Pensjonsforsikring for ansatte",null,50,5,""]
[50,5950,null,"Egen pensjonsordning",null,50,5,""]
[50,5990,null,"Personalkostnad, annen",null,50,5,""]
[50,60,null,"Av- og nedskrivning kostnadsfordeling",null,50,6,1]
[50,6000,null,"Avskrivning på bygninger og annen fast eiendom(inkludert saldogruppe J)",null,50,6,""]
[50,6010,null,"Avskriv. på transportmidler, maskiner og inventar",null,50,6,""]
[50,6011,null,"Avskrivning på transportmidler",null,50,6,""]
[50,6015,null,"Avskrivning på maskiner",null,50,6,""]
[50,6017,null,"Avskrivning på inventar",null,50,6,""]
[50,6090,null,"Kostnadsfordeling og nedskrivning",null,50,6,""]
[50,6099,null,"Annen kostnadsfordeling",null,50,6,""]
[50,61,null,"Frakt, transportkostnad vedrørende salg",null,50,6,1]
[50,6100,null,"Frakt- og transportkostnader og forsikring ved vareforsendelse",null,50,6,""]
[50,6110,null,"Toll- og spedisjonskostnader ved vareforsendelse",null,50,6,""]
[50,6190,null,"Frakt- og transportkostnader ved annet salg",null,50,6,""]
[50,62,null,"Energi, brensel og vann vedrørende produksjonen",null,50,6,1]
[50,6200,null,"Elektrisitet vedrørende produksjon",null,50,6,""]
[50,6210,null,"Gass vedrørende produksjon",null,50,6,""]
[50,6220,null,"Fyringsolje vedrørende produksjon",null,50,6,""]
[50,6240,null,"Ved vedrørende produksjon",null,50,6,""]
[50,6250,null,"Drivstoff vedr. produksjon",null,50,6,""]
[50,6259,null,"Beholdningsendring av drivstoff vedrørende produksjon",null,50,6,""]
[50,6260,null,"Vann vedrørende produksjon",null,50,6,""]
[50,6290,null,"Brensel, annet vedrørende produksjon",null,50,6,""]
[50,63,null,"Kostnad lokaler",null,50,6,1]
[50,6300,null,"Leie av lokaler/bygninger",null,50,6,""]
[50,6320,null,"Renovasjon, vann, avløp o.l., lokaler",null,50,6,""]
[50,6340,null,"Lys, varme, lokaler",null,50,6,""]
[50,6360,null,"Renhold, lokaler",null,50,6,""]
[50,6390,null,"Kostnad lokaler, annen",null,50,6,""]
[50,64,null,"Leie/leasing av driftsmidler, forpaktningsavgift mv",null,50,6,1]
[50,6400,null,"Leie av maskiner uten fører",null,50,6,""]
[50,6410,null,"Leie av inventar",null,50,6,""]
[50,6420,null,"Leie av datasystemer",null,50,6,""]
[50,6430,null,"Leie av kontormaskiner",null,50,6,""]
[50,6440,null,"Leie av bil",null,50,6,""]
[50,6441,null,"Leie av bil (avgiftspliktig)",null,50,6,""]
[50,6442,null,"Leie av bil (avgiftsfritt)",null,50,6,""]
[50,6450,null,"Brukt traktor m.m. fra annen egen næring",null,50,6,""]
[50,6451,null,"Brukt traktor fra annen egen næring",null,50,6,""]
[50,6452,null,"Brukt hest fra annen egen næring",null,50,6,""]
[50,6453,null,"Brukt yrkesbil fra annen egen næring",null,50,6,""]
[50,6460,null,"Leie av veirett (årsavgift, bompenger etc.)",null,50,6,""]
[50,6480,null,"Leie av pelsdyr",null,50,6,""]
[50,6490,null,"Festeavgift og andre leiekostnader",null,50,6,""]
[50,65,null,"Verktøy, inventar under aktiveringsgrensen",null,50,6,1]
[50,6500,null,"Motordrevet verktøy",null,50,6,""]
[50,6510,null,"Håndverktøy",null,50,6,""]
[50,6520,null,"Redskap under aktiveringsgrensen",null,50,6,""]
[50,6540,null,"Inventar",null,50,6,""]
[50,6541,null,"Inventar, driftsbygninger",null,50,6,""]
[50,6545,null,"Inventar, kontor",null,50,6,""]
[50,6550,null,"Driftsmateriell, annet",null,50,6,""]
[50,6551,null,"Datautstyr",null,50,6,""]
[50,6560,null,"Rekvisita",null,50,6,""]
[50,6561,null,"Rekvisita, driftsbygninger m.m.",null,50,6,""]
[50,6563,null,"Rekvisita, pelsdyrproduksjon",null,50,6,""]
[50,6569,null,"Rekvisita, annet",null,50,6,""]
[50,6570,null,"Arbeidsklær og verneutstyr",null,50,6,""]
[50,6571,null,"Arbeidsklær",null,50,6,""]
[50,6572,null,"Verneutstyr",null,50,6,""]
[50,66,null,"Vedlikehold og reparasjoner",null,50,6,1]
[50,6600,null,"Vedlikehold av driftsbygninger og anlegg",null,50,6,""]
[50,6601,null,"Vedlikehold av driftsbygninger",null,50,6,""]
[50,6602,null,"Vedlikehold av driftsbygninger, brukt allmenningsvirke",null,50,6,""]
[50,6604,null,"Vedlikehold av gjerder",null,50,6,""]
[50,6609,null,"Beholdningsendring bygningsmateriell til driftsbygning og anlegg",null,50,6,""]
[50,6620,null,"Vedlikehold av utstyr",null,50,6,""]
[50,6621,null,"Vedlikehold av traktor",null,50,6,""]
[50,6629,null,"Vedlikehold av andre maskiner o.l.",null,50,6,""]
[50,6640,null,"Vedlikehold av teknisk utstyr i driftsbygninger",null,50,6,""]
[50,6650,null,"Vedlikehold av pelsdyreiendom",null,50,6,""]
[50,6660,null,"Vedlikehold av bolighus",null,50,6,""]
[50,6669,null,"Beholdningsendring bygningsmateriell til boliger",null,50,6,""]
[50,6670,null,"Uttatt virke fra egen skog til vedlikehold",null,50,6,""]
[50,6671,null,"Uttatt virke fra egen skog til vedlikehold av driftsbygning",null,50,6,""]
[50,6672,null,"Uttatt virke fra egen skog til vedlikehold av bolighus",null,50,6,""]
[50,6679,null,"Uttatt virke fra egen skog til annet vedlikehold",null,50,6,""]
[50,6690,null,"Vedlikehold, annet",null,50,6,""]
[50,67,null,"Fremmede tjenester",null,50,6,1]
[50,6700,null,"Revisjons- og regnskapshonorar",null,50,6,""]
[50,6701,null,"Revisjonshonorar",null,50,6,""]
[50,6705,null,"Regnskapshonorar",null,50,6,""]
[50,6720,null,"Honorar for økonomisk og juridisk bistand",null,50,6,""]
[50,6721,null,"Honorar for økonomisk rådgivning",null,50,6,""]
[50,6722,null,"Honorar for juridisk bistand",null,50,6,""]
[50,6790,null,"Fremmede tjenester, andre",null,50,6,""]
[50,68,null,"Kontorkostnad, trykksak o l",null,50,6,1]
[50,6800,null,"Kontorrekvisita",null,50,6,""]
[50,6810,null,"Edb-kostnad",null,50,6,""]
[50,6820,null,"Trykksaker",null,50,6,""]
[50,6840,null,"Aviser, tidsskrifter, bøker o.l.",null,50,6,""]
[50,6841,null,"Faglitteratur, håndbøker",null,50,6,""]
[50,6842,null,"Fagtidsskrifter",null,50,6,""]
[50,6843,null,"Aviser",null,50,6,""]
[50,6860,null,"Møter, kurs, oppdatering o.l.",null,50,6,""]
[50,6890,null,"Kontorkostnad, annen",null,50,6,""]
[50,69,null,"Telefon, porto o l",null,50,6,1]
[50,6900,null,"Telefon m.m.",null,50,6,""]
[50,6940,null,"Porto",null,50,6,""]
[50,6999,null,"Privat bruk av elektronisk kommunikasjon",null,50,6,""]
[50,70,null,"Kostnad transportmidler",null,50,7,1]
[50,7000,null,"Drivstoff til bil",null,50,7,""]
[50,7001,null,"Drivstoff, personbil",null,50,7,""]
[50,7003,null,"Drivstoff, varebil",null,50,7,""]
[50,7005,null,"Drivstoff, lastebil",null,50,7,""]
[50,7009,null,"Beholdningsendring drivstoff til bil",null,50,7,""]
[50,7020,null,"Vedlikehold, olje og rekvisita, bil",null,50,7,""]
[50,7021,null,"Vedlikehold, olje og rekvisita, personbil",null,50,7,""]
[50,7023,null,"Vedlikehold, olje og rekvisita, varebil",null,50,7,""]
[50,7025,null,"Vedlikehold, olje og rekvisita, lastebil",null,50,7,""]
[50,7040,null,"Forsikring og årsavgift, bil",null,50,7,""]
[50,7041,null,"Forsikring og årsavgift, personbil",null,50,7,""]
[50,7043,null,"Forsikring og årsavgift. varebil",null,50,7,""]
[50,7045,null,"Forsikring og årsavgift, lastebil",null,50,7,""]
[50,7080,null,"Bruk av privat bil i næring",null,50,7,""]
[50,7090,null,"Transportmidler, annen kostnad",null,50,7,""]
[50,7099,null,"Privat bruk av næringsbil (inntektsføres)",null,50,7,""]
[50,71,null,"Kostnad/ godtgj. reise, diett, bil o.l.",null,50,7,1]
[50,7100,null,"Bilgodtgjørelse, oppgavepliktig",null,50,7,""]
[50,7130,null,"Reisekostnad, oppgavepliktig",null,50,7,""]
[50,7140,null,"Reisekostnad, ikke oppgavepliktig",null,50,7,""]
[50,7150,null,"Diettkostnad, oppgavepliktig",null,50,7,""]
[50,7160,null,"Diettkostnad, ikke oppgavepliktig",null,50,7,""]
[50,7190,null,"Kostnadsgodtgjørelse, annen",null,50,7,""]
[50,72,null,"Provisjonskostnad",null,50,7,1]
[50,7200,null,"Provisjonskostnad, oppgavepliktig",null,50,7,""]
[50,7210,null,"Provisjonskostnad, ikke oppgavepliktig",null,50,7,""]
[50,73,null,"Salgs-, reklame- og representasjonskostnad",null,50,7,1]
[50,7300,null,"Salgskostnad",null,50,7,""]
[50,7320,null,"Reklamekostnad",null,50,7,""]
[50,7350,null,"Representasjon, fradragsberettiget",null,50,7,""]
[50,7390,null,"Salgskostnad, annen",null,50,7,""]
[50,74,null,"Kontingent og gave",null,50,7,1]
[50,7400,null,"Kontingent, fradragsberettige",null,50,7,""]
[50,7401,null,"Kontingent, fradragsberettiget, mva-pliktig",null,50,7,""]
[50,7402,null,"Kontingent, fradragsberettiget, mva-fri",null,50,7,""]
[50,7420,null,"Gave, fradragsberettiget",null,50,7,""]
[50,75,null,"Forsikringspremie",null,50,7,1]
[50,7500,null,"Forsikringspremie drifta",null,50,7,""]
[50,7501,null,"Forsikringspremie bygninger og driftsløsøre",null,50,7,""]
[50,7502,null,"Forsikringspremie pelsdyr",null,50,7,""]
[50,7503,null,"Forsikringspremie og årsavgift maskiner",null,50,7,""]
[50,7509,null,"Forsikring av annet til drifta",null,50,7,""]
[50,77,null,"Kostnad, annen",null,50,7,1]
[50,7740,null,"Øredifferanser",null,50,7,""]
[50,7750,null,"Eiendomsskatt",null,50,7,""]
[50,7760,null,"Innbetaling til Pelsdyrnæringens Markedsutjevningsfond",null,50,7,""]
[50,7770,null,"Bank- og kortgebyr",null,50,7,""]
[50,7790,null,"Kostnad, annen",null,50,7,""]
[50,7791,null,"Kostnad, annen, fradragsberettiget (avgiftspliktig)",null,50,7,""]
[50,7792,null,"Kostnad, annen, fradragsberettiget (avgiftsfri)",null,50,7,""]
[50,7795,null,"Gevinst ved realisasjon av hel besetning ved opphør av næring",null,50,7,""]
[50,78,null,"Tap o.l.",null,50,7,1]
[50,7800,null,"Tap ved avgang driftsmidler",null,50,7,""]
[50,7820,null,"Innkommet på tidligere nedskrevne fordringer",null,50,7,""]
[50,7830,null,"Konstaterte tap på fordringer",null,50,7,""]
[50,7831,null,"Endring i avsetning tap på fordringer",null,50,7,""]
[50,80,null,"Finansinntekt",null,50,8,1]
[50,8060,null,"Valutagevinst (agio)",null,50,8,""]
[50,8070,null,"Finansinntekt, annen",null,50,8,""]
[50,8077,null,"Gevinst ved realisasjon av aksjer og andeler",null,50,8,""]
[50,8078,null,"Rentestøtte fra Innovasjon Norge",null,50,8,""]
[50,8079,null,"Finansinntekt, annen",null,50,8,""]
[50,81,null,"Finanskostnad",null,50,8,1]
[50,8160,null,"Valutatap (disagio)",null,50,8,""]
[50,8170,null,"Finanskostnad, annen",null,50,8,""]
[50,8177,null,"Tap ved realisasjon av aksjer og andeler",null,50,8,""]
[50,8179,null,"Finanskostnad, annen",null,50,8,""]
[50,82,null,"Overfør fra gevinst og tapskonto",null,50,8,1]
[50,8280,null,"Overføringer fra gevinst- og tapskonto",null,50,8,""]
[50,8285,null,"Inntektsføring fra positiv gevinst- og tapskonto",null,50,8,""]
[50,8286,null,"Fradragsføring fra negativ gevinst- og tapskonto",null,50,8,""]
[50,8480,null,"Inntekt biomasse (ved) overført fra skogbruket",null,50,8,""]
[50,88,null,"Årsresultat",null,50,8,1]
[50,8800,null,"Årsresultat, pelsdyr",null,50,8,""]
[60,"Overordnet",null,"Annen næring",null,60,0,1]
[60,10,null,"Immaterielle eiendeler",null,60,1,1]
[60,1000,null,"Forsikring og utvikling",null,60,1,""]
[60,1020,null,"Konsesjoner",null,60,1,""]
[60,1030,null,"Patenter",null,60,1,""]
[60,1040,null,"Lisenser",null,60,1,""]
[60,1050,null,"Varemerker",null,60,1,""]
[60,1060,null,"Andre rettigheter",null,60,1,""]
[60,1080,null,"Forretningsverdi (goodwill) (saldogruppe B)",null,60,1,""]
[60,11,null," tomter, bygninger og annen fast eiendom",null,60,1,1]
[60,1100,null,"Bygninger (saldogruppe H)",null,60,1,""]
[60,1110,null,"Forretningsbygg (saldogruppe I)",null,60,1,""]
[60,1120,null,"Bygningsmessige anlegg, (saldogruppe H)",null,60,1,""]
[60,1125,null,"Bygninger med avskrivningstid < 20 år, (saldogruppe H)",null,60,1,""]
[60,1130,null,"Anlegg under oppføring",null,60,1,""]
[60,1140,null,"Jord- og skogbrukseiendommer",null,60,1,""]
[60,1141,null,"Jordbrukseiendom",null,60,1,""]
[60,1145,null,"Skogbrukseiendom",null,60,1,""]
[60,1150,null,"Tomter og andre grunnarealer",null,60,1,""]
[60,1151,null,"Tomter",null,60,1,""]
[60,1155,null,"Andre grunnarealer",null,60,1,""]
[60,1160,null,"Bolighus, ikke avskrivbare",null,60,1,""]
[60,1170,null,"Bolighus - nybygging og ombygging",null,60,1,""]
[60,1180,null,"Faste tekniske installasjoner i bygg (saldogruppe J)",null,60,1,""]
[60,1190,null,"Anleggsmidler som avskrives utenom saldosystemet",null,60,1,""]
[60,12,null,"Transportmidler, inventar og maskiner",null,60,1,1]
[60,1200,null,"Maskiner og redskap (saldogruppe D)",null,60,1,""]
[60,1201,null,"Traktorer",null,60,1,""]
[60,1203,null,"Gravemaskiner",null,60,1,""]
[60,1210,null,"Maskiner og anlegg under arbeid",null,60,1,""]
[60,1220,null,"Skip, rigger, fly (saldogruppe E og F)",null,60,1,""]
[60,1221,null,"Fiskefartøy, skip (saldogruppe E)",null,60,1,""]
[60,1225,null,"Fly, helikopter (saldogruppe F)",null,60,1,""]
[60,1230,null,"Vare- og lastebiler (saldogruppe C)",null,60,1,""]
[60,1235,null,"Varebiler, nye",null,60,1,""]
[60,1236,null,"Varebiler, brukte",null,60,1,""]
[60,1237,null,"Lastebiler, nye",null,60,1,""]
[60,1238,null,"Lastebiler, brukte",null,60,1,""]
[60,1239,null,"Busser",null,60,1,""]
[60,1240,null,"Transportmidler, andre (saldogruppe D)",null,60,1,""]
[60,1241,null,"Personbiler",null,60,1,""]
[60,1249,null,"Transportmidler, andre",null,60,1,""]
[60,1250,null,"Inventar (kontor) (saldogruppe D)",null,60,1,""]
[60,1260,null,"Tekniske installasjoner og fast bygningsinventar i bygninger",null,60,1,""]
[60,1261,null,"Fast bygningsinventar, eget bygg med annen avskrivningstid enn bygninger (saldogruppe D)",null,60,1,""]
[60,1265,null,"Fast bygningsinventar, leide lokaler med annen avskrivningstid enn bygninger (saldogruppe D)",null,60,1,""]
[60,1270,null,"Verktøy o.l. (saldogruppe D)",null,60,1,""]
[60,1280,null,"Kontormaskiner (saldogruppe A)",null,60,1,""]
[60,1290,null,"Driftsmidler utenom saldosystemet",null,60,1,""]
[60,1291,null,"Verktøy som kostnadsfordeles",null,60,1,""]
[60,1292,null,"Flergangsemballasje",null,60,1,""]
[60,1299,null,"Negativ gevinst- og tapskonto",null,60,1,""]
[60,13,null,"Finansielle anleggsmidler",null,60,1,1]
[60,1390,null,"Andre fordringer",null,60,1,""]
[60,1397,null,"Forskuddsbetalt leasingleie (kostnadsfordeles)",null,60,1,""]
[60,14,null,"Lagerbeholdning",null,60,1,1]
[60,1400,null,"Lagerbeholdning av innkjøpte råvarer",null,60,1,""]
[60,1410,null,"Lagerbeholdning av innkjøpt hjelpemateriell",null,60,1,""]
[60,1420,null,"Lagerholdning av varer under tilvirkning",null,60,1,""]
[60,1440,null,"Lagerbeholdning av ferdige egentilvirkete varer for salg",null,60,1,""]
[60,1460,null,"Lagerbeholdning av innkjøpte varer for videresalg",null,60,1,""]
[60,1470,null,"Lagerbeholdning av innkjøpt drivstoff og brensel vedrørende produksjonen",null,60,1,""]
[60,1475,null,"Lagerbeholdning av drivstoff til biler",null,60,1,""]
[60,1490,null," Lagerbeholdning av egentilvirkete varer til eget bruk",null,60,1,""]
[60,15,null,"Kortsiktige fordringer",null,60,1,1]
[60,1500,null,"Kundefordringer",null,60,1,""]
[60,1580,null,"Avsetning tap på fordringer",null,60,1,""]
[60,1581,null,"Avsetning tap på kundefordringer",null,60,1,""]
[60,1585,null,"Avsetning tap på andre fordringer",null,60,1,""]
[60,17,null,"Forskuddsbetalt kostnad, påløpt inntekt og lignende",null,60,1,1]
[60,1740,null,"Forskuddsbetalt kostnad",null,60,1,""]
[60,1744,null,"Forskuddsbetalt leasingleie (kostnadsfordeles))",null,60,1,""]
[60,20,null,"Egenkapital",null,60,2,1]
[60,2090,null,"Diverse skattemessige disposisjoner",null,60,2,""]
[60,2994,null,"Gevinst- og tapskonto ved realisasjon av tomt (kapitalinntekt)",null,60,2,""]
[60,2095,null,"Negativ saldo",null,60,2,""]
[60,2096,null,"Positiv gevinst- og tapskonto",null,60,2,""]
[60,2097,null,"Betinget avsatt gevinst (Skatteloven § 14-70)",null,60,2,""]
[60,24,null,"Leverandørgjeld",null,60,2,1]
[60,2400,null,"Leverandørgjeld",null,60,2,""]
[60,27,null,"Merverdiavgift",null,60,2,1]
[60,2700,null,"Merverdiavgift, utgående",null,60,2,""]
[60,2710,null,"Merverdiavgift, inngående",null,60,2,""]
[60,29,null,"Kortsiktig gjeld, diverse",null,60,2,1]
[60,2900,null,"Forskudd fra kunder",null,60,2,""]
[60,30,null,"Salgsinntekt, avgiftspliktig",null,60,3,1]
[60,3000,null,"Salgsinntekt, avgiftspliktig",null,60,3,""]
[60,3060,null,"Uttak av varer/tjenester",null,60,3,""]
[60,3080,null,"Rabatt og annen salgsinntektsreduksjon",null,60,3,""]
[60,3090,null,"Opptjent, ikke fakturert inntekt",null,60,3,""]
[60,31,null,"Salgsinntekt, avgiftsfri (innenfor avgiftsområdet)",null,60,3,1]
[60,3100,null,"Salgsinntekt, avgiftsfri",null,60,3,""]
[60,3160,null,"Uttak av varer avgiftsfritt",null,60,3,""]
[60,3180,null,"Rabatt og annen salgsinntektsreduksjon (avgiftsfritt salg)",null,60,3,""]
[60,32,null,"Salgsinntekt utenfor avgiftsområdet",null,60,3,1]
[60,3200,null,"Salgsinntekt, utenfor avgiftsområdet",null,60,3,""]
[60,3260,null,"Uttak av varer utenfor avgiftsområdet",null,60,3,""]
[60,3280,null,"Rabatt og annen salgsinntektsreduksjon utenfor avgiftsområdet",null,60,3,""]
[60,33,null,"Offentlig avgift vedrørende omsetning",null,60,3,1]
[60,3300,null,"Spesiell offentlig avgift for tilvirkete/solgte varer",null,60,3,""]
[60,34,null,"Offentlig tilskudd/ refusjon",null,60,3,1]
[60,3400,null,"Spesielle offentlige tilskudd vedrørende tilvirkete/solgte varer",null,60,3,""]
[60,3440,null,"Spesielle offentlige tilskudd vedrørende tjenester",null,60,3,""]
[60,35,null,"Uopptjent inntekt",null,60,3,1]
[60,3500,null,"Garanti",null,60,3,""]
[60,3510,null,"Service",null,60,3,""]
[60,36,null,"Leieinntekt",null,60,3,1]
[60,3600,null,"Leieinntekt fast eiendom",null,60,3,""]
[60,3602,null," Leieinntekt bolighus",null,60,3,""]
[60,3603,null," Leieinntekt driftsbygninger etc.",null,60,3,""]
[60,3604,null," Leieinntekt utleiehytter utenfor avgiftsområdet",null,60,3,""]
[60,3607,null," Leieinntekt utleiehytter innenfor avgiftsområdet",null,60,3,""]
[60,3610,null,"Leieinntekt maskiner m.m. (avgiftspliktig)",null,60,3,""]
[60,3640,null,"Leieinntekt maskiner m.m. (avgiftsfri)",null,60,3,""]
[60,3660,null,"Festeinntekter",null,60,3,""]
[60,37,null,"Provisjonsinntekter",null,60,3,1]
[60,3700,null,"Provisjonsinntekter",null,60,3,""]
[60,38,null,"Gevinst ved avgang anleggsmidler, negativ saldo",null,60,3,1]
[60,3800,null,"Vederlag ved avgang driftsmidleri saldogruppe a, c og d direkte til inntekt",null,60,3,""]
[60,3890,null,"Negativ saldo",null,60,3,""]
[60,3895,null," Negativ saldo, inntektsføring fra",null,60,3,""]
[60,3896,null,"Inntektsføring av negativ saldo ved opphør av næring",null,60,3,""]
[60,39,null,"Annen driftsrelatert inntekt",null,60,3,1]
[60,3900,null,"Driftsrelaterte inntekter, andre",null,60,3,""]
[60,3905,null,"Renter av kundefordringer",null,60,3,""]
[60,3909,null,"Øreavrunding ved fakturering",null,60,3,""]
[60,40,null,"Forbruk av råvarer og innkjøpte halvfabrikata",null,60,4,1]
[60,4000,null,"Kjøp av råvarer og halvfabrikata",null,60,4,""]
[60,4060,null," Frakt, toll og spedisjon",null,60,4,""]
[60,4070,null," Innkjøpsprisreduksjon (rabatter o.l.)",null,60,4,""]
[60,4090,null," Beholdningsendring av innkjøpte råvarer og halvfabrikata",null,60,4,""]
[60,41,null,"Forbruk av varer under tilvirkning",null,60,4,1]
[60,4100,null," Kjøp av varer under tilvirkning",null,60,4,""]
[60,4160,null," Frakt, toll og spedisjon",null,60,4,""]
[60,4170,null," Innkjøpsprisreduksjon (rabatter o.l.)",null,60,4,""]
[60,4190,null," Beholdningsendring av varer under tilvirkning",null,60,4,""]
[60,42,null,"Forbruk av ferdig tilvirkete varer",null,60,4,1]
[60,4200,null," Kjøp av ferdig tilvirkete varer",null,60,4,""]
[60,4260,null," Frakt, toll og spedisjon",null,60,4,""]
[60,4270,null," Innkjøpsprisreduksjon (rabatter o.l.)",null,60,4,""]
[60,4290,null," Beholdningsendring av ferdig tilvirkete varer",null,60,4,""]
[60,43,null,"Forbruk av innkjøpte varer for videresalg",null,60,4,1]
[60,4300,null,"Kjøp av varer for videresalg",null,60,4,""]
[60,4360,null,"Frakt, toll og spedisjon",null,60,4,""]
[60,4370,null,"Innkjøpsprisreduksjon",null,60,4,""]
[60,4390,null,"Beholdningsendring av innkjøpte varer for videresalg",null,60,4,""]
[60,44,null,"Kjøp av materialer til egentilvirkete anleggsmidler",null,60,4,1]
[60,4400,null,"Kjøp av materialer til egentilvirkete anleggsmidler",null,60,4,""]
[60,4460,null,"Frakt, toll og spedisjon",null,60,4,""]
[60,4470,null,"Innkjøpsprisreduksjon (rabatter o.l.)",null,60,4,""]
[60,4490,null,"Beholdningsendring av egentilvirkete anleggsmidler",null,60,4,""]
[60,45,null,"Fremmedytelser i produksjonen",null,60,4,1]
[60,4500,null,"Fremmedytelse og underentreprise",null,60,4,""]
[60,4590,null,"Beholdningsendring av fremmedytelser og underentrepriser",null,60,4,""]
[60,46,null,"Emballasjemateriell",null,60,4,1]
[60,4600,null,"Kjøp av emballasjemateriell",null,60,4,""]
[60,4690,null,"Beholdningsendring emballasjematerie",null,60,4,""]
[60,4990,null,"Beholdningsendring av egentilvirkede varer til eget bruk",null,60,4,""]
[60,50,null,"Lønn til ansatte",null,60,5,1]
[60,5000,null,"Lønn til ansatte",null,60,5,""]
[60,5010,null,"Feriepenger",null,60,5,""]
[60,5020,null,"Sykepenger",null,60,5,""]
[60,5090,null,"Periodiseringskonto lønn",null,60,5,""]
[60,5091,null,"Påløpt, ikke utbetalt lønn",null,60,5,""]
[60,5092,null,"Påløpte feriepenger av ikke utbetalt lønn",null,60,5,""]
[60,5099,null,"Lønnsposteringer, andre",null,60,5,""]
[60,52,null,"Fordel i arbeidsforhold",null,60,5,1]
[60,5200,null,"Fri bil",null,60,5,""]
[60,5210,null,"Fri telefon",null,60,5,""]
[60,5220,null,"Fri avis",null,60,5,""]
[60,5230,null,"Fri kost og losji",null,60,5,""]
[60,5240,null,"Rentefordel",null,60,5,""]
[60,5250,null,"Fri forsikring",null,60,5,""]
[60,5260,null,"Fri strøm",null,60,5,""]
[60,5270,null,"Fri brensel",null,60,5,""]
[60,5280,null,"Fordel i arbeidsforhold, annen",null,60,5,""]
[60,5290,null,"Motkonto for kontogruppe 52",null,60,5,""]
[60,53,null,"Oppgavepliktig godtgjørelse, annen",null,60,5,1]
[60,5300,null,"Tantieme",null,60,5,""]
[60,5330,null,"Godtgjøring til styre- og bedriftsforsamling",null,60,5,""]
[60,5331,null,"Godtgjørelse til styremedlemmer",null,60,5,""]
[60,5335,null,"Godtgjørelse til medlemmer av bedriftsforsamlinger",null,60,5,""]
[60,5390,null,"Oppgavepliktig godtgjørelse, annen",null,60,5,""]
[60,54,null,"Arbeidsgiveravgift og pensjonskostnad",null,60,5,1]
[60,5400,null,"Arbeidsgiveravgift",null,60,5,""]
[60,5410,null,"Arbeidsgiveravgift av påløpte feriepenger",null,60,5,""]
[60,5420,null,"Innberetningspliktig pensjonskostnad",null,60,5,""]
[60,55,null,"Kostnadsgodtgjørelse, annen",null,60,5,1]
[60,5500,null,"Kostnadsgodtgjørelse, annen",null,60,5,""]
[60,5510,null,"Trekkpliktig godtgjørelse til kost og losji",null,60,5,""]
[60,56,null,"Arbeidsgodtgjørelse til eiere o.l",null,60,5,1]
[60,5600,null,"Arbeidsgodtgjørelse til eiere i ANS/DA",null,60,5,""]
[60,57,null,"Offentlig tilskudd vedrørende arbeidskraft",null,60,5,1]
[60,5700,null,"Lærling-/praktikanttilskudd",null,60,5,""]
[60,5720,null,"Lønnstilskudd, annet",null,60,5,""]
[60,58,null,"Offentlig refusjon vedrørende arbeidskraft",null,60,5,1]
[60,5800,null,"Refusjon av sykepenger",null,60,5,""]
[60,5820,null,"Refusjon av arbeidsgiveravgift",null,60,5,""]
[60,5830,null,"Refusjon av arbeidsmarkedstiltak",null,60,5,""]
[60,5890,null,"Refusjon, annen",null,60,5,""]
[60,59,null,"Personalkostnad, annen",null,60,5,1]
[60,5900,null,"Gaver til ansatte, fradragsberettiget",null,60,5,""]
[60,5920,null,"Yrkesskadeforsikring, ansatte",null,60,5,""]
[60,5930,null,"Forsikring, annen ikke arbeidsgiveravgiftspliktig",null,60,5,""]
[60,5940,null,"Pensjonsordninger",null,60,5,""]
[60,5945,null,"Pensjonsforsikring for ansatte",null,60,5,""]
[60,5950,null,"Egen pensjonsordning",null,60,5,""]
[60,5990,null,"Personalkostnad, annen",null,60,5,""]
[60,60,null,"Av- og nedskrivning kostnadsfordeling",null,60,6,1]
[60,6000,null,"Avskrivning på bygninger og annen fast eiendom(inkludert saldogruppe J)",null,60,6,""]
[60,6010,null,"Avskriv. på transportmidler, maskiner og inventar",null,60,6,""]
[60,6011,null,"Avskrivning på transportmidler",null,60,6,""]
[60,6015,null,"Avskrivning på maskiner",null,60,6,""]
[60,6017,null,"Avskrivning på inventar",null,60,6,""]
[60,6020,null,"Avskrivning på immaterielle eiendeler",null,60,6,""]
[60,6050,null,"Nedskrivning på varige driftsmidler og immaterielle eiendeler",null,60,6,""]
[60,6090,null,"Lineære avskrivninger og kostnadsfordeling",null,60,6,""]
[60,61,null,"Frakt, transportkostnad vedrørende salg",null,60,6,1]
[60,6100,null,"Frakt- og transportkostnader og forsikring ved vareforsendelse",null,60,6,""]
[60,6110,null,"Toll- og spedisjonskostnader ved vareforsendelse",null,60,6,""]
[60,6190,null,"Frakt- og transportkostnader ved annet salg",null,60,6,""]
[60,62,null,"Energi, brensel og vann vedrørende produksjonen",null,60,6,1]
[60,6200,null,"Elektrisitet vedrørende produksjon",null,60,6,""]
[60,6210,null,"Gass vedrørende produksjon",null,60,6,""]
[60,6220,null,"Fyringsolje vedrørende produksjon",null,60,6,""]
[60,6230,null,"Kull, koks vedrørende produksjon",null,60,6,""]
[60,6240,null,"Ved vedrørende produksjon",null,60,6,""]
[60,6250,null,"Drivstoff vedr. produksjon",null,60,6,""]
[60,6259,null,"Beholdningsendring av drivstoff vedrørende produksjon",null,60,6,""]
[60,6260,null,"Vann vedrørende produksjon",null,60,6,""]
[60,6261,null,"Vannavgift vedrørende. produksjon",null,60,6,""]
[60,6290,null,"Brensel, annet vedrørende produksjon",null,60,6,""]
[60,63,null,"Kostnad lokaler",null,60,6,1]
[60,6300,null,"Leie av lokaler/bygninger",null,60,6,""]
[60,6320,null,"Renovasjon, vann, avløp o.l., lokaler",null,60,6,""]
[60,6330,null,"Renovasjon, vann, avløp og lignende kårbolig",null,60,6,""]
[60,6340,null,"Lys, varme, lokaler",null,60,6,""]
[60,6360,null,"Renhold, lokaler",null,60,6,""]
[60,6390,null,"Kostnad lokaler, annen",null,60,6,""]
[60,64,null,"Leie/leasing av driftsmidler, forpaktningsavgift mv",null,60,6,1]
[60,6400,null,"Leie av maskiner uten fører",null,60,6,""]
[60,6410,null,"Leie av inventar",null,60,6,""]
[60,6420,null,"Leie av datasystemer",null,60,6,""]
[60,6430,null,"Leie av kontormaskiner",null,60,6,""]
[60,6440,null,"Leie av bil",null,60,6,""]
[60,6490,null,"Leiekostnader, andre",null,60,6,""]
[60,65,null,"Verktøy, inventar under aktiveringsgrensen",null,60,6,1]
[60,6500,null,"Motordrevet verktøy",null,60,6,""]
[60,6510,null,"Håndverktøy",null,60,6,""]
[60,6520,null,"Redskap under aktiveringsgrensen",null,60,6,""]
[60,6530,null,"Spesialverktøy",null,60,6,""]
[60,6540,null,"Inventar",null,60,6,""]
[60,6550,null,"Driftsmateriell, annet",null,60,6,""]
[60,6560,null,"Rekvisita",null,60,6,""]
[60,6570,null,"Arbeidsklær og verneutstyr",null,60,6,""]
[60,6571,null,"Arbeidsklær",null,60,6,""]
[60,6572,null,"Verneutstyr",null,60,6,""]
[60,6590,null,"Driftsmaterialer, andre",null,60,6,""]
[60,66,null,"Vedlikehold og reparasjoner",null,60,6,1]
[60,6600,null,"Vedlikehold av driftsbygninger og anlegg",null,60,6,""]
[60,6620,null,"Vedlikehold av utstyr",null,60,6,""]
[60,6621,null,"Vedlikehold av traktor",null,60,6,""]
[60,6629,null,"Vedlikehold av andre maskiner o.l.",null,60,6,""]
[60,6640,null,"Vedlikehold av teknisk utstyr i driftsbygninger",null,60,6,""]
[60,6690,null,"Vedlikehold, annet",null,60,6,""]
[60,67,null,"Fremmede tjenester",null,60,6,1]
[60,6700,null,"Revisjons- og regnskapshonorar",null,60,6,""]
[60,6701,null,"Revisjonshonorar",null,60,6,""]
[60,6705,null,"Regnskapshonorar",null,60,6,""]
[60,6720,null,"Honorar for økonomisk og juridisk bistand",null,60,6,""]
[60,6721,null,"Honorar for økonomisk rådgivning",null,60,6,""]
[60,6722,null,"Honorar for juridisk bistand",null,60,6,""]
[60,6790,null,"Fremmede tjenester, andre",null,60,6,""]
[60,68,null,"Kontorkostnad, trykksak o l",null,60,6,1]
[60,6800,null,"Kontorrekvisita",null,60,6,""]
[60,6810,null,"Edb-kostnad",null,60,6,""]
[60,6820,null,"Trykksaker",null,60,6,""]
[60,6840,null,"Aviser, tidsskrifter, bøker o.l.",null,60,6,""]
[60,6860,null,"Møter, kurs, oppdatering o.l.",null,60,6,""]
[60,6890,null,"Kontorkostnad, annen",null,60,6,""]
[60,69,null,"Telefon, porto o l",null,60,6,1]
[60,6900,null,"Telefon m.m.",null,60,6,""]
[60,6940,null,"Porto",null,60,6,""]
[60,6999,null,"Privat bruk av elektronisk kommunikasjon",null,60,6,""]
[60,70,null,"Kostnad transportmidler",null,60,7,1]
[60,7000,null,"Drivstoff til bil",null,60,7,""]
[60,7001,null,"Drivstoff, personbil",null,60,7,""]
[60,7003,null,"Drivstoff, varebil",null,60,7,""]
[60,7005,null,"Drivstoff, lastebil",null,60,7,""]
[60,7009,null,"Beholdningsendring drivstoff, til bil",null,60,7,""]
[60,7020,null,"Vedlikehold, olje og rekvisita, bil",null,60,7,""]
[60,7021,null,"Vedlikehold, olje og rekvisita, personbil",null,60,7,""]
[60,7023,null,"Vedlikehold, olje og rekvisita, varebil",null,60,7,""]
[60,7025,null,"Vedlikehold, olje og rekvisita, lastebil",null,60,7,""]
[60,7040,null,"Forsikring og årsavgift, bil",null,60,7,""]
[60,7041,null,"Forsikring og årsavgift, personbil",null,60,7,""]
[60,7043,null,"Forsikring og årsavgift, varebil",null,60,7,""]
[60,7045,null,"Forsikring og årsavgift, lastebil",null,60,7,""]
[60,7080,null,"Bruk av privat bil i næring",null,60,7,""]
[60,7090,null,"Transportmidler, annen kostnad",null,60,7,""]
[60,7099,null,"Privat bruk av næringsbil (inntektsføres)",null,60,7,""]
[60,71,null,"Kostnad/ godtgj. reise, diett, bil o.l.",null,60,7,1]
[60,7100,null,"Bilgodtgjørelse, oppgavepliktig",null,60,7,""]
[60,7130,null,"Reisekostnad, oppgavepliktig",null,60,7,""]
[60,7140,null,"Reisekostnad, ikke oppgavepliktig",null,60,7,""]
[60,7150,null,"Diettkostnad, oppgavepliktig",null,60,7,""]
[60,7160,null,"Diettkostnad, ikke oppgavepliktig",null,60,7,""]
[60,7190,null,"Kostnadsgodtgjørelse, annen",null,60,7,""]
[60,72,null,"Provisjonskostnad",null,60,7,1]
[60,7200,null,"Provisjonskostnad, oppgavepliktig",null,60,7,""]
[60,7210,null,"Provisjonskostnad, ikke oppgavepliktig",null,60,7,""]
[60,73,null,"Salgs-, reklame- og representasjonskostnad",null,60,7,1]
[60,7300,null,"Salgskostnad",null,60,7,""]
[60,7320,null,"Reklamekostnad",null,60,7,""]
[60,7350,null,"Representasjon, fradragsberettiget",null,60,7,""]
[60,7390,null,"Salgskostnad, annen",null,60,7,""]
[60,74,null,"Kontingent og gave",null,60,7,1]
[60,7400,null,"Kontingent, fradragsberettige",null,60,7,""]
[60,7401,null,"Kontingent, fradragsberettiget, mva-pliktig",null,60,7,""]
[60,7402,null,"Kontingent, fradragsberettiget, mva-fri",null,60,7,""]
[60,7420,null,"Gave, fradragsberettiget",null,60,7,""]
[60,75,null,"Forsikringspremie, garanti- og servicekostnad",null,60,7,1]
[60,7500,null,"Forsikringspremie drifta",null,60,7,""]
[60,7550,null,"Garantikostnad",null,60,7,""]
[60,7560,null,"Servicekostnad",null,60,7,""]
[60,77,null,"Kostnad, annen",null,60,7,1]
[60,7710,null,"Styre- og bedriftsforsamlingsmøter",null,60,7,""]
[60,7740,null,"Øredifferanser",null,60,7,""]
[60,7750,null,"Eiendomsskatt",null,60,7,""]
[60,7770,null,"Bank- og kortgebyr",null,60,7,""]
[60,7790,null,"Kostnad, annen",null,60,7,""]
[60,7791,null,"Kostnad, annen, fradragsberettiget (avgiftspliktig)",null,60,7,""]
[60,7792,null,"Kostnad, annen, fradragsberettiget (avgiftsfri)",null,60,7,""]
[60,78,null,"Tap o.l.",null,60,7,1]
[60,7800,null,"Tap ved avgang driftsmidler",null,60,7,""]
[60,7820,null,"Innkommet på tidligere nedskrevne fordringer",null,60,7,""]
[60,7830,null,"Konstaterte tap på fordringer",null,60,7,""]
[60,7831,null,"Endring i avsetning tap på fordringer",null,60,7,""]
[60,7860,null,"Tap på kontrakter",null,60,7,""]
[60,80,null,"Finansinntekt",null,60,8,1]
[60,8060,null,"Valutagevinst (agio)",null,60,8,""]
[60,8070,null,"Finansinntekt, annen",null,60,8,""]
[60,8078,null,"Rentestøtte fra Innovasjon Norge",null,60,8,""]
[60,81,null,"Finanskostnad",null,60,8,1]
[60,8160,null,"Valutatap (disagio)",null,60,8,""]
[60,8170,null,"Finanskostnad, annen",null,60,8,""]
[60,8177,null,"Tap ved realisasjon av aksjer og andeler",null,60,8,""]
[60,8179,null,"Finanskostnad, annen",null,60,8,""]
[60,82,null,"Overfør fra gevinst og tapskonto",null,60,8,1]
[60,8280,null,"Overføringer fra gevinst- og tapskonto",null,60,8,""]
[60,8285,null,"Inntektsføring fra positiv gevinst- og tapskonto",null,60,8,""]
[60,8286,null,"Fradragsføring fra negativ gevinst- og tapskonto",null,60,8,""]
[60,88,null,"Årsresultat",null,60,8,1]
[60,8800,null,"Årsresultat, annen næring",null,60,8,""]
[90,"Overordnet",null,"Privat",null,90,0,1]
[90,11,null,"Fast eiendom",null,90,1,1]
[90,1150,null,"Tomter",null,90,1,""]
[90,1160,null,"Bolighus (inkludert private hytter o.l.)",null,90,1,""]
[90,1170,null,"Bolighus (pågående nybygg, til- og ombygging)",null,90,1,""]
[90,1190,null,"Privat fast eiendom, annen",null,90,1,""]
[90,12,null,"Biler o.l.",null,90,1,1]
[90,1230,null,"Vare- og lastebiler",null,90,1,""]
[90,1240,null,"Transportmidler, andre",null,90,1,""]
[90,1241,null,"Personbiler",null,90,1,""]
[90,1243,null,"Snøscootere",null,90,1,""]
[90,1244,null,"Båter",null,90,1,""]
[90,1248,null,"Campingvogner",null,90,1,""]
[90,1249,null,"Transportmidler, andre",null,90,1,""]
[90,13,null,"Finansielle anleggsmidler",null,90,1,1]
[90,1350,null,"Aksjer og andeler (langsiktige)",null,90,1,""]
[90,1351,null,"Aksjer, norske (langsiktige)",null,90,1,""]
[90,1355,null,"Andeler, norske (langsiktige)",null,90,1,""]
[90,1356,null,"Aksjer, utenlandske (langsiktige)",null,90,1,""]
[90,1358,null,"Andeler, utenlandske (langsiktige)",null,90,1,""]
[90,1359,null,"Individuell pensjonssparing (IPS)",null,90,1,""]
[90,1360,null,"Obligasjoner (langsiktige)",null,90,1,""]
[90,1390,null,"Fordringer, andre (langsiktige)",null,90,1,""]
[90,15,null,"Kortsiktige fordringer",null,90,1,1]
[90,1570,null,"Kortsiktige fordringer",null,90,1,""]
[90,1571,null,"Skatt til gode, ektefelle 1",null,90,1,""]
[90,1572,null,"Skatt til gode, ektefelle 2",null,90,1,""]
[90,18,null,"Kortsiktige finansinvesteringer",null,90,1,1]
[90,1810,null,"Aksjer, børsnoterte aksjer",null,90,1,""]
[90,1811,null,"Aksjer, børsnoterte, norske",null,90,1,""]
[90,1815,null,"Aksjer, børsnoterte, utenlandske",null,90,1,""]
[90,1820,null,"Aksjer, ikke børsnoterte",null,90,1,""]
[90,1821,null,"Aksjer, ikke børsnoterte, norske",null,90,1,""]
[90,1825,null,"Aksjer, ikke børsnoterte, utenlandske",null,90,1,""]
[90,1830,null,"Obligasjoner, markedsbaserte",null,90,1,""]
[90,1831,null,"Obligasjoner, markedsbaserte, norske",null,90,1,""]
[90,1835,null,"Obligasjoner, markedsbaserte, utenlandske",null,90,1,""]
[90,1840,null,"Obligasjoner, ikke markedsbaserte",null,90,1,""]
[90,1841,null,"Obligasjoner, ikke markedsbaserte, norske",null,90,1,""]
[90,1845,null,"Obligasjoner, ikke markedsbaserte, utenlandske",null,90,1,""]
[90,1870,null,"Finansielle instrumenter, andre markedsbaserte",null,90,1,""]
[90,1880,null,"Finansielle instrumenter, andre",null,90,1,""]
[90,19,null,"Bankinnskudd, kontanter o.l.",null,90,1,1]
[90,1900,null,"Kontanter",null,90,1,""]
[90,1920,null,"Bankinnskudd, ektefelle 1",null,90,1,""]
[90,1930,null,"Bankinnskudd, ektefelle 2",null,90,1,""]
[90,1940,null,"Bankinnskudd, mindreårige barn",null,90,1,""]
[90,1960,null,"Bankinnskudd, utland",null,90,1,""]
[90,20,null,"Egenkapital",null,90,2,1]
[90,2050,null,"Egenkapital",null,90,2,""]
[90,2055,null,"Likvide overføringer, næring/privat)",null,90,2,""]
[90,2056,null,"Ikke likvide overføringer, næring/privat",null,90,2,""]
[90,22,null,"Langsiktig gjeld",null,90,2,1]
[90,2200,null,"Konvertible lån",null,90,2,""]
[90,2210,null,"Obligasjonslån",null,90,2,""]
[90,2220,null,"Gjeld til kredittinstitusjoner",null,90,2,""]
[90,2230,null,"Gjeld til Statens lånekasse",null,90,2,""]
[90,2240,null,"Pantelån",null,90,2,""]
[90,2270,null,"Valutalån",null,90,2,""]
[90,2290,null,"Langsiktig gjeld, annen",null,90,2,""]
[90,23,null,"Kortsiktig gjeld",null,90,2,1]
[90,2360,null,"Byggelån",null,90,2,""]
[90,26,null,"Skattetrekk og andre trekk",null,90,2,1]
[90,2600,null,"Forskuddstrekk",null,90,2,""]
[90,2690,null,"Trekk, andre",null,90,2,""]
[90,27,null,"Skyldig offentlig avgift",null,90,2,1]
[90,2770,null,"Påløpt arbeidsgiveravgift, privat",null,90,2,""]
[90,29,null,"Kortsiktig gjeld, diverse",null,90,2,1]
[90,2900,null,"Kortsiktig gjeld",null,90,2,""]
[90,30,null,"Lønnsinntekt, sykepenger m.m.",null,90,3,1]
[90,3000,null,"Lønnsinntekt, ektefelle 1.",null,90,3,""]
[90,3010,null,"Lønnsinntekt, ektefelle 2",null,90,3,""]
[90,3020,null,"Lønnsinntekt, mindreårige barn",null,90,3,""]
[90,3030,null,"Sykepenger knyttet til lønnsinntekt, ektefelle 1",null,90,3,""]
[90,3040,null,"Sykepenger knyttet til lønnsinntekt, ektefelle 2",null,90,3,""]
[90,3050,null,"Annen pensjonsgivende inntekt, ektefelle 1",null,90,3,""]
[90,3060,null,"Annen pensjonsgivende inntekt, ektefelle 2",null,90,3,""]
[90,3070,null,"Inntekt som gir rett til sjømannsfradrag",null,90,3,""]
[90,3080,null,"Inntekt av barnepass i eget hjem",null,90,3,""]
[90,31,null,"Pensjonsinntekt",null,90,3,1]
[90,3100,null,"Pensjoner fra folketrygden, ektefelle 1",null,90,3,""]
[90,3110,null,"Pensjoner fra folketrygden, ektefelle 2",null,90,3,""]
[90,3120,null,"Pensjoner fra folketrygden, mindreårige barn",null,90,3,""]
[90,3130,null,"Kår, jordbruk",null,90,3,""]
[90,3131,null,"Kår, jordbruk, ektefelle 1",null,90,3,""]
[90,3132,null,"Kår, jordbruk, ektefelle 2",null,90,3,""]
[90,3140,null,"Kår utenom jordbruk",null,90,3,""]
[90,3141,null,"Kår utenom jordbruk, ektefelle 1",null,90,3,""]
[90,3142,null,"Kår utenom jordbruk, ektefelle 2",null,90,3,""]
[90,3150,null,"Egen pensjonsforsikring, tjenestepensjon m.m.",null,90,3,""]
[90,3151,null,"Egen pensjonsforsikring, tjenestepensjon m.m., ektefelle 1",null,90,3,""]
[90,3152,null,"Egen pensjonsforsikring, tjenestepensjon m.m., ektefelle 2",null,90,3,""]
[90,3153,null,"Egen pensjonsforsikring, tjenestepensjon m.m., mindreårige barn",null,90,3,""]
[90,3160,null,"Ektefelletillegg",null,90,3,""]
[90,3170,null,"Bidrag, mottatt",null,90,3,""]
[90,3171,null,"Bidrag, mottatt, ektefelle 1",null,90,3,""]
[90,3172,null,"Bidrag, mottatt, ektefelle 2",null,90,3,""]
[90,3173,null,"Barnepensjon",null,90,3,""]
[90,32,null,"Næringsinntekt",null,90,3,1]
[90,3200,null,"Inntekt fra annen næring, ektefelle 1",null,90,3,""]
[90,3210,null,"Inntekt fra annen næring, ektefelle 2",null,90,3,""]
[90,3220,null,"Sykepenger fra næring, ektefelle 1",null,90,3,""]
[90,3221,null,"Sykepenger fra jordbruk, gartneri og pelsdyr, ektefelle 1",null,90,3,""]
[90,3222,null,"Sykepenger fra skogbruk, ektefelle 1",null,90,3,""]
[90,3223,null,"Sykepenger fra fiske, ektefelle 1",null,90,3,""]
[90,3224,null,"Sykepenger fra reindrift, ektefelle 1",null,90,3,""]
[90,3226,null,"Sykepenger fra andre næringer, ektefelle 1",null,90,3,""]
[90,3230,null,"Sykepenger fra næring, ektefelle 2",null,90,3,""]
[90,3231,null,"Sykepenger fra jordbruk, gartneri og pelsdyr, ektefelle 2",null,90,3,""]
[90,3232,null,"Sykepenger fra skogbruk, ektefelle 2",null,90,3,""]
[90,3233,null,"Sykepenger fra fiske, ektefelle 2",null,90,3,""]
[90,3234,null,"Sykepenger fra reindrift, ektefelle 2",null,90,3,""]
[90,3236,null,"Sykepenger fra andre næringer, ektefelle 2",null,90,3,""]
[90,3250,null,"Inntekt fra samdrifter i jordbruket, ektefelle 1",null,90,3,""]
[90,3251,null,"Overskudd/underskudd fra samdrifter, ektefelle 1",null,90,3,""]
[90,3255,null,"Arbeidsgodtgjørelse samdrifter, ektefelle 1",null,90,3,""]
[90,3260,null,"Inntekt fra samdrifter i jordbruket, ektefelle 2",null,90,3,""]
[90,3261,null,"Overskudd/underskudd fra samdrifter, ektefelle 2",null,90,3,""]
[90,3265,null,"Arbeidsgodtgjørelse samdrifter, ektefelle 2",null,90,3,""]
[90,3290,null,"Dagpenger til næringsdrivende",null,90,3,""]
[90,3291,null,"Dagpenger til næringsdrivende, ektefelle 1",null,90,3,""]
[90,3292,null,"Dagpenger til næringsdrivende, ektefelle 2",null,90,3,""]
[90,34,null,"Skattefrie offentlig tilskudd og skattefri inntekt",null,90,3,1]
[90,3400,null,"Barnetrygd",null,90,3,""]
[90,3410,null,"Kontantstøtte",null,90,3,""]
[90,3450,null,"Husleiestønad",null,90,3,""]
[90,3480,null,"Offentlige tilskudd, andre",null,90,3,""]
[90,3490,null,"Skattefri inntekt, annen",null,90,3,""]
[90,3491,null,"Skattefri del skogfond, ektefelle 1",null,90,3,""]
[90,3492,null,"Skattefri del skogfond, ektefelle 2",null,90,3,""]
[90,3499,null,"Skattefri inntekt, annen",null,90,3,""]
[90,36,null,"Leieinntekt",null,90,3,1]
[90,3600,null,"Leieinntekt fast eiendom, skattepliktig",null,90,3,""]
[90,3610,null,"Leieinntekt fast eiendom, skattefri",null,90,3,""]
[90,3650,null,"Bruk av privatbil i næring/yrke",null,90,3,""]
[90,3651,null,"Bruk av privatbil i næring/yrke, ektefelle 1",null,90,3,""]
[90,3652,null,"Bruk av privatbil i næring/yrke, ektefelle 2",null,90,3,""]
[90,37,null,"Kostnadskompensasjoner",null,90,3,1]
[90,3700,null,"Bilgodtgjørelse, mottatt",null,90,3,""]
[90,3701,null,"Bilgodtgjørelse, mottatt, skattepliktig del, ektefelle 1",null,90,3,""]
[90,3702,null,"Bilgodtgjørelse, mottatt, skattepliktig del, ektefelle 2",null,90,3,""]
[90,3704,null,"Bilgodtgjørelse, mottatt, skattefri del, ektefelle 1",null,90,3,""]
[90,3705,null,"Bilgodtgjørelse, mottatt, skattefri del, ektefelle 2",null,90,3,""]
[90,3710,null,"Diettgodtgjørelse, mottatt",null,90,3,""]
[90,3711,null,"Diettgodtgjørelse, mottatt, skattepliktig del, ektefelle 1",null,90,3,""]
[90,3712,null,"Diettgodtgjørelse, mottatt, skattepliktig del, ektefelle 2",null,90,3,""]
[90,3714,null,"Diettgodtgjørelse, mottatt, skattefri del, ektefelle 1",null,90,3,""]
[90,3715,null,"Diettgodtgjørelse, mottatt, skattefri del, ektefelle 2",null,90,3,""]
[90,3720,null,"Nattillegg, mottatt",null,90,3,""]
[90,3721,null,"Nattillegg, mottatt, skattepliktig del, ektefelle 1",null,90,3,""]
[90,3722,null,"Nattillegg, mottatt, skattepliktig del, ektefelle 2",null,90,3,""]
[90,3724,null,"Nattillegg, mottatt, skattefri del, ektefelle 1",null,90,3,""]
[90,3725,null,"Nattillegg, mottatt, skattefri del, ektefelle 2",null,90,3,""]
[90,3790,null,"Annen kostnadskompensasjon",null,90,3,""]
[90,3791,null,"Annen kostnadskompensasjon, skattepliktig, ektefelle 1",null,90,3,""]
[90,3792,null,"Annen kostnadskompensasjon, skattepliktig, ektefelle 2",null,90,3,""]
[90,3794,null,"Annen kostnadskompensasjon, skattefri, ektefelle 1",null,90,3,""]
[90,3795,null,"Annen kostnadskompensasjon, skattefri ,ektefelle 2",null,90,3,""]
[90,38,null,"Gevinst ved avgang av privat løsøre",null,90,3,1]
[90,3800,null,"Gevinst ved salg av privat løsøre",null,90,3,""]
[90,39,null,"Annen inntekt",null,90,3,1]
[90,3900,null,"Annen inntekt",null,90,3,""]
[90,3901,null,"Annen inntekt, ektefelle 1",null,90,3,""]
[90,3902,null,"Annen inntekt, ektefelle 2",null,90,3,""]
[90,3908,null,"Familiens arbeid på nyanlegg",null,90,3,""]
[90,3970,null,"Festeinntekt utenfor næring",null,90,3,""]
[90,3971,null,"Festeinntekt utenfor næring, ektefelle 1",null,90,3,""]
[90,3972,null,"Festeinntekt utenfor næring, ektefelle 2",null,90,3,""]
[90,40,null,"Uttak fra egen næringsvirksomhet",null,90,4,1]
[90,4000,null,"Uttak fra jordbruk",null,90,4,""]
[90,4010,null,"Uttak fra skogbruk",null,90,4,""]
[90,4020,null,"Uttak fra annen næring",null,90,4,""]
[90,4030,null,"Privat bruk av næringsbil",null,90,4,""]
[90,4031,null,"Privat bruk av næringsbil, ektefelle 1",null,90,4,""]
[90,4032,null,"Privat bruk av næringsbil, ektefelle 2",null,90,4,""]
[90,41,null,"Forbruksvarer",null,90,4,1]
[90,4100,null,"Privatforbruk",null,90,4,""]
[90,4190,null,"Forbruksvarer, saldering",null,90,4,""]
[90,45,null,"Fremmedytelser",null,90,4,1]
[90,4500,null,"Barnepass, fradragsberettiget (barnehave, dagmamma som næringsdriv.)",null,90,4,""]
[90,4510,null,"Barnepass, ikke fradragsberettiget",null,90,4,""]
[90,50,null,"Lønnsutbetaling for utført arbeid",null,90,5,1]
[90,5000,null,"Barnepass, fradragsberettiget",null,90,5,""]
[90,5010,null,"Barnepass, ikke fradragsberettiget",null,90,5,""]
[90,5090,null,"Lønnskostnader, andre private",null,90,5,""]
[90,54,null,"Arbeidsgiveravgift",null,90,5,1]
[90,5400,null,"Arbeidsgiveravgift",null,90,5,""]
[90,60,null,"Avskrivninger",null,90,6,1]
[90,6010,null,"Avskrivning privatbil",null,90,6,""]
[90,62,null,"Energi, brensel og vann",null,90,6,1]
[90,6200,null,"Elektrisitet",null,90,6,""]
[90,6210,null,"Gass",null,90,6,""]
[90,6220,null,"Fyringsolje",null,90,6,""]
[90,6240,null,"Ved",null,90,6,""]
[90,6260,null,"Vannavgift",null,90,6,""]
[90,6290,null,"Brensel, annet",null,90,6,""]
[90,63,null,"Leie bolig",null,90,6,1]
[90,6310,null,"Leie av annet bolighus (inkludert fritidsbolig)",null,90,6,""]
[90,6320,null,"Renovasjon, vann, avløp",null,90,6,""]
[90,64,null,"Leiekostnader",null,90,6,1]
[90,6440,null,"Leie av bil",null,90,6,""]
[90,6490,null,"Festeavgift",null,90,6,""]
[90,66,null,"Vedlikehold",null,90,6,1]
[90,6660,null,"Vedlikehold bolighus",null,90,6,""]
[90,6661,null,"Vedlikehold av bolighus til eget bruk",null,90,6,""]
[90,6662,null,"Vedlikehold av annen bolig (inklusivt fritidsbolig)",null,90,6,""]
[90,6670,null,"Uttatt virke fra egen skog, privat bolig",null,90,6,""]
[90,67,null,"Fremmede tjenester",null,90,6,1]
[90,6790,null,"Fremmed tjeneste, diverse",null,90,6,""]
[90,58,null,"Aviser etc.",null,90,5,1]
[90,5840,null,"Aviser",null,90,5,""]
[90,69,null,"Telefon",null,90,6,1]
[90,6900,null,"Telefon, privat del",null,90,6,""]
[90,70,null,"Bilkostnader (ikke næringsbil)",null,90,7,1]
[90,7000,null,"Drivstoff, bil",null,90,7,""]
[90,7001,null,"Drivstoff personbil",null,90,7,""]
[90,7003,null,"Drivstoff varebil",null,90,7,""]
[90,7020,null,"Vedlikehold, olje og rekvisita, bil",null,90,7,""]
[90,7021,null,"Vedlikehold m.m. av personbil",null,90,7,""]
[90,7023,null,"Vedlikehold m.m. av varebil",null,90,7,""]
[90,7040,null,"Forsikring bil",null,90,7,""]
[90,7041,null,"Forsikring personbil",null,90,7,""]
[90,7043,null,"Forsikring varebil",null,90,7,""]
[90,7050,null,"Årsavgift bil",null,90,7,""]
[90,7051,null,"Årsavgift personbil",null,90,7,""]
[90,7053,null,"Årsavgift varebil",null,90,7,""]
[90,7080,null,"Bruk av privat bil i næring",null,90,7,""]
[90,7090,null,"Transportmidler, annen kostnad",null,90,7,""]
[90,71,null,"Reisekostnader",null,90,7,1]
[90,7140,null,"Reisekostnader",null,90,7,""]
[90,74,null,"Kontingent og gave",null,90,7,1]
[90,7400,null,"Fagforeningskontingent, ikke fradragsberettiget i næringsoppgaven",null,90,7,""]
[90,7401,null,"Fagforeningskontingent, ikke fradragsberettiget i næringsoppgaven, ektefelle 1",null,90,7,""]
[90,7402,null,"Fagforeningskontingent, ikke fradragsberettiget i næringsoppgaven, ektefelle 2",null,90,7,""]
[90,7410,null,"Fagforeningskontingent, ikke fradragsberettiget del",null,90,7,""]
[90,7411,null,"Fagforeningskontingent, ikke fradragsberettiget del, ektefelle 1",null,90,7,""]
[90,7412,null,"Fagforeningskontingent, ikke fradragsberettiget del, ektefelle 2",null,90,7,""]
[90,7420,null,"Gave, fradragsberettiget",null,90,7,""]
[90,7421,null,"Gave, fradragsberettiget, ektefelle 1",null,90,7,""]
[90,7422,null,"Gave, fradragsberettiget, ektefelle 1",null,90,7,""]
[90,7430,null,"Gave, ikke fradragsberettiget",null,90,7,""]
[90,7431,null,"Gave, ikke fradragsberettiget, ektefelle 1",null,90,7,""]
[90,7432,null,"Gave, ikke fradragsberettiget, ektefelle 1",null,90,7,""]
[90,75,null,"Forsikringspremie",null,90,7,1]
[90,7500,null,"Husforsikringspremie",null,90,7,""]
[90,7510,null,"Innboforsikringspremie",null,90,7,""]
[90,7520,null,"Reiseforsikringspremie",null,90,7,""]
[90,7530,null,"Livsforsikringspremie",null,90,7,""]
[90,7531,null,"Livsforsikringspremie, ektefelle 1",null,90,7,""]
[90,7532,null,"Livsforsikringspremie, ektefelle 2",null,90,7,""]
[90,7540,null,"Ulykkesforsikringspremie",null,90,7,""]
[90,7541,null,"Ulykkesforsikringspremie, ektefelle 1",null,90,7,""]
[90,7542,null,"Ulykkesforsikringspremie, ektefelle 2",null,90,7,""]
[90,7543,null,"Ulykkesforsikringspremie, mindreårige barn",null,90,7,""]
[90,7550,null,"Pensjonsforsikringspremie",null,90,7,""]
[90,7551,null,"Pensjonsforsikringspremie, ektefelle 1",null,90,7,""]
[90,7552,null,"Pensjonsforsikringspremie, ektefelle 2",null,90,7,""]
[90,7560,null,"Pensjonstrekk",null,90,7,""]
[90,7561,null,"Pensjonstrekk, ektefelle 1",null,90,7,""]
[90,7562,null,"Pensjonstrekk, ektefelle 2",null,90,7,""]
[90,7570,null,"Premie tilleggstrygd for sykepenger",null,90,7,""]
[90,7571,null,"Premie tilleggstrygd for sykepenger, ektefelle 1",null,90,7,""]
[90,7572,null,"Premie tilleggstrygd for sykepenger, ektefelle 2",null,90,7,""]
[90,7590,null,"Premie andre private forsikringer",null,90,7,""]
[90,7591,null,"Premie andre private forsikringer, ektefelle 1",null,90,7,""]
[90,7592,null,"Premie andre private forsikringer, ektefelle 2",null,90,7,""]
[90,7593,null,"Premie andre private forsikringer, mindreårige barn",null,90,7,""]
[90,77,null,"Kostnad, annen",null,90,7,1]
[90,7750,null,"Eiendomsskatt",null,90,7,""]
[90,7770,null,"Bank- og kortgebyr",null,90,7,""]
[90,7790,null,"Kostnad, annen",null,90,7,""]
[90,78,null,"Tap og lignende",null,90,7,1]
[90,7800,null,"Tap ved salg avprivat løsøre",null,90,7,""]
[90,7820,null,"Innkommet på tidligere nedskrevet fordring - ikke skattepliktig",null,90,7,""]
[90,7830,null,"Tap på fordringer, kausjonsansvar (ikke fradragsberettiget)",null,90,7,""]
[90,80,null,"Finansinntekt",null,90,8,1]
[90,8040,null,"Renteinntekt, skattefri",null,90,8,""]
[90,8041,null,"Renteinntekt, tilbakebetalt skatt, ektefelle 1",null,90,8,""]
[90,8042,null,"Renteinntekt, tilbakebetalt skatt, ektefelle 2",null,90,8,""]
[90,8043,null,"Renteinntekt, tilbakebetalt skatt, mindreårige barn",null,90,8,""]
[90,8047,null,"Renteinntekt, annen ikke skattepliktig, ektefelle 1",null,90,8,""]
[90,8048,null,"Renteinntekt, annen ikke skattepliktig, ektefelle 2",null,90,8,""]
[90,8049,null,"Renteinntekt, annen ikke skattepliktig, mindreårige barn",null,90,8,""]
[90,8050,null,"Renteinntekt, skattepliktig",null,90,8,""]
[90,8051,null,"Renteinntekt, banklån, ektefelle 1",null,90,8,""]
[90,8052,null,"Renteinntekt, banklån, ektefelle 2",null,90,8,""]
[90,8053,null,"Renteinntekt, banklån, mindreårige barn",null,90,8,""]
[90,8057,null,"Renteinntekt, annen skattepliktig, ektefelle 1",null,90,8,""]
[90,8058,null,"Renteinntekt, annen skattepliktig, ektefelle 2",null,90,8,""]
[90,8059,null,"Renteinntekt, annen skattepliktig, mindreårige barn",null,90,8,""]
[90,8070,null,"Finansinntekt, annen skattepliktig",null,90,8,""]
[90,8071,null,"Aksjeutbytte/andelsutbytte, ektefelle 1",null,90,8,""]
[90,8072,null,"Aksjeutbytte/andelsutbytte. ektefelle 2",null,90,8,""]
[90,8073,null,"Aksjeutbytte/andelsutbytte, mindreårige barn",null,90,8,""]
[90,8074,null,"Gevinst ved realisasjon av aksjer/andeler, ektefelle 1",null,90,8,""]
[90,8075,null,"Gevinst ved realisasjon av aksjer/andeler, ektefelle 2",null,90,8,""]
[90,8076,null,"Gevinst ved realisasjon av aksjer/andeler, mindreårige barn",null,90,8,""]
[90,8077,null,"Finansinntekt, annen skattepliktig, ektefelle 1",null,90,8,""]
[90,8078,null,"Finansinntekt, annen skattepliktig, ektefelle 2",null,90,8,""]
[90,8079,null,"Finansinntekt, annen skattepliktig, mindreårige barn",null,90,8,""]
[90,81,null,"Finanskostnad",null,90,8,1]
[90,8140,null,"Rentekostnad, ikke fradragsberettiget",null,90,8,""]
[90,8141,null,"Rentekostnad, restskatt, ektefelle 1",null,90,8,""]
[90,8142,null,"Rentekostnad, restskatt, ektefelle 2",null,90,8,""]
[90,8143,null,"Rentekostnad, restskatt, mindreårige barn",null,90,8,""]
[90,8147,null,"Rentekostnad, annen ikke fradragsberettiget, ektefelle 1",null,90,8,""]
[90,8148,null,"Rentekostnad, annen ikke fradragsberettiget, ektefelle 2",null,90,8,""]
[90,8149,null,"Rentekostnad, annen ikke fradragsberettiget, mindreårige barn",null,90,8,""]
[90,8150,null,"Rentekostnad, fradragsberettiget",null,90,8,""]
[90,8151,null,"Rentekostnad, banklån, ektefelle 1",null,90,8,""]
[90,8152,null,"Rentekostnad, banklån, ektefelle 2",null,90,8,""]
[90,8153,null,"Rentekostnad, banklån, mindreårige barn",null,90,8,""]
[90,8157,null,"Rentekostnad, annen fradragsberettiget, ektefelle 1",null,90,8,""]
[90,8158,null,"Rentekostnad, annen fradragsberettiget, ektefelle 2",null,90,8,""]
[90,8159,null,"Rentekostnad, annen fradragsberettiget, mindreårige barn",null,90,8,""]
[90,8170,null,"Finanskostnad, annen",null,90,8,""]
[90,8171,null,"Finanskostnad, ektefelle 1",null,90,8,""]
[90,8172,null,"Finanskostnad, ektefelle 2",null,90,8,""]
[90,8173,null,"Finanskostnad, mindreårige barn",null,90,8,""]
[90,8180,null,"Tap ved realisasjon av aksjer og andeler",null,90,8,""]
[90,8181,null,"Tap ved realisasjon av aksjer og andeler, ektefelle 1",null,90,8,""]
[90,8182,null,"Tap ved realisasjon av aksjer og andeler, ektefelle 2",null,90,8,""]
[90,8183,null,"Tap ved realisasjon av aksjer og andeler, mindreårige barn",null,90,8,""]
[90,83,null,"Skatter",null,90,8,1]
[90,8300,null,"Forskuddsskatt",null,90,8,""]
[90,8301,null,"Forskuddsskatt, ektefelle 1",null,90,8,""]
[90,8302,null,"Forskuddsskatt, ektefelle 2",null,90,8,""]
[90,8303,null,"Forskuddsskatt, mindreårige barn",null,90,8,""]
[90,8310,null,"Trukket skatt",null,90,8,""]
[90,8311,null,"Trukket skatt, ektefelle 1",null,90,8,""]
[90,8312,null,"Trukket skatt, ektefelle 2",null,90,8,""]
[90,8313,null,"Trukket skatt, mindreårige barn",null,90,8,""]
[90,8320,null,"Restskatt",null,90,8,""]
[90,8321,null,"Restskatt, ektefelle 1",null,90,8,""]
[90,8322,null,"Restskatt, ektefelle 2",null,90,8,""]
[90,8323,null,"Restskatt, mindreårige barn",null,90,8,""]
[90,8330,null,"Tilbakebetalt skatt",null,90,8,""]
[90,8340,null,"Tilleggsforskudd",null,90,8,""]
[90,8341,null,"Tilleggsforskudd, ektefelle 1",null,90,8,""]
[90,8342,null,"Tilleggsforskudd, ektefelle 2",null,90,8,""]
[90,8343,null,"Tilleggsforskudd, mindreårige barn",null,90,8,""]
[90,84,null,"Ekstraordinær inntekt",null,90,8,1]
[90,8410,null,"Arv, arveforskudd og gaver (mottatt)",null,90,8,""]
[90,8420,null,"Kår, kapitalisert verdi (ved overtakelse av eiendom)",null,90,8,""]
[90,8430,null,"Åsetesfradrag (ved overtakelse av eiendom)",null,90,8,""]
[90,8440,null,"Gevinster, premier",null,90,8,""]
[90,8450,null,"Erstatninger ved personulykker etc.",null,90,8,""]
[90,8460,null,"Salg av tomter og annen fast eiendom",null,90,8,""]
[90,85,null,"Ekstraordinær kostnad",null,90,8,1]
[90,8510,null,"Arveforskudd og gaver (levert)",null,90,8,""]
[90,8520,null,"Kår, kapitalisert verdi (ved overdragelse av eiendom)",null,90,8,""]
[90,8530,null,"Åsetesfradrag (ved overdragelse av eiendom)",null,90,8,""]
[90,8580,null,"Underholdsbidrag, betalt",null,90,8,""]
[90,88,null,"Årsresultat",null,90,8,1]
[90,8800,null,"Årsresultat privat",null,90,8,""]
[90,89,null,"Feilkonto, differanse",null,90,8,1]
[90,8999,null,"Feilkonto, differanse, privat",null,90,8,""]
["Nye linjer må settes inn over denne linja"]
[]
[null,null,null,null,null,"Avdeling","Klasse - konto","Underklasse - overordnet"]
[null,null,null,null,1,"Alle avdelinger","Alle klasser","Klasser detaljert"]
[null,null,null,null,2,{"$f":"\"10 \"&D3","v":"10 Finans"},"1 Eiendeler","Klasser overordnet"]
[null,null,null,null,3,{"$f":"\"20 \"&D184","v":"20 Jordbruk"},"2 Egenkapital og gjeld"]
[null,null,null,null,4,{"$f":"\"30 \"&D794","v":"30 Skogbruk"},"3 Salgs- og driftsinntekter"]
[null,null,null,null,5,{"$f":"\"50 \"&D1323","v":"50 Pelsdyr"},"4 Varekostnad"]
[null,null,null,null,6,{"$f":"\"60 \"&D1753","v":"60 Annen næring"},"5 Lønnskostnad"]
[null,null,null,null,7,{"$f":"\"90 \"&D2107","v":"90 Privat"},"6 Annen driftskostnad, av- og nedskrivning"]
[null,null,null,null,8,null,"7 Andre driftskostnader"]
[null,null,null,null,9,null,"8 Finansinntekter og kostnader, årsoppgjør"]

{"sheet":"MVATabell","index":8,"n_rows":57,"n_cols":6,"rows_kept":57,"cut":false,"hidden":true,"merged":[[1,0,1,2],[1,3,2,3],[1,4,2,4],[1,5,2,5],[21,1,21,4],[43,0,43,4],[44,0,44,4],[45,0,45,4],[46,0,46,4],[49,0,49,4],[55,0,55,4],[56,0,56,4],[47,0,47,4],[48,0,48,4],[50,0,50,4],[51,0,51,4],[52,0,52,4],[53,0,53,4],[54,0,54,4]]}
["MVA-koder (brukes på varelinjer i avregninger og fakturaer)"]
["Felter i E2B-formatet",null,null,"Kode i koblings-\ntabell","Kommentar","Konto eksempler"]
["VatType","VatCategory","VatPercent"]
["O","O","Tom\n(Empty)","O_O","Ikke omsetning. F.eks. erstatning, forskudd fra kunder. Kategorien finnes ikke i EHF.","20.3902, 20.3903, 10.2900"]
["O","E","Tom\n(Empty)","O_E","Omsetning. Inntekter unntatt fra mva.-loven. F.eks. utleie av fast eiendom.","30.3600, 20.3604"]
["O","Z","Tom\n(Empty)","O_Z","Utgående omsetning innenfor avgiftsområdet fritatt for mva. F.eks. levert slakt som skal tas ut privat.","20.3162, 30.3155"]
["O","AA",12,"O_AA","Utgående lav mva.- sats.","20.3607"]
["O","H",15,"O_H","Utgående middels mva.- sats.","20.3075"]
["O","S",25,"O_S","Utgående høy mva.- sats (Standard)","20.3040"]
["I","O","Tom\n(Empty)","I_O","Omsetning. Kostnader unntatt fra mva.-loven eller unntatt rett til mva.-fradrag.","10.2064, 30.7761, 20.7770, 20.7402"]
["I","AA",12,"I_AA","Inngående lav mva.- sats.","Persontransport"]
["I","H",15,"I_H","Inngående middels mva.- sats.","20.4512"]
["I","S",25,"I_S","Inngående høy mva.- sats.","20.4511"]
[]
["NB"]
["EHF har ikke VatCategory O og Dataflyt har ikke definert E og Z for inngående  mva."]
["Følgende mapping er derfor gjort i Dataflyt for å håndtere \"null\"-satser:"]
["1. Der EHF bruker «Z» konverteres dette til kombinasjonen I_O i Dataflyt"]
["2. Der EHF bruker «E» konverteres dette til kombinasjonen O_O i Dataflyt"]
[]
["Dataflyt har tolket bruken av kodene E og Z motsatt av det Difi gjør."]
["Se lenke:","http://www.unece.org/trade/untdid/d07a/tred/tred5305.htm"]
[]
["DIFIS oppsett 6.6 MERVERDIAVGIFT"]
["MVA kategorier og satser pr. 1. januar 2016 for bruk  i Norge er spesifisert i tabellen under.  Bruk av "]
["andre MVA kategorier enn disse medfører at EHF instansdokumentet avvises ved validering. "]
[]
["MVA kategori","Beskrivelse",null,null,null,"Sats pr. 1. januar 2016"]
["S","Utgående merverdiavgift, alminnelig sats,",null,null,null,0.25]
["H","Utgående merverdiavgift, redusert sats – næringsmidler",null,null,null,0.15]
["R","Utgående merverdiavgift, redusert sats – råfisk",null,null,null,0.1111]
["AA","Utgående merverdiavgift, redusert sats – lav sats",null,null,null,0.1]
["E","Innenlands omsetning og uttak fritatt for merverdiavgift",null,null,null,0]
["Z","Unntatt fra merverdiavgiftsloven (utenfor merverdiavgiftsloven)",null,null,null,"Ingen (0%)"]
["K","Klimakvoter til næringsdrivende eller offentlig virksomhet – kjøper beregner MVA",null,null,null,"Ingen (0%)"]
["AE","Innenlands omsetning med omvendt avgiftsplikt",null,null,null,0]
["G","Utførsel av varer og tjenester",null,null,null,0]
[]
["Ny norm er under arbeid i følge EDISYS:"]
["Når det gjelder MVA-koder, så jobbes det nå på europeisk nivå med en ny standard (europeisk norm) for elektronisk faktura,"]
["denne vil etter all sannsynlighet tre i kraft i Norge i løpet av 2018, og Difi ønsker ikke å lage nye versjoner av EHF før den nye normen er klar."]
[]
["Forslaget til norm har pr. nå følgende mva-kategorier, og som dere ser, så er ”out of scope” tatt med som egen kategori"]
["DEFINITION OF CATEGORY",null,null,null,null,"CATEGORY"]
["Standard VAT calculation"]
["Item is liable for VAT that is calculated in a standard way of applying the VAT percentage to the relevant taxable amount.",null,null,null,null,"Standard rate"]
["Item is liable for VAT that is calculated in a standard way of applying the VAT percentage to the relevant taxable amount, but the VAT percentage rate is 0 (zero).",null,null,null,null,"Zero rated"]
["VAT is not levied due to trade circumstances"]
["Item is exempt from VAT.",null,null,null,null,"Exempt"]
["The VAT tax is not levied to an item that is liable for VAT due to trade circumstances where the Reverse charge VAT rules apply.",null,null,null,null,"Reverse charge"]
["The VAT is not levied to an item that is liable for VAT due to trade circumstances where the rules on Intra-community supply apply.",null,null,null,null,"Intra-community supply"]
["The VAT is not levied to an item that is liable for VAT due to trade circumstances where the rules on export outside of the EU apply.",null,null,null,null,"Export"]
["Other VAT taxes apply"]
["Sale is subject to Canary Island (IGIC) tax.",null,null,null,null,"IGIC"]
["Sale is subject to Ceuta and Melilla (IPSI) tax.",null,null,null,null,"IPSI"]
["VAT is out of scope"]
["Sale is out of scope for VAT.",null,null,null,null,"Out of scope"]

{"sheet":"KoblTab","index":9,"n_rows":2128,"n_cols":11,"rows_kept":2128,"cut":false,"hidden":true,"merged":[[0,10,0,12]]}
["Genererers i rutine nr","Mva \nkode","Produkt\nkode fra","Produkt\nkode til","Produkt\nTillegg\nTrekk","Avdeling","Konto","Drifts-grein","Antall linjer",{"$f":"SUBTOTAL(3,A:A)-1","v":2127},{"$f":"Admin!D1","v":"1.3.6"}]
[1,"O_O",6152,6152,null,30,3050]
[1,"O_O",7111,7111,null,20,3430]
[1,"O_O",7112,7112,null,20,3410]
[1,"O_O",7113,7113,null,20,3420]
[1,"O_O",7114,7114,null,20,3420]
[1,"O_O",7115,7115,null,20,3420]
[1,"O_O",7116,7116,null,20,3420]
[1,"O_O",7117,7117,null,20,3420]
[1,"O_O",7118,7118,null,20,3420]
[1,"O_O",7119,7119,null,20,3430]
[1,"O_O",7125,7125,null,20,3413]
[1,"O_O",7126,7126,null,20,3460]
[1,"O_O",7127,7127,null,20,3460]
[1,"O_O",7131,7131,null,20,3450]
[1,"O_O",7132,7132,null,20,3457]
[1,"O_O",7133,7133,null,20,3457]
[1,"O_O",7134,7134,null,20,3450]
[1,"O_O",7135,7135,null,20,3450]
[1,"O_O",7136,7136,null,20,3450]
[1,"O_O",7141,7141,null,20,3455]
[1,"O_O",7142,7142,null,20,3456]
[1,"O_O",7161,7161,null,20,3430]
[1,"O_O",7171,7171,null,20,3420]
[1,"O_O",7172,7172,null,20,3420]
[1,"O_O",7195,7195,null,20,3499]
[1,"O_O",7196,7196,null,20,3499]
[1,"O_O",7197,7197,null,10,2690]
[1,"O_O",7211,7211,null,20,3441]
[1,"O_O",7212,7212,null,20,3442]
[1,"I_O",8426,8426,null,20,6860]
[1,"I_O",8522,8522,null,20,7402]
[1,"I_O",8527,8527,null,20,6790]
[1,"I_O",8529,8529,null,20,6790]
[1,"I_O",8530,8530,null,20,6840]
[1,"I_O",8560,8560,null,20,7500]
[1,"I_O",8561,8561,null,20,7501]
[1,"I_O",8562,8562,null,20,7502]
[1,"I_O",8563,8563,null,20,7503]
[1,"I_O",8564,8564,null,20,7504]
[1,"I_O",8565,8565,null,20,7509]
[1,"I_O",8566,8566,null,20,7508]
[1,"I_O",8568,8568,null,20,7040]
[1,"I_O",8569,8569,null,30,7505]
[1,"I_O",8579,8579,null,90,7500]
[1,"I_H",4000,4000,null,20,4300]
[1,"I_H",4100,4100,null,20,4300]
[1,"I_H",4110,4110,null,20,4300]
[1,"I_H",4111,4111,null,20,4300]
[1,"I_H",4112,4112,null,20,4300]
[1,"I_H",4113,4113,null,20,4300]
[1,"I_H",4114,4114,null,20,4300]
[1,"I_H",4120,4120,null,20,4300]
[1,"I_H",4121,4121,null,20,4300]
[1,"I_H",4122,4122,null,20,4300]
[1,"I_H",4123,4123,null,20,4300]
[1,"I_H",4124,4124,null,20,4300]
[1,"I_H",4200,4200,null,20,4300]
[1,"I_H",4210,4210,null,20,4300]
[1,"I_H",4220,4220,null,20,4300]
[1,"I_H",4230,4230,null,20,4300]
[1,"I_H",4240,4240,null,20,4300]
[1,"I_H",4250,4250,null,20,4300]
[1,"I_H",4300,4300,null,20,4300]
[1,"I_H",4310,4310,null,20,4300]
[1,"I_H",4311,4311,null,20,4300]
[1,"I_H",4312,4312,null,20,4300]
[1,"I_H",4313,4313,null,20,4300]
[1,"I_H",4314,4314,null,20,4300]
[1,"I_H",4315,4315,null,20,4300]
[1,"I_H",4320,4320,null,20,4300]
[1,"I_H",4321,4321,null,20,4300]
[1,"I_H",4322,4322,null,20,4300]
[1,"I_H",4400,4400,null,20,4300]
[1,"I_H",4410,4410,null,20,4300]
[1,"I_H",4420,4420,null,20,4300]
[1,"I_H",4430,4430,null,20,4300]
[1,"I_H",4440,4440,null,20,4300]
[1,"I_H",4450,4450,null,20,4300]
[1,"I_H",4490,4490,null,20,4300]
[1,"I_H",4500,4500,null,50,4300]
[1,"I_H",4900,4900,null,20,4300]
[1,"I_H",4910,4910,null,20,4300]
[1,"I_H",4920,4920,null,20,4300]
[1,"I_H",4921,4921,null,20,4300]
[1,"I_H",4922,4922,null,20,4300]
[1,"I_H",4930,4930,null,20,4300]
[1,"I_H",4940,4940,null,20,4300]
[1,"I_H",4990,4990,null,20,4300]
[1,"I_S",4000,4000,null,20,4300]
[1,"I_S",4100,4100,null,20,4300]
[1,"I_S",4110,4110,null,20,4300]
[1,"I_S",4111,4111,null,20,4300]
[1,"I_S",4112,4112,null,20,4300]
[1,"I_S",4113,4113,null,20,4300]
[1,"I_S",4114,4114,null,20,4300]
[1,"I_S",4120,4120,null,20,4300]
[1,"I_S",4121,4121,null,20,4300]
[1,"I_S",4122,4122,null,20,4300]
[1,"I_S",4123,4123,null,20,4300]
[1,"I_S",4124,4124,null,20,4300]
[1,"I_S",4200,4200,null,20,4300]
[1,"I_S",4210,4210,null,20,4300]
[1,"I_S",4220,4220,null,20,4300]
[1,"I_S",4230,4230,null,20,4300]
[1,"I_S",4240,4240,null,20,4300]
[1,"I_S",4250,4250,null,20,4300]
[1,"I_S",4300,4300,null,20,4300]
[1,"I_S",4310,4310,null,20,4300]
[1,"I_S",4311,4311,null,20,4300]
[1,"I_S",4312,4312,null,20,4300]
[1,"I_S",4313,4313,null,20,4300]
[1,"I_S",4314,4314,null,20,4300]
[1,"I_S",4315,4315,null,20,4300]
[1,"I_S",4320,4320,null,20,4300]
[1,"I_S",4321,4321,null,20,4300]
[1,"I_S",4322,4322,null,20,4300]
[1,"I_S",4400,4400,null,20,4300]
[1,"I_S",4410,4410,null,20,4300]
[1,"I_S",4420,4420,null,20,4300]
[1,"I_S",4430,4430,null,20,4300]
[1,"I_S",4440,4440,null,20,4300]
[1,"I_S",4450,4450,null,20,4300]
[1,"I_S",4490,4490,null,20,4300]
[1,"I_S",4500,4500,null,50,4300]
[1,"I_S",4900,4900,null,20,4300]
[1,"I_S",4910,4910,null,20,4300]
[1,"I_S",4920,4920,null,20,4300]
[1,"I_S",4921,4921,null,20,4300]
[1,"I_S",4922,4922,null,20,4300]
[1,"I_S",4930,4930,null,20,4300]
[1,"I_S",4940,4940,null,20,4300]
[1,"I_S",4990,4990,null,20,4300]
[1,"I_S",5100,5100,null,20,4600]
[1,"I_S",5112,5112,null,20,4600]
[1,"I_S",5113,5113,null,20,4600]
[1,"I_S",5114,5114,null,20,4600]
[1,"I_S",5115,5115,null,20,4600]
[1,"I_S",5116,5116,null,20,4600]
[1,"I_S",5117,5117,null,20,4600]
[1,"I_S",5118,5118,null,20,4600]
[1,"I_S",5119,5119,null,20,4600]
[1,"I_S",5122,5122,null,20,4600]
[1,"I_S",5123,5123,null,20,4600]
[1,"I_S",5124,5124,null,20,4600]
[1,"I_S",5125,5125,null,20,4600]
[1,"I_S",5126,5126,null,20,4600]
[1,"I_S",5127,5127,null,20,4600]
[1,"I_S",5128,5128,null,20,4600]
[1,"I_S",5129,5129,null,20,4600]
[1,"I_S",5130,5130,null,20,4600]
[1,"I_S",5134,5134,null,20,4600]
[1,"I_S",5135,5135,null,20,4600]
[1,"I_S",5136,5136,null,20,4600]
[1,"I_S",5212,5212,null,20,4600]
[1,"I_S",5215,5215,null,20,4600]
[1,"I_S",5220,5220,null,20,4600]
[1,"I_S",5221,5221,null,20,4600]
[1,"I_S",5222,5222,null,20,4600]
[1,"I_S",5223,5223,null,20,4600]
[1,"I_S",5230,5230,null,20,4600]
[1,"I_S",5231,5231,null,20,4600]
[1,"I_S",5232,5232,null,20,4600]
[1,"I_S",5312,5312,null,20,4600]
[1,"I_S",5313,5313,null,20,4600]
[1,"I_S",5314,5314,null,20,4600]
[1,"I_S",5322,5322,null,20,4600]
[1,"I_S",5323,5323,null,20,4600]
[1,"I_S",5324,5324,null,20,4600]
[1,"I_S",5400,5400,null,20,4600]
[1,"I_S",5410,5410,null,20,4600]
[1,"I_S",5411,5411,null,20,4600]
[1,"I_S",5412,5412,null,20,4600]
[1,"I_S",5415,5415,null,20,4600]
[1,"I_S",5420,5420,null,20,4600]
[1,"I_S",5421,5421,null,20,4600]
[1,"I_S",5425,5425,null,20,4600]
[1,"I_S",5426,5426,null,20,4600]
[1,"I_S",5427,5427,null,20,4600]
[1,"I_S",5430,5430,null,20,4600]
[1,"I_S",5431,5431,null,20,4600]
[1,"I_S",5440,5440,null,20,4600]
[1,"I_S",5441,5441,null,20,4600]
[1,"I_S",5442,5442,null,20,4600]
[1,"I_S",5445,5445,null,20,4600]
[1,"I_S",5490,5490,null,20,4600]
[1,"I_S",5491,5491,null,20,4600]
[1,"I_S",5492,5492,null,20,4600]
[1,"I_S",5499,5499,null,20,4600]
[1,"I_S",5500,5500,null,20,4600]
[1,"I_S",5510,5510,null,20,4600]
[1,"I_S",5511,5511,null,20,4600]
[1,"I_S",5512,5512,null,20,4600]
[1,"I_S",5513,5513,null,20,4600]
[1,"I_S",5514,5514,null,20,4600]
[1,"I_S",5520,5520,null,20,4600]
[1,"I_S",5521,5521,null,20,4600]
[1,"I_S",5522,5522,null,20,4600]
[1,"I_S",5523,5523,null,20,4600]
[1,"I_S",5524,5524,null,20,4600]
[1,"I_S",5530,5530,null,20,4600]
[1,"I_S",5540,5540,null,20,4600]
[1,"I_S",5541,5541,null,20,4600]
[1,"I_S",5600,5600,null,50,4600]
[1,"I_S",5610,5610,null,50,4600]
[1,"I_S",5620,5620,null,50,4600]
[1,"I_S",5621,5621,null,50,4600]
[1,"I_S",5622,5622,null,50,4600]
[1,"I_S",5629,5629,null,50,4600]
[1,"I_S",5690,5690,null,50,4600]
[1,"I_S",5691,5691,null,50,4600]
[1,"I_S",5692,5692,null,50,4600]
[1,"I_S",5700,5700,null,20,4600]
[1,"I_S",5710,5710,null,20,4600]
[1,"I_S",5711,5711,null,20,4600]
[1,"I_S",5712,5712,null,20,4600]
[1,"I_S",5720,5720,null,20,4600]
[1,"I_S",5721,5721,null,20,4600]
[1,"I_S",5722,5722,null,20,4600]
[1,"I_S",5730,5730,null,20,4600]
[1,"I_S",5740,5740,null,20,4600]
[1,"I_S",5741,5741,null,20,4600]
[1,"I_S",5742,5742,null,20,4600]
[1,"I_S",5750,5750,null,20,4600]
[1,"I_S",5790,5790,null,20,4600]
[1,"I_S",8110,8110,null,20,4450]
[1,"I_S",8111,8111,null,20,4451]
[1,"I_S",8112,8112,null,20,4451]
[1,"I_S",8113,8113,null,20,4451]
[1,"I_S",8114,8114,null,20,4451]
[1,"I_S",8115,8115,null,20,4451]
[1,"I_S",8116,8116,null,20,4451]
[1,"I_S",8117,8117,null,20,4457]
[1,"I_S",8118,8118,null,20,4451]
[1,"I_S",8119,8119,null,20,4451]
[1,"I_S",8120,8120,null,20,4410]
[1,"I_S",8121,8121,null,20,4410]
[1,"I_S",8122,8122,null,20,4410]
[1,"I_S",8123,8123,null,20,4410]
[1,"I_S",8124,8124,null,20,4410]
[1,"I_S",8125,8125,null,20,4410]
[1,"I_S",8126,8126,null,20,4410]
[1,"I_S",8129,8129,null,20,4410]
[1,"I_S",8130,8130,null,20,4480]
[1,"I_S",8131,8131,null,20,4480]
[1,"I_S",8132,8132,null,20,4480]
[1,"I_S",8139,8139,null,20,4480]
[1,"I_S",8140,8140,null,20,4001]
[1,"I_S",8141,8141,null,20,4001]
[1,"I_S",8142,8142,null,20,4001]
[1,"I_S",8143,8143,null,20,4001]
[1,"I_S",8144,8144,null,20,4010]
[1,"I_S",8145,8145,null,20,4110]
[1,"I_S",8146,8146,null,20,4150]
[1,"I_S",8147,8147,null,20,4150]
[1,"I_S",8148,8148,null,30,4010]
[1,"I_S",8191,8191,null,20,4444]
[1,"I_S",8192,8192,null,20,4431]
[1,"I_S",8193,8193,null,20,6560]
[1,"I_S",8200,8200,null,20,4020]
[1,"I_S",8210,8210,null,20,4020]
[1,"I_S",8211,8211,null,20,4020]
[1,"I_S",8212,8212,null,20,4020]
[1,"I_S",8213,8213,null,20,4020]
[1,"I_S",8214,8214,null,20,4020]
[1,"I_S",8215,8215,null,20,4020]
[1,"I_S",8216,8216,null,20,4020]
[1,"I_S",8218,8218,null,50,4020]
[1,"I_S",8219,8219,null,20,4020]
[1,"I_S",8220,8220,null,20,4040]
[1,"I_S",8221,8221,null,20,4040]
[1,"I_S",8222,8222,null,20,4040]
[1,"I_S",8223,8223,null,20,4040]
[1,"I_S",8224,8224,null,20,4040]
[1,"I_S",8225,8225,null,20,4040]
[1,"I_S",8226,8226,null,20,4040]
[1,"I_S",8229,8229,null,20,4040]
[1,"I_S",8230,8230,null,20,4030]
[1,"I_S",8240,8240,null,20,4420]
[1,"I_S",8241,8241,null,20,4420]
[1,"I_S",8291,8291,null,20,4432]
[1,"I_S",8292,8292,null,20,6604]
[1,"I_S",8299,8299,null,20,6520]
[1,"I_S",8310,8310,null,20,4549]
[1,"I_S",8311,8311,null,20,4549]
[1,"I_S",8312,8312,null,20,4561]
[1,"I_S",8313,8313,null,20,4549]
[1,"I_S",8314,8314,null,20,6860]
[1,"I_S",8320,8320,null,20,4549]
[1,"I_S",8321,8321,null,20,4541]
[1,"I_S",8322,8322,null,20,4542]
[1,"I_S",8323,8323,null,20,4543]
[1,"I_S",8329,8329,null,20,4549]
[1,"I_S",8330,8330,null,20,4550]
[1,"I_S",8331,8331,null,20,4550]
[1,"I_S",8339,8339,null,20,4550]
[1,"I_S",8351,8351,null,30,4510]
[1,"I_S",8352,8352,null,30,4520]
[1,"I_S",8410,8410,null,20,4521]
[1,"I_S",8411,8411,null,20,4521]
[1,"I_S",8412,8412,null,20,4522]
[1,"I_S",8413,8413,null,20,4521]
[1,"I_S",8420,8420,null,20,4531]
[1,"I_S",8421,8421,null,20,4531]
[1,"I_S",8422,8422,null,20,4531]
[1,"I_S",8423,8423,null,20,4539]
[1,"I_S",8424,8424,null,20,4531]
[1,"I_S",8425,8425,null,20,4531]
[1,"I_S",8426,8426,null,20,6860]
[1,"I_S",8450,8450,null,20,4570]
[1,"I_S",8451,8451,null,20,4570]
[1,"I_S",8452,8452,null,20,4570]
[1,"I_S",8521,8521,null,20,6800]
[1,"I_S",8522,8522,null,20,7401]
[1,"I_S",8523,8523,null,20,4432]
[1,"I_S",8524,8524,null,20,6705]
[1,"I_S",8525,8525,null,20,6722]
[1,"I_S",8526,8526,null,20,6721]
[1,"I_S",8527,8527,null,20,6790]
[1,"I_S",8528,8528,null,20,6790]
[1,"I_S",8529,8529,null,20,6790]
[1,"I_S",8530,8530,null,20,6800]
[1,"I_S",8531,8531,null,20,6800]
[1,"I_S",8532,8532,null,20,6810]
[1,"I_S",8533,8533,null,20,6860]
[1,"I_S",8541,8541,null,20,6900]
[1,"I_S",8654,8654,null,20,6640]
[1,"I_S",8721,8721,null,20,6200]
[1,"I_S",8722,8722,null,20,6210]
[1,"I_S",8723,8723,null,20,6220]
[1,"I_S",8724,8724,null,20,6240]
[1,"I_S",8725,8725,null,20,6250]
[1,"I_S",8728,8728,null,20,6201]
[1,"I_S",8729,8729,null,20,6290]
[1,"I_S",8730,8730,null,20,7000]
[1,"I_S",8731,8731,null,20,7001]
[1,"I_S",8732,8732,null,20,7003]
[1,"I_S",8733,8733,null,20,7005]
[1,"I_S",8753,8753,null,20,6560]
[1,"I_S",8999,8999,null,10,2069]
[1,"O_Z",3100,3100,null,20,3163]
[1,"O_Z",3110,3110,null,20,3163]
[1,"O_Z",3120,3120,null,20,3163]
[1,"O_Z",3130,3130,null,20,3163]
[1,"O_Z",3190,3190,null,20,3163]
[1,"O_Z",3200,3200,null,20,3163]
[1,"O_Z",3210,3210,null,20,3163]
[1,"O_Z",3220,3220,null,20,3163]
[1,"O_Z",3230,3230,null,20,3163]
[1,"O_Z",3290,3290,null,20,3163]
[1,"O_Z",3300,3300,null,20,3163]
[1,"O_Z",3310,3310,null,20,3163]
[1,"O_Z",3330,3330,null,20,3163]
[1,"O_Z",3390,3390,null,20,3163]
[1,"O_Z",3400,3400,null,20,3163]
[1,"O_Z",3410,3410,null,20,3163]
[1,"O_Z",3420,3420,null,20,3163]
[1,"O_Z",3430,3430,null,20,3163]
[1,"O_Z",3431,3431,null,20,3163]
[1,"O_Z",3432,3432,null,20,3163]
[1,"O_Z",3440,3440,null,20,3163]
[1,"O_Z",3490,3490,null,20,3163]
[1,"O_Z",4000,4000,null,20,3162]
[1,"O_Z",4100,4100,null,20,3162]
[1,"O_Z",4110,4110,null,20,3162]
[1,"O_Z",4111,4111,null,20,3162]
[1,"O_Z",4112,4112,null,20,3162]
[1,"O_Z",4113,4113,null,20,3162]
[1,"O_Z",4114,4114,null,20,3162]
[1,"O_Z",4120,4120,null,20,3162]
[1,"O_Z",4121,4121,null,20,3162]
[1,"O_Z",4122,4122,null,20,3162]
[1,"O_Z",4123,4123,null,20,3162]
[1,"O_Z",4124,4124,null,20,3162]
[1,"O_Z",4200,4200,null,20,3162]
[1,"O_Z",4210,4210,null,20,3162]
[1,"O_Z",4220,4220,null,20,3162]
[1,"O_Z",4230,4230,null,20,3162]
[1,"O_Z",4240,4240,null,20,3162]
[1,"O_Z",4250,4250,null,20,3162]
[1,"O_Z",4300,4300,null,20,3162]
[1,"O_Z",4310,4310,null,20,3162]
[1,"O_Z",4311,4311,null,20,3162]
[1,"O_Z",4312,4312,null,20,3162]
[1,"O_Z",4313,4313,null,20,3162]
[1,"O_Z",4314,4314,null,20,3162]
[1,"O_Z",4315,4315,null,20,3162]
[1,"O_Z",4320,4320,null,20,3162]
[1,"O_Z",4321,4321,null,20,3162]
[1,"O_Z",4322,4322,null,20,3162]
[1,"O_Z",4400,4400,null,20,3162]
[1,"O_Z",4410,4410,null,20,3162]
[1,"O_Z",4420,4420,null,20,3162]
[1,"O_Z",4430,4430,null,20,3162]
[1,"O_Z",4440,4440,null,20,3162]
[1,"O_Z",4450,4450,null,20,3162]
[1,"O_Z",4490,4490,null,20,3162]
[1,"O_Z",4500,4500,null,50,3162]
[1,"O_Z",4900,4900,null,20,3162]
[1,"O_Z",4910,4910,null,20,3162]
[1,"O_Z",4920,4920,null,20,3162]
[1,"O_Z",4921,4921,null,20,3162]
[1,"O_Z",4922,4922,null,20,3162]
[1,"O_Z",4930,4930,null,20,3162]
[1,"O_Z",4940,4940,null,20,3162]
[1,"O_Z",4990,4990,null,20,3162]
[1,"O_H",2100,2100,null,20,3011]
[1,"O_H",2200,2200,null,20,3015]
[1,"O_H",2210,2210,null,20,3015]
[1,"O_H",2240,2240,null,20,3015]
[1,"O_H",2270,2270,null,20,3015]
[1,"O_H",2310,2310,null,20,3015]
[1,"O_H",2330,2330,null,20,3015]
[1,"O_H",2350,2350,null,20,3015]
[1,"O_H",2380,2380,null,20,3015]
[1,"O_H",2390,2390,null,20,3015]
[1,"O_H",2410,2410,null,20,3015]
[1,"O_H",2440,2440,null,20,3015]
[1,"O_H",2450,2450,null,20,3015]
[1,"O_H",2480,2480,null,20,3015]
[1,"O_H",2500,2500,null,20,3021]
[1,"O_H",2510,2510,null,20,3021]
[1,"O_H",2520,2520,null,20,3021]
[1,"O_H",2530,2530,null,20,3021]
[1,"O_H",2540,2540,null,20,3021]
[1,"O_H",2550,2550,null,20,3021]
[1,"O_H",2590,2590,null,20,3021]
[1,"O_H",2600,2600,null,20,3025]
[1,"O_H",2610,2610,null,20,3025]
[1,"O_H",2620,2620,null,20,3025]
[1,"O_H",2621,2621,null,20,3025]
[1,"O_H",2622,2622,null,20,3025]
[1,"O_H",2623,2623,null,20,3025]
[1,"O_H",2630,2630,null,20,3025]
[1,"O_H",2631,2631,null,20,3025]
[1,"O_H",2632,2632,null,20,3025]
[1,"O_H",2633,2633,null,20,3025]
[1,"O_H",2640,2640,null,20,3025]
[1,"O_H",2641,2641,null,20,3025]
[1,"O_H",2642,2642,null,20,3025]
[1,"O_H",2650,2650,null,20,3025]
[1,"O_H",2660,2660,null,20,3025]
[1,"O_H",2690,2690,null,20,3025]
[1,"O_H",3200,3200,null,20,3075]
[1,"O_H",3210,3210,null,20,3075]
[1,"O_H",3290,3290,null,20,3075]
[1,"O_S",1100,1100,null,20,3001]
[1,"O_S",1110,1110,null,20,3001]
[1,"O_S",1111,1111,null,20,3001]
[1,"O_S",1112,1112,null,20,3001]
[1,"O_S",1120,1120,null,20,3001]
[1,"O_S",1121,1121,null,20,3001]
[1,"O_S",1122,1122,null,20,3001]
[1,"O_S",1130,1130,null,20,3001]
[1,"O_S",1140,1140,null,20,3001]
[1,"O_S",1150,1150,null,20,3001]
[1,"O_S",1160,1160,null,20,3001]
[1,"O_S",1161,1161,null,20,3001]
[1,"O_S",1162,1162,null,20,3001]
[1,"O_S",1165,1165,null,20,3001]
[1,"O_S",1190,1190,null,20,3001]
[1,"O_S",1200,1200,null,20,3001]
[1,"O_S",1210,1210,null,20,3001]
[1,"O_S",1220,1220,null,20,3001]
[1,"O_S",1221,1221,null,20,3001]
[1,"O_S",1222,1222,null,20,3001]
[1,"O_S",1223,1223,null,20,3001]
[1,"O_S",1224,1224,null,20,3001]
[1,"O_S",1225,1225,null,20,3001]
[1,"O_S",1229,1229,null,20,3001]
[1,"O_S",1230,1230,null,20,3001]
[1,"O_S",1240,1240,null,20,3001]
[1,"O_S",1250,1250,null,20,3001]
[1,"O_S",1260,1260,null,20,3001]
[1,"O_S",1270,1270,null,20,3001]
[1,"O_S",1280,1280,null,20,3001]
[1,"O_S",1281,1281,null,20,3001]
[1,"O_S",1282,1282,null,20,3001]
[1,"O_S",1283,1283,null,20,3001]
[1,"O_S",1290,1290,null,20,3001]
[1,"O_S",1300,1300,null,20,3001]
[1,"O_S",1310,1310,null,20,3001]
[1,"O_S",1320,1320,null,20,3001]
[1,"O_S",1330,1330,null,20,3001]
[1,"O_S",1390,1390,null,20,3001]
[1,"O_S",1400,1400,null,20,3001]
[1,"O_S",1410,1410,null,20,3001]
[1,"O_S",1420,1420,null,20,3001]
[1,"O_S",1430,1430,null,20,3001]
[1,"O_S",1440,1440,null,20,3001]
[1,"O_S",1450,1450,null,20,3001]
[1,"O_S",1460,1460,null,20,3001]
[1,"O_S",1490,1490,null,20,3001]
[1,"O_S",1500,1500,null,20,3005]
[1,"O_S",1510,1510,null,20,3005]
[1,"O_S",1511,1511,null,20,3005]
[1,"O_S",1512,1512,null,20,3005]
[1,"O_S",1513,1513,null,20,3005]
[1,"O_S",1520,1520,null,20,3005]
[1,"O_S",1521,1521,null,20,3005]
[1,"O_S",1522,1522,null,20,3005]
[1,"O_S",1523,1523,null,20,3005]
[1,"O_S",1530,1530,null,20,3005]
[1,"O_S",1531,1531,null,20,3005]
[1,"O_S",1532,1532,null,20,3005]
[1,"O_S",1540,1540,null,20,3005]
[1,"O_S",1541,1541,null,20,3005]
[1,"O_S",1542,1542,null,20,3005]
[1,"O_S",1543,1543,null,20,3005]
[1,"O_S",1550,1550,null,20,3005]
[1,"O_S",1551,1551,null,20,3005]
[1,"O_S",1552,1552,null,20,3005]
[1,"O_S",1560,1560,null,20,3005]
[1,"O_S",1590,1590,null,20,3005]
[1,"O_S",2100,2100,null,20,3014]
[1,"O_S",2200,2200,null,20,3019]
[1,"O_S",2210,2210,null,20,3019]
[1,"O_S",2240,2240,null,20,3019]
[1,"O_S",2270,2270,null,20,3019]
[1,"O_S",2310,2310,null,20,3019]
[1,"O_S",2330,2330,null,20,3019]
[1,"O_S",2350,2350,null,20,3019]
[1,"O_S",2380,2380,null,20,3019]
[1,"O_S",2390,2390,null,20,3019]
[1,"O_S",2410,2410,null,20,3019]
[1,"O_S",2440,2440,null,20,3019]
[1,"O_S",2450,2450,null,20,3019]
[1,"O_S",2480,2480,null,20,3019]
[1,"O_S",2500,2500,null,20,3024]
[1,"O_S",2510,2510,null,20,3024]
[1,"O_S",2520,2520,null,20,3024]
[1,"O_S",2530,2530,null,20,3024]
[1,"O_S",2540,2540,null,20,3024]
[1,"O_S",2550,2550,null,20,3024]
[1,"O_S",2590,2590,null,20,3024]
[1,"O_S",2600,2600,null,20,3029]
[1,"O_S",2610,2610,null,20,3029]
[1,"O_S",2620,2620,null,20,3029]
[1,"O_S",2621,2621,null,20,3029]
[1,"O_S",2622,2622,null,20,3029]
[1,"O_S",2623,2623,null,20,3029]
[1,"O_S",2630,2630,null,20,3029]
[1,"O_S",2631,2631,null,20,3029]
[1,"O_S",2632,2632,null,20,3029]
[1,"O_S",2633,2633,null,20,3029]
[1,"O_S",2640,2640,null,20,3029]
[1,"O_S",2641,2641,null,20,3029]
[1,"O_S",2642,2642,null,20,3029]
[1,"O_S",2650,2650,null,20,3029]
[1,"O_S",2660,2660,null,20,3029]
[1,"O_S",2690,2690,null,20,3029]
[1,"O_S",2800,2800,null,20,3031]
[1,"O_S",2810,2810,null,20,3031]
[1,"O_S",2820,2820,null,20,3031]
[1,"O_S",2830,2830,null,20,3031]
[1,"O_S",2840,2840,null,20,3031]
[1,"O_S",2850,2850,null,20,3031]
[1,"O_S",2860,2860,null,20,3031]
[1,"O_S",3100,3100,null,20,3071]
[1,"O_S",3110,3110,null,20,3071]
[1,"O_S",3120,3120,null,20,3071]
[1,"O_S",3130,3130,null,20,3071]
[1,"O_S",3190,3190,null,20,3071]
[1,"O_S",3200,3200,null,20,3076]
[1,"O_S",3210,3210,null,20,3076]
[1,"O_S",3220,3220,null,20,3076]
[1,"O_S",3230,3230,null,20,3076]
[1,"O_S",3290,3290,null,20,3076]
[1,"O_S",3300,3300,null,20,3076]
[1,"O_S",3310,3310,null,20,3076]
[1,"O_S",3330,3330,null,20,3076]
[1,"O_S",3390,3390,null,20,3076]
[1,"O_S",3400,3400,null,20,3079]
[1,"O_S",3410,3410,null,20,3079]
[1,"O_S",3420,3420,null,20,3079]
[1,"O_S",3430,3430,null,20,3079]
[1,"O_S",3431,3431,null,20,3079]
[1,"O_S",3432,3432,null,20,3079]
[1,"O_S",3440,3440,null,20,3079]
[1,"O_S",3490,3490,null,20,3079]
[1,"O_S",3500,3500,null,50,3000]
[1,"O_S",3510,3510,null,50,3000]
[1,"O_S",3520,3520,null,50,3000]
[1,"O_S",3521,3521,null,50,3000]
[1,"O_S",3522,3522,null,50,3000]
[1,"O_S",3529,3529,null,50,3000]
[1,"O_S",3590,3590,null,50,3000]
[1,"O_S",3591,3591,null,50,3000]
[1,"O_S",3592,3592,null,50,3000]
[1,"O_S",3599,3599,null,50,3000]
[1,"O_S",3900,3900,null,20,3079]
[1,"O_S",4000,4000,null,20,3041]
[1,"O_S",4100,4100,null,20,3041]
[1,"O_S",4110,4110,null,20,3041]
[1,"O_S",4111,4111,null,20,3041]
[1,"O_S",4112,4112,null,20,3041]
[1,"O_S",4113,4113,null,20,3041]
[1,"O_S",4114,4114,null,20,3041]
[1,"O_S",4120,4120,null,20,3041]
[1,"O_S",4121,4121,null,20,3041]
[1,"O_S",4122,4122,null,20,3041]
[1,"O_S",4123,4123,null,20,3041]
[1,"O_S",4124,4124,null,20,3041]
[1,"O_S",4200,4200,null,20,3041]
[1,"O_S",4210,4210,null,20,3041]
[1,"O_S",4220,4220,null,20,3041]
[1,"O_S",4230,4230,null,20,3041]
[1,"O_S",4240,4240,null,20,3041]
[1,"O_S",4250,4250,null,20,3041]
[1,"O_S",4300,4300,null,20,3041]
[1,"O_S",4310,4310,null,20,3041]
[1,"O_S",4311,4311,null,20,3041]
[1,"O_S",4312,4312,null,20,3041]
[1,"O_S",4313,4313,null,20,3041]
[1,"O_S",4314,4314,null,20,3041]
[1,"O_S",4315,4315,null,20,3041]
[1,"O_S",4320,4320,null,20,3041]
[1,"O_S",4321,4321,null,20,3041]
[1,"O_S",4322,4322,null,20,3041]
[1,"O_S",4400,4400,null,20,3041]
[1,"O_S",4410,4410,null,20,3041]
[1,"O_S",4420,4420,null,20,3041]
[1,"O_S",4430,4430,null,20,3041]
[1,"O_S",4440,4440,null,20,3041]
[1,"O_S",4450,4450,null,20,3041]
[1,"O_S",4490,4490,null,20,3041]
[1,"O_S",4500,4500,null,50,3041]
[1,"O_S",4900,4900,null,20,3041]
[1,"O_S",4910,4910,null,20,3041]
[1,"O_S",4920,4920,null,20,3041]
[1,"O_S",4921,4921,null,20,3041]
[1,"O_S",4922,4922,null,20,3041]
[1,"O_S",4930,4930,null,20,3041]
[1,"O_S",4940,4940,null,20,3041]
[1,"O_S",4990,4990,null,20,3041]
[1,"O_S",5100,5100,null,20,3051]
[1,"O_S",5112,5112,null,20,3051]
[1,"O_S",5113,5113,null,20,3051]
[1,"O_S",5114,5114,null,20,3051]
[1,"O_S",5115,5115,null,20,3051]
[1,"O_S",5116,5116,null,20,3051]
[1,"O_S",5117,5117,null,20,3051]
[1,"O_S",5118,5118,null,20,3051]
[1,"O_S",5119,5119,null,20,3051]
[1,"O_S",5122,5122,null,20,3051]
[1,"O_S",5123,5123,null,20,3051]
[1,"O_S",5124,5124,null,20,3051]
[1,"O_S",5125,5125,null,20,3051]
[1,"O_S",5126,5126,null,20,3051]
[1,"O_S",5127,5127,null,20,3051]
[1,"O_S",5128,5128,null,20,3051]
[1,"O_S",5129,5129,null,20,3051]
[1,"O_S",5130,5130,null,20,3051]
[1,"O_S",5134,5134,null,20,3051]
[1,"O_S",5135,5135,null,20,3051]
[1,"O_S",5136,5136,null,20,3051]
[1,"O_S",5212,5212,null,20,3051]
[1,"O_S",5215,5215,null,20,3051]
[1,"O_S",5220,5220,null,20,3051]
[1,"O_S",5221,5221,null,20,3051]
[1,"O_S",5222,5222,null,20,3051]
[1,"O_S",5223,5223,null,20,3051]
[1,"O_S",5230,5230,null,20,3051]
[1,"O_S",5231,5231,null,20,3051]
[1,"O_S",5232,5232,null,20,3051]
[1,"O_S",5312,5312,null,20,3051]
[1,"O_S",5313,5313,null,20,3051]
[1,"O_S",5314,5314,null,20,3051]
[1,"O_S",5322,5322,null,20,3051]
[1,"O_S",5323,5323,null,20,3051]
[1,"O_S",5324,5324,null,20,3051]
[1,"O_S",5400,5400,null,20,3051]
[1,"O_S",5410,5410,null,20,3051]
[1,"O_S",5411,5411,null,20,3051]
[1,"O_S",5412,5412,null,20,3051]
[1,"O_S",5415,5415,null,20,3051]
[1,"O_S",5420,5420,null,20,3051]
[1,"O_S",5421,5421,null,20,3051]
[1,"O_S",5425,5425,null,20,3051]
[1,"O_S",5426,5426,null,20,3051]
[1,"O_S",5427,5427,null,20,3051]
[1,"O_S",5430,5430,null,20,3051]
[1,"O_S",5431,5431,null,20,3051]
[1,"O_S",5440,5440,null,20,3051]
[1,"O_S",5441,5441,null,20,3051]
[1,"O_S",5442,5442,null,20,3051]
[1,"O_S",5445,5445,null,20,3051]
[1,"O_S",5490,5490,null,20,3051]
[1,"O_S",5491,5491,null,20,3051]
[1,"O_S",5492,5492,null,20,3051]
[1,"O_S",5499,5499,null,20,3051]
[1,"O_S",5500,5500,null,20,3051]
[1,"O_S",5510,5510,null,20,3051]
[1,"O_S",5511,5511,null,20,3051]
[1,"O_S",5512,5512,null,20,3051]
[1,"O_S",5513,5513,null,20,3051]
[1,"O_S",5514,5514,null,20,3051]
[1,"O_S",5520,5520,null,20,3051]
[1,"O_S",5521,5521,null,20,3051]
[1,"O_S",5522,5522,null,20,3051]
[1,"O_S",5523,5523,null,20,3051]
[1,"O_S",5524,5524,null,20,3051]
[1,"O_S",5530,5530,null,20,3051]
[1,"O_S",5540,5540,null,20,3051]
[1,"O_S",5541,5541,null,20,3051]
[1,"O_S",5600,5600,null,50,3050]
[1,"O_S",5610,5610,null,50,3050]
[1,"O_S",5620,5620,null,50,3050]
[1,"O_S",5621,5621,null,50,3050]
[1,"O_S",5622,5622,null,50,3050]
[1,"O_S",5629,5629,null,50,3050]
[1,"O_S",5690,5690,null,50,3050]
[1,"O_S",5691,5691,null,50,3050]
[1,"O_S",5692,5692,null,50,3050]
[1,"O_S",5700,5700,null,20,3051]
[1,"O_S",5710,5710,null,20,3051]
[1,"O_S",5711,5711,null,20,3051]
[1,"O_S",5712,5712,null,20,3051]
[1,"O_S",5720,5720,null,20,3051]
[1,"O_S",5721,5721,null,20,3051]
[1,"O_S",5722,5722,null,20,3051]
[1,"O_S",5730,5730,null,20,3051]
[1,"O_S",5740,5740,null,20,3051]
[1,"O_S",5741,5741,null,20,3051]
[1,"O_S",5742,5742,null,20,3051]
[1,"O_S",5750,5750,null,20,3051]
[1,"O_S",5790,5790,null,20,3051]
[1,"O_S",6110,6110,null,30,3000]
[1,"O_S",6111,6111,null,30,3000]
[1,"O_S",6112,6112,null,30,3000]
[1,"O_S",6113,6113,null,30,3000]
[1,"O_S",6114,6114,null,30,3000]
[1,"O_S",6120,6120,null,30,3010]
[1,"O_S",6121,6121,null,30,3010]
[1,"O_S",6122,6122,null,30,3010]
[1,"O_S",6123,6123,null,30,3010]
[1,"O_S",6124,6124,null,30,3010]
[1,"O_S",6125,6125,null,30,3010]
[1,"O_S",6130,6130,null,30,3030]
[1,"O_S",6131,6131,null,30,3030]
[1,"O_S",6132,6132,null,30,3030]
[1,"O_S",6133,6133,null,30,3030]
[1,"O_S",6134,6134,null,30,3030]
[1,"O_S",6135,6135,null,30,3030]
[1,"O_S",6140,6140,null,30,3020]
[1,"O_S",6141,6141,null,30,3020]
[1,"O_S",6142,6142,null,30,3020]
[1,"O_S",6143,6143,null,30,3020]
[1,"O_S",6144,6144,null,30,3020]
[1,"O_S",6145,6145,null,30,3020]
[1,"O_S",6150,6150,null,30,3025]
[1,"O_S",6151,6151,null,30,3025]
[1,"O_S",6152,6152,null,30,3025]
[1,"O_S",6153,6153,null,30,3046]
[1,"O_S",6154,6154,null,30,3046]
[1,"O_S",6155,6155,null,30,3046]
[1,"O_S",6156,6156,null,30,3046]
[1,"O_S",6160,6160,null,30,3070]
[1,"O_S",6161,6161,null,30,3070]
[1,"O_S",6170,6170,null,30,3045]
[1,"O_S",6171,6171,null,30,3045]
[1,"O_S",6172,6172,null,30,3045]
[1,"O_S",6173,6173,null,30,3045]
[1,"O_S",6174,6174,null,30,3045]
[1,"O_S",6175,6175,null,30,3045]
[1,"O_S",6190,6190,null,30,3094]
[1,"O_S",6191,6191,null,30,3094]
[2,"O_O",1100,1499,14004,20,3905]
[2,"O_O",2100,2199,24003,10,2900]
[2,"O_O",2100,2199,24004,10,2900]
[2,"O_O",2100,2199,26021,10,1355]
[2,"O_O",3000,3199,31011,10,1579]
[2,"O_O",3000,3199,32009,10,2990]
[2,"O_O",3000,3199,34001,20,3903]
[2,"O_O",3000,3199,34002,20,3903]
[2,"O_O",3000,3199,34005,10,8079]
[2,"O_O",3000,3199,34006,20,3902]
[2,"O_O",3000,3199,35003,20,3281]
[2,"O_O",3000,3199,36012,10,2990]
[2,"O_O",3000,3199,36013,10,1355]
[2,"O_O",3000,3199,36014,10,1355]
[2,"O_O",3000,3199,36015,10,2990]
[2,"O_O",3000,3199,36017,10,2900]
[2,"O_O",4000,4499,44002,20,3902]
[2,"O_O",4000,4499,45007,20,3281]
[2,"O_O",5000,5599,54003,20,3902]
[2,"O_O",6100,6199,61005,30,3200]
[2,"O_O",6100,6199,62004,10,1355]
[2,"O_O",6100,6199,64002,30,3905]
[2,"O_O",6100,6199,66007,10,2900]
[2,"O_O",7910,7910,76001,10,1355]
[2,"O_O",7910,7910,76002,10,1579]
[2,"O_O",7910,7910,76021,10,2290]
[2,"O_O",7910,7910,76041,10,2900]
[2,"O_O",7910,7910,76042,10,2990]
[2,"O_O",7910,7910,76043,10,2600]
[2,"O_O",7910,7910,76044,10,2610]
[2,"O_O",7910,7910,76045,10,2620]
[2,"O_O",7910,7910,76046,10,2630]
[2,"O_O",7910,7910,76047,10,2640]
[2,"O_O",7910,7910,76048,10,2650]
[2,"O_O",7910,7910,76049,10,2690]
[2,"O_O",7910,7910,76061,20,3905]
[2,"O_O",7910,7910,76062,20,3905]
[2,"O_O",7910,7910,76063,10,8059]
[2,"O_O",7910,7910,76064,10,8075]
[2,"O_O",7910,7910,76065,10,8079]
[2,"O_O",8110,8116,84001,10,8055]
[2,"O_O",8110,8116,84002,10,8059]
[2,"O_O",8110,8116,84004,20,3903]
[2,"O_O",8110,8116,86009,10,1355]
[2,"I_O",1100,1499,13001,20,4548]
[2,"I_O",1100,1499,16004,20,6300]
[2,"I_O",2100,2199,22015,20,4443]
[2,"I_O",2100,2199,22016,20,4442]
[2,"I_O",2100,2199,22019,20,4518]
[2,"I_O",2100,2199,23002,20,4518]
[2,"I_O",2100,2199,23006,20,4518]
[2,"I_O",2100,2199,23007,20,7402]
[2,"I_O",2100,2199,26008,20,6300]
[2,"I_O",2100,2199,26014,20,4518]
[2,"I_O",3000,3199,32009,10,2990]
[2,"I_O",3000,3199,36022,10,2064]
[2,"I_O",4000,4499,46013,10,2064]
[2,"I_O",6100,6199,62001,30,7761]
[2,"I_O",6100,6199,62003,30,4510]
[2,"I_O",6100,6199,63001,30,7781]
[2,"I_O",6100,6199,63002,30,7792]
[2,"I_O",6100,6199,66001,30,7782]
[2,"I_O",6100,6199,66002,30,7782]
[2,"I_O",6100,6199,66003,30,4510]
[2,"I_O",6100,6199,66004,30,4510]
[2,"I_O",6100,6199,66006,30,4510]
[2,"I_O",7910,7910,76081,10,8155]
[2,"I_O",7910,7910,76082,10,8159]
[2,"I_O",7910,7910,76083,10,8179]
[2,"I_O",8110,8116,84001,10,8155]
[2,"I_H",2100,2199,22003,20,4512]
[2,"I_H",2100,2199,22005,20,4512]
[2,"I_H",2100,2199,22018,20,4512]
[2,"I_H",2100,2199,22021,20,6100]
[2,"I_H",2100,2199,26002,20,6100]
[2,"I_H",2100,2199,26016,20,6100]
[2,"I_H",3000,3199,36021,10,2069]
[2,"I_H",4000,4499,46007,20,4300]
[2,"I_S",1100,1499,12001,20,4549]
[2,"I_S",1100,1499,12004,20,6100]
[2,"I_S",1100,1499,13001,20,4549]
[2,"I_S",1100,1499,16001,20,4460]
[2,"I_S",1100,1499,16004,20,6300]
[2,"I_S",1100,1499,16005,20,4543]
[2,"I_S",1100,1499,16014,20,7770]
[2,"I_S",1100,1499,16016,20,4549]
[2,"I_S",2100,2199,21008,20,4511]
[2,"I_S",2100,2199,22003,20,4511]
[2,"I_S",2100,2199,22004,20,4511]
[2,"I_S",2100,2199,22005,20,4511]
[2,"I_S",2100,2199,22008,20,4511]
[2,"I_S",2100,2199,22011,20,4511]
[2,"I_S",2100,2199,22013,20,4441]
[2,"I_S",2100,2199,22014,20,4441]
[2,"I_S",2100,2199,22015,20,4441]
[2,"I_S",2100,2199,22018,20,4511]
[2,"I_S",2100,2199,22019,20,4511]
[2,"I_S",2100,2199,22020,20,4511]
[2,"I_S",2100,2199,22021,20,6100]
[2,"I_S",2100,2199,22023,20,4511]
[2,"I_S",2100,2199,23001,20,4511]
[2,"I_S",2100,2199,23002,20,4511]
[2,"I_S",2100,2199,23003,20,4511]
[2,"I_S",2100,2199,23006,20,4511]
[2,"I_S",2100,2199,26001,20,4444]
[2,"I_S",2100,2199,26002,20,6100]
[2,"I_S",2100,2199,26004,20,4511]
[2,"I_S",2100,2199,26005,20,4110]
[2,"I_S",2100,2199,26006,20,4110]
[2,"I_S",2100,2199,26008,20,4511]
[2,"I_S",2100,2199,26009,20,4549]
[2,"I_S",2100,2199,26010,20,4550]
[2,"I_S",2100,2199,26011,20,4410]
[2,"I_S",2100,2199,26012,20,4433]
[2,"I_S",2100,2199,26013,20,4511]
[2,"I_S",2100,2199,26014,20,4511]
[2,"I_S",2100,2199,26015,20,4561]
[2,"I_S",2100,2199,26016,20,6100]
[2,"I_S",2100,2199,26017,20,4550]
[2,"I_S",2100,2199,26018,20,7320]
[2,"I_S",2100,2199,26019,20,4511]
[2,"I_S",3000,3199,32007,20,4539]
[2,"I_S",3000,3199,32999,20,4539]
[2,"I_S",3000,3199,33004,20,4531]
[2,"I_S",3000,3199,36002,20,4539]
[2,"I_S",3000,3199,36003,20,4521]
[2,"I_S",3000,3199,36008,20,6563]
[2,"I_S",3000,3199,36009,20,4539]
[2,"I_S",3000,3199,36010,20,4539]
[2,"I_S",3000,3199,36011,20,7791]
[2,"I_S",3000,3199,36021,10,2069]
[2,"I_S",3000,3199,36999,20,4539]
[2,"I_S",4000,4499,43002,20,4531]
[2,"I_S",4000,4499,46007,20,4539]
[2,"I_S",4000,4499,46010,20,6100]
[2,"I_S",4000,4499,46011,20,4539]
[2,"I_S",4000,4499,46012,10,2069]
[2,"I_S",4000,4499,46016,20,7791]
[2,"I_S",5000,5599,51002,20,4600]
[2,"I_S",5000,5599,51003,20,4600]
[2,"I_S",5000,5599,51004,20,4600]
[2,"I_S",5000,5599,51005,20,4600]
[2,"I_S",5000,5599,51006,20,4600]
[2,"I_S",5000,5599,51007,20,4600]
[2,"I_S",5000,5599,51008,20,4600]
[2,"I_S",5000,5599,51009,20,4600]
[2,"I_S",5000,5599,51010,20,4600]
[2,"I_S",5000,5599,51011,20,4600]
[2,"I_S",5000,5599,51012,20,4600]
[2,"I_S",5000,5599,51013,20,4600]
[2,"I_S",5000,5599,51014,20,4600]
[2,"I_S",5000,5599,51015,20,4600]
[2,"I_S",5000,5599,51016,20,4600]
[2,"I_S",5000,5599,51017,20,4600]
[2,"I_S",5000,5599,52001,20,4600]
[2,"I_S",5000,5599,52002,20,4600]
[2,"I_S",5000,5599,52003,20,4600]
[2,"I_S",5000,5599,52004,20,4600]
[2,"I_S",5000,5599,52005,20,4600]
[2,"I_S",5000,5599,52006,20,4600]
[2,"I_S",5000,5599,52007,20,6100]
[2,"I_S",5000,5599,52009,20,4600]
[2,"I_S",5000,5599,52010,20,4600]
[2,"I_S",5000,5599,52011,20,4600]
[2,"I_S",5000,5599,52012,20,4600]
[2,"I_S",5000,5599,52013,20,4600]
[2,"I_S",5000,5599,52014,20,4600]
[2,"I_S",5000,5599,54002,20,4600]
[2,"I_S",5000,5599,54004,20,4600]
[2,"I_S",5000,5599,56001,20,6100]
[2,"I_S",5000,5599,56002,20,6100]
[2,"I_S",5000,5599,56003,20,4533]
[2,"I_S",5000,5599,56004,20,4600]
[2,"I_S",5000,5599,56005,20,6480]
[2,"I_S",5000,5599,56006,20,4539]
[2,"I_S",5000,5599,56008,20,4521]
[2,"I_S",5000,5599,56009,20,4420]
[2,"I_S",6100,6199,62003,30,4510]
[2,"I_S",6100,6199,63001,30,7781]
[2,"I_S",6100,6199,66001,30,7782]
[2,"I_S",6100,6199,66002,30,7782]
[2,"I_S",6100,6199,66003,30,4510]
[2,"I_S",6100,6199,66004,30,4510]
[2,"I_S",6100,6199,66006,30,4510]
[2,"I_S",8110,8116,82001,20,4451]
[2,"I_S",8110,8116,82002,20,4451]
[2,"I_S",8110,8116,82003,20,4451]
[2,"I_S",8110,8116,82004,20,4451]
[2,"I_S",8110,8116,82005,20,4451]
[2,"I_S",8110,8116,82006,20,4451]
[2,"I_S",8110,8116,82099,20,4451]
[2,"I_S",8110,8116,83001,20,4451]
[2,"I_S",8110,8116,83002,20,4451]
[2,"I_S",8110,8116,83003,20,4451]
[2,"I_S",8110,8116,83099,20,4451]
[2,"I_S",8110,8116,84003,20,4451]
[2,"I_S",8110,8116,84005,20,4470]
[2,"I_S",8110,8116,84006,20,4451]
[2,"I_S",8110,8116,84099,20,4451]
[2,"I_S",8110,8116,85001,20,4451]
[2,"I_S",8110,8116,85002,20,4451]
[2,"I_S",8110,8116,85003,20,4451]
[2,"I_S",8110,8116,85099,20,4451]
[2,"I_S",8110,8116,86001,20,4451]
[2,"I_S",8110,8116,86003,20,4451]
[2,"I_S",8110,8116,86004,20,4451]
[2,"I_S",8110,8116,86008,20,4451]
[2,"I_S",8110,8116,86010,20,4451]
[2,"I_S",8110,8116,86011,20,4451]
[2,"I_S",8110,8116,86099,20,4451]
[2,"O_E",1100,1499,15001,20,3490]
[2,"O_E",1100,1499,15002,20,3490]
[2,"O_E",6100,6199,65001,30,3430]
[2,"O_Z",4000,4499,41001,20,3162]
[2,"O_Z",4000,4499,41002,20,3162]
[2,"O_Z",4000,4499,41005,20,3162]
[2,"O_Z",4000,4499,41010,20,3162]
[2,"O_Z",4000,4499,41015,20,3162]
[2,"O_Z",4000,4499,41016,20,3162]
[2,"O_Z",4000,4499,42005,20,3162]
[2,"O_Z",4000,4499,42008,20,3162]
[2,"O_Z",4000,4499,42011,20,3162]
[2,"O_Z",4000,4499,42012,20,3162]
[2,"O_Z",4000,4499,44003,20,3162]
[2,"O_Z",4000,4499,46006,20,3162]
[2,"O_Z",6100,6199,66005,30,3160]
[2,"O_H",2100,2199,21001,20,3011]
[2,"O_H",2100,2199,21002,20,3011]
[2,"O_H",2100,2199,21004,20,3011]
[2,"O_H",2100,2199,21006,20,3011]
[2,"O_H",2100,2199,21007,20,3011]
[2,"O_H",2100,2199,21008,20,3011]
[2,"O_H",2100,2199,21009,20,3011]
[2,"O_H",2100,2199,21010,20,3011]
[2,"O_H",2100,2199,21011,20,3011]
[2,"O_H",2100,2199,21013,20,3011]
[2,"O_H",2100,2199,21014,20,3011]
[2,"O_H",2100,2199,22001,20,3011]
[2,"O_H",2100,2199,22003,20,3011]
[2,"O_H",2100,2199,22004,20,3011]
[2,"O_H",2100,2199,22005,20,3011]
[2,"O_H",2100,2199,22007,20,3011]
[2,"O_H",2100,2199,22010,20,3011]
[2,"O_H",2100,2199,22012,20,3011]
[2,"O_H",2100,2199,22014,20,3011]
[2,"O_H",2100,2199,22015,20,3011]
[2,"O_H",2100,2199,22018,20,3011]
[2,"O_H",2100,2199,22019,20,3011]
[2,"O_H",2100,2199,22021,20,3011]
[2,"O_H",2100,2199,23002,20,3011]
[2,"O_H",2100,2199,23003,20,3011]
[2,"O_H",2100,2199,23004,20,3011]
[2,"O_H",2100,2199,23006,20,3011]
[2,"O_H",2100,2199,24001,20,3011]
[2,"O_H",2100,2199,25001,20,3011]
[2,"O_H",2100,2199,26001,20,3011]
[2,"O_H",2100,2199,26002,20,3011]
[2,"O_H",2100,2199,26009,20,3011]
[2,"O_H",2100,2199,26013,20,3011]
[2,"O_H",2100,2199,26016,20,3011]
[2,"O_H",2100,2199,26019,20,3011]
[2,"O_S",1100,1499,11001,20,3001]
[2,"O_S",1100,1499,11002,20,3001]
[2,"O_S",1100,1499,11004,20,3091]
[2,"O_S",1100,1499,11005,20,3001]
[2,"O_S",1100,1499,11006,20,3001]
[2,"O_S",1100,1499,11007,20,3001]
[2,"O_S",1100,1499,11009,20,3001]
[2,"O_S",1100,1499,11010,20,3001]
[2,"O_S",1100,1499,11011,20,3001]
[2,"O_S",1100,1499,11012,20,3001]
[2,"O_S",1100,1499,11013,20,3001]
[2,"O_S",1100,1499,11014,20,3001]
[2,"O_S",1100,1499,11015,20,3001]
[2,"O_S",1100,1499,11016,20,3001]
[2,"O_S",1100,1499,11017,20,3001]
[2,"O_S",1100,1499,11018,20,3001]
[2,"O_S",1100,1499,11019,20,3001]
[2,"O_S",1100,1499,11999,20,3001]
[2,"O_S",1100,1499,12001,20,3001]
[2,"O_S",1100,1499,12002,20,3001]
[2,"O_S",1100,1499,12006,20,3001]
[2,"O_S",1100,1499,12007,20,3001]
[2,"O_S",1100,1499,12012,20,3001]
[2,"O_S",1100,1499,12013,20,3001]
[2,"O_S",1100,1499,12999,20,3001]
[2,"O_S",1100,1499,13003,20,3001]
[2,"O_S",1100,1499,14003,20,3081]
[2,"O_S",1100,1499,16013,20,3001]
[2,"O_S",1100,1499,16015,20,3183]
[2,"O_S",2100,2199,21001,20,3014]
[2,"O_S",2100,2199,21002,20,3014]
[2,"O_S",2100,2199,21004,20,3014]
[2,"O_S",2100,2199,21006,20,3014]
[2,"O_S",2100,2199,21007,20,3014]
[2,"O_S",2100,2199,21008,20,3014]
[2,"O_S",2100,2199,21009,20,3014]
[2,"O_S",2100,2199,21010,20,3014]
[2,"O_S",2100,2199,21011,20,3014]
[2,"O_S",2100,2199,21013,20,3014]
[2,"O_S",2100,2199,22001,20,3014]
[2,"O_S",2100,2199,22003,20,3014]
[2,"O_S",2100,2199,22004,20,3014]
[2,"O_S",2100,2199,22005,20,3014]
[2,"O_S",2100,2199,22007,20,3014]
[2,"O_S",2100,2199,22010,20,3014]
[2,"O_S",2100,2199,22012,20,3014]
[2,"O_S",2100,2199,22014,20,3014]
[2,"O_S",2100,2199,22015,20,3014]
[2,"O_S",2100,2199,22018,20,3014]
[2,"O_S",2100,2199,22019,20,3014]
[2,"O_S",2100,2199,22021,20,3014]
[2,"O_S",2100,2199,23002,20,3014]
[2,"O_S",2100,2199,23003,20,3014]
[2,"O_S",2100,2199,23004,20,3014]
[2,"O_S",2100,2199,23006,20,3014]
[2,"O_S",2100,2199,24001,20,3014]
[2,"O_S",2100,2199,26001,20,3014]
[2,"O_S",2100,2199,26002,20,3014]
[2,"O_S",2100,2199,26009,20,3014]
[2,"O_S",2100,2199,26013,20,3014]
[2,"O_S",2100,2199,26016,20,3014]
[2,"O_S",2100,2199,26019,20,3014]
[2,"O_S",3000,3199,31001,20,3071]
[2,"O_S",3000,3199,31002,20,3071]
[2,"O_S",3000,3199,31003,20,3071]
[2,"O_S",3000,3199,31006,20,3071]
[2,"O_S",3000,3199,31008,20,3071]
[2,"O_S",3000,3199,31009,20,3071]
[2,"O_S",3000,3199,31010,20,3071]
[2,"O_S",3000,3199,31012,20,3071]
[2,"O_S",3000,3199,31013,20,3071]
[2,"O_S",3000,3199,31014,20,3071]
[2,"O_S",3000,3199,31017,20,3071]
[2,"O_S",3000,3199,31022,20,3071]
[2,"O_S",3000,3199,31023,20,3071]
[2,"O_S",3000,3199,31024,20,3071]
[2,"O_S",3000,3199,31999,20,3071]
[2,"O_S",3000,3199,32001,20,3071]
[2,"O_S",3000,3199,32002,20,3071]
[2,"O_S",3000,3199,32004,20,3071]
[2,"O_S",3000,3199,32005,20,3071]
[2,"O_S",3000,3199,32006,20,3071]
[2,"O_S",3000,3199,32008,20,3071]
[2,"O_S",3000,3199,32010,20,3071]
[2,"O_S",3000,3199,32017,20,3071]
[2,"O_S",3000,3199,32999,20,3071]
[2,"O_S",3000,3199,33001,20,3071]
[2,"O_S",3000,3199,33002,20,3071]
[2,"O_S",3000,3199,33003,20,3071]
[2,"O_S",3000,3199,33004,20,3071]
[2,"O_S",3000,3199,34001,20,3071]
[2,"O_S",3000,3199,34003,20,3071]
[2,"O_S",3000,3199,35001,20,3073]
[2,"O_S",3000,3199,35002,20,3074]
[2,"O_S",3000,3199,35003,20,3071]
[2,"O_S",3000,3199,35006,20,3071]
[2,"O_S",4000,4499,41001,20,3041]
[2,"O_S",4000,4499,41002,20,3041]
[2,"O_S",4000,4499,41003,20,3041]
[2,"O_S",4000,4499,41004,20,3041]
[2,"O_S",4000,4499,41005,20,3041]
[2,"O_S",4000,4499,41006,20,3041]
[2,"O_S",4000,4499,41007,20,3041]
[2,"O_S",4000,4499,41008,20,3041]
[2,"O_S",4000,4499,41009,20,3041]
[2,"O_S",4000,4499,41010,20,3041]
[2,"O_S",4000,4499,41011,20,3041]
[2,"O_S",4000,4499,41013,20,3041]
[2,"O_S",4000,4499,41014,20,3041]
[2,"O_S",4000,4499,41015,20,3041]
[2,"O_S",4000,4499,41016,20,3041]
[2,"O_S",4000,4499,41999,20,3041]
[2,"O_S",4000,4499,42001,20,3041]
[2,"O_S",4000,4499,42002,20,3041]
[2,"O_S",4000,4499,42003,20,3041]
[2,"O_S",4000,4499,42004,20,3041]
[2,"O_S",4000,4499,42005,20,3041]
[2,"O_S",4000,4499,42006,20,3041]
[2,"O_S",4000,4499,42007,20,3041]
[2,"O_S",4000,4499,42008,20,3041]
[2,"O_S",4000,4499,42009,20,3041]
[2,"O_S",4000,4499,42010,20,3041]
[2,"O_S",4000,4499,42011,20,3041]
[2,"O_S",4000,4499,42012,20,3041]
[2,"O_S",4000,4499,42013,20,3041]
[2,"O_S",4000,4499,42014,20,3041]
[2,"O_S",4000,4499,42015,20,3041]
[2,"O_S",4000,4499,43001,20,3041]
[2,"O_S",4000,4499,43003,20,3041]
[2,"O_S",4000,4499,43004,20,3041]
[2,"O_S",4000,4499,43005,20,3041]
[2,"O_S",4000,4499,44002,20,3041]
[2,"O_S",4000,4499,44003,20,3041]
[2,"O_S",4000,4499,44004,20,3041]
[2,"O_S",4000,4499,44005,20,3041]
[2,"O_S",4000,4499,45001,20,3047]
[2,"O_S",4000,4499,45002,20,3048]
[2,"O_S",4000,4499,45003,20,3048]
[2,"O_S",4000,4499,45004,20,3048]
[2,"O_S",4000,4499,45005,20,3048]
[2,"O_S",4000,4499,45006,20,3048]
[2,"O_S",4000,4499,46003,20,3041]
[2,"O_S",4000,4499,46006,20,3041]
[2,"O_S",4000,4499,46016,20,3041]
[2,"O_S",5000,5599,51001,20,3051]
[2,"O_S",5000,5599,51002,20,3051]
[2,"O_S",5000,5599,51003,20,3051]
[2,"O_S",5000,5599,51004,20,3051]
[2,"O_S",5000,5599,51005,20,3051]
[2,"O_S",5000,5599,51006,20,3051]
[2,"O_S",5000,5599,51007,20,3051]
[2,"O_S",5000,5599,51008,20,3051]
[2,"O_S",5000,5599,51009,20,3051]
[2,"O_S",5000,5599,51010,20,3051]
[2,"O_S",5000,5599,51011,20,3051]
[2,"O_S",5000,5599,51012,20,3051]
[2,"O_S",5000,5599,51013,20,3051]
[2,"O_S",5000,5599,51014,20,3051]
[2,"O_S",5000,5599,51015,20,3051]
[2,"O_S",5000,5599,51016,20,3051]
[2,"O_S",5000,5599,51017,20,3051]
[2,"O_S",5000,5599,52001,20,3051]
[2,"O_S",5000,5599,52002,20,3051]
[2,"O_S",5000,5599,52003,20,3051]
[2,"O_S",5000,5599,52004,20,3051]
[2,"O_S",5000,5599,52005,20,3051]
[2,"O_S",5000,5599,52006,20,3051]
[2,"O_S",5000,5599,52007,20,3051]
[2,"O_S",5000,5599,52008,20,3051]
[2,"O_S",5000,5599,52009,20,3051]
[2,"O_S",5000,5599,52010,20,3051]
[2,"O_S",5000,5599,52011,20,3051]
[2,"O_S",5000,5599,52012,20,3051]
[2,"O_S",5000,5599,52013,20,3051]
[2,"O_S",5000,5599,52014,20,3051]
[2,"O_S",5000,5599,54001,20,3051]
[2,"O_S",5000,5599,54002,20,3051]
[2,"O_S",5000,5599,54003,20,3051]
[2,"O_S",5000,5599,54004,20,3051]
[2,"O_S",5000,5599,56001,20,3051]
[2,"O_S",5000,5599,56002,20,3051]
[2,"O_S",5000,5599,56004,20,3051]
[2,"O_S",5000,5599,56005,20,3620]
[2,"O_S",6100,6199,61001,30,3030]
[2,"O_S",6100,6199,61002,30,3050]
[2,"O_S",6100,6199,61004,30,3050]
[2,"O_S",6100,6199,61005,30,3050]
[2,"O_S",6100,6199,61006,30,3030]
[2,"O_S",6100,6199,61007,30,3010]
[2,"O_S",6100,6199,61008,30,3010]
[2,"O_S",6100,6199,64001,30,3050]
[2,"O_S",6100,6199,64003,30,3050]
[2,"O_S",6100,6199,64004,30,3050]
[2,"O_S",6100,6199,64005,30,3050]
[2,"O_S",6100,6199,64006,30,3050]
[2,"O_S",6100,6199,64007,30,3050]
[2,"O_S",6100,6199,64008,30,3050]
[2,"O_S",6100,6199,66005,30,3060]
[2,"O_S",8110,8116,84003,20,3081]
[2,"O_O",2200,2499,24003,10,2900]
[2,"O_O",2200,2499,24004,10,2900]
[2,"O_O",2200,2499,26021,10,1355]
[2,"O_O",3200,3399,34001,20,3903]
[2,"O_O",3200,3399,34002,20,3903]
[2,"O_O",3200,3399,34005,10,8079]
[2,"O_O",3200,3399,34006,20,3902]
[2,"O_O",3200,3399,36015,10,2990]
[2,"O_O",3200,3399,36017,10,2900]
[2,"O_O",4900,4999,44002,20,3902]
[2,"O_O",5700,5799,54003,20,3902]
[2,"O_O",8120,8129,84002,10,8059]
[2,"O_O",8120,8129,84004,20,3903]
[2,"O_O",8120,8129,86009,10,1355]
[2,"I_O",2200,2499,22014,20,4518]
[2,"I_O",2200,2499,22015,20,4443]
[2,"I_O",2200,2499,22016,20,4442]
[2,"I_O",2200,2499,22019,20,4518]
[2,"I_O",2200,2499,23002,20,4518]
[2,"I_O",2200,2499,23006,20,4518]
[2,"I_O",2200,2499,23007,20,7402]
[2,"I_O",2200,2499,26008,20,6300]
[2,"I_O",2200,2499,26014,20,4518]
[2,"I_O",3200,3399,36022,10,2064]
[2,"I_O",4900,4999,46013,10,2064]
[2,"I_O",8120,8129,84001,10,8155]
[2,"I_H",2200,2499,22003,20,4512]
[2,"I_H",2200,2499,22004,20,4512]
[2,"I_H",2200,2499,22005,20,4512]
[2,"I_H",2200,2499,22018,20,4512]
[2,"I_H",2200,2499,22021,20,6100]
[2,"I_H",2200,2499,26002,20,6100]
[2,"I_H",2200,2499,26016,20,6100]
[2,"I_H",2200,2499,26020,20,4512]
[2,"I_S",2200,2499,21008,20,4511]
[2,"I_S",2200,2499,22003,20,4511]
[2,"I_S",2200,2499,22004,20,4511]
[2,"I_S",2200,2499,22005,20,4511]
[2,"I_S",2200,2499,22007,20,4511]
[2,"I_S",2200,2499,22008,20,4511]
[2,"I_S",2200,2499,22011,20,4511]
[2,"I_S",2200,2499,22012,20,4511]
[2,"I_S",2200,2499,22013,20,4441]
[2,"I_S",2200,2499,22014,20,4441]
[2,"I_S",2200,2499,22015,20,4441]
[2,"I_S",2200,2499,22018,20,4511]
[2,"I_S",2200,2499,22019,20,4511]
[2,"I_S",2200,2499,22020,20,4511]
[2,"I_S",2200,2499,22021,20,6100]
[2,"I_S",2200,2499,22023,20,4511]
[2,"I_S",2200,2499,23001,20,4511]
[2,"I_S",2200,2499,23002,20,4511]
[2,"I_S",2200,2499,23003,20,4511]
[2,"I_S",2200,2499,23006,20,4511]
[2,"I_S",2200,2499,26001,20,4444]
[2,"I_S",2200,2499,26002,20,6100]
[2,"I_S",2200,2499,26004,20,4511]
[2,"I_S",2200,2499,26006,20,4001]
[2,"I_S",2200,2499,26008,20,4511]
[2,"I_S",2200,2499,26009,20,4549]
[2,"I_S",2200,2499,26010,20,4550]
[2,"I_S",2200,2499,26011,20,4410]
[2,"I_S",2200,2499,26012,20,4433]
[2,"I_S",2200,2499,26013,20,4511]
[2,"I_S",2200,2499,26014,20,4511]
[2,"I_S",2200,2499,26015,20,4561]
[2,"I_S",2200,2499,26016,20,6100]
[2,"I_S",2200,2499,26017,20,4550]
[2,"I_S",2200,2499,26018,20,7320]
[2,"I_S",2200,2499,26019,20,4511]
[2,"I_S",2200,2499,26020,20,4511]
[2,"I_S",3200,3399,32007,20,4539]
[2,"I_S",3200,3399,32999,20,4539]
[2,"I_S",3200,3399,36009,20,4539]
[2,"I_S",3200,3399,36010,20,4539]
[2,"I_S",3200,3399,36011,20,7791]
[2,"I_S",3200,3399,36019,20,4539]
[2,"I_S",3200,3399,36021,10,2069]
[2,"I_S",3200,3399,36999,20,4539]
[2,"I_S",4900,4999,46007,20,4539]
[2,"I_S",4900,4999,46010,20,6100]
[2,"I_S",4900,4999,46011,20,4539]
[2,"I_S",4900,4999,46012,10,2069]
[2,"I_S",4900,4999,46016,20,7791]
[2,"I_S",5700,5799,51002,20,4600]
[2,"I_S",5700,5799,51004,20,4600]
[2,"I_S",5700,5799,51005,20,4600]
[2,"I_S",5700,5799,51007,20,4600]
[2,"I_S",5700,5799,51008,20,4600]
[2,"I_S",5700,5799,51010,20,4600]
[2,"I_S",5700,5799,51011,20,4600]
[2,"I_S",5700,5799,51013,20,4600]
[2,"I_S",5700,5799,51014,20,4600]
[2,"I_S",5700,5799,52001,20,4600]
[2,"I_S",5700,5799,52002,20,4600]
[2,"I_S",5700,5799,52003,20,4600]
[2,"I_S",5700,5799,52004,20,4600]
[2,"I_S",5700,5799,52005,20,4600]
[2,"I_S",5700,5799,52006,20,4600]
[2,"I_S",5700,5799,52007,20,4600]
[2,"I_S",5700,5799,52009,20,4600]
[2,"I_S",5700,5799,52010,20,4600]
[2,"I_S",5700,5799,56001,20,6100]
[2,"I_S",5700,5799,56002,20,6100]
[2,"I_S",5700,5799,56003,20,4533]
[2,"I_S",5700,5799,56005,20,6480]
[2,"I_S",5700,5799,56006,20,4539]
[2,"I_S",5700,5799,56008,20,4521]
[2,"I_S",8120,8129,82001,20,4410]
[2,"I_S",8120,8129,82002,20,4410]
[2,"I_S",8120,8129,82003,20,4410]
[2,"I_S",8120,8129,82004,20,4410]
[2,"I_S",8120,8129,82005,20,4410]
[2,"I_S",8120,8129,82006,20,4410]
[2,"I_S",8120,8129,82099,20,4410]
[2,"I_S",8120,8129,83001,20,4410]
[2,"I_S",8120,8129,83002,20,4410]
[2,"I_S",8120,8129,83003,20,4410]
[2,"I_S",8120,8129,83099,20,4410]
[2,"I_S",8120,8129,84003,20,4410]
[2,"I_S",8120,8129,84005,20,4470]
[2,"I_S",8120,8129,84006,20,4410]
[2,"I_S",8120,8129,84099,20,4410]
[2,"I_S",8120,8129,85001,20,4410]
[2,"I_S",8120,8129,85002,20,4410]
[2,"I_S",8120,8129,85003,20,4410]
[2,"I_S",8120,8129,85099,20,4410]
[2,"I_S",8120,8129,86001,20,4410]
[2,"I_S",8120,8129,86003,20,4410]
[2,"I_S",8120,8129,86004,20,4410]
[2,"I_S",8120,8129,86008,20,4410]
[2,"I_S",8120,8129,86010,20,4410]
[2,"I_S",8120,8129,86011,20,4410]
[2,"I_S",8120,8129,86099,20,4410]
[2,"O_H",2200,2499,21001,20,3015]
[2,"O_H",2200,2499,21002,20,3015]
[2,"O_H",2200,2499,21003,20,3015]
[2,"O_H",2200,2499,21004,20,3015]
[2,"O_H",2200,2499,21006,20,3015]
[2,"O_H",2200,2499,21008,20,3015]
[2,"O_H",2200,2499,21009,20,3015]
[2,"O_H",2200,2499,21011,20,3015]
[2,"O_H",2200,2499,22001,20,3015]
[2,"O_H",2200,2499,22003,20,3015]
[2,"O_H",2200,2499,22004,20,3015]
[2,"O_H",2200,2499,22005,20,3015]
[2,"O_H",2200,2499,22007,20,3015]
[2,"O_H",2200,2499,22011,20,3015]
[2,"O_H",2200,2499,22012,20,3015]
[2,"O_H",2200,2499,22014,20,3015]
[2,"O_H",2200,2499,22015,20,3015]
[2,"O_H",2200,2499,22017,20,3015]
[2,"O_H",2200,2499,22018,20,3015]
[2,"O_H",2200,2499,22019,20,3015]
[2,"O_H",2200,2499,22021,20,3015]
[2,"O_H",2200,2499,22023,20,3015]
[2,"O_H",2200,2499,23001,20,3015]
[2,"O_H",2200,2499,23002,20,3015]
[2,"O_H",2200,2499,23003,20,3015]
[2,"O_H",2200,2499,23004,20,3015]
[2,"O_H",2200,2499,23006,20,3015]
[2,"O_H",2200,2499,24001,20,3015]
[2,"O_H",2200,2499,25001,20,3015]
[2,"O_H",2200,2499,26001,20,3015]
[2,"O_H",2200,2499,26002,20,3015]
[2,"O_H",2200,2499,26007,20,3015]
[2,"O_H",2200,2499,26009,20,3015]
[2,"O_H",2200,2499,26013,20,3015]
[2,"O_H",2200,2499,26014,20,3015]
[2,"O_H",2200,2499,26016,20,3015]
[2,"O_H",2200,2499,26017,20,3015]
[2,"O_H",2200,2499,26019,20,3015]
[2,"O_H",2200,2499,26020,20,3015]
[2,"O_H",3200,3399,31002,20,3075]
[2,"O_H",3200,3399,31004,20,3075]
[2,"O_H",3200,3399,31005,20,3075]
[2,"O_H",3200,3399,31009,20,3075]
[2,"O_H",3200,3399,31015,20,3075]
[2,"O_H",3200,3399,31016,20,3075]
[2,"O_H",3200,3399,31017,20,3075]
[2,"O_H",3200,3399,31023,20,3075]
[2,"O_H",3200,3399,32004,20,3075]
[2,"O_H",3200,3399,32018,20,3075]
[2,"O_H",3200,3399,34003,20,3075]
[2,"O_H",3200,3399,35001,20,3077]
[2,"O_S",2200,2499,21001,20,3019]
[2,"O_S",2200,2499,21002,20,3019]
[2,"O_S",2200,2499,21003,20,3019]
[2,"O_S",2200,2499,21004,20,3019]
[2,"O_S",2200,2499,21006,20,3019]
[2,"O_S",2200,2499,21008,20,3019]
[2,"O_S",2200,2499,21009,20,3019]
[2,"O_S",2200,2499,21011,20,3019]
[2,"O_S",2200,2499,22001,20,3019]
[2,"O_S",2200,2499,22003,20,3019]
[2,"O_S",2200,2499,22004,20,3019]
[2,"O_S",2200,2499,22005,20,3019]
[2,"O_S",2200,2499,22007,20,3019]
[2,"O_S",2200,2499,22011,20,3019]
[2,"O_S",2200,2499,22012,20,3019]
[2,"O_S",2200,2499,22014,20,3019]
[2,"O_S",2200,2499,22015,20,3019]
[2,"O_S",2200,2499,22017,20,3019]
[2,"O_S",2200,2499,22018,20,3019]
[2,"O_S",2200,2499,22019,20,3019]
[2,"O_S",2200,2499,22021,20,3019]
[2,"O_S",2200,2499,22023,20,3019]
[2,"O_S",2200,2499,23001,20,3019]
[2,"O_S",2200,2499,23002,20,3019]
[2,"O_S",2200,2499,23003,20,3019]
[2,"O_S",2200,2499,23004,20,3019]
[2,"O_S",2200,2499,23006,20,3019]
[2,"O_S",2200,2499,24001,20,3019]
[2,"O_S",2200,2499,26001,20,3019]
[2,"O_S",2200,2499,26002,20,3019]
[2,"O_S",2200,2499,26007,20,3019]
[2,"O_S",2200,2499,26009,20,3019]
[2,"O_S",2200,2499,26013,20,3019]
[2,"O_S",2200,2499,26014,20,3019]
[2,"O_S",2200,2499,26016,20,3019]
[2,"O_S",2200,2499,26017,20,3019]
[2,"O_S",2200,2499,26019,20,3019]
[2,"O_S",2200,2499,26020,20,3019]
[2,"O_S",3200,3399,31002,20,3076]
[2,"O_S",3200,3399,31005,20,3076]
[2,"O_S",3200,3399,31009,20,3076]
[2,"O_S",3200,3399,31017,20,3076]
[2,"O_S",3200,3399,31018,20,3076]
[2,"O_S",3200,3399,31019,20,3076]
[2,"O_S",3200,3399,31023,20,3076]
[2,"O_S",3200,3399,32004,20,3076]
[2,"O_S",3200,3399,32011,20,3076]
[2,"O_S",3200,3399,32012,20,3076]
[2,"O_S",3200,3399,32015,20,3076]
[2,"O_S",3200,3399,32017,20,3076]
[2,"O_S",3200,3399,32018,20,3076]
[2,"O_S",3200,3399,34003,20,3076]
[2,"O_S",3200,3399,35001,20,3078]
[2,"O_S",4900,4999,41001,20,3041]
[2,"O_S",4900,4999,41002,20,3041]
[2,"O_S",4900,4999,41003,20,3041]
[2,"O_S",4900,4999,41005,20,3041]
[2,"O_S",4900,4999,41007,20,3041]
[2,"O_S",4900,4999,41009,20,3041]
[2,"O_S",4900,4999,41010,20,3041]
[2,"O_S",4900,4999,41011,20,3041]
[2,"O_S",4900,4999,41014,20,3041]
[2,"O_S",4900,4999,42003,20,3041]
[2,"O_S",4900,4999,42005,20,3041]
[2,"O_S",4900,4999,42007,20,3041]
[2,"O_S",4900,4999,42008,20,3041]
[2,"O_S",4900,4999,42009,20,3041]
[2,"O_S",4900,4999,42010,20,3041]
[2,"O_S",4900,4999,42011,20,3041]
[2,"O_S",4900,4999,42012,20,3041]
[2,"O_S",4900,4999,44003,20,3041]
[2,"O_S",4900,4999,44004,20,3041]
[2,"O_S",4900,4999,44005,20,3041]
[2,"O_S",4900,4999,45001,20,3047]
[2,"O_S",4900,4999,45002,20,3048]
[2,"O_S",4900,4999,45003,20,3048]
[2,"O_S",4900,4999,45004,20,3048]
[2,"O_S",4900,4999,46003,20,3041]
[2,"O_S",4900,4999,46006,20,3041]
[2,"O_S",5700,5799,51001,20,3051]
[2,"O_S",5700,5799,51002,20,3051]
[2,"O_S",5700,5799,51003,20,3051]
[2,"O_S",5700,5799,51004,20,3051]
[2,"O_S",5700,5799,51005,20,3051]
[2,"O_S",5700,5799,51006,20,3051]
[2,"O_S",5700,5799,51007,20,3051]
[2,"O_S",5700,5799,51008,20,3051]
[2,"O_S",5700,5799,51009,20,3051]
[2,"O_S",5700,5799,51010,20,3051]
[2,"O_S",5700,5799,51011,20,3051]
[2,"O_S",5700,5799,51012,20,3051]
[2,"O_S",5700,5799,51013,20,3051]
[2,"O_S",5700,5799,51014,20,3051]
[2,"O_S",5700,5799,51015,20,3051]
[2,"O_S",5700,5799,51016,20,3051]
[2,"O_S",5700,5799,51017,20,3051]
[2,"O_S",5700,5799,52001,20,3051]
[2,"O_S",5700,5799,52002,20,3051]
[2,"O_S",5700,5799,52003,20,3051]
[2,"O_S",5700,5799,52004,20,3051]
[2,"O_S",5700,5799,52005,20,3051]
[2,"O_S",5700,5799,52006,20,3051]
[2,"O_S",5700,5799,52007,20,3051]
[2,"O_S",5700,5799,52008,20,3051]
[2,"O_S",5700,5799,52009,20,3051]
[2,"O_S",5700,5799,52010,20,3051]
[2,"O_S",5700,5799,52011,20,3051]
[2,"O_S",5700,5799,54001,20,3051]
[2,"O_S",5700,5799,56002,20,6100]
[2,"O_S",5700,5799,56004,20,3051]
[2,"O_S",5700,5799,56005,20,3620]
[2,"O_S",8120,8129,84003,20,3081]
[2,"O_O",2500,2599,24003,10,2900]
[2,"O_O",2500,2599,24004,10,2900]
[2,"O_O",2500,2599,26021,10,1355]
[2,"O_O",3400,3499,31017,20,3903]
[2,"O_O",3400,3499,34001,20,3903]
[2,"O_O",3400,3499,34002,20,3903]
[2,"O_O",3400,3499,34005,10,8079]
[2,"O_O",3400,3499,34006,20,3902]
[2,"O_O",3400,3499,36015,10,2990]
[2,"O_O",3400,3499,36017,10,2900]
[2,"O_O",8130,8139,84002,10,8059]
[2,"O_O",8130,8139,84004,20,3903]
[2,"O_O",8130,8139,86009,10,1355]
[2,"I_O",2500,2599,22015,20,4443]
[2,"I_O",2500,2599,22016,20,4442]
[2,"I_O",2500,2599,22019,20,4518]
[2,"I_O",2500,2599,23002,20,4518]
[2,"I_O",2500,2599,23006,20,4518]
[2,"I_O",2500,2599,23007,20,7402]
[2,"I_O",2500,2599,26008,20,6300]
[2,"I_O",2500,2599,26014,20,4518]
[2,"I_O",3400,3499,36022,10,2064]
[2,"I_O",8130,8139,84001,10,8155]
[2,"I_H",2500,2599,22003,20,4512]
[2,"I_H",2500,2599,22005,20,4512]
[2,"I_H",2500,2599,22018,20,4512]
[2,"I_H",2500,2599,22021,20,6100]
[2,"I_H",2500,2599,26002,20,6100]
[2,"I_H",2500,2599,26016,20,6100]
[2,"I_S",2500,2599,21002,20,6100]
[2,"I_S",2500,2599,21008,20,4511]
[2,"I_S",2500,2599,22003,20,4511]
[2,"I_S",2500,2599,22004,20,4511]
[2,"I_S",2500,2599,22005,20,4511]
[2,"I_S",2500,2599,22008,20,4511]
[2,"I_S",2500,2599,22011,20,4511]
[2,"I_S",2500,2599,22013,20,4441]
[2,"I_S",2500,2599,22014,20,4441]
[2,"I_S",2500,2599,22015,20,4441]
[2,"I_S",2500,2599,22018,20,4511]
[2,"I_S",2500,2599,22019,20,4511]
[2,"I_S",2500,2599,22020,20,4511]
[2,"I_S",2500,2599,22021,20,6100]
[2,"I_S",2500,2599,22023,20,4511]
[2,"I_S",2500,2599,23001,20,4511]
[2,"I_S",2500,2599,23002,20,4511]
[2,"I_S",2500,2599,23003,20,4511]
[2,"I_S",2500,2599,23006,20,4511]
[2,"I_S",2500,2599,26001,20,4444]
[2,"I_S",2500,2599,26002,20,6100]
[2,"I_S",2500,2599,26004,20,4511]
[2,"I_S",2500,2599,26006,20,4001]
[2,"I_S",2500,2599,26008,20,4511]
[2,"I_S",2500,2599,26009,20,4549]
[2,"I_S",2500,2599,26010,20,4550]
[2,"I_S",2500,2599,26011,20,4410]
[2,"I_S",2500,2599,26012,20,4433]
[2,"I_S",2500,2599,26013,20,4511]
[2,"I_S",2500,2599,26014,20,4511]
[2,"I_S",2500,2599,26015,20,4561]
[2,"I_S",2500,2599,26016,20,6100]
[2,"I_S",2500,2599,26017,20,4550]
[2,"I_S",2500,2599,26018,20,7320]
[2,"I_S",2500,2599,26019,20,4511]
[2,"I_S",3400,3499,32999,20,4539]
[2,"I_S",3400,3499,36001,10,2069]
[2,"I_S",3400,3499,36009,20,4539]
[2,"I_S",3400,3499,36010,20,4539]
[2,"I_S",3400,3499,36011,20,7791]
[2,"I_S",3400,3499,36021,10,2069]
[2,"I_S",3400,3499,36999,20,4539]
[2,"I_S",8130,8139,82001,20,4480]
[2,"I_S",8130,8139,82002,20,4480]
[2,"I_S",8130,8139,82003,20,4480]
[2,"I_S",8130,8139,82004,20,4480]
[2,"I_S",8130,8139,82005,20,4480]
[2,"I_S",8130,8139,82006,20,4480]
[2,"I_S",8130,8139,82099,20,4480]
[2,"I_S",8130,8139,83001,20,4480]
[2,"I_S",8130,8139,83002,20,4480]
[2,"I_S",8130,8139,83003,20,4480]
[2,"I_S",8130,8139,83099,20,4480]
[2,"I_S",8130,8139,84003,20,4480]
[2,"I_S",8130,8139,84005,20,4470]
[2,"I_S",8130,8139,84006,20,4480]
[2,"I_S",8130,8139,84099,20,4480]
[2,"I_S",8130,8139,85001,20,4480]
[2,"I_S",8130,8139,85002,20,4480]
[2,"I_S",8130,8139,85003,20,4480]
[2,"I_S",8130,8139,85099,20,4480]
[2,"I_S",8130,8139,86001,20,4480]
[2,"I_S",8130,8139,86003,20,4480]
[2,"I_S",8130,8139,86004,20,4480]
[2,"I_S",8130,8139,86008,20,4480]
[2,"I_S",8130,8139,86010,20,4480]
[2,"I_S",8130,8139,86011,20,4480]
[2,"I_S",8130,8139,86099,20,4480]
[2,"O_H",2500,2599,21001,20,3021]
[2,"O_H",2500,2599,21002,20,3021]
[2,"O_H",2500,2599,21004,20,3021]
[2,"O_H",2500,2599,21006,20,3021]
[2,"O_H",2500,2599,21008,20,3021]
[2,"O_H",2500,2599,21009,20,3021]
[2,"O_H",2500,2599,21011,20,3021]
[2,"O_H",2500,2599,22004,20,3021]
[2,"O_H",2500,2599,22005,20,3021]
[2,"O_H",2500,2599,22012,20,3021]
[2,"O_H",2500,2599,22014,20,3021]
[2,"O_H",2500,2599,22015,20,3021]
[2,"O_H",2500,2599,22018,20,3021]
[2,"O_H",2500,2599,22019,20,3021]
[2,"O_H",2500,2599,22021,20,3021]
[2,"O_H",2500,2599,23002,20,3021]
[2,"O_H",2500,2599,23003,20,3021]
[2,"O_H",2500,2599,23004,20,3021]
[2,"O_H",2500,2599,23006,20,3021]
[2,"O_H",2500,2599,24001,20,3021]
[2,"O_H",2500,2599,25001,20,3021]
[2,"O_H",2500,2599,26001,20,3021]
[2,"O_H",2500,2599,26002,20,3021]
[2,"O_H",2500,2599,26009,20,3021]
[2,"O_H",2500,2599,26013,20,3021]
[2,"O_H",2500,2599,26019,20,3021]
[2,"O_S",2500,2599,21001,20,3024]
[2,"O_S",2500,2599,21002,20,3024]
[2,"O_S",2500,2599,21004,20,3024]
[2,"O_S",2500,2599,21006,20,3024]
[2,"O_S",2500,2599,21008,20,3024]
[2,"O_S",2500,2599,21009,20,3024]
[2,"O_S",2500,2599,21011,20,3024]
[2,"O_S",2500,2599,22004,20,3024]
[2,"O_S",2500,2599,22005,20,3024]
[2,"O_S",2500,2599,22012,20,3024]
[2,"O_S",2500,2599,22014,20,3024]
[2,"O_S",2500,2599,22015,20,3024]
[2,"O_S",2500,2599,22018,20,3024]
[2,"O_S",2500,2599,22019,20,3024]
[2,"O_S",2500,2599,22021,20,3024]
[2,"O_S",2500,2599,23002,20,3024]
[2,"O_S",2500,2599,23003,20,3024]
[2,"O_S",2500,2599,23004,20,3024]
[2,"O_S",2500,2599,23006,20,3024]
[2,"O_S",2500,2599,24001,20,3024]
[2,"O_S",2500,2599,26001,20,3024]
[2,"O_S",2500,2599,26002,20,3024]
[2,"O_S",2500,2599,26009,20,3024]
[2,"O_S",2500,2599,26013,20,3024]
[2,"O_S",2500,2599,26019,20,3024]
[2,"O_S",3400,3499,31001,20,3079]
[2,"O_S",3400,3499,31002,20,3079]
[2,"O_S",3400,3499,31005,20,3079]
[2,"O_S",3400,3499,31010,20,3079]
[2,"O_S",3400,3499,31017,20,3079]
[2,"O_S",3400,3499,31020,20,3079]
[2,"O_S",3400,3499,31021,20,3079]
[2,"O_S",3400,3499,31022,20,3079]
[2,"O_S",3400,3499,32013,20,3079]
[2,"O_S",3400,3499,32014,20,3079]
[2,"O_S",3400,3499,32015,20,3079]
[2,"O_S",3400,3499,32016,20,3079]
[2,"O_S",3400,3499,34003,20,3079]
[2,"O_S",3400,3499,34004,20,3079]
[2,"O_S",3400,3499,35004,20,3048]
[2,"O_S",3400,3499,35005,20,3079]
[2,"O_S",3400,3499,35006,20,3079]
[2,"O_S",3400,3499,35007,20,3079]
[2,"O_S",3400,3499,36019,20,3099]
[2,"O_S",3400,3499,36999,20,3079]
[2,"O_S",8130,8139,84003,20,3081]
[2,"O_O",2600,2699,24004,10,2900]
[2,"O_O",2600,2699,26021,10,1355]
[2,"O_O",8200,8219,84002,10,8059]
[2,"O_O",8200,8219,84004,20,3903]
[2,"O_O",8200,8219,86009,10,1355]
[2,"I_O",2600,2699,22015,20,4443]
[2,"I_O",2600,2699,22016,20,4442]
[2,"I_O",2600,2699,22019,20,4518]
[2,"I_O",2600,2699,23002,20,4518]
[2,"I_O",2600,2699,23006,20,4518]
[2,"I_O",2600,2699,23007,20,7402]
[2,"I_O",2600,2699,26008,20,6300]
[2,"I_O",2600,2699,26014,20,4518]
[2,"I_O",8200,8219,84001,10,8155]
[2,"I_O",8200,8219,85004,20,4070]
[2,"I_H",2600,2699,22003,20,4512]
[2,"I_H",2600,2699,22005,20,4512]
[2,"I_H",2600,2699,22018,20,4512]
[2,"I_H",2600,2699,22021,20,6100]
[2,"I_H",2600,2699,26002,20,6100]
[2,"I_H",2600,2699,26016,20,6100]
[2,"I_H",2600,2699,26020,20,4512]
[2,"I_S",2600,2699,21002,20,6100]
[2,"I_S",2600,2699,21008,20,4511]
[2,"I_S",2600,2699,22003,20,4511]
[2,"I_S",2600,2699,22004,20,4511]
[2,"I_S",2600,2699,22005,20,4511]
[2,"I_S",2600,2699,22008,20,4511]
[2,"I_S",2600,2699,22011,20,4511]
[2,"I_S",2600,2699,22013,20,4441]
[2,"I_S",2600,2699,22014,20,4441]
[2,"I_S",2600,2699,22015,20,4441]
[2,"I_S",2600,2699,22018,20,4511]
[2,"I_S",2600,2699,22019,20,4511]
[2,"I_S",2600,2699,22020,20,4511]
[2,"I_S",2600,2699,22021,20,6100]
[2,"I_S",2600,2699,22023,20,4511]
[2,"I_S",2600,2699,23001,20,4511]
[2,"I_S",2600,2699,23002,20,4511]
[2,"I_S",2600,2699,23003,20,4511]
[2,"I_S",2600,2699,23006,20,4511]
[2,"I_S",2600,2699,26001,20,4444]
[2,"I_S",2600,2699,26002,20,6100]
[2,"I_S",2600,2699,26004,20,4511]
[2,"I_S",2600,2699,26006,20,4001]
[2,"I_S",2600,2699,26008,20,4511]
[2,"I_S",2600,2699,26009,20,4549]
[2,"I_S",2600,2699,26010,20,4550]
[2,"I_S",2600,2699,26011,20,4410]
[2,"I_S",2600,2699,26012,20,4433]
[2,"I_S",2600,2699,26013,20,4511]
[2,"I_S",2600,2699,26014,20,4511]
[2,"I_S",2600,2699,26015,20,4561]
[2,"I_S",2600,2699,26016,20,6100]
[2,"I_S",2600,2699,26017,20,4550]
[2,"I_S",2600,2699,26018,20,7320]
[2,"I_S",2600,2699,26019,20,4511]
[2,"I_S",2600,2699,26020,20,4511]
[2,"I_S",8200,8219,82001,20,4020]
[2,"I_S",8200,8219,82002,20,4020]
[2,"I_S",8200,8219,82003,20,4020]
[2,"I_S",8200,8219,82004,20,4020]
[2,"I_S",8200,8219,82005,20,4020]
[2,"I_S",8200,8219,82006,20,4020]
[2,"I_S",8200,8219,82099,20,4020]
[2,"I_S",8200,8219,83001,20,4020]
[2,"I_S",8200,8219,83002,20,4020]
[2,"I_S",8200,8219,83003,20,4020]
[2,"I_S",8200,8219,83099,20,4020]
[2,"I_S",8200,8219,84003,20,4020]
[2,"I_S",8200,8219,84005,20,4470]
[2,"I_S",8200,8219,84006,20,4020]
[2,"I_S",8200,8219,84099,20,4020]
[2,"I_S",8200,8219,85001,20,4020]
[2,"I_S",8200,8219,85002,20,4020]
[2,"I_S",8200,8219,85003,20,4020]
[2,"I_S",8200,8219,85004,20,4070]
[2,"I_S",8200,8219,85099,20,4020]
[2,"I_S",8200,8219,86001,20,4020]
[2,"I_S",8200,8219,86003,20,4020]
[2,"I_S",8200,8219,86004,20,4020]
[2,"I_S",8200,8219,86005,20,4020]
[2,"I_S",8200,8219,86006,20,4020]
[2,"I_S",8200,8219,86007,20,6410]
[2,"I_S",8200,8219,86008,20,4020]
[2,"I_S",8200,8219,86010,20,4020]
[2,"I_S",8200,8219,86011,20,4020]
[2,"I_S",8200,8219,86099,20,4020]
[2,"O_H",2600,2699,21001,20,3025]
[2,"O_H",2600,2699,21002,20,3025]
[2,"O_H",2600,2699,21004,20,3025]
[2,"O_H",2600,2699,21006,20,3025]
[2,"O_H",2600,2699,21008,20,3025]
[2,"O_H",2600,2699,21009,20,3025]
[2,"O_H",2600,2699,21011,20,3025]
[2,"O_H",2600,2699,21012,20,3025]
[2,"O_H",2600,2699,22004,20,3025]
[2,"O_H",2600,2699,22005,20,3025]
[2,"O_H",2600,2699,22012,20,3025]
[2,"O_H",2600,2699,22014,20,3025]
[2,"O_H",2600,2699,22015,20,3025]
[2,"O_H",2600,2699,22018,20,3025]
[2,"O_H",2600,2699,22019,20,3025]
[2,"O_H",2600,2699,22021,20,3025]
[2,"O_H",2600,2699,23002,20,3025]
[2,"O_H",2600,2699,23003,20,3025]
[2,"O_H",2600,2699,23004,20,3025]
[2,"O_H",2600,2699,23006,20,3025]
[2,"O_H",2600,2699,24001,20,3025]
[2,"O_H",2600,2699,25001,20,3025]
[2,"O_H",2600,2699,26001,20,3025]
[2,"O_H",2600,2699,26002,20,3025]
[2,"O_H",2600,2699,26009,20,3025]
[2,"O_H",2600,2699,26013,20,3025]
[2,"O_H",2600,2699,26019,20,3025]
[2,"O_S",2600,2699,21001,20,3029]
[2,"O_S",2600,2699,21002,20,3029]
[2,"O_S",2600,2699,21004,20,3029]
[2,"O_S",2600,2699,21006,20,3029]
[2,"O_S",2600,2699,21008,20,3029]
[2,"O_S",2600,2699,21009,20,3029]
[2,"O_S",2600,2699,21011,20,3029]
[2,"O_S",2600,2699,21012,20,3029]
[2,"O_S",2600,2699,22004,20,3029]
[2,"O_S",2600,2699,22005,20,3029]
[2,"O_S",2600,2699,22012,20,3029]
[2,"O_S",2600,2699,22014,20,3029]
[2,"O_S",2600,2699,22015,20,3029]
[2,"O_S",2600,2699,22018,20,3029]
[2,"O_S",2600,2699,22019,20,3029]
[2,"O_S",2600,2699,22021,20,3029]
[2,"O_S",2600,2699,23002,20,3029]
[2,"O_S",2600,2699,23003,20,3029]
[2,"O_S",2600,2699,23004,20,3029]
[2,"O_S",2600,2699,23006,20,3029]
[2,"O_S",2600,2699,24001,20,3029]
[2,"O_S",2600,2699,26001,20,3029]
[2,"O_S",2600,2699,26002,20,3029]
[2,"O_S",2600,2699,26009,20,3029]
[2,"O_S",2600,2699,26013,20,3029]
[2,"O_S",2600,2699,26019,20,3029]
[2,"O_S",8200,8219,84003,20,3081]
[2,"O_O",2000,2000,24003,10,2900]
[2,"O_O",2000,2000,24004,10,2900]
[2,"O_O",2000,2000,26021,10,1355]
[2,"O_O",8220,8229,84002,10,8059]
[2,"O_O",8220,8229,84004,20,3903]
[2,"O_O",8220,8229,86009,10,1355]
[2,"I_O",2000,2000,22014,20,4518]
[2,"I_O",2000,2000,22015,20,4443]
[2,"I_O",2000,2000,22016,20,4442]
[2,"I_O",2000,2000,22019,20,4518]
[2,"I_O",2000,2000,23002,20,4518]
[2,"I_O",2000,2000,23006,20,4518]
[2,"I_O",2000,2000,23007,20,7402]
[2,"I_O",2000,2000,26008,20,6300]
[2,"I_O",2000,2000,26014,20,4518]
[2,"I_O",8220,8229,84001,10,8155]
[2,"I_H",2000,2000,22003,20,4512]
[2,"I_H",2000,2000,22004,20,4512]
[2,"I_H",2000,2000,22005,20,4512]
[2,"I_H",2000,2000,22018,20,4512]
[2,"I_H",2000,2000,22021,20,6100]
[2,"I_H",2000,2000,26002,20,6100]
[2,"I_H",2000,2000,26016,20,6100]
[2,"I_H",2000,2000,26020,20,4512]
[2,"I_S",2000,2000,21008,20,4511]
[2,"I_S",2000,2000,22003,20,4511]
[2,"I_S",2000,2000,22004,20,4511]
[2,"I_S",2000,2000,22005,20,4511]
[2,"I_S",2000,2000,22007,20,4511]
[2,"I_S",2000,2000,22008,20,4511]
[2,"I_S",2000,2000,22011,20,4511]
[2,"I_S",2000,2000,22012,20,4511]
[2,"I_S",2000,2000,22013,20,4441]
[2,"I_S",2000,2000,22014,20,4441]
[2,"I_S",2000,2000,22015,20,4441]
[2,"I_S",2000,2000,22018,20,4511]
[2,"I_S",2000,2000,22019,20,4511]
[2,"I_S",2000,2000,22020,20,4511]
[2,"I_S",2000,2000,22021,20,6100]
[2,"I_S",2000,2000,22023,20,4511]
[2,"I_S",2000,2000,23001,20,4511]
[2,"I_S",2000,2000,23002,20,4511]
[2,"I_S",2000,2000,23003,20,4511]
[2,"I_S",2000,2000,23006,20,4511]
[2,"I_S",2000,2000,26001,20,4444]
[2,"I_S",2000,2000,26002,20,6100]
[2,"I_S",2000,2000,26004,20,4511]
[2,"I_S",2000,2000,26006,20,4001]
[2,"I_S",2000,2000,26008,20,4511]
[2,"I_S",2000,2000,26009,20,4549]
[2,"I_S",2000,2000,26010,20,4550]
[2,"I_S",2000,2000,26011,20,4410]
[2,"I_S",2000,2000,26012,20,4433]
[2,"I_S",2000,2000,26013,20,4511]
[2,"I_S",2000,2000,26014,20,4511]
[2,"I_S",2000,2000,26015,20,4561]
[2,"I_S",2000,2000,26016,20,6100]
[2,"I_S",2000,2000,26017,20,4550]
[2,"I_S",2000,2000,26018,20,7320]
[2,"I_S",2000,2000,26019,20,4511]
[2,"I_S",2000,2000,26020,20,4511]
[2,"I_S",8220,8229,82001,20,4040]
[2,"I_S",8220,8229,82002,20,4040]
[2,"I_S",8220,8229,82003,20,4040]
[2,"I_S",8220,8229,82004,20,4040]
[2,"I_S",8220,8229,82005,20,4040]
[2,"I_S",8220,8229,82006,20,4040]
[2,"I_S",8220,8229,82099,20,4040]
[2,"I_S",8220,8229,83001,20,4040]
[2,"I_S",8220,8229,83002,20,4040]
[2,"I_S",8220,8229,83003,20,4040]
[2,"I_S",8220,8229,83099,20,4040]
[2,"I_S",8220,8229,84003,20,4040]
[2,"I_S",8220,8229,84005,20,4470]
[2,"I_S",8220,8229,84006,20,4040]
[2,"I_S",8220,8229,84099,20,4040]
[2,"I_S",8220,8229,85001,20,4040]
[2,"I_S",8220,8229,85002,20,4040]
[2,"I_S",8220,8229,85003,20,4040]
[2,"I_S",8220,8229,85099,20,4040]
[2,"I_S",8220,8229,86001,20,4040]
[2,"I_S",8220,8229,86003,20,4040]
[2,"I_S",8220,8229,86004,20,4040]
[2,"I_S",8220,8229,86005,20,4040]
[2,"I_S",8220,8229,86006,20,4040]
[2,"I_S",8220,8229,86007,20,4040]
[2,"I_S",8220,8229,86008,20,4040]
[2,"I_S",8220,8229,86010,20,4040]
[2,"I_S",8220,8229,86011,20,4040]
[2,"I_S",8220,8229,86099,20,4040]
[2,"O_H",2000,2000,21002,20,3095]
[2,"O_H",2000,2000,21003,20,3095]
[2,"O_H",2000,2000,21004,20,3095]
[2,"O_H",2000,2000,21006,20,3095]
[2,"O_H",2000,2000,21008,20,3095]
[2,"O_H",2000,2000,21009,20,3095]
[2,"O_H",2000,2000,21011,20,3095]
[2,"O_H",2000,2000,22001,20,3095]
[2,"O_H",2000,2000,22003,20,3095]
[2,"O_H",2000,2000,22004,20,3095]
[2,"O_H",2000,2000,22005,20,3095]
[2,"O_H",2000,2000,22007,20,3095]
[2,"O_H",2000,2000,22011,20,3095]
[2,"O_H",2000,2000,22012,20,3095]
[2,"O_H",2000,2000,22014,20,3095]
[2,"O_H",2000,2000,22015,20,3095]
[2,"O_H",2000,2000,22017,20,3095]
[2,"O_H",2000,2000,22018,20,3095]
[2,"O_H",2000,2000,22019,20,3095]
[2,"O_H",2000,2000,22021,20,3095]
[2,"O_H",2000,2000,22023,20,3095]
[2,"O_H",2000,2000,23001,20,3095]
[2,"O_H",2000,2000,23002,20,3095]
[2,"O_H",2000,2000,23003,20,3095]
[2,"O_H",2000,2000,23004,20,3095]
[2,"O_H",2000,2000,23006,20,3095]
[2,"O_H",2000,2000,24001,20,3095]
[2,"O_H",2000,2000,25001,20,3095]
[2,"O_H",2000,2000,26002,20,3095]
[2,"O_H",2000,2000,26007,20,3095]
[2,"O_H",2000,2000,26009,20,3095]
[2,"O_H",2000,2000,26013,20,3095]
[2,"O_H",2000,2000,26014,20,3095]
[2,"O_H",2000,2000,26016,20,3095]
[2,"O_H",2000,2000,26017,20,3095]
[2,"O_H",2000,2000,26019,20,3095]
[2,"O_H",2000,2000,26020,20,3095]
[2,"O_S",2000,2000,21002,20,3096]
[2,"O_S",2000,2000,21003,20,3096]
[2,"O_S",2000,2000,21004,20,3096]
[2,"O_S",2000,2000,21006,20,3096]
[2,"O_S",2000,2000,21008,20,3096]
[2,"O_S",2000,2000,21009,20,3096]
[2,"O_S",2000,2000,21011,20,3096]
[2,"O_S",2000,2000,22001,20,3096]
[2,"O_S",2000,2000,22003,20,3096]
[2,"O_S",2000,2000,22004,20,3096]
[2,"O_S",2000,2000,22005,20,3096]
[2,"O_S",2000,2000,22007,20,3096]
[2,"O_S",2000,2000,22011,20,3096]
[2,"O_S",2000,2000,22012,20,3096]
[2,"O_S",2000,2000,22014,20,3096]
[2,"O_S",2000,2000,22015,20,3096]
[2,"O_S",2000,2000,22017,20,3096]
[2,"O_S",2000,2000,22018,20,3096]
[2,"O_S",2000,2000,22019,20,3096]
[2,"O_S",2000,2000,22021,20,3096]
[2,"O_S",2000,2000,22023,20,3096]
[2,"O_S",2000,2000,23001,20,3096]
[2,"O_S",2000,2000,23002,20,3096]
[2,"O_S",2000,2000,23003,20,3096]
[2,"O_S",2000,2000,23004,20,3096]
[2,"O_S",2000,2000,23006,20,3096]
[2,"O_S",2000,2000,24001,20,3096]
[2,"O_S",2000,2000,26002,20,3096]
[2,"O_S",2000,2000,26007,20,3096]
[2,"O_S",2000,2000,26009,20,3096]
[2,"O_S",2000,2000,26013,20,3096]
[2,"O_S",2000,2000,26014,20,3096]
[2,"O_S",2000,2000,26016,20,3096]
[2,"O_S",2000,2000,26017,20,3096]
[2,"O_S",2000,2000,26019,20,3096]
[2,"O_S",2000,2000,26020,20,3096]
[2,"O_S",8220,8229,84003,20,3081]
[2,"O_O",8140,8143,84002,10,8059]
[2,"O_O",8140,8143,84004,20,3903]
[2,"I_O",8140,8143,84001,10,8155]
[2,"I_S",8140,8143,82001,20,4001]
[2,"I_S",8140,8143,82002,20,4001]
[2,"I_S",8140,8143,82003,20,4001]
[2,"I_S",8140,8143,82004,20,4001]
[2,"I_S",8140,8143,82005,20,4001]
[2,"I_S",8140,8143,82006,20,4001]
[2,"I_S",8140,8143,82099,20,4001]
[2,"I_S",8140,8143,83001,20,4001]
[2,"I_S",8140,8143,83002,20,4001]
[2,"I_S",8140,8143,83003,20,4001]
[2,"I_S",8140,8143,83099,20,4001]
[2,"I_S",8140,8143,84003,20,4001]
[2,"I_S",8140,8143,84005,20,4001]
[2,"I_S",8140,8143,84006,20,4001]
[2,"I_S",8140,8143,84099,20,4001]
[2,"I_S",8140,8143,85001,20,4001]
[2,"I_S",8140,8143,85002,20,4001]
[2,"I_S",8140,8143,85003,20,4001]
[2,"I_S",8140,8143,85099,20,4001]
[2,"I_S",8140,8143,86001,20,4001]
[2,"I_S",8140,8143,86002,20,4541]
[2,"I_S",8140,8143,86003,20,4001]
[2,"I_S",8140,8143,86004,20,4001]
[2,"I_S",8140,8143,86008,20,4001]
[2,"I_S",8140,8143,86010,20,4001]
[2,"I_S",8140,8143,86011,20,4001]
[2,"I_S",8140,8143,86099,20,4001]
[2,"O_S",8140,8143,84003,20,3081]
[2,"I_S",8117,8117,82001,20,4457]
[2,"I_S",8117,8117,82002,20,4457]
[2,"I_S",8117,8117,82003,20,4457]
[2,"I_S",8117,8117,82004,20,4457]
[2,"I_S",8117,8117,82005,20,4457]
[2,"I_S",8117,8117,82006,20,4457]
[2,"I_S",8117,8117,82099,20,4457]
[2,"I_S",8117,8117,83001,20,4457]
[2,"I_S",8117,8117,83002,20,4457]
[2,"I_S",8117,8117,83003,20,4457]
[2,"I_S",8117,8117,83099,20,4457]
[2,"I_S",8117,8117,84003,20,4457]
[2,"I_S",8117,8117,84005,20,4470]
[2,"I_S",8117,8117,84006,20,4457]
[2,"I_S",8117,8117,84099,20,4457]
[2,"I_S",8117,8117,85001,20,4457]
[2,"I_S",8117,8117,85002,20,4457]
[2,"I_S",8117,8117,85003,20,4457]
[2,"I_S",8117,8117,85099,20,4457]
[2,"I_S",8117,8117,86001,20,4457]
[2,"I_S",8117,8117,86003,20,4457]
[2,"I_S",8117,8117,86004,20,4457]
[2,"I_S",8117,8117,86008,20,4457]
[2,"I_S",8117,8117,86010,20,4457]
[2,"I_S",8117,8117,86011,20,4457]
[2,"I_S",8117,8117,86099,20,4457]
[2,"O_O",8144,8147,84002,10,8059]
[2,"O_O",8144,8147,84004,20,3903]
[2,"I_O",8144,8147,84001,10,8155]
[2,"I_S",8144,8147,82001,20,4010]
[2,"I_S",8144,8147,82003,20,4010]
[2,"I_S",8144,8147,82004,20,4010]
[2,"I_S",8144,8147,82005,20,4010]
[2,"I_S",8144,8147,82006,20,4010]
[2,"I_S",8144,8147,82099,20,4010]
[2,"I_S",8144,8147,83001,20,4010]
[2,"I_S",8144,8147,83002,20,4010]
[2,"I_S",8144,8147,83003,20,4010]
[2,"I_S",8144,8147,83099,20,4010]
[2,"I_S",8144,8147,84003,20,4010]
[2,"I_S",8144,8147,84005,20,4010]
[2,"I_S",8144,8147,84006,20,4010]
[2,"I_S",8144,8147,84099,20,4010]
[2,"I_S",8144,8147,85001,20,4010]
[2,"I_S",8144,8147,85002,20,4010]
[2,"I_S",8144,8147,85003,20,4010]
[2,"I_S",8144,8147,85099,20,4010]
[2,"I_S",8144,8147,86001,20,4010]
[2,"I_S",8144,8147,86002,20,4541]
[2,"I_S",8144,8147,86003,20,4010]
[2,"I_S",8144,8147,86011,20,4010]
[2,"I_S",8118,8119,82001,20,4451]
[2,"I_S",8118,8119,82002,20,4451]
[2,"I_S",8118,8119,82003,20,4451]
[2,"I_S",8118,8119,82004,20,4451]
[2,"I_S",8118,8119,82005,20,4451]
[2,"I_S",8118,8119,82006,20,4451]
[2,"I_S",8118,8119,82099,20,4451]
[2,"I_S",8118,8119,83001,20,4451]
[2,"I_S",8118,8119,83002,20,4451]
[2,"I_S",8118,8119,83003,20,4451]
[2,"I_S",8118,8119,83099,20,4451]
[2,"I_S",8118,8119,84003,20,4451]
[2,"I_S",8118,8119,84005,20,4470]
[2,"I_S",8118,8119,84006,20,4451]
[2,"I_S",8118,8119,84099,20,4451]
[2,"I_S",8118,8119,85001,20,4451]
[2,"I_S",8118,8119,85002,20,4451]
[2,"I_S",8118,8119,85003,20,4451]
[2,"I_S",8118,8119,85099,20,4451]
[2,"I_S",8118,8119,86001,20,4451]
[2,"I_S",8118,8119,86003,20,4451]
[2,"I_S",8118,8119,86004,20,4451]
[2,"I_S",8118,8119,86008,20,4451]
[2,"I_S",8118,8119,86010,20,4451]
[2,"I_S",8118,8119,86011,20,4451]
[2,"I_S",8118,8119,86099,20,4451]
[2,"O_O",8000,8000,84002,10,8059]
[2,"O_O",8000,8000,84003,20,3181]
[2,"O_O",8000,8000,84004,20,3903]
[2,"O_O",8000,8000,84099,20,3903]
[2,"O_O",8000,8000,86009,10,1355]
[2,"I_O",8000,8000,84001,10,8155]
[2,"I_O",8000,8000,84003,20,4470]
[2,"I_O",8000,8000,84004,20,4470]
[2,"I_O",8000,8000,84099,20,4470]
[2,"I_O",8000,8000,85099,20,4470]
[2,"I_S",8000,8000,82004,20,4441]
[2,"I_S",8000,8000,84003,20,4470]
[2,"I_S",8000,8000,84004,20,4470]
[2,"I_S",8000,8000,84005,20,4470]
[2,"I_S",8000,8000,84006,20,4470]
[2,"I_S",8000,8000,84099,20,4470]
[2,"I_S",8000,8000,85099,20,4470]
[2,"I_S",8000,8000,86001,20,4460]
[2,"I_S",8000,8000,86003,20,7770]
[2,"I_S",8291,8291,86001,20,4432]
[2,"I_S",8191,8191,86001,20,4444]

{"sheet":"Endringslogg","index":10,"n_rows":1376,"n_cols":8,"rows_kept":1376,"cut":false,"hidden":true,"merged":[]}
["Endringslogg mot foregående versjon"]
["Versjon","Mva \nkode","Produkt\nkode fra","Produkt\nkode til","Produkt\nTillegg\nTrekk","Avdeling","Konto","Kommentar"]
["Versjon 1.2.17","I_O",8426,8426,null,20,6860,"Kontering flyttet fra I_S til I_O"]
["Versjon 1.2.18",null,null,null,null,null,null,"Noen få detaljkoder tilkommet på planter"]
["Versjon 1.2.19","I_S",8541,8541,null,20,6900,"Elektronisk kommunikasjon, Telenor"]
["Versjon 1.2.19","O_H",2365,2365,null,20,3015,"Ny Soyabønner"]
["Versjon 1.2.19","O_H",2472,2472,null,20,3015,"Ny Portulakk"]
["Versjon 1.2.19","O_S",2365,2365,null,20,3019,"Ny Soyabønner"]
["Versjon 1.2.19","O_S",2472,2472,null,20,3019,"Ny Portulakk"]
["Versjon 1.2.19","O_O",7910,7910,76043,10,2600,"Nye koder "]
["Versjon 1.2.19","O_O",7910,7910,76044,10,2610,"Nye koder "]
["Versjon 1.2.19","O_O",7910,7910,76045,10,2620,"Nye koder "]
["Versjon 1.2.19","O_O",7910,7910,76046,10,2630,"Nye koder "]
["Versjon 1.2.19","O_O",7910,7910,76047,10,2640,"Nye koder "]
["Versjon 1.2.19","O_O",7910,7910,76048,10,2650,"Nye koder "]
["Versjon 1.2.19","I_O",1100,1499,13001,20,4548,"Ny konto under I_O 4548"]
["Versjon 1.2.19","O_S",5000,5599,56001,20,3050,"Ny kontering, ikke aktuell?"]
["Versjon 1.2.19","O_S",5000,5599,56002,20,3050,"Åpnet for nettoføring mot 3050"]
["Versjon 1.2.19","O_O",8144,8147,84002,10,8059,"Produktkode 8145-8147 inkludert i kontering i grøntsektoren. Dette aktiverer flere konteringsmuligheter for tillegg og trekk for grøntproduksjon"]
["Versjon 1.2.19","O_O",8144,8147,84004,20,3903,"Produktkode 8145-8147 inkludert i kontering i grøntsektoren. Dette aktiverer flere konteringsmuligheter for tillegg og trekk for grøntproduksjon"]
["Versjon 1.2.19","I_O",8144,8147,84001,10,8155,"Produktkode 8145-8147 inkludert i kontering i grøntsektoren. Dette aktiverer flere konteringsmuligheter for tillegg og trekk for grøntproduksjon"]
["Versjon 1.2.19","I_S",8144,8147,82001,20,4010,"Produktkode 8145-8147 inkludert i kontering i grøntsektoren. Dette aktiverer flere konteringsmuligheter for tillegg og trekk for grøntproduksjon"]
["Versjon 1.2.19","I_S",8144,8147,82003,20,4010,"Produktkode 8145-8147 inkludert i kontering i grøntsektoren. Dette aktiverer flere konteringsmuligheter for tillegg og trekk for grøntproduksjon"]
["Versjon 1.2.19","I_S",8144,8147,82004,20,4010,"Produktkode 8145-8147 inkludert i kontering i grøntsektoren. Dette aktiverer flere konteringsmuligheter for tillegg og trekk for grøntproduksjon"]
["Versjon 1.2.19","I_S",8144,8147,82005,20,4010,"Produktkode 8145-8147 inkludert i kontering i grøntsektoren. Dette aktiverer flere konteringsmuligheter for tillegg og trekk for grøntproduksjon"]
["Versjon 1.2.19","I_S",8144,8147,82006,20,4010,"Produktkode 8145-8147 inkludert i kontering i grøntsektoren. Dette aktiverer flere konteringsmuligheter for tillegg og trekk for grøntproduksjon"]
["Versjon 1.2.19","I_S",8144,8147,82099,20,4010,"Produktkode 8145-8147 inkludert i kontering i grøntsektoren. Dette aktiverer flere konteringsmuligheter for tillegg og trekk for grøntproduksjon"]
["Versjon 1.2.19","I_S",8144,8147,83001,20,4010,"Produktkode 8145-8147 inkludert i kontering i grøntsektoren. Dette aktiverer flere konteringsmuligheter for tillegg og trekk for grøntproduksjon"]
["Versjon 1.2.19","I_S",8144,8147,83002,20,4010,"Produktkode 8145-8147 inkludert i kontering i grøntsektoren. Dette aktiverer flere konteringsmuligheter for tillegg og trekk for grøntproduksjon"]
["Versjon 1.2.19","I_S",8144,8147,83003,20,4010,"Produktkode 8145-8147 inkludert i kontering i grøntsektoren. Dette aktiverer flere konteringsmuligheter for tillegg og trekk for grøntproduksjon"]
["Versjon 1.2.19","I_S",8144,8147,83099,20,4010,"Produktkode 8145-8147 inkludert i kontering i grøntsektoren. Dette aktiverer flere konteringsmuligheter for tillegg og trekk for grøntproduksjon"]
["Versjon 1.2.19","I_S",8144,8147,84003,20,4010,"Produktkode 8145-8147 inkludert i kontering i grøntsektoren. Dette aktiverer flere konteringsmuligheter for tillegg og trekk for grøntproduksjon"]
["Versjon 1.2.19","I_S",8144,8147,84005,20,4010,"Produktkode 8145-8147 inkludert i kontering i grøntsektoren. Dette aktiverer flere konteringsmuligheter for tillegg og trekk for grøntproduksjon"]
["Versjon 1.2.19","I_S",8144,8147,84006,20,4010,"Produktkode 8145-8147 inkludert i kontering i grøntsektoren. Dette aktiverer flere konteringsmuligheter for tillegg og trekk for grøntproduksjon"]
["Versjon 1.2.19","I_S",8144,8147,84099,20,4010,"Produktkode 8145-8147 inkludert i kontering i grøntsektoren. Dette aktiverer flere konteringsmuligheter for tillegg og trekk for grøntproduksjon"]
["Versjon 1.2.19","I_S",8144,8147,85001,20,4010,"Produktkode 8145-8147 inkludert i kontering i grøntsektoren. Dette aktiverer flere konteringsmuligheter for tillegg og trekk for grøntproduksjon"]
["Versjon 1.2.19","I_S",8144,8147,85002,20,4010,"Produktkode 8145-8147 inkludert i kontering i grøntsektoren. Dette aktiverer flere konteringsmuligheter for tillegg og trekk for grøntproduksjon"]
["Versjon 1.2.19","I_S",8144,8147,85003,20,4010,"Produktkode 8145-8147 inkludert i kontering i grøntsektoren. Dette aktiverer flere konteringsmuligheter for tillegg og trekk for grøntproduksjon"]
["Versjon 1.2.19","I_S",8144,8147,85099,20,4010,"Produktkode 8145-8147 inkludert i kontering i grøntsektoren. Dette aktiverer flere konteringsmuligheter for tillegg og trekk for grøntproduksjon"]
["Versjon 1.2.19","I_S",8144,8147,86001,20,4010,"Produktkode 8145-8147 inkludert i kontering i grøntsektoren. Dette aktiverer flere konteringsmuligheter for tillegg og trekk for grøntproduksjon"]
["Versjon 1.2.19","I_S",8144,8147,86002,20,4541,"Produktkode 8145-8147 inkludert i kontering i grøntsektoren. Dette aktiverer flere konteringsmuligheter for tillegg og trekk for grøntproduksjon"]
["Versjon 1.2.19","I_S",8144,8147,86003,20,4010,"Produktkode 8145-8147 inkludert i kontering i grøntsektoren. Dette aktiverer flere konteringsmuligheter for tillegg og trekk for grøntproduksjon"]
["Versjon 1.2.19","I_S",8144,8147,86011,20,4010,"Produktkode 8145-8147 inkludert i kontering i grøntsektoren. Dette aktiverer flere konteringsmuligheter for tillegg og trekk for grøntproduksjon"]
["Versjon 1.2.20","O_E",1100,1499,15002,20,3490,"Lagt til Arealtilskudd under tillegg og trekk"]
["Versjon 1.2.20","O_S",1100,1499,16013,20,3001,"Oppgjør på Epost lagt til for korn og frø"]
["Versjon 1.2.20","O_S",null,null,null,null,null,"Rosenrot på produktkode 2470 flyttet til kode 2479 Andre urter. Ny detaljkode er 2479001"]
["Versjon 1.2.21",null,null,null,null,null,null,"Produktkode \"8523 Tekniske hjelpemidler/kontorhold\" satt inn på nytt til bruk for Tine. Konto 20.4432"]
["Versjon 1.2.21",null,null,null,null,null,null,"Produktkode \"8529 Andre administrative tjenester\"satt inn på nytt til bruk for Tine. Konto 20.6790"]
["Versjon 1.2.21",null,null,null,null,null,null,"Tillegg og trekk kode 12002 har vært uten kontering. Har nå fått konto 20.3001 (O_S)"]
["Versjon 1.2.21",null,null,null,null,null,null,"Tillegg og trekk kode 76061 endret til konto 20.3905"]
["Versjon 1.2.22","O_O",7000,7330,null,null,null,"Tilskuddene på 7000-serien er omstrukturert og oppdatert for dimensjonene \"Produkt\" og \"ProduktDetalj\". I tillegg lagt inn kontering."]
["Versjon 1.2.22","O_O",null,null,76049,10,2690,"Ny kode lagt inn på tillegg og trekk"]
["Versjon 1.2.22","I_H",null,null,26002,20,6100,"Fraktkoder konteres også med mva.-kode I_H hvis Gartnerhallen sender avregninger på vegne av Bama"]
["Versjon 1.2.22","I_H",null,null,26016,20,6100,"Fraktkoder konteres også med mva.-kode I_H hvis Gartnerhallen sender avregninger på vegne av Bama"]
["Versjon 1.2.22",null,null,null,null,null,null,"Koder for tilskudd som var lagt inn under 7000-serien for tillegg og trekk er tatt ut. De ble ikke tatt i bruk og er ikke aktuelle lenger nå."]
["Versjon 1.2.23",null,null,null,null,null,null,"Tillegg og trekk kode 22003 Andre trekk (leveringssted) er kontert for potet i konteringsmatrisen. Konto 20.3011 eller konto 20.3014"]
["Versjon 1.2.23",null,null,null,null,null,null,"Overordnet produktkode 7140 er tatt ut"]
["Versjon 1.2.23",null,null,null,null,null,null,"Ny produktkode 7136 \"Tilskudd til små og mellomstore melkebruk\". Kontert til 20.3450. Dette gir nye ProduktDetaljkoder:"]
["Versjon 1.2.23",null,null,null,null,null,null,"  7136000 Tilskudd til små og mellomstore melkebruk"]
["Versjon 1.2.23",null,null,null,null,null,null,"  7136120 Melkekyr"]
["Versjon 1.2.23",null,null,null,null,null,null,"  7136140 Melkegeiter"]
["Versjon 1.2.23",null,null,null,null,null,null,"For produktkode 8190 er innført et nivå under kode 8191 \"Fôrproduksjon\". ProduktDetalj blir da endret til:"]
["Versjon 1.2.23",null,null,null,null,null,null,"  8191000 Fôrproduksjon"]
["Versjon 1.2.23",null,null,null,null,null,null,"  8191001 Rundballeplast, nett, plansiloplast"]
["Versjon 1.2.23",null,null,null,null,null,null,"  8191999 Andre forbruksartikler fôrproduksjon"]
["Versjon 1.2.23",null,null,null,null,null,null,"For kode produktkode 8119 er tekst endret til \"Husdyrgjødsel/Organisk gjødsel\""]
["Versjon 1.2.23",null,null,null,null,null,null,"Nye ProduktDetaljkoder lagt inn:"]
["Versjon 1.2.23",null,null,null,null,null,null,"  8111027 Helgjødsel med 2 kg kobolt per tonn"]
["Versjon 1.2.23",null,null,null,null,null,null,"  8111028 Helgjødsel 30-1-1 med kobolt"]
["Versjon 1.2.23",null,null,null,null,null,null,"  8111029 Helgjødsel 12-2-10"]
["Versjon 1.2.23",null,null,null,null,null,null,"  8111030 Helgjødsel 12-2-10 med kobber"]
["Versjon 1.2.23",null,null,null,null,null,null,"Nye ProduktDetaljkoder for Produktkode 7111:"]
["Versjon 1.2.23",null,null,null,null,null,null,"  7111540 Fulldyrket og overflatedyrket areal "]
["Versjon 1.2.23",null,null,null,null,null,null,"  7111541 Innmarksbeite"]
["Versjon 1.2.23",null,null,null,null,null,null,"Nye ProduktDetaljkoder for Produktkode 7126:"]
["Versjon 1.2.23",null,null,null,null,null,null,"  7126880 Innmarksbeite i 1. års karens, økologisk areal"]
["Versjon 1.2.23",null,null,null,null,null,null,"  7126881 Grovfôrareal (unntatt innmarksbeite) i 1. års karens, økologisk areal"]
["Versjon 1.2.23",null,null,null,null,null,null,"  7126882 Annet areal i 1. års karens, økologisk areal"]
["Versjon 1.2.23",null,null,null,null,null,null,"Produktkode 7127 er kontert til konto 20.3460. Koden vil sannsynligvis ikke være i bruk, men usikker på om Ldir kan komme med noe her."]
["Versjon 1.2.24",null,null,null,null,null,null,"Ny produktkode 8299 Driftsmidler lagt til. Midlertidig kode skal håndtere kode YFA221 fra Tine. Er også brukt på kode 33421 fra FKRA"]
["Versjon 1.2.24",null,null,null,null,null,null,"Ny produktdetaljkode 2100079 Potet Colomba"]
["Versjon 1.2.24",null,null,null,null,null,null,"Nye koder for ProduktDetalj: 8149001 Blomstereng, 8149002 Plenfrø Disse hadde tidligere henholdsvis kode 8143018 og 8143019.\nDe gamle koden har nå tekst Ledig"]
["Versjon 1.2.24",null,null,null,null,null,null,"For tillegg og trekk kode 84006 er konto 20.4470 fjernet fra konteringsmatrisen for produktkode 8000, varer med denne komb. blir ukontert"]
["Versjon 1.2.24",null,null,null,null,null,null,"For tillegg og trekk kode 86001 er konto 20.4460 fjernet fra konteringsmatrisen for produktkode 8000, varer med denne komb. blir ukontert"]
["Versjon 1.2.24","O_H / O_S",2289,2289,null,null,null,"Ny salat: 2289 Salanova Konto 3015.20 eller 3019.20"]
["Versjon 1.2.24",null,null,null,52013,null,null,"Ny tillegg og trekk kode på livdyr: \"52013 Umerket dyr\" konto 3050.20 eller 4600.20"]
["Versjon 1.2.24","I_H",null,null,22021,20,6100,"Utjevningstrekk konteres også med mva.-kode I_H hvis Gartnerhallen sender avregninger på vegne av Bama"]
["Versjon 1.2.24",null,null,null,null,null,null,"Fire nye sorter for havre. ProduktDetalj 113027-1130030"]
["Versjon 1.2.25",null,null,null,null,null,null,"Endringer i detaljkoder"]
["Versjon 1.2.25",null,null,null,null,null,null,"Nye produktdetaljkoder potet: 2100080 Potet Britta, 2100081 Potet P02-1866, 2100082 Potet Lunarossa, 2100083 Potet Berle"]
["Versjon 1.2.25",null,null,null,null,null,null,"Nye produktdetaljer bygg: 1122021 Seksrads bygg Kaarle, 1122022 Seksrads bygg Vertti, 1122023 Seksrads bygg Einar, 1122024 Seksrads bygg Wolmari"]
["Versjon 1.2.25",null,null,null,null,null,null,"Nye produktdetaljkoder rug: 1140010 Rug Høst Daniello, 1140011 Rug Høst Rubin, 1140012 Rug Høst Marcelo"]
["Versjon 1.2.25",null,null,null,null,null,null,"Nye produktdetaljkoder rughvete: 1150008 Rughvete Høst Probus, 1150009 Rughvete Kasyno, 1150010 Rughvete Høst Trapero"]
["Versjon 1.2.25",null,null,null,null,null,null,"Nye produktdetaljkoder vårhvete: 1111011 Vårhvete Caress"]
["Versjon 1.2.25",null,null,null,null,null,null,"Nye produktdetaljkoder gjødsel: 8114014 Nitrogen m/S, 8111031 Fullgjødsel 17-5-10, 8111032 Fullgjødsel 8-10,5-20"]
["Versjon 1.2.25",null,null,null,null,null,null,"Ny produktdetaljkode seksrad bygg: 1122020 Seksrads bygg Høst Galileoo"]
["Versjon 1.2.25",null,null,null,null,null,null,"Endringer i tillegg og trekk for slakt"]
["Versjon 1.2.25",null,null,null,null,null,null,"Ny tekst for tillegg og trekk kode 41016.\"Sesongtillegg\" fjernet"]
["Versjon 1.2.25",null,null,null,null,null,null,"Kode 41006: Ny tekst: \"Tillegg for helse og velverd\""]
["Versjon 1.2.25",null,null,null,null,null,null,"Kode 41016: Ny tekst: \"Andre sammenslåtte tillegg\""]
["Versjon 1.2.25",null,null,null,null,null,null,"Kode 42002: Ny tekst: \"Trekk for helse og velferd\" Ny merknad: \"Trekk for manglende dokumentasjon\""]
["Versjon 1.2.25",null,null,null,null,null,null,"Kode 42005: Ny tekst: \"Stoppsats/Frakt\""]
["Versjon 1.2.25",null,null,null,null,null,null,"Kode 42008: Ny merknad: \"Slakt med ulla på/klipping. Individuelle kvalitetstrekk på et/flere dyr/slakt (Uren hud, hygiene/USR).\""]
["Versjon 1.2.25",null,null,null,null,null,null,"Kode 44002: Ny tekst: \"Erstatning slakt\""]
["Versjon 1.2.25",null,null,null,null,null,null,"Kode 44003: Ny tekst: \"Etterbetaling innenfor året\" Ny merknad: \"Etterbetaling, tids-/volumavhengige el.l. innenfor kalenderåret. Individnr 00000.\""]
["Versjon 1.2.25",null,null,null,null,null,null,"Kode 44004: Ny tekst: \"Etterbetaling/bonus år senere enn leveranse\" Ny merknad: \"Årsbonus. Etterbetaling/bonus i senere år enn leveransen. Optibif\""]
["Versjon 1.2.25",null,null,null,null,null,null,"Kode 45004: Ny tekst: \"Kvalitetstilskudd (storfe, lam, kje)\""]
["Versjon 1.2.25",null,null,null,null,null,null,"Endringer i tillegg og trekk for livdyr"]
["Versjon 1.2.25",null,null,null,null,null,null,"Kode 51011: Ny tekst: \"Tillegg for helse og velverd\""]
["Versjon 1.2.25",null,null,null,null,null,null,"Kode 51013: Ny tekst: \"Kompensasjon livdyr\" Ny merknad: \"Inseminert/drektig\""]
["Versjon 1.2.25",null,null,null,null,null,null,"Kode 52007: Ny tekst: \"Stoppsats/Frakt\""]
["Versjon 1.2.25",null,null,null,null,null,null,"Ny kode: 52014 \"Trekk for helse og velferd\""]
["Versjon 1.2.25",null,null,null,null,null,null,"Kode 54001: Ny tekst: \"Etterbetaling innenfor året\" Ny merknad: \"Etterbetaling, tids-/volumavhengige el.l. innenfor kalenderåret. Individnr 00000.\""]
["Versjon 1.2.25",null,null,null,null,null,null,"Kode 54004: Ny tekst: \"Etterbetaling/bonus år senere enn leveranse\" Ny merknad: \"Årsbonus. Etterbetaling/bonus i senere år enn leveransen. Individnr er nuller.\""]
["Versjon 1.2.25",null,null,null,null,null,null,"Endring i kontering"]
["Versjon 1.2.25",null,null,null,null,null,null,"Under tillegg og trekk kode 41001 lagt til konto 3162 under O_Z"]
["Versjon 1.2.25",null,null,null,null,null,null,"Under tillegg og trekk kode 44006 lagt til konto 8059 fjernet under O_O konto 8159 fjernet under I_O"]
["Versjon 1.2.25",null,null,null,null,null,null,"Under tillegg og trekk kode 54002 fjernet konto 3050 under O_S for produktkodegruppe \"Livdyr andre husdyr\""]
["Versjon 1.2.25",null,null,null,null,null,null,"Under tillegg og trekk har alle koder 51002 - 51017 fått konto 4600 under mva-kode I_S"]
["Versjon 1.2.25",null,null,null,null,null,null,"Under tillegg og trekk kode 52014 \"Trekk for helse og velferd\" er ny. Den er kontert med konto 4600 under mva-kode I_S og konto 3050 under mva-kode O_S"]
["Versjon 1.2.25",null,null,null,null,null,null,"Under tillegg og trekk kode 54005 er kontering fjernet. Skal over til 7000-serien"]
["Versjon 1.2.25",null,null,null,null,null,null,"Under produktkoder for slakt er satt inn konto 4300 på alle linjer under mva-kode I_H. Kontering her skal dekke tibakekjøp av slakt i næring på egen faktura"]
["Versjon 1.2.25",null,null,null,null,null,null,"Under tillegg og trekk for poteter, grønnsaker, frukt og bær: For kodene \"26010 Maskinleie\" og \"26017 Utstyr og lagerhåndtering\" endret fra konto 4558 til 4550"]
["Versjon 1.2.25",null,null,null,null,null,null,"All kontering på skogbruk på 8000-nummer som har tilsvarende kontering på jordbruk er fjernet for å få unik koding."]
["Versjon 1.2.26","Lastet opp i Dataflyt: 17.03.2020"]
["Versjon 1.2.26",null,null,null,null,null,null,"Endringer i detaljkoder"]
["Versjon 1.2.26",null,null,null,null,null,null,"Ny kode for \"Raisvingel Hipast 1224005\""]
["Versjon 1.2.26",null,null,null,null,null,null,"Ny kode for \"Brakket, økologisk areal 7126876\""]
["Versjon 1.2.26",null,null,null,null,null,null,"Ny kode for \"Verpehøner og avlsdyr av ender, kalkuner og gjess 7131161\""]
["Versjon 1.2.26",null,null,null,null,null,null,"Ny kode for \"Rugegg levert til rugeri (Tilskudd for husdyr) 7131162\""]
["Versjon 1.2.26",null,null,null,null,null,null,"Ny kode for \"Verpehøner og avlsdyr av ender, kalkuner og gjess 7211161\""]
["Versjon 1.2.26",null,null,null,null,null,null,"Ny kode for \"Rugegg levert til rugeri (Tilskudd for husdyr) 7211162\""]
["Versjon 1.2.27","Lastet opp i Dataflyt: 29.10.2020"]
["Versjon 1.2.27",null,null,null,null,null,null,"Endringer i detaljkoder"]
["Versjon 1.2.27",null,null,null,null,null,null,"Ny kode: 1112016 Høsthvete Julius"]
["Versjon 1.2.27",null,null,null,null,null,null,"Rettet skrivefeil tekst kode 1121015 : Toradsbygg Fairytale"]
["Versjon 1.2.27",null,null,null,null,null,null,"Ny kode: 1121023 Toradsbygg Laurikka"]
["Versjon 1.2.27",null,null,null,null,null,null,"Ny kode: 1121024 Toradsbygg Bente"]
["Versjon 1.2.27",null,null,null,null,null,null,"Ny kode: 1121025 Toradsbygg Atrika"]
["Versjon 1.2.27",null,null,null,null,null,null,"Ny kode: 1121026 Toradsbygg Myway"]
["Versjon 1.2.27",null,null,null,null,null,null,"Ny kode: 1121027 Toradsbygg Pihl"]
["Versjon 1.2.27",null,null,null,null,null,null,"Ny kode: 1122025 Seksrads bygg Bredo"]
["Versjon 1.2.27",null,null,null,null,null,null,"Ny kode: 1122026 Seksrads bygg Birk"]
["Versjon 1.2.27",null,null,null,null,null,null,"Ny kode: 1130031 Havre Dominik"]
["Versjon 1.2.27",null,null,null,null,null,null,"Ny kode: 1140013 Rug Høst Granat"]
["Versjon 1.2.27",null,null,null,null,null,null,"Ny kode: 1140014 Rug Høst SU Performer"]
["Versjon 1.2.27",null,null,null,null,null,null,"Ny kode: 1140015 Rug Amilo"]
["Versjon 1.2.27",null,null,null,null,null,null,"Ny kode: 1150011 Rughvete Vår Mamut"]
["Versjon 1.2.27",null,null,null,null,null,null,"Ny kode: 1210006 Timotei Leidang"]
["Versjon 1.2.27",null,null,null,null,null,null,"Ny kode: 1210007 Timotei Switch"]
["Versjon 1.2.27",null,null,null,null,null,null,"Ny kode: 1210008 Timotei Gunnar"]
["Versjon 1.2.27",null,null,null,null,null,null,"Ny kode: 1210009 Timotei Varg"]
["Versjon 1.2.27",null,null,null,null,null,null,"Ny kode: 1210010 Timotei Lerke"]
["Versjon 1.2.27",null,null,null,null,null,null,"Ny kode: 1210011 Timotei Engmo"]
["Versjon 1.2.27",null,null,null,null,null,null,"Ny kode: 1210012 Timotei Lakta"]
["Versjon 1.2.27",null,null,null,null,null,null,"Ny kode: 1221009 Engsvingel Veid"]
["Versjon 1.2.27",null,null,null,null,null,null,"Ny kode: 1221010 Engsvingel Vidar"]
["Versjon 1.2.27",null,null,null,null,null,null,"Ny kode: 1221011 Engsvingel Vidvin"]
["Versjon 1.2.27",null,null,null,null,null,null,"Ny kode: 1221012 Engsvingel Vollan"]
["Versjon 1.2.27",null,null,null,null,null,null,"Ny kode: 1221013 Engsvingel Revansch"]
["Versjon 1.2.27",null,null,null,null,null,null,"Ny kode: 1221014 Engsvingel Vang"]
["Versjon 1.2.27",null,null,null,null,null,null,"Ny kode: 1221015 Engsvingel Vikan"]
["Versjon 1.2.27",null,null,null,null,null,null,"Ny kode: 1221016 Engsvingel Gollum"]
["Versjon 1.2.27",null,null,null,null,null,null,"Ny kode: 1221017 Engsvingel Gyda"]
["Versjon 1.2.27",null,null,null,null,null,null,"Ny kode: 1221018 Engsvingel Vanja"]
["Versjon 1.2.27",null,null,null,null,null,null,"Ny kode: 1222007 Rødsvingel Lystig"]
["Versjon 1.2.27",null,null,null,null,null,null,"Ny kode: 1223002 Strandsvingel Swaj"]
["Versjon 1.2.27",null,null,null,null,null,null,"Ny kode: 1223003 Strandsvingel Barolex"]
["Versjon 1.2.27",null,null,null,null,null,null,"Ny kode: 1281014 Flerårig raigras WW Graxer Nova"]
["Versjon 1.2.27",null,null,null,null,null,null,"Ny kode: 1281015 Flerårig raigras Kentaur (engelsk)"]
["Versjon 1.2.27",null,null,null,null,null,null,"Ny kode: 1282010 Toårig raigras Barmultra"]
["Versjon 1.2.27",null,null,null,null,null,null,"Ny kode: 1282011 Toårig raigras Turgo"]
["Versjon 1.2.27",null,null,null,null,null,null,"Ny kode: 1283007 Ettårig raigras Jivet"]
["Versjon 1.2.27",null,null,null,null,null,null,"Ny kode: 1283008 Ettårig raigras Andy"]
["Versjon 1.2.27",null,null,null,null,null,null,"Ny kode: 1283009 Ettårig raigras Polly"]
["Versjon 1.2.27",null,null,null,null,null,null,"Ny kode: 1283010 Ettårig raigras Danegro"]
["Versjon 1.2.27",null,null,null,null,null,null,"Ny kode: 1283011 Ettårig raigras Barsutra"]
["Versjon 1.2.27",null,null,null,null,null,null,"Ny kode: 1283012 Ettårig raigras Major"]
["Versjon 1.2.27",null,null,null,null,null,null,"Ny kode: 1310010 Rødkløver Linus"]
["Versjon 1.2.27",null,null,null,null,null,null,"Ny kode: 1310011 Rødkløver Lasang"]
["Versjon 1.2.27",null,null,null,null,null,null,"Ny kode: 1310012 Rødkløver Lasse"]
["Versjon 1.2.27",null,null,null,null,null,null,"Ny kode: 1310013 Rødkløver Legato"]
["Versjon 1.2.27",null,null,null,null,null,null,"Ny kode: 1320011 Kvitkløver Largo"]
["Versjon 1.2.27",null,null,null,null,null,null,"Ny kode: 1320012 Kvitkløver Lilja"]
["Versjon 1.2.27",null,null,null,null,null,null,"Ny kode: 1390002 Blodkløver Kardinal"]
["Versjon 1.2.27",null,null,null,null,null,null,"Ny kode: 1410002 Fôrreddik Ikarus"]
["Versjon 1.2.27",null,null,null,null,null,null,"Ny kode: 1430004 Fôrraps Barcoli"]
["Versjon 1.2.27",null,null,null,null,null,null,"Ny kode: 1430005 Fôrraps Barsica"]
["Versjon 1.2.27",null,null,null,null,null,null,"Ny kode: 1440002 Fôrmargkål Camaro"]
["Versjon 1.2.27",null,null,null,null,null,null,"Ny tekst kode 2100080 Brittahar skiftet navn til Lady Britta. Kodetekst blir da:Potet Lady Britta"]
["Versjon 1.2.27",null,null,null,null,null,null,"Ny kode: 2100084 Potet Celandine"]
["Versjon 1.2.27",null,null,null,null,null,null,"Ny kode: 2100085 Potet Evolution"]
["Versjon 1.2.27",null,null,null,null,null,null,"Ny kode: 2100086 Potet Danique"]
["Versjon 1.2.27",null,null,null,null,null,null,"Ny kode: 2100087 Potet Frig"]
["Versjon 1.2.27",null,null,null,null,null,null,"Ny kode: 2510043 Epler Siv"]
["Versjon 1.2.27",null,null,null,null,null,null,"Ny kode: 2610020 Jordbær Nobel"]
["Versjon 1.2.27",null,null,null,null,null,null,"Ny kode: 8111033 Fullgjødsel 12-2-16"]
["Versjon 1.2.27",null,null,null,null,null,null,"Ny kode: 8111034 Fullgjødsel 18-1-10 m/selen"]
["Versjon 1.2.27",null,null,null,null,null,null,"Ny kode: 8111035 Fullgjødsel 18-1-10 m/magn"]
["Versjon 1.2.27",null,null,null,null,null,null,"Ny kode: 8111036 Fullgjødsel 18-1-10 m/kobber"]
["Versjon 1.2.27",null,null,null,null,null,null,"Ny kode: 8111037 Fullgjødsel 18-1-10 m/ kobolt og selen"]
["Versjon 1.2.27",null,null,null,null,null,null,"Ny kode: 8111038 Fullgjødsel 18-1-2 m/selen"]
["Versjon 1.2.27",null,null,null,null,null,null,"Ny kode: 8111039 Fullgjødsel NPK 15-7-12 (10S)"]
["Versjon 1.2.27",null,null,null,null,null,null,"Ny kode: 8111040 Fullgjødsel Superba Plus NPK 8-3-27"]
["Versjon 1.2.27",null,null,null,null,null,null,"Ny kode: 8111041 Helgjødsel 25-1-6"]
["Versjon 1.2.27",null,null,null,null,null,null,"Ny kode: 8113005 Kaliumnitrat"]
["Versjon 1.2.27",null,null,null,null,null,null,"Ny kode: 8113006 Polysulfat"]
["Versjon 1.2.27",null,null,null,null,null,null,"Ny kode: 8116003 NP-gjødsel 19-8-0"]
["Versjon 1.2.27",null,null,null,null,null,null,"Ny kode: 8149003 Torvtak"]
["Versjon 1.2.27",null,null,null,null,null,null,"Kontering"]
["Versjon 1.2.27","I_S",8000,8000,82004,20,4441,"Ny kontering under tillegg og trekk. Brukes bl.a. på retur av paller"]
["Versjon 1.2.27","I_S",8426,8426,null,20,6860,"Tillatt kontering både med 0% og 25% for produkt 8426 Kurs/Møter/Fagturer"]
["Versjon 1.2.27","O_O",6152,6152,null,30,3050,"Kontering vdr. importtømmer fra Sverige iflg. Glommen - Mjøsen Skog"]
["Versjon 1.2.27","I_S",8000,8000,86003,20,7770,"Fakturagebyr uspesifisert "]
["Versjon 1.2.28","Lastet opp/aktivert i Dataflyt: 03.06.2021/17.06.2021"]
["Versjon 1.2.28",null,null,null,null,null,null,"Endringer i detaljkoder"]
["Versjon 1.2.28",null,null,null,null,null,null,"Ny kode: 1111012 Vårhvete Betong"]
["Versjon 1.2.28",null,null,null,null,null,null,"Ny kode: 1112017 Høsthvete Informer"]
["Versjon 1.2.28",null,null,null,null,null,null,"Ny kode: 1130032 Havre Ridabu"]
["Versjon 1.2.28",null,null,null,null,null,null,"Ny kode: 1140016 Rug Høst KWS Trebiano"]
["Versjon 1.2.28",null,null,null,null,null,null,"Ny kode: 1161011 Raps Høst Florian"]
["Versjon 1.2.28",null,null,null,null,null,null,"Ny kode: 1161012 Raps Høst Mercedes"]
["Versjon 1.2.28",null,null,null,null,null,null,"Ny kode: 1161013 Raps Høst Dariot"]
["Versjon 1.2.28",null,null,null,null,null,null,"Ny kode: 1281016 Flerårig raigras Fagerlin"]
["Versjon 1.2.28",null,null,null,null,null,null,"Ny kode: 1490006 Fiberlin"]
["Versjon 1.2.28",null,null,null,null,null,null,"Ny kode: 1490007 Oljelin"]
["Versjon 1.2.28",null,null,null,null,null,null,"Ny kode: 2100088 Potet Kiebitz"]
["Versjon 1.2.28",null,null,null,null,null,null,"Ny kode: 2100089 Potet Go 8-3167 (ny sort har ikke fått navn foreløpig)"]
["Versjon 1.2.28",null,null,null,null,null,null,"Ny kode: 2610021 Jordbær Flair"]
["Versjon 1.2.28",null,null,null,null,null,null,"Ny kode: 2610025 Jordbær Glima"]
["Versjon 1.2.28",null,null,null,null,null,null,"Ny kode: 2610026 Jordbær Sunsation"]
["Versjon 1.2.28",null,null,null,null,null,null,"Ny kode: 2610027 Jordbær Malwina"]
["Versjon 1.2.28",null,null,null,null,null,null,"Ny kode: 2610028 Jordbær Sunette"]
["Versjon 1.2.28",null,null,null,null,null,null,"Ny kode: 2610029 Jordbær Faith"]
["Versjon 1.2.28",null,null,null,null,null,null,"Ny kode: 8111042 Helgjødsel 10-1-7"]
["Versjon 1.2.28",null,null,null,null,null,null,"Kode 8215002, endret skrivefeil i tekst"]
["Versjon 1.2.28",null,null,null,null,null,null,"Kontering"]
["Versjon 1.2.28","I_S",null,null,46007,20,4539,"Endret fra konto 20.4300 (Varetekst endret)"]
["Versjon 1.2.28","I_H",null,null,46007,20,4300,"Ny. Tilbakekjøp slakt lav mva."]
["Versjon 1.2.28",null,null,null,46014,"Flyttet",null,"Ledig, \"Forskudd fra varemottaker\" kontering flyttes til Produkt=7910, ProduktTilleggTrekk=76041"]
["Versjon 1.2.28","O_Z",null,null,46006,20,3162,"Mva.-kode O_Z tillatt for Kode\" 46006 Nødslakting\""]
["Versjon 1.2.28","I_S",8119,null,null,20,4451,"Endret fra konto 4450 til 4451"]
["Versjon 1.2.28","I_S",8191,8191,null,20,4440,"Ny kontering, bl.a. rundballnett"]
["Versjon 1.2.28","I_O",8530,null,null,20,6840,"Midlertidig kontering for Tine kode YFA262 Bøker/Rekvisita u/mva "]
["Versjon 1.2.28","I_S",8530,null,null,20,6800,"Samtidig lagt inn mulighet for å kontere med mva.-kode I_S"]
["Versjon 1.2.28","O_S",4000,4499,41013,20,3040,"Tatt i bruk ledig kode: 41013 Tillegg for skinn av pelsraser"]
["Versjon 1.2.28","O_S",4000,4499,42013,20,3040,"Ny kode: 42013 Retur av skinn"]
["Versjon 1.2.28","O_S",4000,4499,42014,20,3040,"Ny kode: 42014 Trekk for fett"]
["Versjon 1.2.28","O_S",4000,4499,42015,20,3040,"Ny kode: 42015 Trekk for over og undervekt slakt"]
["Versjon 1.2.28","O_S",4000,4499,45005,20,3048,"Tatt i bruk ledig kode: 45005 Tilskudd til skinn (Ldir)"]
["Versjon 1.2.28","I_S",8000,8000,84006,20,4470,"Tatt inn på nytt"]
["Versjon 1.2.28","I_S",8000,8000,86001,20,4460,"Tatt inn på nytt"]
["Versjon 1.2.28",null,null,null,null,null,null,"NB! Under tillegg og trekk ble tidligere alle tillegg og trekk koder knyttet til handelsgjødsel  og kalk (produkt intervall 8110-8119) kontert på konto 4450"]
["Versjon 1.2.28",null,null,null,null,null,null,"         Dette er nå endret slik at tillegg og trekk tilhørende gjødsel blir kontert på konto 4451 oh kalk på konto 4457"]
["Versjon 1.2.28",null,null,null,null,null,null,"Endringer i tillegg og trekk koder"]
["Versjon 1.2.28",null,null,null,null,null,null,"Endret tekst for kode 31021, ny tekst: Tillegg for beredde ullskinn"]
["Versjon 1.2.28",null,null,null,null,null,null,"Tatt i bruk ledig kode: 41013 Tillegg for skinn av pelsraser"]
["Versjon 1.2.28",null,null,null,null,null,null,"Ny kode: 42013 Retur av skinn og Skinn til beredning"]
["Versjon 1.2.28",null,null,null,null,null,null,"Ny kode: 42014 Trekk for fett"]
["Versjon 1.2.28",null,null,null,null,null,null,"Ny kode: 42015 Trekk for over og undervekt slakt"]
["Versjon 1.2.28",null,null,null,null,null,null,"Tatt i bruk ledig kode: 45005 Tilskudd til skinn (Ldir)"]
["Versjon 1.2.28",null,null,null,null,null,null,"Endring tekst for kode 51004. Endret til: Stambok tillegg"]
["Versjon 1.2.28",null,null,null,null,null,null,"Endring av tekst for kode 41005"]
[]
["Versjon 1.2.29",null,null,null,null,null,null,"Endringer i produktkoder"]
["Versjon 1.2.29",null,null,null,null,null,null,"Produktkode 8144: tekst endret til \"Settepotet, knoller og løk\""]
["Versjon 1.2.29",null,null,null,null,null,null,"Endringer i detaljkoder"]
["Versjon 1.2.29",null,null,null,null,null,null,"Ny kode: 1121028 Toradsbygg Annika"]
["Versjon 1.2.29",null,null,null,null,null,null,"Ny kode: 1150012 Rughvete Høst Temuco"]
["Versjon 1.2.29",null,null,null,null,null,null,"Kode 1150007, tekst endret pga. skrivefeil: Rughvete Høst Capricia"]
["Versjon 1.2.29",null,null,null,null,null,null,"Ny kode: 2510044 Eple Eden"]
["Versjon 1.2.29",null,null,null,null,null,null,"Ny kode: 2510045 Eple Fryd"]
["Versjon 1.2.29",null,null,null,null,null,null,"Ny kode: 2510046 Eple Asfari Gul aroma"]
["Versjon 1.2.29",null,null,null,null,null,null,"Endret kontering for noen tillegg og trekk (NB Kommer i tillegg til generelle endringer pga. endring av kontoplan)"]
["Versjon 1.2.29",null,null,null,null,null,null,"Kontering på tillegg og trekk 35003 Gårdstankhold, utvidet med kontering på konto 3281, mva.-kode O_O"]
["Versjon 1.2.29",null,null,null,null,null,null,"For tillegg og trekk kode 35004 er kontering under mva.-kode O_S endret fra konto 3079 til 3048 Offentlige tilskudd utbetalt via varemottaker"]
["Versjon 1.2.29",null,null,null,null,null,null,"For tillegg og trekk kode 36021 er det lagt inn samme konto på mva. I_H (middel sats) og I_S (høy sats). Gjelder meieri/melk"]
["Versjon 1.2.29",null,null,null,null,null,null,"Kontering på tillegg og trekk kode 44003 endret til konto 3041 for mva O_S og konto 3162 for O_Z"]
["Versjon 1.2.29",null,null,null,null,null,null,"Kontering på tillegg og trekk kode 44004 endret til konto 3041 for mva O_S og konto 3162 fjernet for O_Z"]
["Versjon 1.2.29",null,null,null,null,null,null,"Endringer i kontoplan (NB: Alle produktkoder og tillegg og trekk koder koblet til endrede konti blir berørt)"]
["Versjon 1.2.29",null,null,null,null,null,null,"Endret/justert kontotekst"]
["Versjon 1.2.29",null,null,null,null,10,89,"Endret/justert tekst:  Avsetning, feilkonto, differanse"]
["Versjon 1.2.29",null,null,null,null,20,1123,"Endret/justert tekst:  Vannanlegg, (saldogruppe H)"]
["Versjon 1.2.29",null,null,null,null,20,1144,"Endret/justert tekst:  Fangdammer og våtmarker"]
["Versjon 1.2.29",null,null,null,null,20,1470,"Endret/justert tekst:  Lagerbeholdning av innkjøpt drivstoff og brensel"]
["Versjon 1.2.29",null,null,null,null,20,3000,"Endret/justert tekst:  Salgsinntekt, korn, frø, stråfôr (avgiftspliktig)"]
["Versjon 1.2.29",null,null,null,null,20,3010,"Endret/justert tekst:  Salgsinntekt poteter, grønnsaker og urter (avgiftspliktig)"]
["Versjon 1.2.29",null,null,null,null,20,3020,"Endret/justert tekst:  Salgsinntekt, frukt og bær (avgiftspliktig)"]
["Versjon 1.2.29",null,null,null,null,20,3030,"Endret/justert tekst:  Salgsinntekt, blomster/planter (avgiftspliktig)"]
["Versjon 1.2.29",null,null,null,null,20,3048,"Endret/justert tekst:  Offentlige tilskudd utbetalt via varemottaker"]
["Versjon 1.2.29",null,null,null,null,20,3060,"Endret/justert tekst:  Uttak av innkjøpte varer og tjenester (avgiftspliktig)"]
["Versjon 1.2.29",null,null,null,null,20,3070,"Endret/justert tekst:  Salgsinntekt, andre husdyrprodukter (avgiftspliktig)"]
["Versjon 1.2.29",null,null,null,null,20,3074,"Endret/justert tekst:  Offentlige tilskudd utbetalt via varemottaker"]
["Versjon 1.2.29",null,null,null,null,20,3079,"Endret/justert tekst:  Ull og garvede skinn (høy mva-sats)"]
["Versjon 1.2.29",null,null,null,null,20,3080,"Endret/justert tekst:  Rabatt og annen salgsinntektsreduksjon (avgiftspliktig salg)"]
["Versjon 1.2.29",null,null,null,null,20,3090,"Endret/justert tekst:  Salgsinntekt, annen (avgiftspliktig)"]
["Versjon 1.2.29",null,null,null,null,20,3161,"Endret/justert tekst:  Uttak av planteprodukter privat bruk"]
["Versjon 1.2.29",null,null,null,null,20,3171,"Endret/justert tekst:  Uttak av planteprodukter til kår"]
["Versjon 1.2.29",null,null,null,null,20,4099,"Endret/justert tekst:  Beholdningsendring av innkjøpte råvarer, andre"]
["Versjon 1.2.29",null,null,null,null,20,4440,"Endret/justert tekst:  Kjøp og leie av embalasjemateriell"]
["Versjon 1.2.29",null,null,null,null,20,4540,"Endret/justert tekst:  Tjenester og trekk i plante- og fôrproduksjonen"]
["Versjon 1.2.29",null,null,null,null,20,6200,"Endret/justert tekst:  Elektrisitet vedrørende produksjon"]
["Versjon 1.2.29",null,null,null,null,20,6400,"Endret/justert tekst:  Leie/leasing av maskiner uten fører, fast kostnad"]
["Versjon 1.2.29",null,null,null,null,20,6401,"Endret/justert tekst:  Leie/leasing av traktor"]
["Versjon 1.2.29",null,null,null,null,20,6404,"Endret/justert tekst:  Leie/leasing av andre redskaper/maskiner"]
["Versjon 1.2.29",null,null,null,null,20,6410,"Endret/justert tekst:  Leie/leasing av inventar"]
["Versjon 1.2.29",null,null,null,null,20,6420,"Endret/justert tekst:  Leie/leasing av datasystemer"]
["Versjon 1.2.29",null,null,null,null,20,6430,"Endret/justert tekst:  Leie/leasing av kontormaskiner"]
["Versjon 1.2.29",null,null,null,null,20,6440,"Endret/justert tekst:  Leie/leasing av bil"]
["Versjon 1.2.29",null,null,null,null,20,6441,"Endret/justert tekst:  Leie/leasing av bil (avgiftspliktig)"]
["Versjon 1.2.29",null,null,null,null,20,6442,"Endret/justert tekst:  Leie/leasing av bil (avgiftsfritt)"]
["Versjon 1.2.29",null,null,null,null,20,7700,"Endret/justert tekst:  Kostnad annen (avgiftsfri)"]
["Versjon 1.2.29",null,null,null,null,20,7791,"Endret/justert tekst:  Kostnad, annen, fradragsberettiget (avgiftspliktig)"]
["Versjon 1.2.29",null,null,null,null,null,null,"Konto fjernet"]
["Versjon 1.2.29",null,null,null,null,20,1262,"Konto fjernes, er ikke i bruk:  "]
["Versjon 1.2.29",null,null,null,null,20,3008,"Konto fjernes, er ikke i bruk:  "]
["Versjon 1.2.29",null,null,null,null,20,3009,"Konto fjernes, er ikke i bruk:  "]
["Versjon 1.2.29",null,null,null,null,20,3950,"Konto fjernes, er ikke i bruk:  "]
["Versjon 1.2.29",null,null,null,null,20,4050,"Konto fjernes, er ikke i bruk:  "]
["Versjon 1.2.29",null,null,null,null,20,4538,"Konto fjernes, er ikke i bruk:  "]
["Versjon 1.2.29",null,null,null,null,20,6050,"Konto fjernes, er ikke i bruk:  "]
["Versjon 1.2.29",null,null,null,null,20,6402,"Konto fjernes, er ikke i bruk:  "]
["Versjon 1.2.29",null,null,null,null,20,6403,"Konto fjernes, er ikke i bruk:  "]
["Versjon 1.2.29",null,null,null,null,20,6405,"Konto fjernes, er ikke i bruk:  "]
["Versjon 1.2.29",null,null,null,null,20,6411,"Konto fjernes, er ikke i bruk:  "]
["Versjon 1.2.29",null,null,null,null,20,6421,"Konto fjernes, er ikke i bruk:  "]
["Versjon 1.2.29",null,null,null,null,20,6431,"Konto fjernes, er ikke i bruk:  "]
["Versjon 1.2.29",null,null,null,null,20,6641,"Konto fjernes, er ikke i bruk:  "]
["Versjon 1.2.29",null,null,null,null,20,6649,"Konto fjernes, er ikke i bruk:  "]
["Versjon 1.2.29",null,null,null,null,20,6841,"Konto fjernes, er ikke i bruk:  "]
["Versjon 1.2.29",null,null,null,null,20,6842,"Konto fjernes, er ikke i bruk:  "]
["Versjon 1.2.29",null,null,null,null,20,6843,"Konto fjernes, er ikke i bruk:  "]
["Versjon 1.2.29",null,null,null,null,20,7792,"Konto fjernes, er ikke i bruk:  "]
["Versjon 1.2.29",null,null,null,null,null,null,"Konto slettet"]
["Versjon 1.2.29",null,null,null,null,20,3046,"Konto slettes. Endring i koblingstabellen fra 3046 til 3041:  "]
["Versjon 1.2.29",null,null,null,null,20,3072,"Konto slettes. Endring i koblingstabellen fra 3072 til 3071:  "]
["Versjon 1.2.29",null,null,null,null,null,null,"Konto, nye og endret funksjon"]
["Versjon 1.2.29",null,null,null,null,20,3040,"Endrer funksjon, blir morkonto. Endring i koblingstabellen fra 3040 til 3041. Endret tekst:  Salgsinntekt slakt (avgiftspliktig)"]
["Versjon 1.2.29",null,null,null,null,20,3041,"Ny konto overtar for 3040:  Slakt (høy mva-sats)"]
["Versjon 1.2.29",null,null,null,null,20,3050,"Endrer funksjon, blir morkonto. Endring i koblingstabellen fra 3050 til 3051. Endret tekst:  Salgsinntekt, livdyr (avgiftspliktig)"]
["Versjon 1.2.29",null,null,null,null,20,3051,"Ny konto overtar for 3050:  Livdyr (høy mva-sats)"]
["Versjon 1.2.29",null,null,null,null,20,3281,"Ny konto:  Rabatt og annen salgsinntektsreduksjon"]
["Versjon 1.2.29",null,null,null,null,20,4444,"Ny konto:  Kjøp av embalasjemateriell (høy sats)"]
["Versjon 1.2.29",null,null,null,null,20,6210,"Ny konto:  Gass vedrørende produksjon"]
["Versjon 1.2.29",null,null,null,null,null,null,"Ubetydelige tekstjusteringer og skrivefeil"]
["Versjon 1.2.29",null,null,null,null,20,1440,"Retting skrivemåte:  Lagerbeholdning av ferdige egentilvirkede varer for salg"]
["Versjon 1.2.29",null,null,null,null,20,1490,"Retting skrivemåte:  Lagerbeholdning av egentilvirkede varer til eget bruk"]
["Versjon 1.2.29",null,null,null,null,20,3011,"Poteter (middels mva-sats)"]
["Versjon 1.2.29",null,null,null,null,20,3014,"Poteter (høy mva-sats)"]
["Versjon 1.2.29",null,null,null,null,20,3015,"Grønnsaker og urter (middels mva-sats)"]
["Versjon 1.2.29",null,null,null,null,20,3019,"Grønnsaker og urter (høy mva-sats)"]
["Versjon 1.2.29",null,null,null,null,20,3021,"Frukt (middels mva-sats)"]
["Versjon 1.2.29",null,null,null,null,20,3024,"Frukt (høy mva-sats)"]
["Versjon 1.2.29",null,null,null,null,20,3025,"Bær (middels mva-sats)"]
["Versjon 1.2.29",null,null,null,null,20,3029,"Bær(høy mva-sats)"]
["Versjon 1.2.29",null,null,null,null,20,3031,"Blomster og planter (høy mva-sats)"]
["Versjon 1.2.29",null,null,null,null,20,3049,"Slakt (middels mva-sats)"]
["Versjon 1.2.29",null,null,null,null,20,3061,"Uttak av innkjøpte varer og tjenester (høy mva-sats)"]
["Versjon 1.2.29",null,null,null,null,20,3062,"Uttak av drivstoff og innkjøpt brensel (høy mva-sats)"]
["Versjon 1.2.29",null,null,null,null,20,3075,"Salgsinntekt andre husdyrprodukter (middels mva-sats)"]
["Versjon 1.2.29",null,null,null,null,20,3076,"Salgsinntekt andre husdyrprodukter (høy mva-sats)"]
["Versjon 1.2.29",null,null,null,null,20,3077,"Distriktstilskudd andre husdyrprodukter (middels mva-sats)"]
["Versjon 1.2.29",null,null,null,null,20,3078,"Distriktstilskudd andre husdyrprodukter (høy mva-sats)"]
["Versjon 1.2.29",null,null,null,null,20,3081,"Rabatt og annen salgsinntektsreduksjon (høy mva-sats)"]
["Versjon 1.2.29",null,null,null,null,20,3082,"Rabatt og annen salgsinntektsreduksjon (middels mva-sats)"]
["Versjon 1.2.29",null,null,null,null,20,3095,"Salgsinntekt mat (middels mva-sats)"]
["Versjon 1.2.29",null,null,null,null,20,3096,"Salgsinntekt mat (høy mva-sats)"]
["Versjon 1.2.29",null,null,null,null,20,3171,"Uttak av planteprodukter til kår"]
["Versjon 1.2.29",null,null,null,null,20,3400,"Tilskudd vedrørende tilvirkede/solgte varer"]
["Versjon 1.2.29",null,null,null,null,20,42,"Forbruk av ferdig tilvirkede varer"]
["Versjon 1.2.29",null,null,null,null,20,4200,"Forbruk av egentilvirkede produkter"]
["Versjon 1.2.29",null,null,null,null,20,4290,"Beholdningsendring av egentilvirkede produkter"]
["Versjon 1.2.29",null,null,null,null,20,4293,"Beholdningsendring egentilvirkede grønnsaker for salg"]
["Versjon 1.2.29",null,null,null,null,20,4441,"Leie av lagerkasser (pro/kontra) (høy sats)"]
["Versjon 1.2.29",null,null,null,null,20,4511,"Tjenester og trekk i grøntproduksjonen (høy mva-sats)"]
["Versjon 1.2.29",null,null,null,null,20,4512,"Tjenester og trekk i grøntproduksjonen (middels mva-sats)"]
["Versjon 1.2.29",null,null,null,null,20,4518,"Tjenester og trekk i grøntproduksjonen (avgiftsfri)"]
["Versjon 1.2.29",null,null,null,null,20,4548,"Trekk i planteproduksjonen (avgiftsfri)"]
["Versjon 1.2.29",null,null,null,null,20,4549,"Tjenester og trekk i planteproduksjonen (høy mva-sats)"]
["Versjon 1.2.29",null,null,null,null,null,null,"Endringer etter 2022-01-14"]
["Versjon 1.2.29",null,null,null,null,null,null,"Endringer i ProduktDetalj"]
["Versjon 1.2.29",null,null,null,null,null,null,"Ny kode: 1122027 Seksrads bygg Severi"]
["Versjon 1.2.29",null,null,null,null,null,null,"Ny kode: 1225002 Sauesvingel Quattro"]
["Versjon 1.2.29",null,null,null,null,null,null,"Kode 1229001 settes ledig"]
["Versjon 1.2.29",null,null,null,null,null,null,"Kode 1229002 settes ledig"]
["Versjon 1.2.29",null,null,null,null,null,null,"Ny kode: 2479002 Quinoa, urt"]
["Versjon 1.2.29",null,null,null,null,null,null,"Alle grønnsaker har fått en detaljkode på nivå 0. Eksempel Blomkål Produkt=2211 har ProduktDetalj=2211000"]
["Versjon 1.2.29",null,null,null,null,null,null,"Ny kode: 1490008 Bokhvete"]
["Versjon 1.2.29",null,null,null,null,null,null,"Ny kode: 1490009 Tiriltunge"]
["Versjon 1.2.29",null,null,null,null,null,null,"Ny kode: 1390003 Blodkløver Cicero"]
["Versjon 1.2.29",null,null,null,null,null,null,"Ny kode: 1282013 Toårig raigras Danegro"]
["Versjon 1.2.29",null,null,null,null,null,null,"Kode 1283010 utgår (Ledig)"]
["Versjon 1.2.29",null,null,null,null,null,null,"Endringer i dimensjon Produkt"]
["Versjon 1.2.29",null,null,null,null,null,null,"Kodene for potet 2110, 2120, 2130, 2140 og 2199 er fjernet. Dette er ivaretatt under dimensjonen \"ProduktKvalitet\"."]
["Versjon 1.2.29",null,null,null,null,null,null,"Ny kode 2591 Melon"]
["Versjon 1.2.29",null,null,null,null,null,null,"Lagt inn tekst på kode 8516"]
[]
["Versjon 1.2.30",null,null,null,null,null,null,"Endringer i ProduktDetalj"]
["Versjon 1.2.30",null,null,null,null,null,null,"Ny kode: 2100090 Potet Monte Carlo"]
["Versjon 1.2.30",null,null,null,null,null,null,"Ny kode: 2100091 Potet Toronto"]
["Versjon 1.2.30",null,null,null,null,null,null,"Ny kode: 1420002 Grønnfôrnepe Marco"]
["Versjon 1.2.30",null,null,null,null,null,null,"Ny kode: 1320013 Kvitkløver Edith"]
["Versjon 1.2.30",null,null,null,null,null,null,"Ny kode: 1281017 Flerårig raigras Barkamaz"]
["Versjon 1.2.30",null,null,null,null,null,null,"Ny kode: 2610030 Jordbær Favori"]
["Versjon 1.2.30",null,null,null,null,null,null,"Ny kode: 2610031 Jordbær Salsa"]
["Versjon 1.2.30",null,null,null,null,null,null,"Ny kode: 1140017 Rug Høst Inspector"]
["Versjon 1.2.30",null,null,null,null,null,null,"Ny kode: 1130033 Havre Mo"]
["Versjon 1.2.30",null,null,null,null,null,null,"Ny kode: 2479003 Syre, urt"]
["Versjon 1.2.30",null,null,null,null,null,null,"Ny kode: 2479004 Sitrongress, urt"]
["Versjon 1.2.30",null,null,null,null,null,null,"Ny kode: 2479005 Kjørvel, urt"]
["Versjon 1.2.30",null,null,null,null,null,null,"Ny kode: 2479006 Lavendel, urt"]
["Versjon 1.2.30",null,null,null,null,null,null,"Ny kode: 1490010 Andre oljefrø"]
["Versjon 1.2.30",null,null,null,null,null,null,"Ny kode: 1490011 Solsikke"]
["Versjon 1.2.30",null,null,null,null,null,null,"Ny kode: 1490999 Andre frøsorter"]
["Versjon 1.2.30",null,null,null,null,null,null,"Kontering i dimensjon Produkt tilleg og trekk"]
["Versjon 1.2.30","O_H",null,null,26002,20,3011,"Ny kontering"]
["Versjon 1.2.30","O_S",null,null,26002,20,3014,"Ny kontering"]
[]
["Versjon 1.2.31",null,null,null,null,null,null,"Endringer i ProduktDetalj"]
["Versjon 1.2.31",null,null,null,null,null,null,"Ny kode: 8700000 Andre kostnader"]
["Versjon 1.2.31",null,null,null,null,null,null,"Ny kode: 8720000 Energi"]
["Versjon 1.2.31",null,null,null,null,null,null,"Ny kode: 8721000 Elektrisitet"]
["Versjon 1.2.31",null,null,null,null,null,null,"Ny kode: 8721001 Strømpris, kraft"]
["Versjon 1.2.31",null,null,null,null,null,null,"Ny kode: 8721002 Påslag"]
["Versjon 1.2.31",null,null,null,null,null,null,"Ny kode: 8721003 Elsertifikat"]
["Versjon 1.2.31",null,null,null,null,null,null,"Ny kode: 8721004 Opprinnelsesgaranti"]
["Versjon 1.2.31",null,null,null,null,null,null,"Ny kode: 8721005 Månedsbeløp/fastbeløp"]
["Versjon 1.2.31",null,null,null,null,null,null,"Ny kode: 8721006 Klimadeklarering"]
["Versjon 1.2.31",null,null,null,null,null,null,"Ny kode: 8721020 Nettleie"]
["Versjon 1.2.31",null,null,null,null,null,null,"Ny kode: 8721021 Nettleie energiledd"]
["Versjon 1.2.31",null,null,null,null,null,null,"Ny kode: 8721022 Nettleie kapasitetsledd"]
["Versjon 1.2.31",null,null,null,null,null,null,"Ny kode: 8721023 Offentlige avgifter/forbrukeravgift"]
["Versjon 1.2.31",null,null,null,null,null,null,"Ny kode: 8722000 Gass"]
["Versjon 1.2.31",null,null,null,null,null,null,"Ny kode: 8722001 Naturgass"]
["Versjon 1.2.31",null,null,null,null,null,null,"Ny kode: 8722010 Biogass"]
["Versjon 1.2.31",null,null,null,null,null,null,"Ny kode: 8422006 Klimarådgiving"]
["Versjon 1.2.31",null,null,null,null,null,null,"Endringer i dimensjon Produkt"]
["Versjon 1.2.31",null,8600,null,null,null,null,"Ny kode: 8600 Produkter knyttet til varige driftsmidler"]
["Versjon 1.2.31",null,8650,null,null,null,null,"Ny kode: 8650 Driftsbygg"]
["Versjon 1.2.31","I_S",8654,null,null,20,6640,"Ny kode og konto: 8654 Driftsbygg, teknisk utstyr"]
["Versjon 1.2.31",null,8700,null,null,null,null,"Ny kode: 8700 Andre kostnader"]
["Versjon 1.2.31",null,8720,null,null,null,null,"Ny kode: 8720 Energi"]
["Versjon 1.2.31","I_S",8721,null,null,20,6200,"Ny kode og konto: 8721 Elektrisitet"]
["Versjon 1.2.31","I_S",8722,null,null,20,6210,"Ny kode og konto: 8722 Gass"]
["Versjon 1.2.31",null,8750,null,null,null,null,"Ny kode: 8750 Verktøy,inventar mm"]
["Versjon 1.2.31","I_S",8753,null,null,20,6560,"Ny kode og konto: 8753 Rekvisita og driftsmateriell"]
["Versjon 1.2.31",null,null,null,null,null,null,"Kontering i dimensjon Produkt tillegg og trekk "]
["Versjon 1.2.31","O_S",2000,2000,"20000-26999",20,3096,"Ny kontering: Gjelder alle tillegg og trekk for grøntsektoren der overordnet produktkode 2000 er brukt. Se konteringsmatrise."]
["Versjon 1.2.31","O_H",2000,2000,22014,20,3095]
["Versjon 1.2.31","O_H",2100,2199,22014,20,3011]
["Versjon 1.2.31","O_S",2100,2199,22014,20,3014]
["Versjon 1.2.31","O_H",2200,2499,22014,20,3015]
["Versjon 1.2.31","O_S",2200,2499,22014,20,3019]
["Versjon 1.2.31","O_H",2500,2599,22014,20,3021]
["Versjon 1.2.31","O_S",2500,2599,22014,20,3024]
["Versjon 1.2.31","O_H",2600,2699,22014,20,3025]
["Versjon 1.2.31","O_S",2600,2699,22014,20,3029]
["Versjon 1.2.31","O_H",2000,2000,22019,20,3095]
["Versjon 1.2.31","O_H",2000,2000,23006,20,3095]
["Versjon 1.2.31","O_H",2100,2199,26013,20,3011]
["Versjon 1.2.31","O_S",2100,2199,26013,20,3014]
["Versjon 1.2.31","O_H",2500,2599,26013,20,3021]
["Versjon 1.2.31","O_S",2500,2599,26013,20,3024]
["Versjon 1.2.31","O_H",2600,2699,26013,20,3025]
["Versjon 1.2.31","O_S",2600,2699,26013,20,3029]
["Versjon 1.2.31","O_H",2100,2199,23006,20,3011]
["Versjon 1.2.31","O_S",2100,2199,23006,20,3014]
["Versjon 1.2.31","O_H",2200,2499,23006,20,3015]
["Versjon 1.2.31","O_S",2200,2499,23006,20,3019]
["Versjon 1.2.31","O_H",2500,2599,23006,20,3021]
["Versjon 1.2.31","O_S",2500,2599,23006,20,3024]
["Versjon 1.2.31","O_H",2600,2699,23006,20,3025]
["Versjon 1.2.31","O_S",2600,2699,23006,20,3029]
["Versjon 1.2.31","O_H",2100,2199,22019,20,3011]
["Versjon 1.2.31","O_S",2100,2199,22019,20,3014]
["Versjon 1.2.31","I_O",2100,2199,22019,20,4518]
["Versjon 1.2.31","O_H",2200,2499,22019,20,3015]
["Versjon 1.2.31","O_S",2200,2499,22019,20,3019]
["Versjon 1.2.31","I_O",2200,2499,22019,20,4518]
["Versjon 1.2.31","O_H",2500,2599,22019,20,3021]
["Versjon 1.2.31","O_S",2500,2599,22019,20,3024]
["Versjon 1.2.31","I_O",2500,2599,22019,20,4518]
["Versjon 1.2.31","O_H",2600,2699,22019,20,3025]
["Versjon 1.2.31","O_S",2600,2699,22019,20,3029]
["Versjon 1.2.31","I_O",2600,2699,22019,20,4518]
[]
["Versjon 1.2.32",null,null,null,null,null,null,"Endring i tillegg og trekk kode"]
["Versjon 1.2.32","O_S",3110,3120,31024,20,3071,"Ny kode: 31024 Bærekraftstillegg"]
["Versjon 1.2.32",null,null,null,null,null,null,"Produkt Kvalitet"]
["Versjon 1.2.32",null,null,null,null,null,null,"Ny tekst for kvalitetskode 31002: \"Kvalitet, tillegg/trekk\". Gammel tekst var: \"Elitemelk-tillegg\""]
[]
["Versjon 1.2.33",null,null,null,null,null,null,"Ny ProduktDetalj-koder"]
["Versjon 1.2.33",null,null,null,null,null,null,"Ny kode: 7171022 Industribær"]
["Versjon 1.2.33",null,null,null,null,null,null,"Ny kode: 2100092 Potet Russet Burbank"]
["Versjon 1.2.33",null,null,null,null,null,null,"Ny kode: 2100093 Potet Bintje"]
["Versjon 1.2.33",null,null,null,null,null,null,"Ny kode: 2100094 Potet Cara"]
["Versjon 1.2.33",null,null,null,null,null,null,"Ny kode: 2100095 Potet Danva"]
["Versjon 1.2.33",null,null,null,null,null,null,"Ny kode: 2100096 Potet Agria"]
["Versjon 1.2.33",null,null,null,null,null,null,"Ny kode: 2100097 Potet Maris Piper"]
["Versjon 1.2.33",null,null,null,null,null,null,"Ny kode: 2100098 Potet Hansa"]
["Versjon 1.2.33",null,null,null,null,null,null,"Ny kode: 2100099 Potet Estima"]
["Versjon 1.2.33",null,null,null,null,null,null,"Ny kode: 2100100Potet Nadine"]
["Versjon 1.2.33",null,null,null,null,null,null,"Ny kode: 2100101 Potet Accent"]
["Versjon 1.2.33",null,null,null,null,null,null,"Ny kode: 2100102 Potet Turbo"]
["Versjon 1.2.33",null,null,null,null,null,null,"Ny kode: 2100103 Potet Kennebec"]
["Versjon 1.2.33",null,null,null,null,null,null,"Ny kode: 2100104 Potet Fambo"]
["Versjon 1.2.33",null,null,null,null,null,null,"Ny kode: 2100105 Potet Olsok"]
["Versjon 1.2.33",null,null,null,null,null,null,"Ny kode: 2100106 Potet Dali"]
["Versjon 1.2.33",null,null,null,null,null,null,"Ny kode: 2100107 Potet Bellona"]
["Versjon 1.2.33",null,null,null,null,null,null,"Ny kode: 2100108 Potet Jutlandia"]
["Versjon 1.2.33",null,null,null,null,null,null,"Ny kode: 2100109 Potet Markies"]
["Versjon 1.2.33",null,null,null,null,null,null,"Ny kode: 2100110 Potet Romano"]
["Versjon 1.2.33",null,null,null,null,null,null,"Ny kode: 2100111 Potet Diamant"]
["Versjon 1.2.33",null,null,null,null,null,null,"Ny kode: 2100112 Potet Gullflaks"]
["Versjon 1.2.33",null,null,null,null,null,null,"Ny kode: 2100113 Potet Challenger"]
["Versjon 1.2.33",null,null,null,null,null,null,"Ny kode: 2100114 Potet Ora"]
["Versjon 1.2.33",null,null,null,null,null,null,"Ny kode: 2100115 Potet Provita"]
["Versjon 1.2.33",null,null,null,null,null,null,"Ny kode: 2100116 Potet Saphir"]
["Versjon 1.2.33",null,null,null,null,null,null,"Ny kode: 2100117 Potet Hulda"]
["Versjon 1.2.33",null,null,null,null,null,null,"Ny kode: 2100118 Potet Yvonne"]
["Versjon 1.2.33",null,null,null,null,null,null,"Ny kode: 2100119 Potet Bimonde"]
["Versjon 1.2.33",null,null,null,null,null,null,"Ny kode: 2100120 Potet Erntestolz"]
["Versjon 1.2.33",null,null,null,null,null,null,"Ny kode: 2100121 Potet Shepody"]
["Versjon 1.2.33",null,null,null,null,null,null,"Ny kode: 2100122 Potet Feliza"]
["Versjon 1.2.33",null,null,null,null,null,null,"Ny kode: 2100123 Potet Premiere"]
["Versjon 1.2.33",null,null,null,null,null,null,"Ny kode: 2100124 Potet Serafina"]
["Versjon 1.2.33",null,null,null,null,null,null,"Ny kode: 2100125 Potet Adora"]
["Versjon 1.2.33",null,null,null,null,null,null,"Ny kode: 2100126 Potet Pentland Squire"]
["Versjon 1.2.33",null,null,null,null,null,null,"Ny kode: 2100127 Potet Multa"]
["Versjon 1.2.33",null,null,null,null,null,null,"Ny kode: 2100128 Potet Liva"]
["Versjon 1.2.33",null,null,null,null,null,null,"Ny kode: 2100129 Potet Tivoli"]
["Versjon 1.2.33",null,null,null,null,null,null,"Ny kode: 2100130 Potet Satu"]
["Versjon 1.2.33",null,null,null,null,null,null,"Ny kode: 2100131 Potet Spey"]
["Versjon 1.2.33",null,null,null,null,null,null,"Ny kode: 2100132 Potet Stefano"]
["Versjon 1.2.33",null,null,null,null,null,null,"Ny kode: 2100133 Potet Marfona"]
["Versjon 1.2.33",null,null,null,null,null,null,"Ny kode: 2100134 Potet Maxine"]
["Versjon 1.2.33",null,null,null,null,null,null,"Ny kode: 2100135 Potet Inova"]
["Versjon 1.2.33",null,null,null,null,null,null,"Ny kode: 2100136 Potet Saxon"]
["Versjon 1.2.33",null,null,null,null,null,null,"Ny kode: 2100137 Potet Osprey"]
["Versjon 1.2.33",null,null,null,null,null,null,"Ny kode: 2100138 Potet Lady Christl"]
["Versjon 1.2.33",null,null,null,null,null,null,"Ny kode: 2100139 Potet Jupiter"]
["Versjon 1.2.33",null,null,null,null,null,null,"Ny kode: 2100140 Potet Rustique"]
["Versjon 1.2.33",null,null,null,null,null,null,"Ny kode: 2100141 Potet Albata"]
["Versjon 1.2.33",null,null,null,null,null,null,"Ny kode: 2100142 Potet Hermes"]
["Versjon 1.2.33",null,null,null,null,null,null,"Ny kode: 2100143 Potet Aurea"]
["Versjon 1.2.33",null,null,null,null,null,null,"Ny kode: 2100144 Potet Bernadette"]
["Versjon 1.2.33",null,null,null,null,null,null,"Ny kode: 2100145 Potet Krone"]
["Versjon 1.2.33",null,null,null,null,null,null,"Ny kode: 2100146 Potet Aveka"]
["Versjon 1.2.33",null,null,null,null,null,null,"Ny kode: 2100147 Potet Horizon"]
["Versjon 1.2.33",null,null,null,null,null,null,"Ny kode: 2100148 Potet Hanna"]
["Versjon 1.2.33",null,null,null,null,null,null,"Ny kode: 2100149 Potet Canasta"]
["Versjon 1.2.33",null,null,null,null,null,null,"Ny kode: 2100150 Potet Sarpo Mira"]
["Versjon 1.2.33",null,null,null,null,null,null,"Ny kode: 2100151 Potet Sassy"]
["Versjon 1.2.33",null,null,null,null,null,null,"Ny kode: 2100152 Potet Sibu"]
["Versjon 1.2.33",null,null,null,null,null,null,"Ny kode: 2100153 Potet Aslak"]
["Versjon 1.2.33",null,null,null,null,null,null,"Ny kode: 2100154 Potet Isle of Jura"]
["Versjon 1.2.33",null,null,null,null,null,null,"Ny kode: 2100155 Potet Chicago"]
["Versjon 1.2.33",null,null,null,null,null,null,"Ny kode: 2100156 Potet Endeavour"]
["Versjon 1.2.33",null,null,null,null,null,null,"Ny kode: 2100157 Potet Bionica"]
["Versjon 1.2.33",null,null,null,null,null,null,"Ny kode: 2100158 Potet Rafaela"]
["Versjon 1.2.33",null,null,null,null,null,null,"Ny kode: 2100159 Potet Spunta"]
["Versjon 1.2.33",null,null,null,null,null,null,"Ny kode: 2100160 Potet Belana"]
["Versjon 1.2.33",null,null,null,null,null,null,"Ny kode: 2100161 Potet Salome"]
["Versjon 1.2.33",null,null,null,null,null,null,"Ny kode: 2100162 Potet Constanse"]
["Versjon 1.2.33",null,null,null,null,null,null,"Ny kode: 2100163 Potet Kardal"]
["Versjon 1.2.33",null,null,null,null,null,null,"Ny kode: 2100164 Potet Labella"]
["Versjon 1.2.33",null,null,null,null,null,null,"Ny kode: 2100165 Potet Senna"]
["Versjon 1.2.33",null,null,null,null,null,null,"Ny kode: 2100166 Potet Nofy"]
["Versjon 1.2.33",null,null,null,null,null,null,"Ny kode: 2100167 Potet Thor"]
["Versjon 1.2.33",null,null,null,null,null,null,"Ny kode: 2100168 Potet Sarion"]
["Versjon 1.2.33",null,null,null,null,null,null,"Ny kode: 2100169 Potet Stratos"]
["Versjon 1.2.33",null,null,null,null,null,null,"Ny kode: 2100170 Potet Cronos"]
["Versjon 1.2.33",null,null,null,null,null,null,"Ny kode: 2100171 Potet Vitabella"]
["Versjon 1.2.33",null,null,null,null,null,null,"Ny kode: 2100172 Potet Desiree"]
["Versjon 1.2.33",null,null,null,null,null,null,"Ny kode: 2100173 Potet Euro Grande"]
["Versjon 1.2.33",null,null,null,null,null,null,"Ny kode: 2100174 Potet Wotan"]
["Versjon 1.2.33",null,null,null,null,null,null,"Ny kode: 2100175 Potet Avarna"]
["Versjon 1.2.33",null,null,null,null,null,null,"Ny kode: 2100176 Potet Avenue"]
["Versjon 1.2.33",null,null,null,null,null,null,"Ny kode: 2100177 Potet Ditta"]
["Versjon 1.2.33",null,null,null,null,null,null,"Ny kode: 2100178 Potet Alizee"]
["Versjon 1.2.33",null,null,null,null,null,null,"Ny kode: 2100179 Potet N83-2-104"]
["Versjon 1.2.33",null,null,null,null,null,null,"Ny kode: 2100180 Potet Nr. 238"]
["Versjon 1.2.33",null,null,null,null,null,null,"Ny kode: 2100181 Potet Nr. 11-1"]
["Versjon 1.2.33",null,null,null,null,null,null,"Ny kode: 2100182 Potet N-84-4-36"]
["Versjon 1.2.33",null,null,null,null,null,null,"Ny kode: 2100183 Potet Nr. 3 -13"]
["Versjon 1.2.33",null,null,null,null,null,null,"Ny kode: 2100184 Potet 159"]
["Versjon 1.2.33",null,null,null,null,null,null,"Ny kode: 2100185 Potet 4-36"]
["Versjon 1.2.33",null,null,null,null,null,null,"Ny kode: 2100186 Potet N-88-9-49"]
["Versjon 1.2.33",null,null,null,null,null,null,"Ny kode: 2100187 Potet N 93-7-6"]
["Versjon 1.2.33",null,null,null,null,null,null,"Ny kode: 2100188 Potet Verdi"]
["Versjon 1.2.33",null,null,null,null,null,null,"Ny kode: 8721007 Energitjeneste"]
["Versjon 1.2.33",null,null,null,null,null,null,"Ny kode: 8721024 Finanskostnader"]
["Versjon 1.2.33",null,null,null,null,null,null,"Ny kode: 8721101Kraftkjøp (Salg av strøm bonde)"]
["Versjon 1.2.33",null,null,null,null,null,null,"Ny kode: 1111013 Vårhvete Festus"]
["Versjon 1.2.33",null,null,null,null,null,null,"Ny kode: 1150013 Rughvete Høst Avokad"]
["Versjon 1.2.33",null,null,null,null,null,null,"Ny kode: 1150014 Rughvete Høst Dragon"]
["Versjon 1.2.33",null,null,null,null,null,null,"Ny kode: 1150015 Rughvete Høst Reflector"]
["Versjon 1.2.33",null,null,null,null,null,null,"Endring av tekst Produkt Detalj-koder"]
["Versjon 1.2.33",null,null,null,null,null,null,"Kode 2100032: Ny tekst: Potet Ottar"]
["Versjon 1.2.33",null,null,null,null,null,null,"Kode 2100033: Ny tekst: Potet Aksel"]
["Versjon 1.2.33",null,null,null,null,null,null,"Kode 2100034: Ny tekst: Potet Berber"]
["Versjon 1.2.33",null,null,null,null,null,null,"Kode 2100035: Ny tekst: Potet Van Gogh"]
["Versjon 1.2.33",null,null,null,null,null,null,"Kode 2100043: Ny tekst: Potet Fontane"]
["Versjon 1.2.33",null,null,null,null,null,null,"Kode 2100053: Ny tekst: Potet Bjertnæs & Hoel"]
["Versjon 1.2.33",null,null,null,null,null,null,"Kode 2100072: Ny tekst: Potet Odinia"]
["Versjon 1.2.33",null,null,null,null,null,null,"Kode 2100073: Ny tekst: Potet P04-6241"]
["Versjon 1.2.33",null,null,null,null,null,null,"Endring av tekst Produkt Kvalitet"]
["Versjon 1.2.33",null,null,null,null,null,null,"Kode: 21002 Klasse Industri råstoff"]
["Versjon 1.2.33",null,null,null,null,null,null,"Kode: 21003 Klasse Industri avrens"]
["Versjon 1.2.33",null,null,null,null,null,null,"Kontering i dimensjon Produkt tillegg og trekk "]
["Versjon 1.2.33","I_H",2000,2000,22003,20,4512]
["Versjon 1.2.33","I_H",2100,2199,22003,20,4512]
["Versjon 1.2.33","I_S",2100,2199,22003,20,4511]
["Versjon 1.2.33","I_H",2200,2499,22003,20,4512]
["Versjon 1.2.33","I_H",2500,2599,22003,20,4512]
["Versjon 1.2.33","I_S",2500,2599,22003,20,4511]
["Versjon 1.2.33","I_H",2600,2699,22003,20,4512]
["Versjon 1.2.33","I_S",2600,2699,22003,20,4511]
["Versjon 1.2.33","I_H",2000,2000,22018,20,4512]
["Versjon 1.2.33","I_H",2100,2199,22018,20,4512]
["Versjon 1.2.33","I_S",2100,2199,22018,20,4511]
["Versjon 1.2.33","I_H",2200,2499,22018,20,4512]
["Versjon 1.2.33","I_H",2500,2599,22018,20,4512]
["Versjon 1.2.33","I_S",2500,2599,22018,20,4511]
["Versjon 1.2.33","I_H",2600,2699,22018,20,4512]
["Versjon 1.2.33","I_S",2600,2699,22018,20,4511]
["Versjon 1.2.33","I_S",3200,3399,36019,20,4539]
["Versjon 1.2.33","O_H",2100,2199,21001,20,3011,"Ny i forhold til tidligere oversendte versjon sendt Duett"]
["Versjon 1.2.33","O_H",2200,2499,21001,20,3015]
["Versjon 1.2.33","O_H",2500,2599,21001,20,3021]
["Versjon 1.2.33","O_H",2600,2699,21001,20,3025]
["Versjon 1.2.33","O_S",2100,2199,21001,20,3014]
["Versjon 1.2.33","O_S",2200,2499,21001,20,3019]
["Versjon 1.2.33","O_S",2500,2599,21001,20,3024]
["Versjon 1.2.33","O_S",2600,2699,21001,20,3029]
[]
["Versjon 1.2.33",null,null,null,null,null,null,"Nye koder Produkt tillegg og trekk "]
["Versjon 1.2.33","O_H",2100,2199,21014,20,3011,"Kvalitetstillegg"]
[]
["Ny versjonsnummerering",null,null,null,null,null,null,"Større endringer pga. innføring av koder for mekanisering (faste kostnader)"]
[]
["Versjon 1.3.1",null,null,null,null,null,null,"Endring i dimensjon Produkt"]
["Versjon 1.3.1",null,null,null,null,null,null,"Kode 8500: Endret tekst fra \"Produkter knyttet til felles administrative oppgaver\" til \"Produkter knyttet til lønn, admin.oppgaver, forsikring\""]
["Versjon 1.3.1",null,null,null,null,null,null,"Kode 8510 endret tekst til \"Lønnskostnader\" (har ikke vært i bruk)"]
["Versjon 1.3.1",null,null,null,null,null,null,"Kode 8511 settes \"Ledig\" (har ikke vært i bruk)"]
["Versjon 1.3.1",null,null,null,null,null,null,"Kode 8512 settes \"Ledig\" (har ikke vært i bruk)"]
["Versjon 1.3.1",null,null,null,null,null,null,"Kode 8513 settes \"Ledig\" (har ikke vært i bruk)"]
["Versjon 1.3.1",null,null,null,null,null,null,"Kode 8514 settes \"Ledig\" (har ikke vært i bruk)"]
["Versjon 1.3.1",null,null,null,null,null,null,"Kode 8515 settes \"Ledig\" (har ikke vært i bruk)"]
["Versjon 1.3.1",null,null,null,null,null,null,"Kode 8516 settes \"Ledig\" (har ikke vært i bruk)"]
["Versjon 1.3.1",null,null,null,null,null,null,"Kode 8517 settes \"Ledig\" (har ikke vært i bruk)"]
["Versjon 1.3.1",null,null,null,null,null,null,"Kode: Alle koder fra 8800 til 8843 settes \"Ledig\" (har ikke vært i bruk)"]
["Versjon 1.3.1",null,null,null,null,null,null,"Nye koder (dimensjon Produkt)"]
["Versjon 1.3.1","I_S",null,null,null,20,6800,"Ny kode: 8531 Kontorrekvisita"]
["Versjon 1.3.1","I_S",null,null,null,20,6810,"Ny kode: 8532 Programmvare"]
["Versjon 1.3.1","I_S",null,null,null,20,6860,"Ny kode: 8533 Kurs generelt"]
["Versjon 1.3.1","I_O",null,null,null,20,7500,"Ny kode: 8560 Forsikring"]
["Versjon 1.3.1","I_O",null,null,null,20,7501,"Ny kode: 8561 Bygninger og anlegg i næring"]
["Versjon 1.3.1","I_O",null,null,null,20,7502,"Ny kode: 8562 Husdyrproduksjon"]
["Versjon 1.3.1","I_O",null,null,null,20,7503,"Ny kode: 8563 Maskiner og driftsløsøre"]
["Versjon 1.3.1","I_O",null,null,null,20,7504,"Ny kode: 8564 Avling"]
["Versjon 1.3.1","I_O",null,null,null,20,7509,"Ny kode: 8565 Forsikring annet drift"]
["Versjon 1.3.1","I_O",null,null,null,20,7508,"Ny kode: 8566 Kårbolig"]
["Versjon 1.3.1","I_O",null,null,null,20,null,"Ny kode: 8567 Utleiebolig"]
["Versjon 1.3.1","I_O",null,null,null,20,7040,"Ny kode: 8568 Bil i Næring"]
["Versjon 1.3.1","I_O",null,null,null,30,7505,"Ny kode: 8569 Skogforsikring"]
["Versjon 1.3.1","I_O",null,null,null,20,null,"Ny kode: 8571 Personal og personforsikringer i næring"]
["Versjon 1.3.1","I_O",null,null,null,90,7500,"Ny kode: 8579 Private forsikringer"]
["Versjon 1.3.1","I_S",null,null,null,20,null,"Ny kode: 8610 Motoriserte driftsmiddel"]
["Versjon 1.3.1","I_S",null,null,null,20,null,"Ny kode: 8611 Traktor"]
["Versjon 1.3.1","I_S",null,null,null,20,null,"Ny kode: 8612 Skurtresker"]
["Versjon 1.3.1","I_S",null,null,null,20,null,"Ny kode: 8613 Gravemaskin"]
["Versjon 1.3.1","I_S",null,null,null,20,null,"Ny kode: 8614 Annet motorisert driftsmiddel"]
["Versjon 1.3.1","I_S",null,null,null,20,null,"Ny kode: 8615 Bil i Næring"]
["Versjon 1.3.1","I_S",null,null,null,20,null,"Ny kode: 8620 Maskiner og redskaper"]
["Versjon 1.3.1","I_S",null,null,null,20,null,"Ny kode: 8621 Jordbearbeidingsredskaper"]
["Versjon 1.3.1","I_S",null,null,null,20,null,"Ny kode: 8622 Gjødselutstyr"]
["Versjon 1.3.1","I_S",null,null,null,20,null,"Ny kode: 8623 Så- og plantemaskiner"]
["Versjon 1.3.1","I_S",null,null,null,20,null,"Ny kode: 8624 Gras- og høybergingsutstyr"]
["Versjon 1.3.1","I_S",null,null,null,20,null,"Ny kode: 8625 Høstemaskiner"]
["Versjon 1.3.1","I_S",null,null,null,20,null,"Ny kode: 8626 Sprøyteutstyr"]
["Versjon 1.3.1","I_S",null,null,null,20,null,"Ny kode: 8627 Transportutstyr/vegvedlikeholdsutstyr"]
["Versjon 1.3.1","I_S",null,null,null,20,null,"Ny kode: 8628 Kornbehandlingsutstyr"]
["Versjon 1.3.1","I_S",null,null,null,20,null,"Ny kode: 8629 Vanningsutstyr"]
["Versjon 1.3.1","I_S",null,null,null,20,null,"Ny kode: 8640 Skogsutstyr"]
["Versjon 1.3.1","I_S",null,null,null,20,null,"Ny kode: 8641 Traktor (skog)"]
["Versjon 1.3.1","I_S",null,null,null,20,null,"Ny kode: 8642 Utstyr for tømmerdrift (inkl. traktormontert)"]
["Versjon 1.3.1","I_S",null,null,null,20,null,"Ny kode: 8643 Vedutstyr"]
["Versjon 1.3.1","I_S",null,null,null,20,null,"Ny kode: 8644 Annet traktormontert utstyr"]
["Versjon 1.3.1","I_S",null,null,null,20,null,"Ny kode: 8645 Diverse håndredskaper inkl. sagutstyr"]
["Versjon 1.3.1",null,null,null,null,null,null,"Endring i tillegg og trekk kode"]
["Versjon 1.3.1","O_S",4000,4499,45006,20,null,"Ny kode: 45006 Tilskudd kalveslakting"]
["Versjon 1.3.1",null,null,null,null,null,null,"Endringer i detaljkoder"]
["Versjon 1.3.1",null,null,null,null,null,null,"Kode 8500000 endret tekst fra \"Produkter knyttet til felles administrative oppgaver\" til \"Produkter knyttet til lønn, admin.oppgaver, forsikring\""]
["Versjon 1.3.1",null,null,null,null,null,null,"Kode 8510000 endret tekst til \"Lønnskostnader\" (har ikke vært i bruk)"]
["Versjon 1.3.1",null,null,null,null,null,null,"Kode 8511000 settes \"Ledig\" (har ikke vært i bruk)"]
["Versjon 1.3.1",null,null,null,null,null,null,"Kode 8511001 settes \"Ledig\" (har ikke vært i bruk)"]
["Versjon 1.3.1",null,null,null,null,null,null,"Kode 8511002 settes \"Ledig\" (har ikke vært i bruk)"]
["Versjon 1.3.1",null,null,null,null,null,null,"Kode 8511003 settes \"Ledig\" (har ikke vært i bruk)"]
["Versjon 1.3.1",null,null,null,null,null,null,"Kode 8511004 settes \"Ledig\" (har ikke vært i bruk)"]
["Versjon 1.3.1",null,null,null,null,null,null,"Kode 8511005 settes \"Ledig\" (har ikke vært i bruk)"]
["Versjon 1.3.1",null,null,null,null,null,null,"Kode 8511006 settes \"Ledig\" (har ikke vært i bruk)"]
["Versjon 1.3.1",null,null,null,null,null,null,"Kode 8511007 settes \"Ledig\" (har ikke vært i bruk)"]
["Versjon 1.3.1",null,null,null,null,null,null,"Kode 8511008 settes \"Ledig\" (har ikke vært i bruk)"]
["Versjon 1.3.1",null,null,null,null,null,null,"Kode 8511999 settes \"Ledig\" (har ikke vært i bruk)"]
["Versjon 1.3.1",null,null,null,null,null,null,"Kode 8512000 settes \"Ledig\" (har ikke vært i bruk)"]
["Versjon 1.3.1",null,null,null,null,null,null,"Kode 8512001 settes \"Ledig\" (har ikke vært i bruk)"]
["Versjon 1.3.1",null,null,null,null,null,null,"Kode 8512002 settes \"Ledig\" (har ikke vært i bruk)"]
["Versjon 1.3.1",null,null,null,null,null,null,"Kode 8512003 settes \"Ledig\" (har ikke vært i bruk)"]
["Versjon 1.3.1",null,null,null,null,null,null,"Kode 8512004 settes \"Ledig\" (har ikke vært i bruk)"]
["Versjon 1.3.1",null,null,null,null,null,null,"Kode 8512005 settes \"Ledig\" (har ikke vært i bruk)"]
["Versjon 1.3.1",null,null,null,null,null,null,"Kode 8512006 settes \"Ledig\" (har ikke vært i bruk)"]
["Versjon 1.3.1",null,null,null,null,null,null,"Kode 8512999 settes \"Ledig\" (har ikke vært i bruk)"]
["Versjon 1.3.1",null,null,null,null,null,null,"Kode 8513000 settes \"Ledig\" (har ikke vært i bruk)"]
["Versjon 1.3.1",null,null,null,null,null,null,"Kode 8513001 settes \"Ledig\" (har ikke vært i bruk)"]
["Versjon 1.3.1",null,null,null,null,null,null,"Kode 8513002 settes \"Ledig\" (har ikke vært i bruk)"]
["Versjon 1.3.1",null,null,null,null,null,null,"Kode 8513999 settes \"Ledig\" (har ikke vært i bruk)"]
["Versjon 1.3.1",null,null,null,null,null,null,"Kode 8514000 settes \"Ledig\" (har ikke vært i bruk)"]
["Versjon 1.3.1",null,null,null,null,null,null,"Kode 8514001 settes \"Ledig\" (har ikke vært i bruk)"]
["Versjon 1.3.1",null,null,null,null,null,null,"Kode 8514002 settes \"Ledig\" (har ikke vært i bruk)"]
["Versjon 1.3.1",null,null,null,null,null,null,"Kode 8514003 settes \"Ledig\" (har ikke vært i bruk)"]
["Versjon 1.3.1",null,null,null,null,null,null,"Kode 8514004 settes \"Ledig\" (har ikke vært i bruk)"]
["Versjon 1.3.1",null,null,null,null,null,null,"Kode 8514005 settes \"Ledig\" (har ikke vært i bruk)"]
["Versjon 1.3.1",null,null,null,null,null,null,"Kode 8514006 settes \"Ledig\" (har ikke vært i bruk)"]
["Versjon 1.3.1",null,null,null,null,null,null,"Kode 8514007 settes \"Ledig\" (har ikke vært i bruk)"]
["Versjon 1.3.1",null,null,null,null,null,null,"Kode 8514999 settes \"Ledig\" (har ikke vært i bruk)"]
["Versjon 1.3.1",null,null,null,null,null,null,"Kode 8515001 settes \"Ledig\" (har ikke vært i bruk)"]
["Versjon 1.3.1",null,null,null,null,null,null,"Kode 8515002 settes \"Ledig\" (har ikke vært i bruk)"]
["Versjon 1.3.1",null,null,null,null,null,null,"Kode 8515999 settes \"Ledig\" (har ikke vært i bruk)"]
["Versjon 1.3.1",null,null,null,null,null,null,"Kode 8516000 settes \"Ledig\" (har ikke vært i bruk)"]
["Versjon 1.3.1",null,null,null,null,null,null,"Kode 8516001 settes \"Ledig\" (har ikke vært i bruk)"]
["Versjon 1.3.1",null,null,null,null,null,null,"Kode 8516002 settes \"Ledig\" (har ikke vært i bruk)"]
["Versjon 1.3.1",null,null,null,null,null,null,"Kode 8516003 settes \"Ledig\" (har ikke vært i bruk)"]
["Versjon 1.3.1",null,null,null,null,null,null,"Kode 8516999 settes \"Ledig\" (har ikke vært i bruk)"]
["Versjon 1.3.1",null,null,null,null,null,null,"Kode 8517000 settes \"Ledig\" (har ikke vært i bruk)"]
["Versjon 1.3.1",null,null,null,null,null,null,"Kode 8517001 settes \"Ledig\" (har ikke vært i bruk)"]
["Versjon 1.3.1",null,null,null,null,null,null,"Kode 8517002 settes \"Ledig\" (har ikke vært i bruk)"]
["Versjon 1.3.1",null,null,null,null,null,null,"Kode 8517999 settes \"Ledig\" (har ikke vært i bruk)"]
["Versjon 1.3.1",null,null,null,null,null,null,"Nye ProduktDetalj-koder"]
["Versjon 1.3.1",null,null,null,null,null,null,"Ny kode: 8531000 Kontorrekvisita"]
["Versjon 1.3.1",null,null,null,null,null,null,"Ny kode: 8532000 Programvare"]
["Versjon 1.3.1",null,null,null,null,null,null,"Ny kode: 8533000 Kurs generelt"]
["Versjon 1.3.1",null,null,null,null,null,null,"Ny kode: 8560000 Forsikring"]
["Versjon 1.3.1",null,null,null,null,null,null,"Ny kode: 8561000 Bygninger og anlegg i næring"]
["Versjon 1.3.1",null,null,null,null,null,null,"Ny kode: 8561001 Driftsbygning"]
["Versjon 1.3.1",null,null,null,null,null,null,"Ny kode: 8561002 Driftsbygning(Del av bygning)"]
["Versjon 1.3.1",null,null,null,null,null,null,"Ny kode: 8561003 Lager-/redskap-/garasjebygg"]
["Versjon 1.3.1",null,null,null,null,null,null,"Ny kode: 8561004 Seterhus"]
["Versjon 1.3.1",null,null,null,null,null,null,"Ny kode: 8561005 Veksthus"]
["Versjon 1.3.1",null,null,null,null,null,null,"Ny kode: 8561100 Bygningsteknisk anlegg"]
["Versjon 1.3.1",null,null,null,null,null,null,"Ny kode: 8561999 Andre næringsbygg"]
["Versjon 1.3.1",null,null,null,null,null,null,"Ny kode: 8562000 Husdyrproduksjon"]
["Versjon 1.3.1",null,null,null,null,null,null,"Ny kode: 8562001 Storfe"]
["Versjon 1.3.1",null,null,null,null,null,null,"Ny kode: 8562002 Sau"]
["Versjon 1.3.1",null,null,null,null,null,null,"Ny kode: 8562003 Geit"]
["Versjon 1.3.1",null,null,null,null,null,null,"Ny kode: 8562004 Gris"]
["Versjon 1.3.1",null,null,null,null,null,null,"Ny kode: 8562005 Fjørfe"]
["Versjon 1.3.1",null,null,null,null,null,null,"Ny kode: 8562006 Hest"]
["Versjon 1.3.1",null,null,null,null,null,null,"Ny kode: 8562007 Hund"]
["Versjon 1.3.1",null,null,null,null,null,null,"Ny kode: 8562999 Andre dyr"]
["Versjon 1.3.1",null,null,null,null,null,null,"Ny kode: 8563000 Maskiner og driftsløsøre"]
["Versjon 1.3.1",null,null,null,null,null,null,"Ny kode: 8563001 Traktorer"]
["Versjon 1.3.1",null,null,null,null,null,null,"Ny kode: 8563002 Skurtresker"]
["Versjon 1.3.1",null,null,null,null,null,null,"Ny kode: 8563003 Rundballepresse"]
["Versjon 1.3.1",null,null,null,null,null,null,"Ny kode: 8563004 Melkerobot"]
["Versjon 1.3.1",null,null,null,null,null,null,"Ny kode: 8563005 Driftsløsøre"]
["Versjon 1.3.1",null,null,null,null,null,null,"Ny kode: 8563999 Annet maskinløsøre"]
["Versjon 1.3.1",null,null,null,null,null,null,"Ny kode: 8564000 Avling"]
["Versjon 1.3.1",null,null,null,null,null,null,"Ny kode: 8564001 Lager"]
["Versjon 1.3.1",null,null,null,null,null,null,"Ny kode: 8564002 Kulturer"]
["Versjon 1.3.1",null,null,null,null,null,null,"Ny kode: 8564999 Annet"]
["Versjon 1.3.1",null,null,null,null,null,null,"Ny kode: 8565000 Forsikring annet drift"]
["Versjon 1.3.1",null,null,null,null,null,null,"Ny kode: 8565001 Transportforsikringer"]
["Versjon 1.3.1",null,null,null,null,null,null,"Ny kode: 8565002 Avbruddsforsikring"]
["Versjon 1.3.1",null,null,null,null,null,null,"Ny kode: 8565999 Andre forsikringer drift"]
["Versjon 1.3.1",null,null,null,null,null,null,"Ny kode: 8566000 Kårbolig"]
["Versjon 1.3.1",null,null,null,null,null,null,"Ny kode: 8567000 Utleiebolig"]
["Versjon 1.3.1",null,null,null,null,null,null,"Ny kode: 8568000 Bil i næring"]
["Versjon 1.3.1",null,null,null,null,null,null,"Ny kode: 8569000 Skogforsikring"]
["Versjon 1.3.1",null,null,null,null,null,null,"Ny kode: 8571000 Personal og personforsikring i næring"]
["Versjon 1.3.1",null,null,null,null,null,null,"Ny kode: 8571001 Yrkesskadeforsikring"]
["Versjon 1.3.1",null,null,null,null,null,null,"Ny kode: 8571002 Pensjonsforsikring ansatte"]
["Versjon 1.3.1",null,null,null,null,null,null,"Ny kode: 8571003 Pensjonsforsikring, eier/driver "]
["Versjon 1.3.1",null,null,null,null,null,null,"Ny kode: 8571999 Andre personalforsiknringer"]
["Versjon 1.3.1",null,null,null,null,null,null,"Ny kode: 8579000 Private forsikringer"]
["Versjon 1.3.1",null,null,null,null,null,null,"Ny kode: 8579001 Våningshus"]
["Versjon 1.3.1",null,null,null,null,null,null,"Ny kode: 8579002 Private biler"]
["Versjon 1.3.1",null,null,null,null,null,null,"Ny kode: 8579999 Andre private forsikringer"]
["Versjon 1.3.1",null,null,null,null,null,null,"Ny kode: 8600000 Produkter knyttet til varige driftsmidler"]
["Versjon 1.3.1",null,null,null,null,null,null,"Ny kode: 8610000 Motoriserte driftsmiddel"]
["Versjon 1.3.1",null,null,null,null,null,null,"Ny kode: 8611000 Traktor"]
["Versjon 1.3.1",null,null,null,null,null,null,"Ny kode: 8611001 Traktor < 50 hk (< 38kW)"]
["Versjon 1.3.1",null,null,null,null,null,null,"Ny kode: 8611002 Traktor  50 - 100 hk (38 - 75 kW)"]
["Versjon 1.3.1",null,null,null,null,null,null,"Ny kode: 8611003 Traktor  100 - 200 hk (75 - 150 kW)"]
["Versjon 1.3.1",null,null,null,null,null,null,"Ny kode: 8611004 Traktor  200 - 300 hk (150 - 225 kW)"]
["Versjon 1.3.1",null,null,null,null,null,null,"Ny kode: 8611005 Traktor  300 - 400 hk (225 - 300 kW)"]
["Versjon 1.3.1",null,null,null,null,null,null,"Ny kode: 8611006 Traktor  400 - 500 hk (300 - 375 kW)"]
["Versjon 1.3.1",null,null,null,null,null,null,"Ny kode: 8611007 Traktor  > 500 hk (> 375 kW)"]
["Versjon 1.3.1",null,null,null,null,null,null,"Ny kode: 8612000 Skurtresker"]
["Versjon 1.3.1",null,null,null,null,null,null,"Ny kode: 8612001 Skurtresker skjærebredde < 4 m"]
["Versjon 1.3.1",null,null,null,null,null,null,"Ny kode: 8612002 Skurtresker skjærebredde  4 - 6 m"]
["Versjon 1.3.1",null,null,null,null,null,null,"Ny kode: 8612003 Skurtresker skjærebredde  6 - 8 m"]
["Versjon 1.3.1",null,null,null,null,null,null,"Ny kode: 8612004 Skurtresker skjærebredde  8 - 10 m"]
["Versjon 1.3.1",null,null,null,null,null,null,"Ny kode: 8612005 Skurtresker skjærebredde  10 - 12 m"]
["Versjon 1.3.1",null,null,null,null,null,null,"Ny kode: 8612006 Skurtresker skjærebredde  12 - 14 m"]
["Versjon 1.3.1",null,null,null,null,null,null,"Ny kode: 8612007 Skurtresker skjærebredde  > 14 m"]
["Versjon 1.3.1",null,null,null,null,null,null,"Ny kode: 8613000 Gravemaskin"]
["Versjon 1.3.1",null,null,null,null,null,null,"Ny kode: 8613001 Traktorgraver"]
["Versjon 1.3.1",null,null,null,null,null,null,"Ny kode: 8613002 Gravelaster"]
["Versjon 1.3.1",null,null,null,null,null,null,"Ny kode: 8613003 Hjulgraver"]
["Versjon 1.3.1",null,null,null,null,null,null,"Ny kode: 8613004 Beltegraver"]
["Versjon 1.3.1",null,null,null,null,null,null,"Ny kode: 8614000 Annet motorisert driftsmiddel"]
["Versjon 1.3.1",null,null,null,null,null,null,"Ny kode: 8614001 Kompaktlaster/minilastere"]
["Versjon 1.3.1",null,null,null,null,null,null,"Ny kode: 8614002 ATV"]
["Versjon 1.3.1",null,null,null,null,null,null,"Ny kode: 8614003 UTV"]
["Versjon 1.3.1",null,null,null,null,null,null,"Ny kode: 8614004 XTV"]
["Versjon 1.3.1",null,null,null,null,null,null,"Ny kode: 8614005 Hjullaster"]
["Versjon 1.3.1",null,null,null,null,null,null,"Ny kode: 8615000 Bil i Næring"]
["Versjon 1.3.1",null,null,null,null,null,null,"Ny kode: 8615001 Personbil"]
["Versjon 1.3.1",null,null,null,null,null,null,"Ny kode: 8615002 Varebil klasse 1"]
["Versjon 1.3.1",null,null,null,null,null,null,"Ny kode: 8615003 Varebil klasse 2"]
["Versjon 1.3.1",null,null,null,null,null,null,"Ny kode: 8615004 Lett lastebil"]
["Versjon 1.3.1",null,null,null,null,null,null,"Ny kode: 8615005 Tung lastebil"]
["Versjon 1.3.1",null,null,null,null,null,null,"Ny kode: 8620000 Maskiner og redskaper"]
["Versjon 1.3.1",null,null,null,null,null,null,"Ny kode: 8621000 Jordbearbeidingsredskaper"]
["Versjon 1.3.1",null,null,null,null,null,null,"Ny kode: 8621010 Teigploger"]
["Versjon 1.3.1",null,null,null,null,null,null,"Ny kode: 8621020 Vendeploger"]
["Versjon 1.3.1",null,null,null,null,null,null,"Ny kode: 8621050 Djupgruppere"]
["Versjon 1.3.1",null,null,null,null,null,null,"Ny kode: 8621060 Kultivatorer, tinder og skåler"]
["Versjon 1.3.1",null,null,null,null,null,null,"Ny kode: 8621070 Såbedsharver"]
["Versjon 1.3.1",null,null,null,null,null,null,"Ny kode: 8621071 Såbedsharver - slep"]
["Versjon 1.3.1",null,null,null,null,null,null,"Ny kode: 8621072 Såbedsharver - 3-punkt"]
["Versjon 1.3.1",null,null,null,null,null,null,"Ny kode: 8621080 Skålharver"]
["Versjon 1.3.1",null,null,null,null,null,null,"Ny kode: 8621090 Spaknivharver (rotorharver)"]
["Versjon 1.3.1",null,null,null,null,null,null,"Ny kode: 8621100 Ugrasharver"]
["Versjon 1.3.1",null,null,null,null,null,null,"Ny kode: 8621110 Jordfresere / stivtindfres"]
["Versjon 1.3.1",null,null,null,null,null,null,"Ny kode: 8621130 Horisontalrotorharver"]
["Versjon 1.3.1",null,null,null,null,null,null,"Ny kode: 8621140 Slodder"]
["Versjon 1.3.1",null,null,null,null,null,null,"Ny kode: 8621150 Tromler"]
["Versjon 1.3.1",null,null,null,null,null,null,"Ny kode: 8621160 Steinsvanser"]
["Versjon 1.3.1",null,null,null,null,null,null,"Ny kode: 8621170 Steinriver"]
["Versjon 1.3.1",null,null,null,null,null,null,"Ny kode: 8621180 Stenstrengleggere"]
["Versjon 1.3.1",null,null,null,null,null,null,"Ny kode: 8621190 Steinsamlere"]
["Versjon 1.3.1",null,null,null,null,null,null,"Ny kode: 8622000 Gjødselutstyr"]
["Versjon 1.3.1",null,null,null,null,null,null,"Ny kode: 8622010 Kunstgjødselspredere"]
["Versjon 1.3.1",null,null,null,null,null,null,"Ny kode: 8622011 Kunstgjødselspredere En-skivet"]
["Versjon 1.3.1",null,null,null,null,null,null,"Ny kode: 8622012 Kunstgjødselspredere To-skivet"]
["Versjon 1.3.1",null,null,null,null,null,null,"Ny kode: 8622013 Kunstgjødselspredere Pendel"]
["Versjon 1.3.1",null,null,null,null,null,null,"Ny kode: 8622030 Naturgjødselspr. (buksert)"]
["Versjon 1.3.1",null,null,null,null,null,null,"Ny kode: 8622040 Gjødseltankvogner"]
["Versjon 1.3.1",null,null,null,null,null,null,"NY kode: 8622041 Gjødseltankvogner under 10 m3"]
["Versjon 1.3.1",null,null,null,null,null,null,"Ny kode: 8622042 Gjødseltankvogner over 10 m3"]
["Versjon 1.3.1",null,null,null,null,null,null,"Ny kode: 8622050 Vakuum- og kombitankvogner"]
["Versjon 1.3.1",null,null,null,null,null,null,"Ny kode: 8622051 Vakuum/kombitankvogner under 10 m3"]
["Versjon 1.3.1",null,null,null,null,null,null,"Ny kode: 8622052 Vakuum/kombitankvogner over 10 m3"]
["Versjon 1.3.1",null,null,null,null,null,null,"Ny kode: 8622060 Gjødselpumper - dykkpumper min 5 kW"]
["Versjon 1.3.1",null,null,null,null,null,null,"Ny kode: 8622061 Gjødselpumper Hydrauliske pumper"]
["Versjon 1.3.1",null,null,null,null,null,null,"Ny kode: 8622062 Gjødselpumper Elektriske pumper"]
["Versjon 1.3.1",null,null,null,null,null,null,"Ny kode: 8622070 Gjødselpumper - langstammede (lodd og skrå)"]
["Versjon 1.3.1",null,null,null,null,null,null,"Ny kode: 8622080 Gjødselpumper - portmontert"]
["Versjon 1.3.1",null,null,null,null,null,null,"Ny kode: 8622090 Gjødselporter"]
["Versjon 1.3.1",null,null,null,null,null,null,"Ny kode: 8622100 Gjødselmixere"]
["Versjon 1.3.1",null,null,null,null,null,null,"Ny kode: 8622110 Gyllepumper, høytrykk"]
["Versjon 1.3.1",null,null,null,null,null,null,"Ny kode: 8622120 Gjødselspredere"]
["Versjon 1.3.1",null,null,null,null,null,null,"Ny kode: 8622121 Gjødselspredere Slangespredere - traktormonterte"]
["Versjon 1.3.1",null,null,null,null,null,null,"Ny kode: 8622122 Gjødselspredere Slepeslangespredere (stripespreder)"]
["Versjon 1.3.1",null,null,null,null,null,null,"Ny kode: 8622130 Gjødselnedfellere"]
["Versjon 1.3.1",null,null,null,null,null,null,"Ny kode: 8623000 Så- og plantemaskiner"]
["Versjon 1.3.1",null,null,null,null,null,null,"Ny kode: 8623010 Kombisåmaskiner"]
["Versjon 1.3.1",null,null,null,null,null,null,"Ny kode: 8623011 Kombisåmaskiner Luftassistert"]
["Versjon 1.3.1",null,null,null,null,null,null,"Ny kode: 8623012 Kombisåmaskin"]
["Versjon 1.3.1",null,null,null,null,null,null,"Ny kode: 8623020 Såmaskiner - korn"]
["Versjon 1.3.1",null,null,null,null,null,null,"Ny kode: 8623021 Såmaskiner - korn Luftassistert"]
["Versjon 1.3.1",null,null,null,null,null,null,"Ny kode: 8623022 Såmaskiner - korn Kombisåmaskin"]
["Versjon 1.3.1",null,null,null,null,null,null,"Ny kode: 8623030 Såmaskiner - frø"]
["Versjon 1.3.1",null,null,null,null,null,null,"Ny kode: 8623031 Såmaskiner - frø Luftassistert"]
["Versjon 1.3.1",null,null,null,null,null,null,"Ny kode: 8623032 Såmaskiner - frø Kombimaskin"]
["Versjon 1.3.1",null,null,null,null,null,null,"Ny kode: 8623040 Enfrøsåmaskiner"]
["Versjon 1.3.1",null,null,null,null,null,null,"Ny kode: 8623050 Potetsettere"]
["Versjon 1.3.1",null,null,null,null,null,null,"Ny kode: 8623060 Radrenser-/hyppeutstyr"]
["Versjon 1.3.1",null,null,null,null,null,null,"Ny kode: 8623070 Plantemaskiner"]
["Versjon 1.3.1",null,null,null,null,null,null,"Ny kode: 8624000 Gras- og høybergingsutstyr"]
["Versjon 1.3.1",null,null,null,null,null,null,"Ny kode: 8624010 Motorslåmaskiner hjulgående"]
["Versjon 1.3.1",null,null,null,null,null,null,"Ny kode: 8624020 Slåmaskiner u/stengelbehandler"]
["Versjon 1.3.1",null,null,null,null,null,null,"Ny kode: 8624021 Slåmaskiner u/stengelbehandler 3-punktmontert"]
["Versjon 1.3.1",null,null,null,null,null,null,"Ny kode: 8624022 Slåmaskiner u/stengelbehandler Slepemontert"]
["Versjon 1.3.1",null,null,null,null,null,null,"Ny kode: 8624023 Slåmaskiner u/stengelbehandler Frontmontert"]
["Versjon 1.3.1",null,null,null,null,null,null,"Ny kode: 8624024 Slåmaskiner u/stengelbehandler Butterfly (uten frontmaskin)"]
["Versjon 1.3.1",null,null,null,null,null,null,"Ny kode: 8624030 Slåmaskiner m/stengelbehandler"]
["Versjon 1.3.1",null,null,null,null,null,null,"Ny kode: 8624031 Slåmaskiner m/stengelbehandler 3-punktmontert"]
["Versjon 1.3.1",null,null,null,null,null,null,"Ny kode: 8624032 Slåmaskiner m/stengelbehandler Slepemontert"]
["Versjon 1.3.1",null,null,null,null,null,null,"Ny kode: 8624033 Slåmaskiner m/stengelbehandler Frontmontert"]
["Versjon 1.3.1",null,null,null,null,null,null,"Ny kode: 8624034 Slåmaskiner m/stengelbehandler Butterfly (uten frontmaskin) "]
["Versjon 1.3.1",null,null,null,null,null,null,"Ny kode: 8624040 Sidevenderiver (kjeder/belter)"]
["Versjon 1.3.1",null,null,null,null,null,null,"Ny kode: 8624050 Kombiriver (universal)"]
["Versjon 1.3.1",null,null,null,null,null,null,"Ny kode: 8624060 Samleriver"]
["Versjon 1.3.1",null,null,null,null,null,null,"Ny kode: 8624061 Samleriver Slepemontert"]
["Versjon 1.3.1",null,null,null,null,null,null,"Ny kode: 8624062 Samleriver 3-punktmontert"]
["Versjon 1.3.1",null,null,null,null,null,null,"Ny kode: 8624070 Venderiver"]
["Versjon 1.3.1",null,null,null,null,null,null,"Ny kode: 8624071 Venderiver Slepemontert"]
["Versjon 1.3.1",null,null,null,null,null,null,"Ny kode: 8624072 Venderiver 3-punktmontert"]
["Versjon 1.3.1",null,null,null,null,null,null,"Ny kode: 8624080 Slaghøstere"]
["Versjon 1.3.1",null,null,null,null,null,null,"Ny kode: 8624081 Slaghøstere Fôrhøstere"]
["Versjon 1.3.1",null,null,null,null,null,null,"Ny kode: 8624082 Slaghøstere Dobbeltkuttere"]
["Versjon 1.3.1",null,null,null,null,null,null,"Ny kode: 8624090 Eksaktkuttere"]
["Versjon 1.3.1",null,null,null,null,null,null,"Ny kode: 8624091 Eksaktkuttere Traktormontert "]
["Versjon 1.3.1",null,null,null,null,null,null,"Ny kode: 8624092 Eksaktkuttere Selvgående"]
["Versjon 1.3.1",null,null,null,null,null,null,"Ny kode: 8624100 Halmsnittere "]
["Versjon 1.3.1",null,null,null,null,null,null,"Ny kode: 8624110 Beitepussere "]
["Versjon 1.3.1",null,null,null,null,null,null,"Ny kode: 8624120 Kantklippere"]
["Versjon 1.3.1",null,null,null,null,null,null,"Ny kode: 8624130 Avlesservogner (universalvogner)"]
["Versjon 1.3.1",null,null,null,null,null,null,"Ny kode: 8624140 Lessevogner"]
["Versjon 1.3.1",null,null,null,null,null,null,"Ny kode: 8624150 Små firkantpresser"]
["Versjon 1.3.1",null,null,null,null,null,null,"Ny kode: 8624160 Store firkantpresser"]
["Versjon 1.3.1",null,null,null,null,null,null,"Ny kode: 8624170 Rundballepresser"]
["Versjon 1.3.1",null,null,null,null,null,null,"Ny kode: 8624171 Rundballepresser Fastkammer (singelpresse)"]
["Versjon 1.3.1",null,null,null,null,null,null,"Ny kode: 8624172 Rundballepresser Variabelt (singelpresse)"]
["Versjon 1.3.1",null,null,null,null,null,null,"Ny kode: 8624173 Rundballepresser Fastkammer kombipresse"]
["Versjon 1.3.1",null,null,null,null,null,null,"Ny kode: 8624174 Rundballepresser Variabelt kombipresse (belter) "]
["Versjon 1.3.1",null,null,null,null,null,null,"Ny kode: 8624175 Rundballepresser Minipresser"]
["Versjon 1.3.1",null,null,null,null,null,null,"Ny kode: 8624180 Ballepakkere"]
["Versjon 1.3.1",null,null,null,null,null,null,"Ny kode: 8624181 Ballepakkere 3-punktmontert"]
["Versjon 1.3.1",null,null,null,null,null,null,"Ny kode: 8624182 Ballepakkere Slepemontert"]
["Versjon 1.3.1",null,null,null,null,null,null,"Ny kode: 8624183 Pakkere for firkantballer"]
["Versjon 1.3.1",null,null,null,null,null,null,"Ny kode: 8624190 Løfteutstyr for rund- og storballer"]
["Versjon 1.3.1",null,null,null,null,null,null,"Ny kode: 8624191 Ballespyd"]
["Versjon 1.3.1",null,null,null,null,null,null,"Ny kode: 8624192 Balleløfter/gaffel"]
["Versjon 1.3.1",null,null,null,null,null,null,"Ny kode: 8624193 Ballegriper/klype"]
["Versjon 1.3.1",null,null,null,null,null,null,"Ny kode: 8624194 Rundballedelere"]
["Versjon 1.3.1",null,null,null,null,null,null,"Ny kode: 8624195 Rundballedeler med avplaster"]
["Versjon 1.3.1",null,null,null,null,null,null,"Ny kode: 8624200 Rundballekuttere"]
["Versjon 1.3.1",null,null,null,null,null,null,"Ny kode: 8624210 River/fôrutleggere"]
["Versjon 1.3.1",null,null,null,null,null,null,"Ny kode: 8624211 Rundballe river/halmblåser 3 pkt"]
["Versjon 1.3.1",null,null,null,null,null,null,"Ny kode: 8624212 Rundballe river/halmblåser slept"]
["Versjon 1.3.1",null,null,null,null,null,null,"Ny kode: 8624213 River stasjonær"]
["Versjon 1.3.1",null,null,null,null,null,null,"Ny kode: 8624214 Fôrutlegger (skinnegående/hjul, operatørstyrt)"]
["Versjon 1.3.1",null,null,null,null,null,null,"Ny kode: 8624215 Automatisk fôrutlegger"]
["Versjon 1.3.1",null,null,null,null,null,null,"Ny kode: 8624216 Utfôringsbelte"]
["Versjon 1.3.1",null,null,null,null,null,null,"Ny kode: 8624220 Fullfôrblandere"]
["Versjon 1.3.1",null,null,null,null,null,null,"Ny kode: 8624221 Stasjonære fullfôrblandere"]
["Versjon 1.3.1",null,null,null,null,null,null,"Ny kode: 8624222 Slepte traktordrevete fullfôrblandere"]
["Versjon 1.3.1",null,null,null,null,null,null,"Ny kode: 8624223 Selvkjørende fullfôrblandere"]
["Versjon 1.3.1",null,null,null,null,null,null,"Ny kode: 8624270 Radialvifter (sentrifugalvifter)"]
["Versjon 1.3.1",null,null,null,null,null,null,"Ny kode: 8624280 Aksialvifter (propellvifter)"]
["Versjon 1.3.1",null,null,null,null,null,null,"Ny kode: 8624290 Elektrotaljer"]
["Versjon 1.3.1",null,null,null,null,null,null,"Ny kode: 8624300 Silofyll-/tømmere/innleggere"]
["Versjon 1.3.1",null,null,null,null,null,null,"Ny kode: 8625000 Høstemaskiner"]
["Versjon 1.3.1",null,null,null,null,null,null,"Ny kode: 8625010 Høstemaskiner 3-punktmontert"]
["Versjon 1.3.1",null,null,null,null,null,null,"Ny kode: 8625020 Høstemaskiner Slepemontert"]
["Versjon 1.3.1",null,null,null,null,null,null,"Ny kode: 8625030 Høstemaskiner Selvgående"]
["Versjon 1.3.1",null,null,null,null,null,null,"Ny kode: 8625040 Toppløftere"]
["Versjon 1.3.1",null,null,null,null,null,null,"Ny kode: 8626000 Sprøyteutstyr"]
["Versjon 1.3.1",null,null,null,null,null,null,"Ny kode: 8626010 Motorryggsprøyter (findråpe, ikke tåke)"]
["Versjon 1.3.1",null,null,null,null,null,null,"Ny kode: 8626020 Ryggtåkesprøyter"]
["Versjon 1.3.1",null,null,null,null,null,null,"Ny kode: 8626030 Åkersprøyter"]
["Versjon 1.3.1",null,null,null,null,null,null,"Ny kode: 8626031 Åkersprøyter 3-pkt.montert"]
["Versjon 1.3.1",null,null,null,null,null,null,"Ny kode: 8626032 Åkersprøyter Slept"]
["Versjon 1.3.1",null,null,null,null,null,null,"Ny kode: 8626033 Åkersprøyter Selvgående"]
["Versjon 1.3.1",null,null,null,null,null,null,"Ny kode: 8626040 Tåkesprøyter"]
["Versjon 1.3.1",null,null,null,null,null,null,"Ny kode: 8626041 Tåkesprøyter Traktormontert"]
["Versjon 1.3.1",null,null,null,null,null,null,"Ny kode: 8626042 Tåkesprøyter Slept"]
["Versjon 1.3.1",null,null,null,null,null,null,"Ny kode: 8627000 Transportutstyr/vegvedlikeholdsutstyr"]
["Versjon 1.3.1",null,null,null,null,null,null,"Ny kode: 8627010 Frontlastere"]
["Versjon 1.3.1",null,null,null,null,null,null,"Ny kode: 8627020 Baklastere (palleløftere)"]
["Versjon 1.3.1",null,null,null,null,null,null,"Ny kode: 8627030 Lasteskuffer"]
["Versjon 1.3.1",null,null,null,null,null,null,"Ny kode: 8627040 Pallegafler"]
["Versjon 1.3.1",null,null,null,null,null,null,"Ny kode: 8627070 Traktorskjær/høvler"]
["Versjon 1.3.1",null,null,null,null,null,null,"Ny kode: 8627080 Hurtigkobling - traktordel"]
["Versjon 1.3.1",null,null,null,null,null,null,"Ny kode: 8627090 Hurtigkobling redskapsdel"]
["Versjon 1.3.1",null,null,null,null,null,null,"Ny kode: 8627100 Snøfresere"]
["Versjon 1.3.1",null,null,null,null,null,null,"Ny kode: 8627101 Snøfresere V-fresere"]
["Versjon 1.3.1",null,null,null,null,null,null,"Ny kode: 8627102 Snøfresere 2-trinns fresere"]
["Versjon 1.3.1",null,null,null,null,null,null,"Ny kode: 8627120 Snøskjær/ploger"]
["Versjon 1.3.1",null,null,null,null,null,null,"Ny kode: 8627121 V-ploger"]
["Versjon 1.3.1",null,null,null,null,null,null,"Ny kode: 8627122 U-ploger"]
["Versjon 1.3.1",null,null,null,null,null,null,"Ny kode: 8627123 Diagonalploger"]
["Versjon 1.3.1",null,null,null,null,null,null,"Ny kode: 8627130 Sandstrøere"]
["Versjon 1.3.1",null,null,null,null,null,null,"Ny kode: 8627140 Feiemaskiner"]
["Versjon 1.3.1",null,null,null,null,null,null,"Ny kode: 8327141 Feiemaskiner Oppsamlende"]
["Versjon 1.3.1",null,null,null,null,null,null,"Ny kode: 8627142 Feiemaskiner Svingbare u/oppsamler"]
["Versjon 1.3.1",null,null,null,null,null,null,"Ny kode: 8627150 Andre ploger"]
["Versjon 1.3.1",null,null,null,null,null,null,"Ny kode: 8627160 Kantklippere m/lang sidearm"]
["Versjon 1.3.1",null,null,null,null,null,null,"Ny kode: 8627180 Traktortilhengere"]
["Versjon 1.3.1",null,null,null,null,null,null,"Ny kode: 8627181 Tilhengere/lettdumper"]
["Versjon 1.3.1",null,null,null,null,null,null,"Ny kode: 8627182 Ballevogner"]
["Versjon 1.3.1",null,null,null,null,null,null,"Ny kode: 8627183 Krokhenger"]
["Versjon 1.3.1",null,null,null,null,null,null,"Ny kode: 8627184 Dumperhenger"]
["Versjon 1.3.1",null,null,null,null,null,null,"Ny kode: 8627185 Maskinhengere"]
["Versjon 1.3.1",null,null,null,null,null,null,"Ny kode: 8628000 Kornbehandlingsutstyr"]
["Versjon 1.3.1",null,null,null,null,null,null,"Ny kode: 8628010 Varmlufts satskorntørker"]
["Versjon 1.3.1",null,null,null,null,null,null,"Ny kode: 8628020 Varmlufts kontinuerlige tørker"]
["Versjon 1.3.1",null,null,null,null,null,null,"Ny kode: 8628030 Varmeovner/aggregater"]
["Versjon 1.3.1",null,null,null,null,null,null,"Ny kode: 8628040 Kaldluftsvifter (propellvifter)"]
["Versjon 1.3.1",null,null,null,null,null,null,"Ny kode: 8628050 Sentrifugalvifter"]
["Versjon 1.3.1",null,null,null,null,null,null,"Ny kode: 8628060 Lufte- og lagersiloer"]
["Versjon 1.3.1",null,null,null,null,null,null,"Ny kode: 8628061 Lager/luftesilo m/selvtømmende bunn"]
["Versjon 1.3.1",null,null,null,null,null,null,"Ny kode: 8628062 Rund utendørs tørke/luftesilo med røreverk"]
["Versjon 1.3.1",null,null,null,null,null,null,"Ny kode: 8628063 Rund utendørs lager/luftesilo uten røreverk"]
["Versjon 1.3.1",null,null,null,null,null,null,"Ny kode: 8628070 Kaldluftsplantørker (ant.anlegg)"]
["Versjon 1.3.1",null,null,null,null,null,null,"Ny kode: 8628080 Kornblåsere/sugere"]
["Versjon 1.3.1",null,null,null,null,null,null,"Ny kode. 8628090 Kornskruer m/motor"]
["Versjon 1.3.1",null,null,null,null,null,null,"Ny kode: 8628100 Koppelevatorer"]
["Versjon 1.3.1",null,null,null,null,null,null,"Ny kode: 8628110 Kjedeelevatorer"]
["Versjon 1.3.1",null,null,null,null,null,null,"Ny kode: 8628120 Vannrett transportør (skrue)"]
["Versjon 1.3.1",null,null,null,null,null,null,"Ny kode: 8628130 Vannrett transportør (redler/bånd)"]
["Versjon 1.3.1",null,null,null,null,null,null,"Ny kode: 8628140 Mobil tørke"]
["Versjon 1.3.1",null,null,null,null,null,null,"Ny kode: 8628150 Frittstående korntørkehus"]
["Versjon 1.3.1",null,null,null,null,null,null,"Ny kode: 8629000 Vanningsutstyr"]
["Versjon 1.3.1",null,null,null,null,null,null,"Ny kode: 8629010 Vanningsvogner"]
["Versjon 1.3.1",null,null,null,null,null,null,"Ny kode: 8629020 Lensepumper"]
["Versjon 1.3.1",null,null,null,null,null,null,"Ny kode: 8629030 Tørroppstilte vannforsyningspumper"]
["Versjon 1.3.1",null,null,null,null,null,null,"Ny kode: 8640000 Skogsutstyr"]
["Versjon 1.3.1",null,null,null,null,null,null,"Ny kode: 8641000 Traktor (skog)"]
["Versjon 1.3.1",null,null,null,null,null,null,"Ny kode: 8641001 Spesialutstyrt jordbrukstraktor"]
["Versjon 1.3.1",null,null,null,null,null,null,"Ny kode: 8641002 Skogstraktor"]
["Versjon 1.3.1",null,null,null,null,null,null,"Ny kode: 8642000 Utstyr for tømmerdrift (inkl. traktormontert)"]
["Versjon 1.3.1",null,null,null,null,null,null,"Ny kode: 8642010 Griplastere"]
["Versjon 1.3.1",null,null,null,null,null,null,"Ny kode: 8642020 Skogshengere"]
["Versjon 1.3.1",null,null,null,null,null,null,"Ny kode: 8642030 Vinsjer - 1-tromlet traktormont."]
["Versjon 1.3.1",null,null,null,null,null,null,"Ny kode: 8642040 Vinsjer - 2-tromlet traktormont."]
["Versjon 1.3.1",null,null,null,null,null,null,"Ny kode: 8642050 Kvistemaskin/prosessor"]
["Versjon 1.3.1",null,null,null,null,null,null,"Ny kode: 8643000 Vedutstyr"]
["Versjon 1.3.1",null,null,null,null,null,null,"Ny kode: 8642060 Vedmaskiner (kapp/kløyv)"]
["Versjon 1.3.1",null,null,null,null,null,null,"Ny kode: 8643061 Vedmaskiner (kapp/kløyv) Blad"]
["Versjon 1.3.1",null,null,null,null,null,null,"Ny kode: 8643062 Vedmaskiner (kapp/kløyv) Kjede"]
["Versjon 1.3.1",null,null,null,null,null,null,"Ny kode: 8643070 Vedkappsager"]
["Versjon 1.3.1",null,null,null,null,null,null,"Ny kode: 8643080 Vedkløyvere"]
["Versjon 1.3.1",null,null,null,null,null,null,"Ny kode: 8643090 Flishoggere"]
["Versjon 1.3.1",null,null,null,null,null,null,"Ny kode: 8644000 Annet traktormontert utstyr"]
["Versjon 1.3.1",null,null,null,null,null,null,"Ny kode: 8644130 Vei-,snø- og tømmerskjær og ploger"]
["Versjon 1.3.1",null,null,null,null,null,null,"Ny kode: 8645000 Diverse håndredskaper inkl. sagutstyr"]
["Versjon 1.3.1",null,null,null,null,null,null,"Ny kode: 8645100 Småsager"]
["Versjon 1.3.1",null,null,null,null,null,null,"Ny kode: 8645110 Motorsager"]
["Versjon 1.3.1",null,null,null,null,null,null,"Ny kode: 8645120 Ryddesager"]
["Versjon 1.3.1",null,null,null,null,null,null,"Kode ProduktDetalj: Alle ProduktDetaljkoder fra 8800000 til 8843999 settes \"Ledig\""]
["Versjon 1.3.1",null,null,null,null,null,null,"Ny potetsort: 2100189 Nordlys"]
["Versjon 1.3.1",null,null,null,null,null,null,"Ny potetsort: 2100190 Undset"]
["Versjon 1.3.1",null,null,null,null,null,null,"Ny potetsort: 2100191 Potet Linus"]
["Versjon 1.3.1",null,null,null,null,null,null,"Ny potetsort: 2100192 Potet Balder"]
["Versjon 1.3.1",null,null,null,null,null,null,"Ny potetsort: 2100193 Potet Austin"]
["Versjon 1.3.1",null,null,null,null,null,null,"Ny bærsort:2691000  Haskap(Honningbær) Leddvedslekta - smaker som kryssing mellom blåbær og bringebær"]
["Versjon 1.3.1",null,null,null,null,null,null,"Ny kålsort: Blomkålini"]
["Versjon 1.3.1",null,null,null,null,null,null,"Ny sort Rughvete høst: 1150016 Belcanto"]
["Versjon 1.3.1",null,null,null,null,null,null,"Ny sort Høsthvete: 112018 KWS Ahoi"]
["Versjon 1.3.1",null,null,null,null,null,null,"Ny sort Høsthvete: 112019 Rotax"]
["Versjon 1.3.1",null,null,null,null,null,null,"Ny sort Høsthvete: 112020 Bernstein"]
["Versjon 1.3.1",null,null,null,null,null,null,"Ny sort Rug høst: 1140018 KWS Tutor 12"]
["Versjon 1.3.1",null,null,null,null,null,null,"Ny sort Raisvingel: 1224006 Fojtan"]
["Versjon 1.3.1",null,null,null,null,null,null,"Ny sort Grønnfôrert: 1450005 Rubin"]
["Versjon 1.3.1",null,null,null,null,null,null,"Ny sort Grønnfôrert: 1450006 ESO"]
["Versjon 1.3.1",null,null,null,null,null,null,"Ny sort Annet frø: 1490012 Gul Sennep Albatros"]
["Versjon 1.3.1",null,null,null,null,null,null,"Ny sort Fôrreddik: 1410003 Stinger - Tillage Radish"]
["Versjon 1.3.1",null,null,null,null,null,null,"Ny sort Rødsvingel: 1222008 Lykke Plen"]
[]
["Versjon 1.3.2",null,null,null,null,null,null,"Endring - Kontoplan"]
["Versjon 1.3.2",null,null,null,null,20,6201,"Ny konto tekst: Strømstøtte"]
["Versjon 1.3.2",null,null,null,null,null,null,"Endring - dimensjon Produkt"]
["Versjon 1.3.2",null,null,null,null,null,null,"Ny tekst kode 7172 Distriktstilskudd til potetproduksjon i Nord-Norge: Tekst endret til \"Matpotet og grønnsaker, Nord-Norge\""]
["Versjon 1.3.2",null,null,null,null,null,null,"Ny tekst kode 8722: Endret til \"Gass vedrørende produksjon\""]
["Versjon 1.3.2",null,null,null,null,null,null,"Nye koder - dimensjon Produkt"]
["Versjon 1.3.2",null,null,null,null,null,null,"Ny kode: 8723 Fyringsolje vedrørende produksjon"]
["Versjon 1.3.2",null,null,null,null,null,null,"Ny kode: 8724 Ved vedrørende produksjon"]
["Versjon 1.3.2",null,null,null,null,null,null,"Ny kode: 8725 Drivstoff vedr. produksjon"]
["Versjon 1.3.2",null,null,null,null,null,null,"Ny kode: 8728 Strømstøtte"]
["Versjon 1.3.2",null,null,null,null,null,null,"Ny kode: 8729 Brensel, annet vedrørende produksjon"]
["Versjon 1.3.2",null,null,null,null,null,null,"Ny kode: 8730 Drivstoff til bil"]
["Versjon 1.3.2",null,null,null,null,null,null,"Ny kode: 8731 Drivstoff, personbil"]
["Versjon 1.3.2",null,null,null,null,null,null,"Ny kode: 8732 Drivstoff, varebil"]
["Versjon 1.3.2",null,null,null,null,null,null,"Ny kode: 8733 Drivstoff, lastebil"]
["Versjon 1.3.2",null,null,null,null,null,null,"Nye koder - dimensjon ProduktDetalj"]
["Versjon 1.3.2",null,null,null,null,null,null,"Ny kode: 1111014 Vårhvete Helmi"]
["Versjon 1.3.2",null,null,null,null,null,null,"Ny kode: 1121029 Toradsbygg Fandaga"]
["Versjon 1.3.2",null,null,null,null,null,null,"Ny kode: 1121030 Toradsbygg Ellinor"]
["Versjon 1.3.2",null,null,null,null,null,null,"Ny kode: 1121031 Toradsbygg Torgeir"]
["Versjon 1.3.2",null,null,null,null,null,null,"Ny kode: 1122028 Seksrads bygg Huima"]
["Versjon 1.3.2",null,null,null,null,null,null,"Ny kode: 1122029 Seksrads bygg Shetty"]
["Versjon 1.3.2",null,null,null,null,null,null,"Ny kode: 1122030 Seksrads bygg GN16329"]
["Versjon 1.3.2",null,null,null,null,null,null,"Ny kode: 1122031 Seksrads bygg Prospect"]
["Versjon 1.3.2",null,null,null,null,null,null,"Ny kode: 1130034 Havre Perttu"]
["Versjon 1.3.2",null,null,null,null,null,null,"Ny kode: 1130035 Havre Vahva"]
["Versjon 1.3.2",null,null,null,null,null,null,"Ny kode: 1130036 Havre Scotty"]
["Versjon 1.3.2",null,null,null,null,null,null,"Ny kode: 1130037 Havre Romedal"]
["Versjon 1.3.2",null,null,null,null,null,null,"Ny kode: 1130038 Havre Delfin"]
["Versjon 1.3.2",null,null,null,null,null,null,"Ny kode: 1140019 Rug Høst Opal"]
["Versjon 1.3.2",null,null,null,null,null,null,"Ny kode: 1222009 Rødsvingel Barpearl Plen"]
["Versjon 1.3.2",null,null,null,null,null,null,"Ny kode: 1222010 Rødsvingel Wagner Plen"]
["Versjon 1.3.2",null,null,null,null,null,null,"Ny kode: 1222011 Rødsvingel Barlineus Plen"]
["Versjon 1.3.2",null,null,null,null,null,null,"Ny kode: 1240005 Engkvein Jorvik"]
["Versjon 1.3.2",null,null,null,null,null,null,"Ny kode: 1240006 Engkvein Tracenta"]
["Versjon 1.3.2",null,null,null,null,null,null,"Ny kode: 1240007 Engkvein Oasis"]
["Versjon 1.3.2",null,null,null,null,null,null,"Ny kode: 1240008 Engkvein Heriot"]
["Versjon 1.3.2",null,null,null,null,null,null,"Ny kode: 1240009 Engkvein Highland Bent"]
["Versjon 1.3.2",null,null,null,null,null,null,"Ny kode: 1240010 Engkvein Polana"]
["Versjon 1.3.2",null,null,null,null,null,null,"Ny kode: 1240011 Engkvein Barking"]
["Versjon 1.3.2",null,null,null,null,null,null,"Nykode: 1223004 Strandsvingel Tower (Soft leaf)"]
["Versjon 1.3.2",null,null,null,null,null,null,"Ny kode: 1281018 Flerårig raigras Barpasto"]
["Versjon 1.3.2",null,null,null,null,null,null,"Ny kode: 1282014 Toårig raigras EF486 Dasas"]
["Versjon 1.3.2",null,null,null,null,null,null,"Nykode: 1283013 Ettårig raigras Libonus"]
["Versjon 1.3.2",null,null,null,null,null,null,"Nykode: 1320014 Kvitkløver Brianna"]
["Versjon 1.3.2",null,null,null,null,null,null,"Nykode: 1390004 Alexandrinekløver Marmilla"]
["Versjon 1.3.2",null,null,null,null,null,null,"Nykode: 1410004 Fôrreddik Structurator -Tillage Radish"]
["Versjon 1.3.2",null,null,null,null,null,null,"Nykode: 1410005 Fôrreddik Siletina-tidlig"]
["Versjon 1.3.2",null,null,null,null,null,null,"Nykode: 1410006 Fôrreddik Radetzky"]
["Versjon 1.3.2",null,null,null,null,null,null,"Nykode: 1410007 Fôrreddik Cassius"]
["Versjon 1.3.2",null,null,null,null,null,null,"Nykode: 1450007 Grønnfôrert Onyx"]
["Versjon 1.3.2",null,null,null,null,null,null,"Nykode: 1450008 Grønnfôrert Pinochio"]
["Versjon 1.3.2",null,null,null,null,null,null,"Nykode: 1490013 Sikori"]
["Versjon 1.3.2",null,null,null,null,null,null,"Ny kode: 8111043 NPK 27-2-4 (3S)"]
["Versjon 1.3.2",null,null,null,null,null,null,"Ny kode: 8116004 OPTI-START 14-18-0 (4S)"]
["Versjon 1.3.2",null,null,null,null,null,null,"Ny kode: 7172061 Grønnsaker (ekskl.salat)"]
["Versjon 1.3.2",null,null,null,null,null,null,"Ny kode: 8723000 Fyringsolje vedrørende produksjon"]
["Versjon 1.3.2",null,null,null,null,null,null,"Ny kode: 8723001 Kull"]
["Versjon 1.3.2",null,null,null,null,null,null,"Ny kode: 8723002 Fyringsolje"]
["Versjon 1.3.2",null,null,null,null,null,null,"Ny kode: 8725000 Drivstoff vedr. produksjon"]
["Versjon 1.3.2",null,null,null,null,null,null,"Ny kode: 8725001 Diesel, avgiftsfri"]
["Versjon 1.3.2",null,null,null,null,null,null,"Ny kode: 8725002 Diesel"]
["Versjon 1.3.2",null,null,null,null,null,null,"Ny kode: 8725003 Bensin"]
["Versjon 1.3.2",null,null,null,null,null,null,"Ny kode: 8725004 Hydrogen"]
["Versjon 1.3.2",null,null,null,null,null,null,"Ny kode: 8725005 Biogass"]
["Versjon 1.3.2",null,null,null,null,null,null,{"$f":"\"Ny kode: \"&ProduktDetalj!I2504&\" \"&ProduktDetalj!F2504","v":"Ny kode: 8730000 Drivstoff til bil"}]
["Versjon 1.3.2",null,null,null,null,null,null,{"$f":"\"Ny kode: \"&ProduktDetalj!I2505&\" \"&ProduktDetalj!F2505","v":"Ny kode: 8731000 Drivstoff, personbil"}]
["Versjon 1.3.2",null,null,null,null,null,null,{"$f":"\"Ny kode: \"&ProduktDetalj!I2506&\" \"&ProduktDetalj!F2506","v":"Ny kode: 8731001 Drivstoff, personbil - bensin"}]
["Versjon 1.3.2",null,null,null,null,null,null,{"$f":"\"Ny kode: \"&ProduktDetalj!I2507&\" \"&ProduktDetalj!F2507","v":"Ny kode: 8731002 Drivstoff, personbil - diesel"}]
["Versjon 1.3.2",null,null,null,null,null,null,{"$f":"\"Ny kode: \"&ProduktDetalj!I2508&\" \"&ProduktDetalj!F2508","v":"Ny kode: 8731003 Drivstoff, personbil - hydrogen"}]
["Versjon 1.3.2",null,null,null,null,null,null,{"$f":"\"Ny kode: \"&ProduktDetalj!I2509&\" \"&ProduktDetalj!F2509","v":"Ny kode: 8731004 Drivstoff, personbil - biogass"}]
["Versjon 1.3.2",null,null,null,null,null,null,{"$f":"\"Ny kode: \"&ProduktDetalj!I2510&\" \"&ProduktDetalj!F2510","v":"Ny kode: 8732000 Drivstoff, varebil"}]
["Versjon 1.3.2",null,null,null,null,null,null,{"$f":"\"Ny kode: \"&ProduktDetalj!I2511&\" \"&ProduktDetalj!F2511","v":"Ny kode: 8732001 Drivstoff, varebil - bensin"}]
["Versjon 1.3.2",null,null,null,null,null,null,{"$f":"\"Ny kode: \"&ProduktDetalj!I2512&\" \"&ProduktDetalj!F2512","v":"Ny kode: 8732002 Drivstoff, varebil - diesel"}]
["Versjon 1.3.2",null,null,null,null,null,null,{"$f":"\"Ny kode: \"&ProduktDetalj!I2513&\" \"&ProduktDetalj!F2513","v":"Ny kode: 8732003 Drivstoff, varebil - hydrogen"}]
["Versjon 1.3.2",null,null,null,null,null,null,{"$f":"\"Ny kode: \"&ProduktDetalj!I2514&\" \"&ProduktDetalj!F2514","v":"Ny kode: 8732004 Drivstoff, varebil - biogass"}]
["Versjon 1.3.2",null,null,null,null,null,null,{"$f":"\"Ny kode: \"&ProduktDetalj!I2515&\" \"&ProduktDetalj!F2515","v":"Ny kode: 8733000 Drivstoff, lastebil"}]
["Versjon 1.3.2",null,null,null,null,null,null,{"$f":"\"Ny kode: \"&ProduktDetalj!I2516&\" \"&ProduktDetalj!F2516","v":"Ny kode: 8733001 Drivstoff, lastebil - bensin"}]
["Versjon 1.3.2",null,null,null,null,null,null,{"$f":"\"Ny kode: \"&ProduktDetalj!I2517&\" \"&ProduktDetalj!F2517","v":"Ny kode: 8733002 Drivstoff, lastebil - diesel"}]
["Versjon 1.3.2",null,null,null,null,null,null,{"$f":"\"Ny kode: \"&ProduktDetalj!I2518&\" \"&ProduktDetalj!F2518","v":"Ny kode: 8733003 Drivstoff, lastebil - hydrogen"}]
["Versjon 1.3.2",null,null,null,null,null,null,{"$f":"\"Ny kode: \"&ProduktDetalj!I2519&\" \"&ProduktDetalj!F2519","v":"Ny kode: 8733004 Drivstoff, lastebil - biogass"}]
["Versjon 1.3.2",null,null,null,null,null,null,"Nye koder - dimensjon ProduktTilleggTrekk"]
["Versjon 1.3.2",null,null,null,12013,20,3001,"Ledig kode brukes fra nå av til \"Prisjustering\""]
["Versjon 1.3.3",null,null,null,null,null,null,"Kontering i dimensjon Produkt tillegg og trekk "]
["Versjon 1.3.3","O_S",6100,6199,66005,30,3060,"Ny kontering"]
["Versjon 1.3.3",null,null,null,null,null,null,"Nye koder - dimensjon ProduktDetalj"]
["Versjon 1.3.3",null,null,null,null,null,null,"Ny kode:7131001 Tilskudd til ammeku"]
["Versjon 1.3.3",null,null,null,null,null,null,"Ny kode:7131002 Tilskudd til Avlsgris"]
["Versjon 1.3.3",null,null,null,null,null,null,"Ny kode:7131003 Bikube"]
["Versjon 1.3.3",null,null,null,null,null,null,"Ny kode:7131004 Hjort (alle)"]
["Versjon 1.3.3",null,null,null,null,null,null,"Ny kode:7131005 Tilskudd til melkegeit/melkesau"]
["Versjon 1.3.3",null,null,null,null,null,null,"Ny kode:7131006 Tilskudd til melkeku"]
["Versjon 1.3.3",null,null,null,null,null,null,"Ny kode:7131007 Tilskudd til sau/ammegeit"]
["Versjon 1.3.3",null,null,null,null,null,null,"Ny kode:7131008 Slaktegris med slaktevekt på minst 34 kg, slaktet i løpet av året"]
["Versjon 1.3.3",null,null,null,null,null,null,"Ny kode:7131009 Verpehøner og avlsdyr av ender, kalkuner og gjess"]
["Versjon 1.3.3",null,null,null,null,null,null,"Ny kode:7131010 Øvrig storfe"]
["Versjon 1.3.3",null,null,null,null,null,null,"Ny kode:7131011 Hest (alle)"]
["Versjon 1.3.3",null,null,null,null,null,null,"Ny kode:7131012 Bukker og ungdyr geit"]
["Versjon 1.3.3",null,null,null,null,null,null,"Ny kode:7131013 Smågris"]
["Versjon 1.3.3",null,null,null,null,null,null,"Ny kode:7131014 Slaktegris"]
["Versjon 1.3.3",null,null,null,null,null,null,"Ny kode:7131015 Minktisper"]
["Versjon 1.3.3",null,null,null,null,null,null,"Ny kode:7131016 Revetisper"]
["Versjon 1.3.3",null,null,null,null,null,null,"Ny kode:7131017 Livkylling"]
["Versjon 1.3.3",null,null,null,null,null,null,"Ny kode:7131018 Kaniner"]
["Versjon 1.3.3",null,null,null,null,null,null,"Ny kode:7131019 Slaktekylling"]
["Versjon 1.3.3",null,null,null,null,null,null,"Ny kode:7131020 Gås, kalkun og and"]
["Versjon 1.3.3",null,null,null,null,null,null,"Ny kode:7131021 Andre dyreslag"]
["Versjon 1.3.3",null,null,null,null,null,null,"Ny kode:7132001 Beite, Storfe, hjort, hest og lama"]
["Versjon 1.3.3",null,null,null,null,null,null,"Ny kode:7132002 Beite, Sau, lam, geit, kje og alpakka"]
["Versjon 1.3.3",null,null,null,null,null,null,"Ny kode:7133001 Utmarkbeite Storfe og hest"]
["Versjon 1.3.3",null,null,null,null,null,null,"Ny kode:7133002 Utmarkbeite Sau og lam"]
["Versjon 1.3.3",null,null,null,null,null,null,"Ny kode:7133003 Utmarkbeite Geit og kje"]
["Versjon 1.3.3",null,null,null,null,null,null,"Ny kode:7134001 Økologiske melkekyr"]
["Versjon 1.3.3",null,null,null,null,null,null,"Ny kode:7134002 Økologiske ammeku"]
["Versjon 1.3.3",null,null,null,null,null,null,"Ny kode:7134003 Økologiske øvrige storfe"]
["Versjon 1.3.3",null,null,null,null,null,null,"Ny kode:7134004 Økologiske melkegeiter"]
["Versjon 1.3.3",null,null,null,null,null,null,"Ny kode:7134005 Økologiske ammegeit"]
["Versjon 1.3.3",null,null,null,null,null,null,"Ny kode:7134006 Økologisk sau"]
["Versjon 1.3.3",null,null,null,null,null,null,"Ny kode:7134007 Økologisk avlsgris"]
["Versjon 1.3.3",null,null,null,null,null,null,"Ny kode:7134008 Økologiske verpehøner"]
["Versjon 1.3.3",null,null,null,null,null,null,"Ny kode:7134009 Økologisk slaktegris"]
["Versjon 1.3.3",null,null,null,null,null,null,"Ny kode:7135001 Bevaringsverdige storferasar"]
["Versjon 1.3.3",null,null,null,null,null,null,"Ny kode:7135002 Bevaringsverdige småferasar - sau"]
["Versjon 1.3.3",null,null,null,null,null,null,"Ny kode:7135003 Bevaringsverdige småferasar - ammegeit"]
["Versjon 1.3.3",null,null,null,null,null,null,"Ny kode:7135004 Bevaringsverdige hesterasar - unghest under 3 år"]
["Versjon 1.3.3",null,null,null,null,null,null,"Ny kode:7136001 Tilskot til små og mellomstore mjølkebruk, ku"]
["Versjon 1.3.3",null,null,null,null,null,null,"Ny kode:7136002 Tilskot til små og mellomstore mjølkebruk, geit"]
["Versjon 1.3.3",null,null,null,null,null,null,"Ny kode:7141001 Driftstilskudd til melkeproduksjon ku"]
["Versjon 1.3.3",null,null,null,null,null,null,"Ny kode:7141002 Driftstilskudd til melkeproduksjon geit"]
["Versjon 1.3.3",null,null,null,null,null,null,"Ny kode:7171101 Bær"]
["Versjon 1.3.3",null,null,null,null,null,null,"Ny kode:7171102 Eple, pærer, plommer, kirsebær"]
["Versjon 1.3.3",null,null,null,null,null,null,"Ny kode:7171103 Moreller"]
["Versjon 1.3.3",null,null,null,null,null,null,"Ny kode:7171104 Pressfrukt"]
["Versjon 1.3.3",null,null,null,null,null,null,"Ny kode:7171105 Salat"]
["Versjon 1.3.3",null,null,null,null,null,null,"Ny kode:7171106 Slangeagurk"]
["Versjon 1.3.3",null,null,null,null,null,null,"Ny kode:7171107 Tomat"]
["Versjon 1.3.3",null,null,null,null,null,null,"Ny kode:7195000 Bunnfradrag"]
["Versjon 1.3.3",null,null,null,null,null,null,"Ny kode:7196000 Avkorting"]
["Versjon 1.3.3",null,null,null,null,null,null,"Ny kode:7197000 Uspesifiserte trekk"]
["Versjon 1.3.3",null,null,null,null,null,null,"Ny kode:7211001 Ammeku"]
["Versjon 1.3.3",null,null,null,null,null,null,"Ny kode:7211002 Avlsgris"]
["Versjon 1.3.3",null,null,null,null,null,null,"Ny kode:7211003 Avlskanin"]
["Versjon 1.3.3",null,null,null,null,null,null,"Ny kode:7211004 Gås, kalkun og and"]
["Versjon 1.3.3",null,null,null,null,null,null,"Ny kode:7211005 Hest (alle)"]
["Versjon 1.3.3",null,null,null,null,null,null,"Ny kode:7211006 Hjort (alle)"]
["Versjon 1.3.3",null,null,null,null,null,null,"Ny kode:7211007 Kylling og kalkun solgt som livdyr"]
["Versjon 1.3.3",null,null,null,null,null,null,"Ny kode:7211008 Melkegeit og melkesau"]
["Versjon 1.3.3",null,null,null,null,null,null,"Ny kode:7211009 Melkeku"]
["Versjon 1.3.3",null,null,null,null,null,null,"Ny kode:7211010 Minktispe"]
["Versjon 1.3.3",null,null,null,null,null,null,"Ny kode:7211011 Revetispe"]
["Versjon 1.3.3",null,null,null,null,null,null,"Ny kode:7211012 Sau født i fjor eller tidligere og ammegeit"]
["Versjon 1.3.3",null,null,null,null,null,null,"Ny kode:7211013 Slaktegris med slaktevekt på minst 34 kg, slaktet i løpet av året"]
["Versjon 1.3.3",null,null,null,null,null,null,"Ny kode:7211014 Slaktekylling"]
["Versjon 1.3.3",null,null,null,null,null,null,"Ny kode:7211015 Verpehøner og avlsdyr av ender, kalkuner og gjess"]
["Versjon 1.3.3",null,null,null,null,null,null,"Ny kode:7211016 Økologiske slaktekylling"]
["Versjon 1.3.3",null,null,null,null,null,null,"Ny kode:7211017 Øvrige storfe"]
["Versjon 1.3.3",null,null,null,null,null,null,"Ny kode:7211018 Bukker og ungdyr geit"]
["Versjon 1.3.3",null,null,null,null,null,null,"Ny kode:7211019 Sum melkeku og ammeku"]
["Versjon 1.3.3",null,null,null,null,null,null,"Ny kode:7211840 Økologiske slaktekylling"]
["Versjon 1.3.4",null,null,null,null,null,null,"Nye koder - dimensjon Produkt"]
["Versjon 1.3.4","I_S",8292,8292,null,20,6604,"Ny kode: 8292 Vedlikehold gjerder"]
["Versjon 1.3.4","I_S",8192,8192,null,20,4431,"Ny kode: 8192 Forbruksmateriell"]
["Versjon 1.3.4","I_S",8193,8193,null,20,6560,"Ny kode: 8193 Rekvisita"]
["Versjon 1.3.4",null,null,null,null,null,null,"Nye koder - dimensjon ProduktDetalj"]
["Versjon 1.3.4",null,null,null,null,null,null,"Ny kode: 2100194 Potet Lady Jane"]
["Versjon 1.3.4",null,null,null,null,null,null,"Ny kode: 1111015 Vårhvete Embla"]
["Versjon 1.3.4",null,null,null,null,null,null,"Ny kode: 1130039 Havre Luukas"]
["Versjon 1.3.4",null,null,null,null,null,null,"Ny kode: 1121032 Toradsbygg Blixen"]
["Versjon 1.3.4",null,null,null,null,null,null,"Nye koder og kontering i dimensjon Produkt tillegg og trekk "]
["Versjon 1.3.4","O_S",4000,4999,44004,20,3041,"Endring tekst: Etterbetaling/bonus år senere enn leveranse og utbetaling fra medlemskapitalkonto"]
["Versjon 1.3.4","O_O",4000,4999,45007,20,3281,"Ny kode: 45007 Tilskudd kraftfôrsilo"]
["Versjon 1.3.4","O_O",5000,5999,55001,20,3281,"Ny kode: 55001 Tilskudd kraftfôrsilo"]
["Versjon 1.3.4","I_O",8200,8219,85004,20,4070,"Ny kode: 85004 Tilskudd kraftfôrsilo"]
["Versjon 1.3.4","I_S",8200,8219,85004,20,4070,"Ny kode: 85004 Tilskudd kraftfôrsilo"]
["Versjon 1.3.5",null,null,null,null,null,null,"Spesifisering av grønnsaker på dimensjon Produkt er flyttet til dimensjon ProduktDetalj med egne løpenr. Dette fører til følgende endringer :       "]
["Versjon 1.3.5","Gamle koder - dimensjon Produkt",null,null,null,null,null,"Nye koder - dimensjon Produkt"]
["Versjon 1.3.5",null,2210,2239,null,null,null,"Beholder kode: 2210 Kålvekster"]
["Versjon 1.3.5",null,2240,2269,null,null,null,"Beholder kode: 2240 Rotvekster"]
["Versjon 1.3.5",null,2270,2291,null,null,null,"Beholder kode: 2270 Salat og bladgrønnsaker"]
["Versjon 1.3.5",null,2310,2329,null,null,null,"Beholder kode: 2310 Løk- og purrevekster"]
["Versjon 1.3.5",null,2330,2349,null,null,null,"Beholder kode: 2330 Stengelvekster"]
["Versjon 1.3.5",null,2350,2379,null,null,null,"Beholder kode: 2350 Frø- og belgvekster"]
["Versjon 1.3.5",null,2380,2399,null,null,null,"Beholder kode: 2380 Agurk mv."]
["Versjon 1.3.5",null,2410,2439,null,null,null,"Beholder kode: 2410 Tomat"]
["Versjon 1.3.5",null,2440,2449,null,null,null,"Beholder kode: 2440 Paprika og chili"]
["Versjon 1.3.5",null,2450,2479,null,null,null,"Beholder kode: 2450 Krydderurter"]
["Versjon 1.3.5",null,2480,2489,null,null,null,"Beholder kode: 2480 Sopp"]
["Versjon 1.3.5"]
["Versjon 1.3.5","Gamle koder - dimensjon Produkt flyttet til ProduktDetalj",null,null,null,null,null,"Spesifisering av grønnsaker på dimensjon Produkt er flyttet til dimensjon ProduktDetalj med ny egne løpenr."]
["Versjon 1.3.5",null,2211,2239,null,null,null,"Gruppe for Kålvekster: Flyttet til ProduktDetalj: 2210000-2210999 (erstatter detaljkode 2211000-2239000)"]
["Versjon 1.3.5",null,2241,2269,null,null,null,"Gruppe for Rotvekster: Flyttet til ProduktDetalj: 2240000-2240999 (erstatter detaljkode 2241000-2269000)"]
["Versjon 1.3.5",null,2271,2291,null,null,null,"Gruppe for Salat og bladgrønnsaker: Flyttet til ProduktDetalj: 2270000-2270999 (erstatter detaljkode 2271000-2299000)"]
["Versjon 1.3.5",null,2311,2329,null,null,null,"Gruppe for Løk- og purrevekster: Flyttet til ProduktDetalj: 2310000-2310999 (erstatter detaljkode 2311000-2329000)"]
["Versjon 1.3.5",null,2331,2349,null,null,null,"Gruppe for Stengelvekster: Flyttet til ProduktDetalj: 2330000-2330999 (erstatter detaljkode 2331000-2349000)"]
["Versjon 1.3.5",null,2351,2379,null,null,null,"Gruppe for Frø- og belgvekster: Flyttet til ProduktDetalj: 2350000-2350999 (erstatter detaljkode 2351000-2379000)"]
["Versjon 1.3.5",null,2381,2399,null,null,null,"Gruppe for Agurk mv.: Flyttet til ProduktDetalj: 2380000-2380999 (erstatter detaljkode 2381000-2399000)"]
["Versjon 1.3.5",null,2411,2439,null,null,null,"Gruppe for Tomat: Flyttet til ProduktDetalj: 2410000-2410999 (erstatter detaljkode 2411000-2439000)"]
["Versjon 1.3.5",null,2441,2449,null,null,null,"Gruppe for Paprika og chili: Flyttet til ProduktDetalj: 2440000-2440999 (erstatter detaljkode 2451000-2449000)"]
["Versjon 1.3.5",null,2451,2479,null,null,null,"Gruppe for Krydderurter: Flyttet til ProduktDetalj: 2450000-2450999 (erstatter detaljkode 2451000-2479006)"]
["Versjon 1.3.5",null,2481,2489,null,null,null,"Gruppe for Sopp: Flyttet til ProduktDetalj: 2480000-2480999 (erstatter detaljkode 2481000-2489000)"]
["Versjon 1.3.5",null,2591,2591,null,null,null,"Melon var tidligere kodet som \"Andre fruktsorter\" kode 2591000-2591003, er flyttet til grønnsaker, detaljkodene 2380006 og 2380007"]
["Versjon 1.3.5"]
["Versjon 1.3.5",null,null,null,null,null,null,"Nye koder - dimensjon ProduktDetalj"]
["Versjon 1.3.5",null,null,null,null,null,null,"Kode 2691000 tas ut"]
["Versjon 1.3.5",null,null,null,null,null,null,"Ny kode: 2690001 Haskap"]
["Versjon 1.3.5",null,null,null,null,null,null,"Ny kode: 2690002 Tindved"]
["Versjon 1.3.5",null,null,null,null,null,null,"Ny kode: 2690999 Andre arter bær uspesifisert"]
["Versjon 1.3.5",null,null,null,null,null,null,"Ny kode: 1111016 Vårhvete Sibelius "]
["Versjon 1.3.5",null,null,null,null,null,null,"Ny kode: 1121033 Toradsbygg Skyway "]
["Versjon 1.3.5",null,null,null,null,null,null,"Ny kode: 2100195 Potet Zorba"]
["Versjon 1.3.5",null,null,null,null,null,null,"Ny kode: 2100196 Potet Morene"]
["Versjon 1.3.5",null,null,null,null,null,null,"Ny kode: 2100197 Potet Grenaille"]
["Versjon 1.3.5",null,null,null,null,null,null,"Ny kode: 2270019 Vårsalat"]
["Versjon 1.3.5",null,null,null,null,null,null,"Ny kode: 2270020 Mikrogrønt/Babysalat"]
["Versjon 1.3.5",null,null,null,null,null,null,"Ny kode: 2270021 Krøllsalat"]
["Versjon 1.3.5",null,null,null,null,null,null,"Ny kode: 2270022 Cosmosalat"]
["Versjon 1.3.5",null,null,null,null,null,null,"Ny kode: 2310008 Ramsløk"]
["Versjon 1.3.5",null,null,null,null,null,null,"Ny kode: 2310009 Sølvløk/sylteløk"]
["Versjon 1.3.5",null,null,null,null,null,null,"Ny kode: 2350015 Linser"]
["Versjon 1.3.5",null,null,null,null,null,null,"Ny kode: 2450027 Isop"]
["Versjon 1.3.5",null,null,null,null,null,null,"Ny kode: 2450028 Verbena"]
["Versjon 1.3.5",null,null,null,null,null,null,"Ny kode: 2450029 Ingefær"]
["Versjon 1.3.5",null,null,null,null,null,null,"Ny kode: 2450030 Kamille"]
["Versjon 1.3.5",null,null,null,null,null,null,"Ny kode: 2450031 Sar"]
["Versjon 1.3.5",null,null,null,null,null,null,"Ny kode: 2450032 Salaturter"]
["Versjon 1.3.5",null,null,null,null,null,null,"Ny kode: 2450033 Østersurt"]
["Versjon 1.3.5",null,null,null,null,null,null,"Ny kode: 2450034 Bladfenikkel"]
["Versjon 1.3.5",null,null,null,null,null,null,"Ny kode: 2450035 Stevia"]
["Versjon 1.3.5",null,null,null,null,null,null,"Ny kode: 2450036 Anis"]
["Versjon 1.3.5",null,null,null,null,null,null,"Ny kode: 2450037 Karriplante"]
["Versjon 1.3.5",null,null,null,null,null,null,"Ny kode: 2450038 Kvann"]
["Versjon 1.3.5",null,null,null,null,null,null,"Ny kode: 2450039 Laurbærblader"]
["Versjon 1.3.5",null,null,null,null,null,null,"Ny kode: 2480003 Fåresopp"]
["Versjon 1.3.5",null,null,null,null,null,null,"Ny kode: 2480004 Aromasopp"]
["Versjon 1.3.5",null,null,null,null,null,null,"Ny kode: 2480005 Shiitake"]
["Versjon 1.3.5",null,null,null,null,null,null,"Ny kode: 2480006 Piggsopp"]
["Versjon 1.3.5",null,null,null,null,null,null,"Ny kode: 2480007 Østerssopp"]
["Versjon 1.3.5",null,null,null,null,null,null,"Rettet tekst: Epler Asfari Gul aroma"]
["Versjon 1.3.5",null,null,null,null,null,null,"Ny kode: 2510047 Epler Linda"]
["Versjon 1.3.5",null,null,null,null,null,null,"Ny kode: 2530023 Pommer Villplommer"]
["Versjon 1.3.5",null,null,null,null,null,null,"Ny kode: 2530024 Plommer Mirabell"]
["Versjon 1.3.5",null,null,null,null,null,null,"Ny kode: 2610032 Jordbær Hvite"]
["Versjon 1.3.5",null,null,null,null,null,null,"Ny kode: 2610033 Jordbær Glede"]
[]
["Versjon 1.3.6",null,null,null,null,null,null,"Nye koder - dimensjon Produkt"]
["Versjon 1.3.6",null,null,null,null,null,null,"Ny kode: 2390 Gresskar"]
["Versjon 1.3.6"]
["Versjon 1.3.6",null,null,null,null,null,null,"Nye koder - dimensjon ProduktDetalj"]
["Versjon 1.3.6",null,null,null,null,null,null,"Ny kode: 1112021 Høsthvete Alomar"]
["Versjon 1.3.6",null,null,null,null,null,null,"Ny kode: 1112022 Høsthvete Lizzie"]
["Versjon 1.3.6",null,null,null,null,null,null,"Ny kode: 1140020 Rug høst SU Perspectiv"]
["Versjon 1.3.6",null,null,null,null,null,null,"Ny kode: 1140021 Rug Høst KWS Rotor 12 Unit"]
["Versjon 1.3.6",null,null,null,null,null,null,"Ny kode: 1140022 Rug Høst Kantor Unit"]
["Versjon 1.3.6",null,null,null,null,null,null,"Ny kode: 1140023 Rug Høst Skand"]
["Versjon 1.3.6",null,null,null,null,null,null,"Endring dublett: 1150016 Rughvete Belcanto, endret fra sort Reflector. Reflector hadde fra før og har fortsatt kode 1150015. Her var det dubletter."]
["Versjon 1.3.6",null,null,null,null,null,null,"Ny kode: 1161014 Raps Høst DK Sephor"]
["Versjon 1.3.6",null,null,null,null,null,null,"Ny kode: 1130040 Havre Nella"]
["Versjon 1.3.6",null,null,null,null,null,null,"Ny kode: 2510048 Epler Tiara"]
["Versjon 1.3.6",null,null,null,null,null,null,"Ny kode: 2510049 Epler Wur 21"]
["Versjon 1.3.6",null,null,null,null,null,null,"Ny kode: 2510050 Epler Dugg"]
["Versjon 1.3.6",null,null,null,null,null,null,"Ny kode: 2510051 Epler Julka"]
["Versjon 1.3.6",null,null,null,null,null,null,"Ny kode: 2510052 Epler Rosette"]
["Versjon 1.3.6",null,null,null,null,null,null,"Ny kode: 2510053 Epler Rubens"]
["Versjon 1.3.6",null,null,null,null,null,null,"Rettet tekst: 2270019 Feldsalat (vårsalat)"]
["Versjon 1.3.6",null,null,null,null,null,null,"Ny kode: 2270023 Tatsoi "]
["Versjon 1.3.6",null,null,null,null,null,null,"Ny kode 2270024 Red Rhubarb"]
["Versjon 1.3.6",null,null,null,null,null,null,"Ny kode: 2270025 Asiasalat"]
["Versjon 1.3.6",null,null,null,null,null,null,"Ny kode: 2240020 Havrerot"]
["Versjon 1.3.6",null,null,null,null,null,null,"Ny kode: 2240021 Ingefær"]
["Versjon 1.3.6",null,null,null,null,null,null,"Fjern kode: 2450029 Ingefær(urter)"]
["Versjon 1.3.6",null,null,null,null,null,null,"Ny kode: 2240022 Kinaskokk"]
["Versjon 1.3.6",null,null,null,null,null,null,"Ny kode: 2390000 Gresskar"]
["Versjon 1.3.6",null,null,null,null,null,null,"Ny kode: 2390001 Gresskar Matgresskar"]
["Versjon 1.3.6",null,null,null,null,null,null,"Ny kode: 2390002 Gresskar Halloween Binge"]
["Versjon 1.3.6",null,null,null,null,null,null,"Ny kode: 2390003 Gresskar Hokkaido rød/grønn"]
["Versjon 1.3.6",null,null,null,null,null,null,"Ny kode: 2390004 Gresskar Butternuts"]
["Versjon 1.3.6",null,null,null,null,null,null,"Ny kode: 2390005 Gresskar Pyntegresskar"]
["Versjon 1.3.6",null,null,null,null,null,null,"Ny kode: 2390006 Gresskar Crown Grey"]
["Versjon 1.3.6",null,null,null,null,null,null,"Ny kode: 2390007 Gresskar Naked Seed"]
["Versjon 1.3.6",null,null,null,null,null,null,"Ny kode: 2390008 Gresskar Spagetti"]
["Versjon 1.3.6",null,null,null,null,null,null,"Ny kode: 2390009 Gresskar Kjerne Kort & Godt"]
["Versjon 1.3.6",null,null,null,null,null,null,"Ny kode: 2390010 Gresskar Acorn"]
["Versjon 1.3.6",null,null,null,null,null,null,"Ny kode: 2390011 Gresskar Kabotea"]
["Versjon 1.3.6",null,null,null,null,null,null,"Ny kode: 2390012 Gresskar Flaske"]
["Versjon 1.3.6",null,null,null,null,null,null,"Ny kode: 2390013 Gresskar Tiger Cross"]
["Versjon 1.3.6",null,null,null,null,null,null,"Ny kode: 2390014 Gresskar Buttercup"]
["Versjon 1.3.6",null,null,null,null,null,null,"Ny kode: 2390015 Gresskar Patisson"]
["Versjon 1.3.6",null,null,null,null,null,null,"Ny kode: 2390016 Gresskar Sweet Dumpling"]
["Versjon 1.3.6",null,null,null,null,null,null,"Ny kode: 2390017 Gresskar Zentner"]
["Versjon 1.3.6",null,null,null,null,null,null,"Ny kode: 2390018 Gresskar Rondini"]
["Versjon 1.3.6",null,null,null,null,null,null,"Tatt ut kode: 2380004 Gresskar flyttet til flere detaljkoder under 2390000"]
["Versjon 1.3.6",null,null,null,null,null,null,"Ny kode:  2210016 Sortkål/Palmekål "]
["Versjon 1.3.6",null,null,null,null,null,null,"Ny kode: 2590001 Aprikos"]
["Versjon 1.3.6",null,null,null,null,null,null,"Ny kode: 2450040 Brønnkarse"]
["Versjon 1.3.6",null,null,null,null,null,null,"Ny kode: 2450041 Sitronverbena"]
["Versjon 1.3.6",null,null,null,null,null,null,"Ny kode: 2450042 Selleripersille"]
["Versjon 1.3.6",null,null,null,null,null,null,"Ny kode: 2450043 Sennepsblad"]
["Versjon 1.3.6",null,null,null,null,null,null,"Ny kode: 2450044 Granskudd"]
["Versjon 1.3.6",null,null,null,null,null,null,"Ny kode: 2450045 Nesle"]
["Versjon 1.3.6",null,null,null,null,null,null,"Ny kode: 2210019 Rosettkål"]
["Versjon 1.3.6",null,null,null,null,null,null,"Ny kode:  2210017 Kale/Bladkål"]
["Versjon 1.3.6",null,null,null,null,null,null,"Ny kode: 2210018 Pyntekål"]
["Versjon 1.3.6",null,null,null,null,null,null,"Ny kode: 2631017 Bringebær Glen Fyne"]
["Versjon 1.3.6",null,null,null,null,null,null,"Ny kode: 2610034 Jordbær Allegro"]
["Versjon 1.3.6",null,null,null,null,null,null,"Ny kode: 2540024 Moreller Tamara"]
["Versjon 1.3.6",null,null,null,null,null,null,"Ny kode: 2540025 Moreller Sweet Lorenz"]
["Versjon 1.3.6",null,null,null,null,null,null,"Ny kode: 2540026 Moreller Sweet Aryana"]
["Versjon 1.3.6",null,null,null,null,null,null,"Ny kode: 2540027 Moreller Sweethart"]
["Versjon 1.3.6",null,null,null,null,null,null,"Ny kode: 2540028 Moreller Kordia"]
["Versjon 1.3.6",null,null,null,null,null,null,"Ny kode: 2540029 Moreller Regina"]
["Versjon 1.3.6",null,null,null,null,null,null,"Ny kode: 2540030 Moreller Sylvia"]
["Versjon 1.3.6",null,null,null,null,null,null,"Ny kode: 2540031 Moreller Techlovan"]
["Versjon 1.3.6",null,null,null,null,null,null,"Ny kode: 2100198 Potet Ballerina"]
["Versjon 1.3.6",null,null,null,null,null,null,"Ny kode:2610035 Jordbær Verdi"]
["Versjon 1.3.6",null,null,null,null,null,null,"Ny kode: 2100199 Potet Bye"]
["Versjon 1.3.6",null,null,null,null,null,null,"Ny kode: 2100200 Potet Eggen"]
["Versjon 1.3.6",null,null,null,null,null,null,"Ny kode: 2100201 Potet Potet Edison"]
["Versjon 1.3.6",null,null,null,null,null,null,"Ny kode: 2100202 Potet Jazzy"]
["Versjon 1.3.6"]
["Versjon 1.3.6",null,null,null,null,null,null,"Kontering i dimensjon Produkt tilleg og trekk"]
["Versjon 1.3.6","O_S",null,null,34004,20,3079,"Ny kontering"]
["Versjon 1.3.6","O_S",3110,3190,31023,20,3071,"Ny kontering"]

{"sheet":"Eksempel","index":11,"n_rows":42,"n_cols":17,"rows_kept":42,"cut":false,"hidden":true,"merged":[[1,1,1,13],[1,14,1,15],[2,1,2,4],[2,5,2,12]]}
["Eksempler på bruk av dimensjonene + kontering"]
[null,"Kodes av varemottaker/leverandør",null,null,null,null,null,null,null,null,null,null,null,null,"Kodes i regnskap"]
[null,"Produktkode dimensjoner",null,null,null,"Annen produktinfo"]
["Vare-\nlinjenr.","Produkt","Produkt Detalj","Produkt Kvalitet","Produkt\nTillegg\nTrekk","Prodinfo\nOkologisk","Prodinfo\nDyreID","Prodinfo\nRegnrID","Prodinfo\nChassisnrID","Prodinfo\nFodtDato","Prodinfo\nKjonn","Prodinfo\nRase","Prodinfo\nType","Mva \nkode","Avd.\nkode","Konto\nnr","Merknad"]
["Melk"]
[1,{"$f":"Produkt!A122&Produkt!B122&Produkt!C122&Produkt!D122","v":"3110"},null,{"$f":"ProduktKvalitet!G48","v":31001},null,"Ja",null,null,null,null,null,null,null,"O_S",20,3070,"Basispris (råvare)"]
[2,{"$f":"Produkt!A122&Produkt!B122&Produkt!C122&Produkt!D122","v":"3110"},null,{"$f":"ProduktKvalitet!G49","v":31002},null,"Ja",null,null,null,null,null,null,null,"O_S",20,3070,"Elitemelk"]
[3,{"$f":"Produkt!A122&Produkt!B122&Produkt!C122&Produkt!D122","v":"3110"},null,{"$f":"ProduktKvalitet!G50","v":31003},null,"Ja",null,null,null,null,null,null,null,"O_S",20,3070,"Fett tillegg/trekk Kumelk"]
[4,{"$f":"Produkt!A122&Produkt!B122&Produkt!C122&Produkt!D122","v":"3110"},null,null,{"$f":"ProduktTilleggTrekk!G165","v":31006},"Ja",null,null,null,null,null,null,null,"O_S",20,3070,"Tillegg HK-medl/egenregistrator Ku"]
[5,{"$f":"Produkt!A122&Produkt!B122&Produkt!C122&Produkt!D122","v":"3110"},null,null,{"$f":"ProduktTilleggTrekk!G162","v":31003},"Ja",null,null,null,null,null,null,null,"O_S",20,3070,"Prissone tillegg"]
[6,{"$f":"Produkt!A122&Produkt!B122&Produkt!C122&Produkt!D122","v":"3110"},null,null,{"$f":"ProduktTilleggTrekk!G222","v":35001},"Ja",null,null,null,null,null,null,null,"O_S",20,3073,"Distriktstilskudd"]
["Jordbær"]
[1,{"$f":"Produkt!A97&Produkt!B97&Produkt!C97&Produkt!D97","v":"2610"},{"$f":"ProduktDetalj!I1062","v":2610015},{"$f":"ProduktKvalitet!G39","v":26001},null,"Ja",null,null,null,null,null,null,null,"O_H",20,3025,"Klasse 1 konsum"]
[2,{"$f":"B13","v":"2610"},{"$f":"ProduktDetalj!I1062","v":2610015},null,{"$f":"ProduktTilleggTrekk!G103","v":22011},"Ja",null,null,null,null,null,null,null,"I_S",20,4548,"Lagringskostnad"]
["Løk"]
[1,{"$f":"Produkt!P79","v":2310},{"$f":"ProduktDetalj!I769","v":2310001},{"$f":"ProduktKvalitet!G31","v":22001},null,null,null,null,null,null,null,null,null,"O_H",20,3015,"Klasse 1  konsum"]
[2,{"$f":"B16","v":2310},{"$f":"C16","v":2310001},null,{"$f":"ProduktTilleggTrekk!G84","v":21008},null,null,null,null,null,null,null,null,"O_H",20,3015,"Pakketillegg"]
[3,{"$f":"B17","v":2310},2310001,null,{"$f":"ProduktTilleggTrekk!G79","v":21003},null,null,null,null,null,null,null,null,"O_H",20,3015,"Godskriving klipping"]
[4,2310,2310001,null,{"$f":"ProduktTilleggTrekk!G113","v":22021},null,null,null,null,null,null,null,null,"O_H",20,3015,"Utjevningstrekk (frakt)"]
[5,2310,2310001,null,{"$f":"ProduktTilleggTrekk!G108","v":22016},null,null,null,null,null,null,null,null,"I_O",20,4442,"Ifcopant"]
[6,2310,2310001,null,{"$f":"ProduktTilleggTrekk!G153","v":26018},null,null,null,null,null,null,null,null,"I_S",20,7320,"Sjokkselger"]
[7,2310,2310001,null,{"$f":"ProduktTilleggTrekk!G112","v":22020},null,null,null,null,null,null,null,null,"I_S",20,4549,"NGF-trekk"]
[8,2310,2310001,null,{"$f":"ProduktTilleggTrekk!G98","v":22006},null,null,null,null,null,null,null,null,"I_S",20,6101,"Innfrakt fra produsent til mottak"]
[9,2310,2310001,null,{"$f":"ProduktTilleggTrekk!G123","v":23006},null,null,null,null,null,null,null,null,"I_O",20,4518,"Serviceavgift"]
["Korn"]
[1,{"$f":"Produkt!A6&Produkt!B6&Produkt!C6&Produkt!D6","v":"1110"},null,{"$f":"ProduktKvalitet!G6","v":11001},null,null,null,null,null,null,null,null,null,"O_S",20,3001,"Basispris"]
[2,{"$f":"Produkt!A6&Produkt!B6&Produkt!C6&Produkt!D6","v":"1110"},null,null,{"$f":"ProduktTilleggTrekk!G62","v":16005},null,null,null,null,null,null,null,null,"O_S",20,3001,"Tørkekostnader"]
[3,{"$f":"Produkt!A6&Produkt!B6&Produkt!C6&Produkt!D6","v":"1110"},null,{"$f":"ProduktKvalitet!G9","v":11004},null,null,null,null,null,null,null,null,null,"O_S",20,3001,"Hektolitervekt"]
[4,{"$f":"Produkt!A6&Produkt!B6&Produkt!C6&Produkt!D6","v":"1110"},null,null,{"$f":"ProduktTilleggTrekk!G32","v":12006},null,null,null,null,null,null,null,null,"O_S",20,3001,"KSL-trekk (nettoføres)"]
[5,{"$f":"Produkt!A6&Produkt!B6&Produkt!C6&Produkt!D6","v":"1110"},null,null,{"$f":"ProduktTilleggTrekk!G27","v":12001},null,null,null,null,null,null,null,null,"O_S",20,3001,"Analyser/avregningskostnader"]
["Skog"]
[1,{"$f":"Produkt!P312","v":6121},{"$f":"ProduktDetalj!I1253","v":6110001},{"$f":"ProduktKvalitet!G137","v":61001},null,null,null,null,null,null,null,null,null,"O_S",30,3010,"Skurtømmer gran, prima"]
[2,{"$f":"Produkt!P312","v":6121},{"$f":"ProduktDetalj!I1253","v":6110001},{"$f":"ProduktKvalitet!G138","v":61002},null,null,null,null,null,null,null,null,null,"O_S",30,3010,"Skurtømmer gran, sekunda"]
[3,{"$f":"Produkt!P318","v":6131},{"$f":"ProduktDetalj!I1253","v":6110001},{"$f":"ProduktKvalitet!G137","v":61001},null,null,null,null,null,null,null,null,null,"O_S",30,3030,"Massevirke gran, prima"]
[4,{"$f":"Produkt!A484&Produkt!B484&Produkt!C484&Produkt!D484","v":"8351"},{"$f":"ProduktDetalj!I2041","v":8351001},null,null,null,null,null,null,null,null,null,null,"I_S",30,4510,"Skogbruk, avvirking"]
[5,8148,{"$f":"ProduktDetalj!I1253","v":6110001},{"$f":"ProduktKvalitet!G169","v":62002},null,null,null,null,null,null,null,null,null,"I_S",30,4010,"Skogbruk, kjøp av planter (gran)"]
["Slakt"]
[1,{"$f":"Produkt!P163","v":4122},null,{"$f":"ProduktKvalitet!G105","v":41014},null,"Ja",null,null,null,null,null,null,null,"O_S",20,3041,"Ung okse, O+"]
[2,{"$f":"Produkt!P163","v":4122},null,null,{"$f":"ProduktTilleggTrekk!G306","v":45001},"Ja",null,null,null,null,null,null,null,"O_S",20,3047,"Distriktstilskudd"]
[3,{"$f":"Produkt!P163","v":4122},null,null,{"$f":"ProduktTilleggTrekk!G278","v":42005},"Ja",null,null,null,null,null,null,null,"O_S",20,3041,"Stoppsats, nettoføring"]
[4,{"$f":"Produkt!P163","v":4122},null,null,{"$f":"ProduktTilleggTrekk!G257","v":41002},"Ja",null,null,null,null,null,null,null,"O_S",20,3041,"Leveranseavtale"]
[5,{"$f":"Produkt!P163","v":4122},null,null,{"$f":"ProduktTilleggTrekk!G260","v":41005},"Ja",null,null,null,null,null,null,null,"O_S",20,3041,"Puljetillegg"]

{"sheet":"MalVarekodeliste","index":12,"n_rows":22,"n_cols":19,"rows_kept":22,"cut":false,"hidden":true,"merged":[[1,5,1,8],[1,9,1,17]]}
[null,"Mal for koding av varekodelister"]
[null,null,null,null,null,"Produktkode - dimensjoner",null,null,null,"Annen produktinfo"]
[null,"Vare-\nlinjenr.","Varekoder","Varetekst","MVA-kode","Produkt","Produkt\nDetalj","Produkt\nKvalitet","Produkt\nTilleggTrekk","Produktinfo\nOkologisk","Produktinfo\nDyreID","Produktinfo\nRegnrID","Produktinfo\nChassisnrID","Produktinfo\nFodtDato","Produktinfo\nKjonn","Produktinfo\nRase","Produktinfo\nType","Produktinfo\nSkog","Merknad"]
[null,1]
[null,{"$f":"B4+1","v":2}]
[null,{"$f":"B5+1","v":3}]
[null,4]
[null,5]
[null,6]
[null,7]
[null,8]
[null,9]
[null,10]
[null,11]
[null,12]
[null,13]
[null,14]
[null,15]
[]
[null,null,"Aktør - egne koder"]
[null,null,"Tilleggskoding - alle aktører"]
[null,null,"Tilleggskoding - slakteri/skog/maskin mm"]

{"sheet":"KontoMatriser","index":13,"n_rows":37,"n_cols":25,"rows_kept":37,"cut":false,"hidden":true,"merged":[[20,22,20,24],[2,14,2,16],[2,22,2,24],[20,6,20,8],[2,2,2,4],[2,10,2,12],[2,18,2,20],[20,2,20,4],[2,6,2,8],[20,10,20,12],[20,14,20,16],[20,18,20,20]]}
[null,"Produktkode intervall brukt i konteringsmatrisene  for dimensjonen ProduktTilleggTrekk",null,null,null,null,null,null,null,null,null,null,null,null,null,null,null,null,null,null,null,null,null,null,{"$f":"Admin!D1","v":"1.3.6"}]
[]
[null,"Gruppe =>",{"$f":"\"1000 \"&ProduktTilleggTrekk!D4","v":"1000 Korn, frø og grovfôr"},null,null,null,{"$f":"\"2000 \"&ProduktTilleggTrekk!D75","v":"2000 Poteter, grønnsaker, frukt, bær, blomster og hagebruksvekster"},null,null,null,{"$f":"\"3000 \"&ProduktTilleggTrekk!D158","v":"3000 Husdyrprodukter"},null,null,null,{"$f":"\"4000 \"&ProduktTilleggTrekk!D254","v":"4000 Husdyr, slakt og skrotter"},null,null,null,{"$f":"\"5000 \"&ProduktTilleggTrekk!D332","v":"5000 Husdyr, livdyr, fôringsdyr, produksjonsdyr og balanse"},null,null,null,{"$f":"\"6000 \"&ProduktTilleggTrekk!D392","v":"6000 Skogbruk og andre næringer"}]
[null,"Matrise nr","Produkt fra","Produkt til","Produktgruppe",null,"Produkt fra","Produkt til","Produktgruppe",null,"Produkt fra","Produkt til","Produktgruppe",null,"Produkt fra","Produkt til","Produktgruppe",null,"Produkt fra","Produkt til","Produktgruppe",null,"Produkt fra","Produkt til","Produktgruppe"]
[null,1,{"$f":"ProduktTilleggTrekk!AE4","v":1100},{"$f":"ProduktTilleggTrekk!AF4","v":1499},{"$f":"ProduktTilleggTrekk!AB4","v":"Korn og frø"},null,{"$f":"ProduktTilleggTrekk!AE75","v":2100},{"$f":"ProduktTilleggTrekk!AF75","v":2199},{"$f":"ProduktTilleggTrekk!AB75","v":"Poteter"},null,{"$f":"ProduktTilleggTrekk!AE158","v":3000},{"$f":"ProduktTilleggTrekk!AF158","v":3199},{"$f":"ProduktTilleggTrekk!AB158","v":"Melk"},null,{"$f":"ProduktTilleggTrekk!AE254","v":4000},{"$f":"ProduktTilleggTrekk!AF254","v":4499},{"$f":"ProduktTilleggTrekk!AB254","v":"Slakt husdyr"},null,{"$f":"ProduktTilleggTrekk!AE332","v":5000},{"$f":"ProduktTilleggTrekk!AF332","v":5599},{"$f":"ProduktTilleggTrekk!AB332","v":"Livdyr husdyr"},null,{"$f":"ProduktTilleggTrekk!AE392","v":6100},{"$f":"ProduktTilleggTrekk!AF392","v":6199},{"$f":"ProduktTilleggTrekk!AB392","v":"Skogbruk"}]
[null,2,{"$f":"ProduktTilleggTrekk!AQ4","v":1500},{"$f":"ProduktTilleggTrekk!AR4","v":1599},{"$f":"ProduktTilleggTrekk!AN4","v":"Grovfôr"},null,{"$f":"ProduktTilleggTrekk!AQ75","v":2200},{"$f":"ProduktTilleggTrekk!AR75","v":2499},{"$f":"ProduktTilleggTrekk!AN75","v":"Grønnsaker"},null,{"$f":"ProduktTilleggTrekk!AQ158","v":3200},{"$f":"ProduktTilleggTrekk!AR158","v":3399},{"$f":"ProduktTilleggTrekk!AN158","v":"Egg og bier"},null,{"$f":"ProduktTilleggTrekk!AQ254","v":4900},{"$f":"ProduktTilleggTrekk!AR254","v":4999},{"$f":"ProduktTilleggTrekk!AN254","v":"Slakt andre husdyr"},null,{"$f":"ProduktTilleggTrekk!AQ332","v":5700},{"$f":"ProduktTilleggTrekk!AR332","v":5799},{"$f":"ProduktTilleggTrekk!AN332","v":"Livdyr andre husdyr"},null,{"$f":"ProduktTilleggTrekk!AQ392","v":0},{"$f":"ProduktTilleggTrekk!AR392","v":0},{"$f":"ProduktTilleggTrekk!AN392","v":"Tekst"}]
[null,3,{"$f":"ProduktTilleggTrekk!BC4","v":0},{"$f":"ProduktTilleggTrekk!BD4","v":0},{"$f":"ProduktTilleggTrekk!AZ4","v":"Tekst"},null,{"$f":"ProduktTilleggTrekk!BC75","v":2500},{"$f":"ProduktTilleggTrekk!BD75","v":2599},{"$f":"ProduktTilleggTrekk!AZ75","v":"Frukt"},null,{"$f":"ProduktTilleggTrekk!BC158","v":3400},{"$f":"ProduktTilleggTrekk!BD158","v":3499},{"$f":"ProduktTilleggTrekk!AZ158","v":"Ull og skinn"},null,{"$f":"ProduktTilleggTrekk!BC254","v":4500},{"$f":"ProduktTilleggTrekk!BD254","v":4599},{"$f":"ProduktTilleggTrekk!AZ254","v":"Slakt pelsdyr"},null,{"$f":"ProduktTilleggTrekk!BC332","v":5600},{"$f":"ProduktTilleggTrekk!BD332","v":5699},{"$f":"ProduktTilleggTrekk!AZ332","v":"Livdyr pelsdyr"},null,{"$f":"ProduktTilleggTrekk!BC392","v":0},{"$f":"ProduktTilleggTrekk!BD392","v":0},{"$f":"ProduktTilleggTrekk!AZ392","v":"Tekst"}]
[null,4,{"$f":"ProduktTilleggTrekk!BO4","v":0},{"$f":"ProduktTilleggTrekk!BP4","v":0},{"$f":"ProduktTilleggTrekk!BL4","v":"Tekst"},null,{"$f":"ProduktTilleggTrekk!BO75","v":2600},{"$f":"ProduktTilleggTrekk!BP75","v":2699},{"$f":"ProduktTilleggTrekk!BL75","v":"Bær"},null,{"$f":"ProduktTilleggTrekk!BO158","v":3900},{"$f":"ProduktTilleggTrekk!BP158","v":3999},{"$f":"ProduktTilleggTrekk!BL158","v":"Andre husdyrprod."},null,{"$f":"ProduktTilleggTrekk!BO254","v":0},{"$f":"ProduktTilleggTrekk!BP254","v":0},{"$f":"ProduktTilleggTrekk!BL254","v":"Tekst"},null,{"$f":"ProduktTilleggTrekk!BO332","v":0},{"$f":"ProduktTilleggTrekk!BP332","v":0},{"$f":"ProduktTilleggTrekk!BL332","v":"Tekst"},null,{"$f":"ProduktTilleggTrekk!BO392","v":0},{"$f":"ProduktTilleggTrekk!BP392","v":0},{"$f":"ProduktTilleggTrekk!BL392","v":"Tekst"}]
[null,5,{"$f":"ProduktTilleggTrekk!CA4","v":0},{"$f":"ProduktTilleggTrekk!CB4","v":0},{"$f":"ProduktTilleggTrekk!BX4","v":"Tekst"},null,{"$f":"ProduktTilleggTrekk!CA75","v":2000},{"$f":"ProduktTilleggTrekk!CB75","v":2000},{"$f":"ProduktTilleggTrekk!BX75","v":"2000-serien"},null,{"$f":"ProduktTilleggTrekk!CA158","v":3500},{"$f":"ProduktTilleggTrekk!CB158","v":3599},{"$f":"ProduktTilleggTrekk!BX158","v":"Pelsdyr"},null,{"$f":"ProduktTilleggTrekk!CA254","v":0},{"$f":"ProduktTilleggTrekk!CB254","v":0},{"$f":"ProduktTilleggTrekk!BX254","v":"Tekst"},null,{"$f":"ProduktTilleggTrekk!CA332","v":0},{"$f":"ProduktTilleggTrekk!CB332","v":0},{"$f":"ProduktTilleggTrekk!BX332","v":"Tekst"},null,{"$f":"ProduktTilleggTrekk!CA392","v":0},{"$f":"ProduktTilleggTrekk!CB392","v":0},{"$f":"ProduktTilleggTrekk!BX392","v":"Tekst"}]
[null,6,{"$f":"ProduktTilleggTrekk!CM4","v":0},{"$f":"ProduktTilleggTrekk!CN4","v":0},{"$f":"ProduktTilleggTrekk!CJ4","v":"Tekst"},null,{"$f":"ProduktTilleggTrekk!CM75","v":0},{"$f":"ProduktTilleggTrekk!CN75","v":0},{"$f":"ProduktTilleggTrekk!CJ75","v":"Tekst"},null,{"$f":"ProduktTilleggTrekk!CM158","v":0},{"$f":"ProduktTilleggTrekk!CN158","v":0},{"$f":"ProduktTilleggTrekk!CJ158","v":"Tekst"},null,{"$f":"ProduktTilleggTrekk!CM254","v":0},{"$f":"ProduktTilleggTrekk!CN254","v":0},{"$f":"ProduktTilleggTrekk!CJ254","v":"Tekst"},null,{"$f":"ProduktTilleggTrekk!CM332","v":0},{"$f":"ProduktTilleggTrekk!CN332","v":0},{"$f":"ProduktTilleggTrekk!CJ332","v":"Tekst"},null,{"$f":"ProduktTilleggTrekk!CM392","v":0},{"$f":"ProduktTilleggTrekk!CN392","v":0},{"$f":"ProduktTilleggTrekk!CJ392","v":"Tekst"}]
[null,7,{"$f":"ProduktTilleggTrekk!CY4","v":0},{"$f":"ProduktTilleggTrekk!CZ4","v":0},{"$f":"ProduktTilleggTrekk!CV4","v":"Tekst"},null,{"$f":"ProduktTilleggTrekk!CY75","v":0},{"$f":"ProduktTilleggTrekk!CZ75","v":0},{"$f":"ProduktTilleggTrekk!CV75","v":"Tekst"},null,{"$f":"ProduktTilleggTrekk!CY158","v":0},{"$f":"ProduktTilleggTrekk!CZ158","v":0},{"$f":"ProduktTilleggTrekk!CV158","v":"Tekst"},null,{"$f":"ProduktTilleggTrekk!CY254","v":0},{"$f":"ProduktTilleggTrekk!CZ254","v":0},{"$f":"ProduktTilleggTrekk!CV254","v":"Tekst"},null,{"$f":"ProduktTilleggTrekk!CY332","v":0},{"$f":"ProduktTilleggTrekk!CZ332","v":0},{"$f":"ProduktTilleggTrekk!CV332","v":"Tekst"},null,{"$f":"ProduktTilleggTrekk!CY392","v":0},{"$f":"ProduktTilleggTrekk!CZ392","v":0},{"$f":"ProduktTilleggTrekk!CV392","v":"Tekst"}]
[null,8,{"$f":"ProduktTilleggTrekk!DK4","v":0},{"$f":"ProduktTilleggTrekk!DL4","v":0},{"$f":"ProduktTilleggTrekk!DH4","v":"Tekst"},null,{"$f":"ProduktTilleggTrekk!DK75","v":0},{"$f":"ProduktTilleggTrekk!DL75","v":0},{"$f":"ProduktTilleggTrekk!DH75","v":"Tekst"},null,{"$f":"ProduktTilleggTrekk!DK158","v":0},{"$f":"ProduktTilleggTrekk!DL158","v":0},{"$f":"ProduktTilleggTrekk!DH158","v":"Tekst"},null,{"$f":"ProduktTilleggTrekk!DK254","v":0},{"$f":"ProduktTilleggTrekk!DL254","v":0},{"$f":"ProduktTilleggTrekk!DH254","v":"Tekst"},null,{"$f":"ProduktTilleggTrekk!DK332","v":0},{"$f":"ProduktTilleggTrekk!DL332","v":0},{"$f":"ProduktTilleggTrekk!DH332","v":"Tekst"},null,{"$f":"ProduktTilleggTrekk!DK392","v":0},{"$f":"ProduktTilleggTrekk!DL392","v":0},{"$f":"ProduktTilleggTrekk!DH392","v":"Tekst"}]
[null,9,{"$f":"ProduktTilleggTrekk!DW4","v":0},{"$f":"ProduktTilleggTrekk!DX4","v":0},{"$f":"ProduktTilleggTrekk!DT4","v":"Tekst"},null,{"$f":"ProduktTilleggTrekk!DW75","v":0},{"$f":"ProduktTilleggTrekk!DX75","v":0},{"$f":"ProduktTilleggTrekk!DT75","v":"Tekst"},null,{"$f":"ProduktTilleggTrekk!DW158","v":0},{"$f":"ProduktTilleggTrekk!DX158","v":0},{"$f":"ProduktTilleggTrekk!DT158","v":"Tekst"},null,{"$f":"ProduktTilleggTrekk!DW254","v":0},{"$f":"ProduktTilleggTrekk!DX254","v":0},{"$f":"ProduktTilleggTrekk!DT254","v":"Tekst"},null,{"$f":"ProduktTilleggTrekk!DW332","v":0},{"$f":"ProduktTilleggTrekk!DX332","v":0},{"$f":"ProduktTilleggTrekk!DT332","v":"Tekst"},null,{"$f":"ProduktTilleggTrekk!DW392","v":0},{"$f":"ProduktTilleggTrekk!DX392","v":0},{"$f":"ProduktTilleggTrekk!DT392","v":"Tekst"}]
[null,10,{"$f":"ProduktTilleggTrekk!EI4","v":0},{"$f":"ProduktTilleggTrekk!EJ4","v":0},{"$f":"ProduktTilleggTrekk!EF4","v":"Tekst"},null,{"$f":"ProduktTilleggTrekk!EI75","v":0},{"$f":"ProduktTilleggTrekk!EJ75","v":0},{"$f":"ProduktTilleggTrekk!EF75","v":"Tekst"},null,{"$f":"ProduktTilleggTrekk!EI158","v":0},{"$f":"ProduktTilleggTrekk!EJ158","v":0},{"$f":"ProduktTilleggTrekk!EF158","v":"Tekst"},null,{"$f":"ProduktTilleggTrekk!EI254","v":0},{"$f":"ProduktTilleggTrekk!EJ254","v":0},{"$f":"ProduktTilleggTrekk!EF254","v":"Tekst"},null,{"$f":"ProduktTilleggTrekk!EI332","v":0},{"$f":"ProduktTilleggTrekk!EJ332","v":0},{"$f":"ProduktTilleggTrekk!EF332","v":"Tekst"},null,{"$f":"ProduktTilleggTrekk!EI392","v":0},{"$f":"ProduktTilleggTrekk!EJ392","v":0},{"$f":"ProduktTilleggTrekk!EF392","v":"Tekst"}]
[null,11,{"$f":"ProduktTilleggTrekk!EU4","v":0},{"$f":"ProduktTilleggTrekk!EV4","v":0},{"$f":"ProduktTilleggTrekk!ER4","v":"Tekst"},null,{"$f":"ProduktTilleggTrekk!EU75","v":0},{"$f":"ProduktTilleggTrekk!EV75","v":0},{"$f":"ProduktTilleggTrekk!ER75","v":"Tekst"},null,{"$f":"ProduktTilleggTrekk!EU158","v":0},{"$f":"ProduktTilleggTrekk!EV158","v":0},{"$f":"ProduktTilleggTrekk!ER158","v":"Tekst"},null,{"$f":"ProduktTilleggTrekk!EU254","v":0},{"$f":"ProduktTilleggTrekk!EV254","v":0},{"$f":"ProduktTilleggTrekk!ER254","v":"Tekst"},null,{"$f":"ProduktTilleggTrekk!EU332","v":0},{"$f":"ProduktTilleggTrekk!EV332","v":0},{"$f":"ProduktTilleggTrekk!ER332","v":"Tekst"},null,{"$f":"ProduktTilleggTrekk!EU392","v":0},{"$f":"ProduktTilleggTrekk!EV392","v":0},{"$f":"ProduktTilleggTrekk!ER392","v":"Tekst"}]
[null,12,{"$f":"ProduktTilleggTrekk!FG4","v":0},{"$f":"ProduktTilleggTrekk!FH4","v":0},{"$f":"ProduktTilleggTrekk!FD4","v":"Tekst"},null,{"$f":"ProduktTilleggTrekk!FG75","v":0},{"$f":"ProduktTilleggTrekk!FH75","v":0},{"$f":"ProduktTilleggTrekk!FD75","v":"Tekst"},null,{"$f":"ProduktTilleggTrekk!FG158","v":0},{"$f":"ProduktTilleggTrekk!FH158","v":0},{"$f":"ProduktTilleggTrekk!FD158","v":"Tekst"},null,{"$f":"ProduktTilleggTrekk!FG254","v":0},{"$f":"ProduktTilleggTrekk!FH254","v":0},{"$f":"ProduktTilleggTrekk!FD254","v":"Tekst"},null,{"$f":"ProduktTilleggTrekk!FG332","v":0},{"$f":"ProduktTilleggTrekk!FH332","v":0},{"$f":"ProduktTilleggTrekk!FD332","v":"Tekst"},null,{"$f":"ProduktTilleggTrekk!FG392","v":0},{"$f":"ProduktTilleggTrekk!FH392","v":0},{"$f":"ProduktTilleggTrekk!FD392","v":"Tekst"}]
[null,13,{"$f":"ProduktTilleggTrekk!FS4","v":0},{"$f":"ProduktTilleggTrekk!FT4","v":0},{"$f":"ProduktTilleggTrekk!FP4","v":"Tekst"},null,{"$f":"ProduktTilleggTrekk!FS75","v":0},{"$f":"ProduktTilleggTrekk!FT75","v":0},{"$f":"ProduktTilleggTrekk!FP75","v":"Tekst"},null,{"$f":"ProduktTilleggTrekk!FS158","v":0},{"$f":"ProduktTilleggTrekk!FT158","v":0},{"$f":"ProduktTilleggTrekk!FP158","v":"Tekst"},null,{"$f":"ProduktTilleggTrekk!FS254","v":0},{"$f":"ProduktTilleggTrekk!FT254","v":0},{"$f":"ProduktTilleggTrekk!FP254","v":"Tekst"},null,{"$f":"ProduktTilleggTrekk!FS332","v":0},{"$f":"ProduktTilleggTrekk!FT332","v":0},{"$f":"ProduktTilleggTrekk!FP332","v":"Tekst"},null,{"$f":"ProduktTilleggTrekk!FS392","v":0},{"$f":"ProduktTilleggTrekk!FT392","v":0},{"$f":"ProduktTilleggTrekk!FP392","v":"Tekst"}]
[null,14,{"$f":"ProduktTilleggTrekk!GE4","v":0},{"$f":"ProduktTilleggTrekk!GF4","v":0},{"$f":"ProduktTilleggTrekk!GB4","v":"Tekst"},null,{"$f":"ProduktTilleggTrekk!GE75","v":0},{"$f":"ProduktTilleggTrekk!GF75","v":0},{"$f":"ProduktTilleggTrekk!GB75","v":"Tekst"},null,{"$f":"ProduktTilleggTrekk!GE158","v":0},{"$f":"ProduktTilleggTrekk!GF158","v":0},{"$f":"ProduktTilleggTrekk!GB158","v":"Tekst"},null,{"$f":"ProduktTilleggTrekk!GE254","v":0},{"$f":"ProduktTilleggTrekk!GF254","v":0},{"$f":"ProduktTilleggTrekk!GB254","v":"Tekst"},null,{"$f":"ProduktTilleggTrekk!GE332","v":0},{"$f":"ProduktTilleggTrekk!GF332","v":0},{"$f":"ProduktTilleggTrekk!GB332","v":"Tekst"},null,{"$f":"ProduktTilleggTrekk!GE392","v":0},{"$f":"ProduktTilleggTrekk!GF392","v":0},{"$f":"ProduktTilleggTrekk!GB392","v":"Tekst"}]
[null,15,{"$f":"ProduktTilleggTrekk!GQ4","v":0},{"$f":"ProduktTilleggTrekk!GR4","v":0},{"$f":"ProduktTilleggTrekk!GN4","v":"Tekst"},null,{"$f":"ProduktTilleggTrekk!GQ75","v":0},{"$f":"ProduktTilleggTrekk!GR75","v":0},{"$f":"ProduktTilleggTrekk!GN75","v":"Tekst"},null,{"$f":"ProduktTilleggTrekk!GQ158","v":0},{"$f":"ProduktTilleggTrekk!GR158","v":0},{"$f":"ProduktTilleggTrekk!GN158","v":"Tekst"},null,{"$f":"ProduktTilleggTrekk!GQ254","v":0},{"$f":"ProduktTilleggTrekk!GR254","v":0},{"$f":"ProduktTilleggTrekk!GN254","v":"Tekst"},null,{"$f":"ProduktTilleggTrekk!GQ332","v":0},{"$f":"ProduktTilleggTrekk!GR332","v":0},{"$f":"ProduktTilleggTrekk!GN332","v":"Tekst"},null,{"$f":"ProduktTilleggTrekk!GQ392","v":0},{"$f":"ProduktTilleggTrekk!GR392","v":0},{"$f":"ProduktTilleggTrekk!GN392","v":"Tekst"}]
[]
[null,"Gruppe =>",{"$f":"\"7000 \"&ProduktTilleggTrekk!D436","v":"7000 Tilskudd fra/forvaltet av landbruksdirektoratet, annen offentlig etat og finansiering, renter etc."},null,null,null,"8000 1-Varer og tjenester knyttet til produksjonene",null,null,null,{"$f":"\"8000 \"&ProduktTilleggTrekk!D507","v":"8000 2-Varer og tjenester knyttet til produksjonene"},null,null,null,{"$f":"\"8000 \"&ProduktTilleggTrekk!D532","v":"8000 3-Varer og tjenester knyttet til produksjonene"},null,null,null,{"$f":"\"8000 \"&ProduktTilleggTrekk!D557","v":"8000 4-Varer og tjenester knyttet til produksjonene"},null,null,null,{"$f":"\"8000 \"&ProduktTilleggTrekk!D582","v":"8000 5-Varer og tjenester knyttet til produksjonene"}]
[null,"Matrise nr","Produkt fra","Produkt til","Produktgruppe",null,"Produkt fra","Produkt til","Produktgruppe",null,"Produkt fra","Produkt til","Produktgruppe",null,"Produkt fra","Produkt til","Produktgruppe",null,"Produkt fra","Produkt til","Produktgruppe",null,"Produkt fra","Produkt til","Produktgruppe"]
[null,1,{"$f":"ProduktTilleggTrekk!AE436","v":7910},{"$f":"ProduktTilleggTrekk!AF436","v":7910},{"$f":"ProduktTilleggTrekk!AB436","v":"Finanser"},null,{"$f":"ProduktTilleggTrekk!AE462","v":8110},{"$f":"ProduktTilleggTrekk!AF462","v":8116},{"$f":"ProduktTilleggTrekk!AB462","v":"Handelsgjødsel (4451)"},null,{"$f":"ProduktTilleggTrekk!AE507","v":0},{"$f":"ProduktTilleggTrekk!AF507","v":0},{"$f":"ProduktTilleggTrekk!AB507","v":"Tekst"},null,{"$f":"ProduktTilleggTrekk!AE532","v":0},{"$f":"ProduktTilleggTrekk!AF532","v":0},{"$f":"ProduktTilleggTrekk!AB532","v":"Tekst"},null,{"$f":"ProduktTilleggTrekk!AE557","v":0},{"$f":"ProduktTilleggTrekk!AF557","v":0},{"$f":"ProduktTilleggTrekk!AB557","v":"Tekst"},null,{"$f":"ProduktTilleggTrekk!AE582","v":0},{"$f":"ProduktTilleggTrekk!AF582","v":0},{"$f":"ProduktTilleggTrekk!AB582","v":"Tekst"}]
[null,2,{"$f":"ProduktTilleggTrekk!AQ436","v":7100},{"$f":"ProduktTilleggTrekk!AR436","v":7499},{"$f":"ProduktTilleggTrekk!AN436","v":"Tilskudd"},null,{"$f":"ProduktTilleggTrekk!AQ462","v":8120},{"$f":"ProduktTilleggTrekk!AR462","v":8129},{"$f":"ProduktTilleggTrekk!AN462","v":"Plantevern (4410)"},null,{"$f":"ProduktTilleggTrekk!AQ507","v":0},{"$f":"ProduktTilleggTrekk!AR507","v":0},{"$f":"ProduktTilleggTrekk!AN507","v":"Tekst"},null,{"$f":"ProduktTilleggTrekk!AQ532","v":0},{"$f":"ProduktTilleggTrekk!AR532","v":0},{"$f":"ProduktTilleggTrekk!AN532","v":"Tekst"},null,{"$f":"ProduktTilleggTrekk!AQ557","v":0},{"$f":"ProduktTilleggTrekk!AR557","v":0},{"$f":"ProduktTilleggTrekk!AN557","v":"Tekst"},null,{"$f":"ProduktTilleggTrekk!AQ582","v":0},{"$f":"ProduktTilleggTrekk!AR582","v":0},{"$f":"ProduktTilleggTrekk!AN582","v":"Tekst"}]
[null,3,{"$f":"ProduktTilleggTrekk!BC436","v":0},{"$f":"ProduktTilleggTrekk!BD436","v":0},{"$f":"ProduktTilleggTrekk!AZ436","v":"Tekst"},null,{"$f":"ProduktTilleggTrekk!BC462","v":8130},{"$f":"ProduktTilleggTrekk!BD462","v":8139},{"$f":"ProduktTilleggTrekk!AZ462","v":"Konserv.middel (4480)"},null,{"$f":"ProduktTilleggTrekk!BC507","v":0},{"$f":"ProduktTilleggTrekk!BD507","v":0},{"$f":"ProduktTilleggTrekk!AZ507","v":"Tekst"},null,{"$f":"ProduktTilleggTrekk!BC532","v":0},{"$f":"ProduktTilleggTrekk!BD532","v":0},{"$f":"ProduktTilleggTrekk!AZ532","v":"Tekst"},null,{"$f":"ProduktTilleggTrekk!BC557","v":0},{"$f":"ProduktTilleggTrekk!BD557","v":0},{"$f":"ProduktTilleggTrekk!AZ557","v":"Tekst"},null,{"$f":"ProduktTilleggTrekk!BC582","v":0},{"$f":"ProduktTilleggTrekk!BD582","v":0},{"$f":"ProduktTilleggTrekk!AZ582","v":"Tekst"}]
[null,4,{"$f":"ProduktTilleggTrekk!BO436","v":0},{"$f":"ProduktTilleggTrekk!BP436","v":0},{"$f":"ProduktTilleggTrekk!BL436","v":"Tekst"},null,{"$f":"ProduktTilleggTrekk!BO462","v":8200},{"$f":"ProduktTilleggTrekk!BP462","v":8219},{"$f":"ProduktTilleggTrekk!BL462","v":"Kraftfôr (4020)"},null,{"$f":"ProduktTilleggTrekk!BO507","v":0},{"$f":"ProduktTilleggTrekk!BP507","v":0},{"$f":"ProduktTilleggTrekk!BL507","v":"Tekst"},null,{"$f":"ProduktTilleggTrekk!BO532","v":0},{"$f":"ProduktTilleggTrekk!BP532","v":0},{"$f":"ProduktTilleggTrekk!BL532","v":"Tekst"},null,{"$f":"ProduktTilleggTrekk!BO557","v":0},{"$f":"ProduktTilleggTrekk!BP557","v":0},{"$f":"ProduktTilleggTrekk!BL557","v":"Tekst"},null,{"$f":"ProduktTilleggTrekk!BO582","v":0},{"$f":"ProduktTilleggTrekk!BP582","v":0},{"$f":"ProduktTilleggTrekk!BL582","v":"Tekst"}]
[null,5,{"$f":"ProduktTilleggTrekk!CA436","v":0},{"$f":"ProduktTilleggTrekk!CB436","v":0},{"$f":"ProduktTilleggTrekk!BX436","v":"Tekst"},null,{"$f":"ProduktTilleggTrekk!CA462","v":8220},{"$f":"ProduktTilleggTrekk!CB462","v":8229},{"$f":"ProduktTilleggTrekk!BX462","v":"Tilskuddsfôr (4040)"},null,{"$f":"ProduktTilleggTrekk!CA507","v":0},{"$f":"ProduktTilleggTrekk!CB507","v":0},{"$f":"ProduktTilleggTrekk!BX507","v":"Tekst"},null,{"$f":"ProduktTilleggTrekk!CA532","v":0},{"$f":"ProduktTilleggTrekk!CB532","v":0},{"$f":"ProduktTilleggTrekk!BX532","v":"Tekst"},null,{"$f":"ProduktTilleggTrekk!CA557","v":0},{"$f":"ProduktTilleggTrekk!CB557","v":0},{"$f":"ProduktTilleggTrekk!BX557","v":"Tekst"},null,{"$f":"ProduktTilleggTrekk!CA582","v":0},{"$f":"ProduktTilleggTrekk!CB582","v":0},{"$f":"ProduktTilleggTrekk!BX582","v":"Tekst"}]
[null,6,{"$f":"ProduktTilleggTrekk!CM436","v":0},{"$f":"ProduktTilleggTrekk!CN436","v":0},{"$f":"ProduktTilleggTrekk!CJ436","v":"Tekst"},null,{"$f":"ProduktTilleggTrekk!CM462","v":8140},{"$f":"ProduktTilleggTrekk!CN462","v":8143},{"$f":"ProduktTilleggTrekk!CJ462","v":"Såvarer i pl.prod (4001)"},null,{"$f":"ProduktTilleggTrekk!CM507","v":0},{"$f":"ProduktTilleggTrekk!CN507","v":0},{"$f":"ProduktTilleggTrekk!CJ507","v":"Tekst"},null,{"$f":"ProduktTilleggTrekk!CM532","v":0},{"$f":"ProduktTilleggTrekk!CN532","v":0},{"$f":"ProduktTilleggTrekk!CJ532","v":"Tekst"},null,{"$f":"ProduktTilleggTrekk!CM557","v":0},{"$f":"ProduktTilleggTrekk!CN557","v":0},{"$f":"ProduktTilleggTrekk!CJ557","v":"Tekst"},null,{"$f":"ProduktTilleggTrekk!CM582","v":0},{"$f":"ProduktTilleggTrekk!CN582","v":0},{"$f":"ProduktTilleggTrekk!CJ582","v":"Tekst"}]
[null,7,{"$f":"ProduktTilleggTrekk!CY436","v":0},{"$f":"ProduktTilleggTrekk!CZ436","v":0},{"$f":"ProduktTilleggTrekk!CV436","v":"Tekst"},null,{"$f":"ProduktTilleggTrekk!CY462","v":8117},{"$f":"ProduktTilleggTrekk!CZ462","v":8117},{"$f":"ProduktTilleggTrekk!CV462","v":"Kalk (4457)"},null,{"$f":"ProduktTilleggTrekk!CY507","v":0},{"$f":"ProduktTilleggTrekk!CZ507","v":0},{"$f":"ProduktTilleggTrekk!CV507","v":"Tekst"},null,{"$f":"ProduktTilleggTrekk!CY532","v":0},{"$f":"ProduktTilleggTrekk!CZ532","v":0},{"$f":"ProduktTilleggTrekk!CV532","v":"Tekst"},null,{"$f":"ProduktTilleggTrekk!CY557","v":0},{"$f":"ProduktTilleggTrekk!CZ557","v":0},{"$f":"ProduktTilleggTrekk!CV557","v":"Tekst"},null,{"$f":"ProduktTilleggTrekk!CY582","v":0},{"$f":"ProduktTilleggTrekk!CZ582","v":0},{"$f":"ProduktTilleggTrekk!CV582","v":"Tekst"}]
[null,8,{"$f":"ProduktTilleggTrekk!DK436","v":0},{"$f":"ProduktTilleggTrekk!DL436","v":0},{"$f":"ProduktTilleggTrekk!DH436","v":"Tekst"},null,{"$f":"ProduktTilleggTrekk!DK462","v":8144},{"$f":"ProduktTilleggTrekk!DL462","v":8147},{"$f":"ProduktTilleggTrekk!DH462","v":"Såvare i grøntproduksjon"},null,{"$f":"ProduktTilleggTrekk!DK507","v":0},{"$f":"ProduktTilleggTrekk!DL507","v":0},{"$f":"ProduktTilleggTrekk!DH507","v":"Tekst"},null,{"$f":"ProduktTilleggTrekk!DK532","v":0},{"$f":"ProduktTilleggTrekk!DL532","v":0},{"$f":"ProduktTilleggTrekk!DH532","v":"Tekst"},null,{"$f":"ProduktTilleggTrekk!DK557","v":0},{"$f":"ProduktTilleggTrekk!DL557","v":0},{"$f":"ProduktTilleggTrekk!DH557","v":"Tekst"},null,{"$f":"ProduktTilleggTrekk!DK582","v":0},{"$f":"ProduktTilleggTrekk!DL582","v":0},{"$f":"ProduktTilleggTrekk!DH582","v":"Tekst"}]
[null,9,{"$f":"ProduktTilleggTrekk!DW436","v":0},{"$f":"ProduktTilleggTrekk!DX436","v":0},{"$f":"ProduktTilleggTrekk!DT436","v":"Tekst"},null,{"$f":"ProduktTilleggTrekk!DW462","v":8118},{"$f":"ProduktTilleggTrekk!DX462","v":8119},{"$f":"ProduktTilleggTrekk!DT462","v":"Bladgjødsel/Husdyrgjødsel"},null,{"$f":"ProduktTilleggTrekk!DW507","v":0},{"$f":"ProduktTilleggTrekk!DX507","v":0},{"$f":"ProduktTilleggTrekk!DT507","v":"Tekst"},null,{"$f":"ProduktTilleggTrekk!DW532","v":0},{"$f":"ProduktTilleggTrekk!DX532","v":0},{"$f":"ProduktTilleggTrekk!DT532","v":"Tekst"},null,{"$f":"ProduktTilleggTrekk!DW557","v":0},{"$f":"ProduktTilleggTrekk!DX557","v":0},{"$f":"ProduktTilleggTrekk!DT557","v":"Tekst"},null,{"$f":"ProduktTilleggTrekk!DW582","v":0},{"$f":"ProduktTilleggTrekk!DX582","v":0},{"$f":"ProduktTilleggTrekk!DT582","v":"Tekst"}]
[null,10,{"$f":"ProduktTilleggTrekk!EI436","v":0},{"$f":"ProduktTilleggTrekk!EJ436","v":0},{"$f":"ProduktTilleggTrekk!EF436","v":"Tekst"},null,{"$f":"ProduktTilleggTrekk!EI462","v":8000},{"$f":"ProduktTilleggTrekk!EJ462","v":8000},{"$f":"ProduktTilleggTrekk!EF462","v":"Andelskap., renter mm"},null,{"$f":"ProduktTilleggTrekk!EI507","v":0},{"$f":"ProduktTilleggTrekk!EJ507","v":0},{"$f":"ProduktTilleggTrekk!EF507","v":"Tekst"},null,{"$f":"ProduktTilleggTrekk!EI532","v":0},{"$f":"ProduktTilleggTrekk!EJ532","v":0},{"$f":"ProduktTilleggTrekk!EF532","v":"Tekst"},null,{"$f":"ProduktTilleggTrekk!EI557","v":0},{"$f":"ProduktTilleggTrekk!EJ557","v":0},{"$f":"ProduktTilleggTrekk!EF557","v":"Tekst"},null,{"$f":"ProduktTilleggTrekk!EI582","v":0},{"$f":"ProduktTilleggTrekk!EJ582","v":0},{"$f":"ProduktTilleggTrekk!EF582","v":"Tekst"}]
[null,11,{"$f":"ProduktTilleggTrekk!EU436","v":0},{"$f":"ProduktTilleggTrekk!EV436","v":0},{"$f":"ProduktTilleggTrekk!ER436","v":"Tekst"},null,{"$f":"ProduktTilleggTrekk!EU462","v":8291},{"$f":"ProduktTilleggTrekk!EV462","v":8291},{"$f":"ProduktTilleggTrekk!ER462","v":"Forbruksmateriell (4432)"},null,{"$f":"ProduktTilleggTrekk!EU507","v":0},{"$f":"ProduktTilleggTrekk!EV507","v":0},{"$f":"ProduktTilleggTrekk!ER507","v":"Tekst"},null,{"$f":"ProduktTilleggTrekk!EU532","v":0},{"$f":"ProduktTilleggTrekk!EV532","v":0},{"$f":"ProduktTilleggTrekk!ER532","v":"Tekst"},null,{"$f":"ProduktTilleggTrekk!EU557","v":0},{"$f":"ProduktTilleggTrekk!EV557","v":0},{"$f":"ProduktTilleggTrekk!ER557","v":"Tekst"},null,{"$f":"ProduktTilleggTrekk!EU582","v":0},{"$f":"ProduktTilleggTrekk!EV582","v":0},{"$f":"ProduktTilleggTrekk!ER582","v":"Tekst"}]
[null,12,{"$f":"ProduktTilleggTrekk!FG436","v":0},{"$f":"ProduktTilleggTrekk!FH436","v":0},{"$f":"ProduktTilleggTrekk!FD436","v":"Tekst"},null,{"$f":"ProduktTilleggTrekk!FG462","v":8191},{"$f":"ProduktTilleggTrekk!FH462","v":8191},{"$f":"ProduktTilleggTrekk!FD462","v":"Fôrproduksjon (4444)"},null,{"$f":"ProduktTilleggTrekk!FG507","v":0},{"$f":"ProduktTilleggTrekk!FH507","v":0},{"$f":"ProduktTilleggTrekk!FD507","v":"Tekst"},null,{"$f":"ProduktTilleggTrekk!FG532","v":0},{"$f":"ProduktTilleggTrekk!FH532","v":0},{"$f":"ProduktTilleggTrekk!FD532","v":"Tekst"},null,{"$f":"ProduktTilleggTrekk!FG557","v":0},{"$f":"ProduktTilleggTrekk!FH557","v":0},{"$f":"ProduktTilleggTrekk!FD557","v":"Tekst"},null,{"$f":"ProduktTilleggTrekk!FG582","v":0},{"$f":"ProduktTilleggTrekk!FH582","v":0},{"$f":"ProduktTilleggTrekk!FD582","v":"Tekst"}]
[null,13,{"$f":"ProduktTilleggTrekk!FS436","v":0},{"$f":"ProduktTilleggTrekk!FT436","v":0},{"$f":"ProduktTilleggTrekk!FP436","v":"Tekst"},null,{"$f":"ProduktTilleggTrekk!FS462","v":0},{"$f":"ProduktTilleggTrekk!FT462","v":0},{"$f":"ProduktTilleggTrekk!FP462","v":"Tekst"},null,{"$f":"ProduktTilleggTrekk!FS507","v":0},{"$f":"ProduktTilleggTrekk!FT507","v":0},{"$f":"ProduktTilleggTrekk!FP507","v":"Tekst"},null,{"$f":"ProduktTilleggTrekk!FS532","v":0},{"$f":"ProduktTilleggTrekk!FT532","v":0},{"$f":"ProduktTilleggTrekk!FP532","v":"Tekst"},null,{"$f":"ProduktTilleggTrekk!FS557","v":0},{"$f":"ProduktTilleggTrekk!FT557","v":0},{"$f":"ProduktTilleggTrekk!FP557","v":"Tekst"},null,{"$f":"ProduktTilleggTrekk!FS582","v":0},{"$f":"ProduktTilleggTrekk!FT582","v":0},{"$f":"ProduktTilleggTrekk!FP582","v":"Tekst"}]
[null,14,{"$f":"ProduktTilleggTrekk!GE436","v":0},{"$f":"ProduktTilleggTrekk!GF436","v":0},{"$f":"ProduktTilleggTrekk!GB436","v":"Tekst"},null,{"$f":"ProduktTilleggTrekk!GE462","v":0},{"$f":"ProduktTilleggTrekk!GF462","v":0},{"$f":"ProduktTilleggTrekk!GB462","v":"Tekst"},null,{"$f":"ProduktTilleggTrekk!GE507","v":0},{"$f":"ProduktTilleggTrekk!GF507","v":0},{"$f":"ProduktTilleggTrekk!GB507","v":"Tekst"},null,{"$f":"ProduktTilleggTrekk!GE532","v":0},{"$f":"ProduktTilleggTrekk!GF532","v":0},{"$f":"ProduktTilleggTrekk!GB532","v":"Tekst"},null,{"$f":"ProduktTilleggTrekk!GE557","v":0},{"$f":"ProduktTilleggTrekk!GF557","v":0},{"$f":"ProduktTilleggTrekk!GB557","v":"Tekst"},null,{"$f":"ProduktTilleggTrekk!GE582","v":0},{"$f":"ProduktTilleggTrekk!GF582","v":0},{"$f":"ProduktTilleggTrekk!GB582","v":"Tekst"}]
[null,15,{"$f":"ProduktTilleggTrekk!GQ436","v":0},{"$f":"ProduktTilleggTrekk!GR436","v":0},{"$f":"ProduktTilleggTrekk!GN436","v":"Tekst"},null,{"$f":"ProduktTilleggTrekk!GQ462","v":0},{"$f":"ProduktTilleggTrekk!GR462","v":0},{"$f":"ProduktTilleggTrekk!GN462","v":"Tekst"},null,{"$f":"ProduktTilleggTrekk!GQ507","v":0},{"$f":"ProduktTilleggTrekk!GR507","v":0},{"$f":"ProduktTilleggTrekk!GN507","v":"Tekst"},null,{"$f":"ProduktTilleggTrekk!GQ532","v":0},{"$f":"ProduktTilleggTrekk!GR532","v":0},{"$f":"ProduktTilleggTrekk!GN532","v":"Tekst"},null,{"$f":"ProduktTilleggTrekk!GQ557","v":0},{"$f":"ProduktTilleggTrekk!GR557","v":0},{"$f":"ProduktTilleggTrekk!GN557","v":"Tekst"},null,{"$f":"ProduktTilleggTrekk!GQ582","v":0},{"$f":"ProduktTilleggTrekk!GR582","v":0},{"$f":"ProduktTilleggTrekk!GN582","v":"Tekst"}]

{"sheet":"Admin","index":14,"n_rows":20,"n_cols":6,"rows_kept":20,"cut":false,"hidden":true,"merged":[]}
["Oppsett for ulike brukere av kodene",null,"Versjon","1.3.6","Koblinger","<-- Skriv inn nytt versjnr. her"]
["Skjule ark (\"Very Hidden\")","Ark","Avhaking"]
["Merverdiavgift tabell","MVATabell",null,null,true]
["Koblingstabell","KoblTab",null,null,true]
["Endringslogg","Endringslogg",null,null,true]
["Eksempel","Eksempel",null,null,true]
["Mal for varekodelister","MalVarekodeliste",null,null,true]
["Skjul Admin og KontoMatriser arkene","Admin/Kontomatriser",null,null,true]
["Koble ut funksjoner","Knapper","Avhaking"]
["Hindre innsetteing av linjer","Sett inn linje",null,null,true]
["Hindre bruk av konteringsmatriser","Knapper (nr og \"Alle\")",null,null,true]
["Gruppenivå tillegg og trekk til nivå 2","Knapper (nr 3)",null,null,true]
["Lås alle ark med passord",null,null,null,true]
[]
["Legge ut offentlig"]
["Legge på Prosjektplassen"]
["Sende til AgroData og Daldata"]
["Skjul forklaring"]
["Rydde avkryssing"]
["Utfør handling"]